{"text_format":"1","workbook":"xlsx","n_sheets":52,"sheets":["Accueil","Langue Makro","Limitations (D)","Limitations (F)","Aide (D)","Aide (F)","Données","Calculs","Béton","Béton (D)","Grès vitrifié n.","Grès vitrifié n. (D)","Grès vitrifié s.","Grès vitrifié s. (D)","Fonte","Fonte (D)","PP-SN4","PP-SN4 (D)","PP-SN8","PP-SN8 (D)","PP-SN12","PP-SN12 (D)","PP-SN16","PP-SN16 (D)","PVC-SN2","PVC-SN2 (D)","PVC-SN4","PVC-SN4 (D)","PVC-SN8","PVC-SN8 (D)","PE-SN2","PE-SN2 (D)","PE-SN4","PE-SN4 (D)","PE-SN8","PE-SN8 (D)","GF-UP SN2500","GF-UP SN2500 (D)","GF-UP SN5000","GF-UP SN5000 (D)","GF-UP SN10000","GF-UP SN10000 (D)","GF-UP SN15000","GF-UP SN15000 (D)","GF-UP SN16000","GF-UP SN16000 (D)","GF-UP SN20000","GF-UP SN20000 (D)","Explications (F)","Explications (D)","Impression (F)","Impression (D)"],"not_rendered":{"charts":0,"images":71,"macros":1,"external_links":0,"defined_names":58,"comments":0,"pivot_tables":0},"unopened":[],"bounds":{"document_bytes":16777216,"sheet_cells":100000,"rows_first":2000,"rows_last":500,"rows_between":2000,"halvings":0,"cell_chars":16384,"cell_head_chars":4096},"cells_cut":0,"cells_raw":0,"read":"whole","date_system":"1900"}

{"sheet":"Accueil","index":0,"n_rows":21,"n_cols":62,"rows_kept":21,"cut":false,"hidden":false,"merged":[[14,58,14,59],[18,11,18,13],[16,11,16,13],[20,11,20,13],[10,9,10,56],[11,9,11,56],[14,11,14,13],[2,38,4,55],[8,9,9,56],[20,15,20,25],[14,51,14,54],[22,15,22,25],[14,34,14,43],[16,34,16,43],[18,34,18,43],[20,34,20,43],[18,15,18,18],[16,15,16,18],[14,15,14,25],[2,9,3,16]]}
[]
[]
[]
[]
[]
[]
[]
[]
[null,null,null,null,null,null,null,null,null,{"$f":"'Langue Makro'!A3","v":"PROGRAMME D'AIDE AU CHOIX DES CONDUITES"}]
[]
[null,null,null,null,null,null,null,null,null,{"$f":"'Langue Makro'!A4","v":"CALCULS ET DIMENSIONNEMENT STATIQUES"}]
[null,null,null,null,null,null,null,null,null,{"$f":"'Langue Makro'!A5","v":"calculs selon la base normative SIA 190:2017"}]
[]
[]
[null,null,null,null,null,null,null,null,null,null,null,{"$f":"'Langue Makro'!A8","v":"Projet:"},null,null,null,"VSA 2026",null,null,null,null,null,null,null,null,null,null,null,null,null,{"$f":"'Langue Makro'!A11","v":"Ingénieur/e:"},null,null,null,null,null,null,null,null,null,null,null,null,null,null,null,null,null,{"$f":"'Langue Makro'!A15","v":"Langue:"},null,null,null,"Français",null,null,null,null,null,null,null,null,":",{"$f":"'Langue Makro'!A16","v":"Cases à remplir"}]
[]
[null,null,null,null,null,null,null,null,null,null,null,"N°:",null,null,null,null,null,null,null,null,null,null,null,null,null,null,null,null,null,{"$f":"'Langue Makro'!A12","v":"Responsable:"}]
[]
[null,null,null,null,null,null,null,null,null,null,null,{"$f":"'Langue Makro'!A9","v":"Date:"},null,null,null,null,null,null,null,null,null,null,null,null,null,null,null,null,null,{"$f":"'Langue Makro'!A13","v":"Maître d'ouvrage:"}]
[]
[null,null,null,null,null,null,null,null,null,null,null,{"$f":"'Langue Makro'!A10","v":"Lieu:"},null,null,null,null,null,null,null,null,null,null,null,null,null,null,null,null,null,{"$f":"'Langue Makro'!A14","v":"Remarques:"}]

{"sheet":"Langue Makro","index":1,"n_rows":123,"n_cols":12,"rows_kept":123,"cut":false,"hidden":true,"merged":[]}
["Accueil","Données","Béton","PP","PVC","PE","Grès","GF-UP","Fonte","Explications (D)","Explications (F)","Impression"]
["Titre","Titre"]
[{"$f":"IF(Accueil!AZ15=\"Français\",\"PROGRAMME D'AIDE AU CHOIX DES CONDUITES\",IF(Accueil!AZ15=\"Deutsch\",\"PROGRAMM ZUR AUSWAHL VON KANALISATIONSROHREN\",IF(Accueil!AZ15=\"Italiano\",\"\")))","v":"PROGRAMME D'AIDE AU CHOIX DES CONDUITES"},{"$f":"IF(Accueil!AZ15=\"Français\",\"PROGRAMME D'AIDE AU CHOIX DES CONDUITES\",IF(Accueil!AZ15=\"Deutsch\",\"PROGRAMM ZUR AUSWAHL VON KANALISATIONSROHREN\",IF(Accueil!AZ15=\"Italiano\",\"\")))","v":"PROGRAMME D'AIDE AU CHOIX DES CONDUITES"}]
[{"$f":"IF(Accueil!AZ15=\"Français\",\"CALCULS ET DIMENSIONNEMENT STATIQUES\",IF(Accueil!AZ15=\"Deutsch\",\"STATISCHE BERECHNUNGEN UND DIMENSIONIERUNG\",IF(Accueil!AZ15AZ15=\"Italiano\",\"\")))","v":"CALCULS ET DIMENSIONNEMENT STATIQUES"}]
[{"$f":"IF(Accueil!AZ15=\"Français\",\"calculs selon la base normative SIA 190:2017\", IF(Accueil!AZ15=\"Deutsch\",\"Berechnungen nach der Norm SIA 190:2017\",IF(Accueil!AZ15=\"Italiano\",\"\")))","v":"calculs selon la base normative SIA 190:2017"}]
[]
["Cases à remplir","Untertitel"]
[{"$f":"IF(Accueil!AZ15=\"Français\",\"Projet:\",IF(Accueil!AZ15=\"Deutsch\",\"Projekt:\",IF(Accueil!AZ15=\"Italiano\",\"\")))","v":"Projet:"},{"$f":"IF(Accueil!AZ15=\"Français\",\"Tuyau:\",IF(Accueil!AZ15=\"Deutsch\",\"Rohr:\",IF(Accueil!AZ15=\"Italiano\",\"\")))","v":"Tuyau:"}]
[{"$f":"IF(Accueil!AZ15=\"Français\",\"Date:\",IF(Accueil!AZ15=\"Deutsch\",\"Datum:\",IF(Accueil!AZ15=\"Italiano\",\"\")))","v":"Date:"},{"$f":"IF(Accueil!AZ15=\"Français\",\"Actions:\",IF(Accueil!AZ15=\"Deutsch\",\"Einwirkungen:\",IF(Accueil!AZ15=\"Italiano\",\"\")))","v":"Actions:"}]
[{"$f":"IF(Accueil!AZ15=\"Français\",\"Lieu:\",IF(Accueil!AZ15=\"Deutsch\",\"Ort:\",IF(Accueil!AZ15=\"Italiano\",\"\")))","v":"Lieu:"},{"$f":"IF(Accueil!AZ15=\"Français\",\"Terrain:\",IF(Accueil!AZ15=\"Deutsch\",\"Terrain:\",IF(Accueil!AZ15=\"Italiano\",\"\")))","v":"Terrain:"}]
[{"$f":"IF(Accueil!AZ15=\"Français\",\"Ingénieur/e:\",IF(Accueil!AZ15=\"Deutsch\",\"Ingenieur/in:\",IF(Accueil!AZ15=\"Italiano\",\"Ingegnere\")))","v":"Ingénieur/e:"},{"$f":"IF(Accueil!AZ15=\"Français\",\"Fouille:\",IF(Accueil!AZ15=\"Deutsch\",\"Graben:\",IF(Accueil!AZ15=\"Italiano\",\"\")))","v":"Fouille:"}]
[{"$f":"IF(Accueil!AZ15=\"Français\",\"Responsable:\",IF(Accueil!AZ15=\"Deutsch\",\"Verantwortlicher:\",IF(Accueil!AZ15=\"Italiano\",\"\")))","v":"Responsable:"},{"$f":"IF(Accueil!AZ15=\"Français\",\"Eau:\",IF(Accueil!AZ15=\"Deutsch\",\"Wasser:\",IF(Accueil!AZ15=\"Italiano\",\"\")))","v":"Eau:"}]
[{"$f":"IF(Accueil!AZ15=\"Français\",\"Maître d'ouvrage:\",IF(Accueil!AZ15=\"Deutsch\",\"Bauherr:\",IF(Accueil!AZ15=\"Italiano\",\"\")))","v":"Maître d'ouvrage:"}]
[{"$f":"IF(Accueil!AZ15=\"Français\",\"Remarques:\",IF(Accueil!AZ15=\"Deutsch\",\"Bemerkungen:\",IF(Accueil!AZ15=\"Italiano\",\"\")))","v":"Remarques:"},"Déscriptions"]
[{"$f":"IF(Accueil!AZ15=\"Français\",\"Langue:\",IF(Accueil!AZ15=\"Deutsch\",\"Sprache:\",IF(Accueil!AZ15=\"Italiano\",\"\")))","v":"Langue:"},{"$f":"IF(Accueil!AZ15=\"Français\",\"1.Diamètre intérieur\",IF(Accueil!AZ15=\"Deutsch\",\"1.Innendurchmesser\",IF(Accueil!AZ15=\"Italiano\",\"1.\")))","v":"1.Diamètre intérieur"}]
[{"$f":"IF(Accueil!AZ15=\"Français\",\"Cases à remplir\",IF(Accueil!AZ15=\"Deutsch\",\"Zellen zum ausfüllen\",IF(Accueil!AZ15=\"Italiano\",\"\")))","v":"Cases à remplir"},{"$f":"IF(Accueil!AZ15=\"Français\",\"2.Charge surfacique\",IF(Accueil!AZ15=\"Deutsch\",\"2.Flächenlast\",IF(Accueil!AZ15=\"Italiano\",\"2.\")))","v":"2.Charge surfacique"}]
[null,{"$f":"IF(Accueil!AZ15=\"Français\",\"charge surfacique\",IF(Accueil!AZ15=\"Deutsch\",\"Flächenlast\",IF(Accueil!AZ15=\"Italiano\",\"\")))","v":"charge surfacique"}]
["Makro",{"$f":"IF(Accueil!AZ15=\"Français\",\"Largeur de la charge\",IF(Accueil!AZ15=\"Deutsch\",\"Breite der Last\",IF(Accueil!AZ15=\"Italiano\",\"\")))","v":"Largeur de la charge"},"Makro","Makro","Makro","Makro","Makro","Makro","Makro",null,null,"Makro"]
[{"$f":"IF(Accueil!AZ15=\"Français\",\"Sprachwechsel\",IF(Accueil!AZ15=\"Deutsch\",\"Changement de langue\",IF(Accueil!AZ15=\"Italiano\",\"\")))","v":"Sprachwechsel"},{"$f":"IF(Accueil!AZ15=\"Français\",\"Longueur de la charge\",IF(Accueil!AZ15=\"Deutsch\",\"Länge der Last\",IF(Accueil!AZ15=\"Italiano\",\"\")))","v":"Longueur de la charge"},{"$f":"IF(Accueil!$AZ$15=\"Français\",\"Données\",IF(Accueil!$AZ$15=\"Deutsch\",\"Daten\",IF(Accueil!$AZ$15=\"Italiano\",\"\")))","v":"Données"},{"$f":"IF(Accueil!$AZ$15=\"Français\",\"Données\",IF(Accueil!$AZ$15=\"Deutsch\",\"Daten\",IF(Accueil!$AZ$15=\"Italiano\",\"\")))","v":"Données"},{"$f":"IF(Accueil!$AZ$15=\"Français\",\"Données\",IF(Accueil!$AZ$15=\"Deutsch\",\"Daten\",IF(Accueil!$AZ$15=\"Italiano\",\"\")))","v":"Données"},{"$f":"IF(Accueil!$AZ$15=\"Français\",\"Données\",IF(Accueil!$AZ$15=\"Deutsch\",\"Daten\",IF(Accueil!$AZ$15=\"Italiano\",\"\")))","v":"Données"},{"$f":"IF(Accueil!$AZ$15=\"Français\",\"Données\",IF(Accueil!$AZ$15=\"Deutsch\",\"Daten\",IF(Accueil!$AZ$15=\"Italiano\",\"\")))","v":"Données"},{"$f":"IF(Accueil!$AZ$15=\"Français\",\"Données\",IF(Accueil!$AZ$15=\"Deutsch\",\"Daten\",IF(Accueil!$AZ$15=\"Italiano\",\"\")))","v":"Données"},{"$f":"IF(Accueil!$AZ$15=\"Français\",\"Données\",IF(Accueil!$AZ$15=\"Deutsch\",\"Daten\",IF(Accueil!$AZ$15=\"Italiano\",\"\")))","v":"Données"},null,null,{"$f":"IF(Accueil!AZ15=\"Français\",\"Données\",IF(Accueil!AZ15=\"Deutsch\",\"Daten\",IF(Accueil!AZ15=\"Italiano\",\"\")))","v":"Données"}]
[{"$f":"IF(Accueil!AZ15=\"Français\",\"Commencer\",IF(Accueil!AZ15=\"Deutsch\",\"Beginnen\",IF(Accueil!AZ15=\"Italiano\",\"\")))","v":"Commencer"},{"$f":"IF(Accueil!AZ15=\"Français\",\"Distance entre point P et centre de la charge\",IF(Accueil!AZ15=\"Deutsch\",\"Distanz zwischen P und Zentrum der Last\",IF(Accueil!AZ15=\"Italiano\",\"\")))","v":"Distance entre point P et centre de la charge"},{"$f":"IF(Accueil!$AZ$15=\"Français\",\"Accueil\",IF(Accueil!$AZ$15=\"Deutsch\",\"Start\",IF(Accueil!$AZ$15=\"Italiano\",\"\")))","v":"Accueil"},{"$f":"IF(Accueil!$AZ$15=\"Français\",\"Accueil\",IF(Accueil!$AZ$15=\"Deutsch\",\"Start\",IF(Accueil!$AZ$15=\"Italiano\",\"\")))","v":"Accueil"},{"$f":"IF(Accueil!$AZ$15=\"Français\",\"Accueil\",IF(Accueil!$AZ$15=\"Deutsch\",\"Start\",IF(Accueil!$AZ$15=\"Italiano\",\"\")))","v":"Accueil"},{"$f":"IF(Accueil!$AZ$15=\"Français\",\"Accueil\",IF(Accueil!$AZ$15=\"Deutsch\",\"Start\",IF(Accueil!$AZ$15=\"Italiano\",\"\")))","v":"Accueil"},{"$f":"IF(Accueil!$AZ$15=\"Français\",\"Accueil\",IF(Accueil!$AZ$15=\"Deutsch\",\"Start\",IF(Accueil!$AZ$15=\"Italiano\",\"\")))","v":"Accueil"},{"$f":"IF(Accueil!$AZ$15=\"Français\",\"Accueil\",IF(Accueil!$AZ$15=\"Deutsch\",\"Start\",IF(Accueil!$AZ$15=\"Italiano\",\"\")))","v":"Accueil"},{"$f":"IF(Accueil!$AZ$15=\"Français\",\"Accueil\",IF(Accueil!$AZ$15=\"Deutsch\",\"Start\",IF(Accueil!$AZ$15=\"Italiano\",\"\")))","v":"Accueil"},null,null,{"$f":"IF(Accueil!AZ15=\"Français\",\"Accueil\",IF(Accueil!AZ15=\"Deutsch\",\"Start\",IF(Accueil!AZ15=\"Italiano\",\"\")))","v":"Accueil"}]
[{"$f":"IF(Accueil!AZ15=\"Français\",\"Explications\",IF(Accueil!AZ15=\"Deutsch\",\"Erklärungen\",IF(Accueil!AZ15=\"Italiano\",\"\")))","v":"Explications"},{"$f":"IF(Accueil!AZ15=\"Français\",\"Distance entre point P et centre de la charge\",IF(Accueil!AZ15=\"Deutsch\",\"Distanz zwischen P und Zentrum der Last\",IF(Accueil!AZ15=\"Italiano\",\"\")))","v":"Distance entre point P et centre de la charge"},{"$f":"IF(Accueil!$AZ$15=\"Français\",\"Retour\",IF(Accueil!$AZ$15=\"Deutsch\",\"Zurück\",IF(Accueil!$AZ$15=\"Italiano\",\"\")))","v":"Retour"},{"$f":"IF(Accueil!$AZ$15=\"Français\",\"Retour\",IF(Accueil!$AZ$15=\"Deutsch\",\"Zurück\",IF(Accueil!$AZ$15=\"Italiano\",\"\")))","v":"Retour"},{"$f":"IF(Accueil!$AZ$15=\"Français\",\"Retour\",IF(Accueil!$AZ$15=\"Deutsch\",\"Zurück\",IF(Accueil!$AZ$15=\"Italiano\",\"\")))","v":"Retour"},{"$f":"IF(Accueil!$AZ$15=\"Français\",\"Retour\",IF(Accueil!$AZ$15=\"Deutsch\",\"Zurück\",IF(Accueil!$AZ$15=\"Italiano\",\"\")))","v":"Retour"},{"$f":"IF(Accueil!$AZ$15=\"Français\",\"Retour\",IF(Accueil!$AZ$15=\"Deutsch\",\"Zurück\",IF(Accueil!$AZ$15=\"Italiano\",\"\")))","v":"Retour"},{"$f":"IF(Accueil!$AZ$15=\"Français\",\"Retour\",IF(Accueil!$AZ$15=\"Deutsch\",\"Zurück\",IF(Accueil!$AZ$15=\"Italiano\",\"\")))","v":"Retour"},{"$f":"IF(Accueil!$AZ$15=\"Français\",\"Retour\",IF(Accueil!$AZ$15=\"Deutsch\",\"Zurück\",IF(Accueil!$AZ$15=\"Italiano\",\"\")))","v":"Retour"},null,null,{"$f":"IF(Accueil!AZ15=\"Français\",\"Explications\",IF(Accueil!AZ15=\"Deutsch\",\"Erklärungen\",IF(Accueil!AZ15=\"Italiano\",\"\")))","v":"Explications"}]
[null,{"$f":"IF(Accueil!AZ15=\"Français\",\"Profondeur par rapport au terrain\",IF(Accueil!AZ15=\"Deutsch\",\"Tiefe unter OK Terrain\",IF(Accueil!AZ15=\"Italiano\",\"\")))","v":"Profondeur par rapport au terrain"},null,null,null,null,null,null,null,null,null,{"$f":"IF(Accueil!$AZ$15=\"Français\",\"Détails béton\",IF(Accueil!$AZ$15=\"Deutsch\",\"Details Beton\",IF(Accueil!$AZ$15=\"Italiano\",\"\")))","v":"Détails béton"}]
[null,{"$f":"IF(Accueil!AZ15=\"Français\",\"3. Trafic routier/ferroviaire\",IF(Accueil!AZ15=\"Deutsch\",\"3. Strassen-/Bahnverkehr\",IF(Accueil!AZ15=\"Italiano\",\"3.\")))","v":"3. Trafic routier/ferroviaire"},null,null,null,null,null,null,null,null,null,{"$f":"IF(Accueil!$AZ$15=\"Français\",\"Détails grès vitrifié (charge normale)\",IF(Accueil!$AZ$15=\"Deutsch\",\"Details Steinzeug (Normallast)\",IF(Accueil!$AZ$15=\"Italiano\",\"\")))","v":"Détails grès vitrifié (charge normale)"}]
[null,{"$f":"IF(Accueil!$AZ$15=\"Français\",\"Facteur de charge routier\",IF(Accueil!$AZ$15=\"Deutsch\",\"Beiwert Strassenverkehr\",\"\"))","v":"Facteur de charge routier"},null,null,null,null,null,null,null,null,null,{"$f":"IF(Accueil!$AZ$15=\"Français\",\"Détails grès vitrifié (charge supérieure)\",IF(Accueil!$AZ$15=\"Deutsch\",\"Details Steinzeug (Hochlast)\",IF(Accueil!$AZ$15=\"Italiano\",\"\")))","v":"Détails grès vitrifié (charge supérieure)"}]
[null,{"$f":"IF(Accueil!$AZ$15=\"Français\",\"Coefficient dynamique pour trafic routier\",IF(Accueil!$AZ$15=\"Deutsch\",\"Stosszuschlag\",\"\"))","v":"Coefficient dynamique pour trafic routier"},null,null,null,null,null,null,null,null,null,{"$f":"IF(Accueil!$AZ$15=\"Français\",\"Détails fonte ductile\",IF(Accueil!$AZ$15=\"Deutsch\",\"Details Gusseisen\",IF(Accueil!$AZ$15=\"Italiano\",\"\")))","v":"Détails fonte ductile"}]
[null,{"$f":"IF(Accueil!AZ15=\"Français\",\"Facteur de charge ferroviaire\",IF(Accueil!AZ15=\"Deutsch\",\"Bahnverkehr Faktor\",IF(Accueil!AZ15=\"Italiano\",\"\")))","v":"Facteur de charge ferroviaire"},null,null,null,null,null,null,null,null,null,{"$f":"IF(Accueil!$AZ$15=\"Français\",\"Détails PP SN4\",IF(Accueil!$AZ$15=\"Deutsch\",\"Details PP SN4\",IF(Accueil!$AZ$15=\"Italiano\",\"\")))","v":"Détails PP SN4"}]
[null,{"$f":"IF(Accueil!AZ15=\"Français\",\"4. Qualité du sol\",IF(Accueil!AZ15=\"Deutsch\",\"4. Bodenqualität\",IF(Accueil!AZ15=\"Italiano\",\"4.\")))","v":"4. Qualité du sol"},null,null,null,null,null,null,null,null,null,{"$f":"IF(Accueil!$AZ$15=\"Français\",\"Détails PP SN8\",IF(Accueil!$AZ$15=\"Deutsch\",\"Details PP SN8\",IF(Accueil!$AZ$15=\"Italiano\",\"\")))","v":"Détails PP SN8"}]
[null,{"$f":"IF(Accueil!AZ15=\"Français\",\"5. Poids volumique apparent humide\",IF(Accueil!AZ15=\"Deutsch\",\"5. Feuchtraumgewicht des Baugrundes\",IF(Accueil!AZ15=\"Italiano\",\"5.\")))","v":"5. Poids volumique apparent humide"},null,null,null,null,null,null,null,null,null,{"$f":"IF(Accueil!$AZ$15=\"Français\",\"Détails PP SN12\",IF(Accueil!$AZ$15=\"Deutsch\",\"Details PP SN12\",IF(Accueil!$AZ$15=\"Italiano\",\"\")))","v":"Détails PP SN12"}]
[null,{"$f":"IF(Accueil!AZ15=\"Français\",\"6. Poids volumique déjaugé\",IF(Accueil!AZ15=\"Deutsch\",\"6. Raumgewicht unter Auftrieb\",IF(Accueil!AZ15=\"Italiano\",\"6\")))","v":"6. Poids volumique déjaugé"},null,null,null,null,null,null,null,null,null,{"$f":"IF(Accueil!$AZ$15=\"Français\",\"Détails PP SN16\",IF(Accueil!$AZ$15=\"Deutsch\",\"Details PP SN16\",IF(Accueil!$AZ$15=\"Italiano\",\"\")))","v":"Détails PP SN16"}]
[null,{"$f":"IF(Accueil!AZ15=\"Français\",\"7. Angle de frottement interne\",IF(Accueil!AZ15=\"Deutsch\",\"7. Winkel der inneren Reibung\",IF(Accueil!AZ15=\"Italiano\",\"7.\")))","v":"7. Angle de frottement interne"},null,null,null,null,null,null,null,null,null,{"$f":"IF(Accueil!$AZ$15=\"Français\",\"Détails PVC SN2\",IF(Accueil!$AZ$15=\"Deutsch\",\"Details PVC SN2\",IF(Accueil!$AZ$15=\"Italiano\",\"\")))","v":"Détails PVC SN2"}]
[null,{"$f":"IF(Accueil!AZ15=\"Français\",\"8. Module de déformation vertical du sol\",IF(Accueil!AZ15=\"Deutsch\",\"8. Vertikales Verformungsmodul des Bodens\",IF(Accueil!AZ15=\"Italiano\",\"8.\")))","v":"8. Module de déformation vertical du sol"},null,null,null,null,null,null,null,null,null,{"$f":"IF(Accueil!$AZ$15=\"Français\",\"Détails PVC SN4\",IF(Accueil!$AZ$15=\"Deutsch\",\"Details PVC SN4\",IF(Accueil!$AZ$15=\"Italiano\",\"\")))","v":"Détails PVC SN4"}]
[null,{"$f":"IF(Accueil!AZ15=\"Français\",\"9. Coefficient de pression du terrain\",IF(Accueil!AZ15=\"Deutsch\",\"9. Erddruckbeiwert\",IF(Accueil!AZ15=\"Italiano\",\"9.\")))","v":"9. Coefficient de pression du terrain"},null,null,null,null,null,null,null,null,null,{"$f":"IF(Accueil!$AZ$15=\"Français\",\"Détails PVC SN8\",IF(Accueil!$AZ$15=\"Deutsch\",\"Details PVC SN8\",IF(Accueil!$AZ$15=\"Italiano\",\"\")))","v":"Détails PVC SN8"}]
[null,{"$f":"IF(Accueil!AZ15=\"Français\",\"10. Coefficient de flexion au tassement\",IF(Accueil!AZ15=\"Deutsch\",\"10. Setzungs-Durchbiegungsziffer\",IF(Accueil!AZ15=\"Italiano\",\"10.\")))","v":"10. Coefficient de flexion au tassement"},null,null,null,null,null,null,null,null,null,{"$f":"IF(Accueil!$AZ$15=\"Français\",\"Détails PE SN2\",IF(Accueil!$AZ$15=\"Deutsch\",\"Details PE SN2\",IF(Accueil!$AZ$15=\"Italiano\",\"\")))","v":"Détails PE SN2"}]
[null,{"$f":"IF(Accueil!AZ15=\"Français\",\"11. Facteur de réduction de charges \",IF(Accueil!AZ15=\"Deutsch\",\"11. Lastminderungsfaktor\",IF(Accueil!AZ15=\"Italiano\",\"11.\")))","v":"11. Facteur de réduction de charges "},null,null,null,null,null,null,null,null,null,{"$f":"IF(Accueil!$AZ$15=\"Français\",\"Détails PE SN4\",IF(Accueil!$AZ$15=\"Deutsch\",\"Details PE SN4\",IF(Accueil!$AZ$15=\"Italiano\",\"\")))","v":"Détails PE SN4"}]
[null,{"$f":"IF(Accueil!AZ15=\"Français\",\"Théorie du silo (K1 et δ)\",IF(Accueil!AZ15=\"Deutsch\",\"Silotheorie (K1 und δ)\"))","v":"Théorie du silo (K1 et δ)"},null,null,null,null,null,null,null,null,null,{"$f":"IF(Accueil!$AZ$15=\"Français\",\"Détails PE SN8\",IF(Accueil!$AZ$15=\"Deutsch\",\"Details PE SN8\",IF(Accueil!$AZ$15=\"Italiano\",\"\")))","v":"Détails PE SN8"}]
[null,{"$f":"IF(Accueil!AZ15=\"Français\",\"12. Type de béton d'enrobage\",IF(Accueil!AZ15=\"Deutsch\",\"12. Hüllbeton\",IF(Accueil!AZ15=\"Italiano\",\"12.\")))","v":"12. Type de béton d'enrobage"},null,null,null,null,null,null,null,null,null,{"$f":"IF(Accueil!$AZ$15=\"Français\",\"Détails GF-UP SN2500\",IF(Accueil!$AZ$15=\"Deutsch\",\"Details GF-UP SN2500\",IF(Accueil!$AZ$15=\"Italiano\",\"\")))","v":"Détails GF-UP SN2500"}]
[null,{"$f":"IF(Accueil!AZ15=\"Français\",\"13. Hauteur de couverture\",IF(Accueil!AZ15=\"Deutsch\",\"13. Höhe Erdamterial über Rohrscheitel\",IF(Accueil!AZ15=\"Italiano\",\"13.\")))","v":"13. Hauteur de couverture"},null,null,null,null,null,null,null,null,null,{"$f":"IF(Accueil!$AZ$15=\"Français\",\"Détails GF-UP SN5000\",IF(Accueil!$AZ$15=\"Deutsch\",\"Details GF-UP SN5000\",IF(Accueil!$AZ$15=\"Italiano\",\"\")))","v":"Détails GF-UP SN5000"}]
[null,{"$f":"IF(Accueil!AZ15=\"Français\",\"14. Largeur de fouille\",IF(Accueil!AZ15=\"Deutsch\",\"14. Grabenbreite\",IF(Accueil!AZ15=\"Italiano\",\"14.\")))","v":"14. Largeur de fouille"},null,null,null,null,null,null,null,null,null,{"$f":"IF(Accueil!$AZ$15=\"Français\",\"Détails GF-UP SN10000\",IF(Accueil!$AZ$15=\"Deutsch\",\"Details GF-UP SN10000\",IF(Accueil!$AZ$15=\"Italiano\",\"\")))","v":"Détails GF-UP SN10000"}]
[null,{"$f":"IF(Accueil!AZ15=\"Français\",\"15. Type de fouille\",IF(Accueil!AZ15=\"Deutsch\",\"15. Grabentyp\",IF(Accueil!AZ15=\"Italiano\",\"15.\")))","v":"15. Type de fouille"},null,null,null,null,null,null,null,null,null,{"$f":"IF(Accueil!$AZ$15=\"Français\",\"Détails GF-UP SN15000\",IF(Accueil!$AZ$15=\"Deutsch\",\"Details GF-UP SN15000\",IF(Accueil!$AZ$15=\"Italiano\",\"\")))","v":"Détails GF-UP SN15000"}]
[null,{"$f":"IF(Accueil!AZ15=\"Français\",\"16. Eau souterraine\",IF(Accueil!AZ15=\"Deutsch\",\"16. Grundwasser\",IF(Accueil!AZ15=\"Italiano\",\"16.\")))","v":"16. Eau souterraine"},null,null,null,null,null,null,null,null,null,{"$f":"IF(Accueil!$AZ$15=\"Français\",\"Détails GF-UP SN16000\",IF(Accueil!$AZ$15=\"Deutsch\",\"Details GF-UP SN16000\",IF(Accueil!$AZ$15=\"Italiano\",\"\")))","v":"Détails GF-UP SN16000"}]
[null,{"$f":"IF(Accueil!AZ15=\"Français\",\"Niveau d'eau souterraine\",IF(Accueil!AZ15=\"Deutsch\",\"Grundwasserspiegel\",IF(Accueil!AZ15=\"Italiano\",\"\")))","v":"Niveau d'eau souterraine"},null,null,null,null,null,null,null,null,null,{"$f":"IF(Accueil!$AZ$15=\"Français\",\"Détails GF-UP SN20000\",IF(Accueil!$AZ$15=\"Deutsch\",\"Details GF-UP SN20000\",IF(Accueil!$AZ$15=\"Italiano\",\"\")))","v":"Détails GF-UP SN20000"}]
[null,{"$f":"IF(Accueil!AZ15=\"Français\",\"17. Eau à l'intérieur du tuyau\",IF(Accueil!AZ15=\"Deutsch\",\"17. Wasser im Rohr\",IF(Accueil!AZ15=\"Italiano\",\"17.\")))","v":"17. Eau à l'intérieur du tuyau"}]
[null,{"$f":"IF(Accueil!AZ15=\"Français\",\"Pression \",IF(Accueil!AZ15=\"Deutsch\",\"Druck\",IF(Accueil!AZ15=\"Italiano\",\"\")))","v":"Pression "}]
[]
[null,"Dropdown"]
[null,{"$f":"IF(Accueil!$AZ$15=\"Français\",\"Pas de charge\",IF(Accueil!$AZ$15=\"Deutsch\",\"Keine Flächenlast\",IF(Accueil!$AZ$15=\"Italiano\",\"\")))","v":"Pas de charge"}]
["αStrasse",{"$f":"IF(Accueil!$AZ$15=\"Français\",\"charge surfacique\",IF(Accueil!$AZ$15=\"Deutsch\",\"Flächenlast\",IF(Accueil!$AZ$15=\"Italiano\",\"\")))","v":"charge surfacique"}]
[]
["hab",{"$f":"IF(Accueil!$AZ$15=\"Français\",\"Pas de trafic\",IF(Accueil!$AZ$15=\"Deutsch\",\"Kein Verkehr\",IF(Accueil!$AZ$15=\"Italiano\",\"\")))","v":"Pas de trafic"}]
[null,{"$f":"IF(Accueil!$AZ$15=\"Français\",\"Trafic routier\",IF(Accueil!$AZ$15=\"Deutsch\",\"Strassenverkehr\",IF(Accueil!$AZ$15=\"Italiano\",\"\")))","v":"Trafic routier"}]
[null,{"$f":"IF(Accueil!$AZ$15=\"Français\",\"Bord de route\",IF(Accueil!$AZ$15=\"Deutsch\",\"Strassenrand\",IF(Accueil!$AZ$15=\"Italiano\",\"\")))","v":"Bord de route"}]
[null,{"$f":"IF(Accueil!$AZ$15=\"Français\",\"Route d'importance secondaire\",IF(Accueil!$AZ$15=\"Deutsch\",\"Untergeordnete Strasse\",IF(Accueil!$AZ$15=\"Italiano\",\"\")))","v":"Route d'importance secondaire"}]
[null,{"$f":"IF(Accueil!$AZ$15=\"Français\",\"Voie unique (ferroviaire)\",IF(Accueil!$AZ$15=\"Deutsch\",\"Eingleisig (Bahnverkehr)\",IF(Accueil!$AZ$15=\"Italiano\",\"\")))","v":"Voie unique (ferroviaire)"}]
[null,{"$f":"IF(Accueil!$AZ$15=\"Français\",\"Voies multiples (ferroviaire)\",IF(Accueil!$AZ$15=\"Deutsch\",\"Mehrgleisig (Bahnverkehr)\",IF(Accueil!$AZ$15=\"Italiano\",\"\")))","v":"Voies multiples (ferroviaire)"}]
[null,{"$f":"IF(Accueil!$AZ$15=\"Français\",\"Voie étroite (ferroviaire)\",IF(Accueil!$AZ$15=\"Deutsch\",\"Schmalspur (Bahnverkehr)\",IF(Accueil!$AZ$15=\"Italiano\",\"\")))","v":"Voie étroite (ferroviaire)"}]
[]
[null,{"$f":"IF(Accueil!$AZ$15=\"Français\",\"Avec\",IF(Accueil!$AZ$15=\"Deutsch\",\"Mit\",\"\"))","v":"Avec"}]
[null,{"$f":"IF(Accueil!$AZ$15=\"Français\",\"Sans\",IF(Accueil!$AZ$15=\"Deutsch\",\"Ohne\",\"\"))","v":"Sans"}]
[]
[null,{"$f":"IF(Accueil!$AZ$15=\"Français\",\"Sol stable\",IF(Accueil!$AZ$15=\"Deutsch\",\"Normal standfest\",IF(Accueil!$AZ$15=\"Italiano\",\"\")))","v":"Sol stable"}]
[null,{"$f":"IF(Accueil!$AZ$15=\"Français\",\"Roche/sol à consistance ferme\",IF(Accueil!$AZ$15=\"Deutsch\",\"Dicht gelagert bis fest\",IF(Accueil!$AZ$15=\"Italiano\",\"\")))","v":"Roche/sol à consistance ferme"}]
[]
[null,{"$f":"IF(Accueil!$AZ$15=\"Français\",\"OUI\",IF(Accueil!$AZ$15=\"Deutsch\",\"JA\",IF(Accueil!$AZ$15=\"Italiano\",\"SI\")))","v":"OUI"}]
[null,{"$f":"IF(Accueil!$AZ$15=\"Français\",\"NON\",IF(Accueil!$AZ$15=\"Deutsch\",\"NEIN\",IF(Accueil!$AZ$15=\"Italiano\",\"NO\")))","v":"NON"}]
[]
[null,{"$f":"IF(Accueil!$AZ$15=\"Français\",\"Compactage par couches sans vérifications\",IF(Accueil!$AZ$15=\"Deutsch\",\"Verdichtung gegen Boden ohne Nachweis\",IF(Accueil!$AZ$15=\"Italiano\",\"\")))","v":"Compactage par couches sans vérifications"}]
[null,{"$f":"IF(Accueil!$AZ$15=\"Français\",\"Bon compactage par couches avec vérifications\",IF(Accueil!$AZ$15=\"Deutsch\",\"Verdichtung gegen Boden mit Nachweis\",IF(Accueil!$AZ$15=\"Italiano\",\"\")))","v":"Bon compactage par couches avec vérifications"}]
[null,{"$f":"IF(Accueil!$AZ$15=\"Français\",\"Compactage faible ou inexistant\",IF(Accueil!$AZ$15=\"Deutsch\",\"Geringe bis keine Verdichtung\",IF(Accueil!$AZ$15=\"Italiano\",\"\")))","v":"Compactage faible ou inexistant"}]
[]
[null,{"$f":"IF(Accueil!$AZ$15=\"Français\",\"Verticale (U)\",IF(Accueil!$AZ$15=\"Deutsch\",\"Vertikal (U)\",IF(Accueil!$AZ$15=\"Italiano\",\"\")))","v":"Verticale (U)"}]
[null,{"$f":"IF(Accueil!$AZ$15=\"Français\",\"Talutée (V)\",IF(Accueil!$AZ$15=\"Deutsch\",\"Abgeböscht (V)\",IF(Accueil!$AZ$15=\"Italiano\",\"\")))","v":"Talutée (V)"}]
[]
[null,{"$f":"IF(Accueil!$AZ$15=\"Français\",\"Avec eau souterraine\",IF(Accueil!$AZ$15=\"Deutsch\",\"Mit Grundwasser\",IF(Accueil!$AZ$15=\"Italiano\",\"\")))","v":"Avec eau souterraine"}]
[null,{"$f":"IF(Accueil!$AZ$15=\"Français\",\"Sans eau souterraine\",IF(Accueil!$AZ$15=\"Deutsch\",\"Ohne Grundwasser\",IF(Accueil!$AZ$15=\"Italiano\",\"\")))","v":"Sans eau souterraine"}]
[]
[null,{"$f":"IF(Accueil!$AZ$15=\"Français\",\"Tuyau vide\",IF(Accueil!$AZ$15=\"Deutsch\",\"Leeres Rohr\",IF(Accueil!$AZ$15=\"Italiano\",\"\")))","v":"Tuyau vide"}]
[null,{"$f":"IF(Accueil!$AZ$15=\"Français\",\"Tuyau plein\",IF(Accueil!$AZ$15=\"Deutsch\",\"Volles Rohr\",IF(Accueil!$AZ$15=\"Italiano\",\"\")))","v":"Tuyau plein"}]
[null,{"$f":"IF(Accueil!$AZ$15=\"Français\",\"Tuyau sous pression\",IF(Accueil!$AZ$15=\"Deutsch\",\"Überdruck über Scheitel\",IF(Accueil!$AZ$15=\"Italiano\",\"\")))","v":"Tuyau sous pression"}]
[]
[null,"Makro"]
[null,{"$f":"IF(Accueil!AZ15=\"Français\",\"Retour\",IF(Accueil!AZ15=\"Deutsch\",\"Zurück\",IF(Accueil!AZ15=\"Italiano\",\"\")))","v":"Retour"}]
[null,{"$f":"IF(Accueil!AZ15=\"Français\",\"Modifications\",IF(Accueil!AZ15=\"Deutsch\",\"Einstellungen\",IF(Accueil!AZ15=\"Italiano\",\"\")))","v":"Modifications"}]
[null,{"$f":"IF(Accueil!AZ15=\"Français\",\"Aide\",IF(Accueil!AZ15=\"Deutsch\",\"Hilfe\",IF(Accueil!AZ15=\"Italiano\",\"\")))","v":"Aide"}]
[null,{"$f":"IF(Accueil!AZ15=\"Français\",\"Calculs\",IF(Accueil!AZ15=\"Deutsch\",\"Berechnungen\",IF(Accueil!AZ15=\"Italiano\",\"\")))","v":"Calculs"}]
[]
[null,"Kommentare"]
[null,{"$f":"IF(Accueil!AZ15=\"Français\",\"Pour les routes d'importances secondaires, une valeur de 0.65 est programmée\",IF(Accueil!AZ15=\"Deutsch\",\"Für die untergeordneten Strassen ist ein Wert von 0.65 programmiert\",IF(Accueil!AZ15=\"Italiano\",\"\")))","v":"Pour les routes d'importances secondaires, une valeur de 0.65 est programmée"}]
[null,{"$f":"IF(Accueil!AZ15=\"Français\",\"Pour les voies étroites, une valeur de 1.0 est programmée\",IF(Accueil!AZ15=\"Deutsch\",\"Für die Schmalspur ist ein Wert von 1.0 programmiert\",IF(Accueil!AZ15=\"Italiano\",\"\")))","v":"Pour les voies étroites, une valeur de 1.0 est programmée"}]
[]
[null,"Legende"]
[null,{"$f":"IF(Accueil!AZ15=\"Français\",\"Hypertexte vers la feuille d'aide\",IF(Accueil!AZ15=\"Deutsch\",\"Hypertext zum Hilfeblatt\",IF(Accueil!AZ15=\"Italiano\",\"\")))","v":"Hypertexte vers la feuille d'aide"}]
[null,{"$f":"IF(Accueil!AZ15=\"Français\",\"Cases à remplir\",IF(Accueil!AZ15=\"Deutsch\",\"Zellen zum ausfüllen\",IF(Accueil!AZ15=\"Italiano\",\"\")))","v":"Cases à remplir"}]
[]
[null,"Hypertexte"]
[null,{"$f":"CELL(\"filename\",Données!P6)","v":"https://hessoit-my.sharepoint.com/personal/renaud_joliat_hes-so_ch/Documents/Bureau/2026 VSA/[aideauchoixdesconduites_vf_2_rev260125.xlsm]Données"},{"$f":"LEN(B95)","v":145}]
[null,{"$f":"MID(CELL(\"filename\",Données!P6),SEARCH(\"]\",CELL(\"filename\",Données!P6))+1,31)","v":"Données"},{"$f":"LEN(B96)","v":7}]
[null,{"$f":"LEFT(B95,C95-C96)","v":"https://hessoit-my.sharepoint.com/personal/renaud_joliat_hes-so_ch/Documents/Bureau/2026 VSA/[aideauchoixdesconduites_vf_2_rev260125.xlsm]"},{"$f":"LEN(B97)","v":138}]
[null,{"$f":"RIGHT(B97,LEN(B97)-LEN(LEFT(B97,FIND(\"[\",B97)))+1)","v":"[aideauchoixdesconduites_vf_2_rev260125.xlsm]"}]
[]
["'Aide (F)'!Tuyau",{"$f":"_xlfn.CONCAT($B$98,A100)","v":"[aideauchoixdesconduites_vf_2_rev260125.xlsm]'Aide (F)'!Tuyau"}]
["'Aide (D)'!Rohr","[aideauchoixdesconduites_vf_2_rev260125.xlsm]'Aide (D)'!Rohr"]
["'Aide (F)'!Charge","[aideauchoixdesconduites_vf_2_rev260125.xlsm]'Aide (F)'!Charge"]
["'Aide (D)'!Flächenlast","[aideauchoixdesconduites_vf_2_rev260125.xlsm]'Aide (D)'!Flächenlast"]
["'Aide (F)'!Trafic","[aideauchoixdesconduites_vf_2_rev260125.xlsm]'Aide (F)'!Trafic"]
["'Aide (D)'!Verkehr","[aideauchoixdesconduites_vf_2_rev260125.xlsm]'Aide (D)'!Verkehr"]
["'Aide (F)'!Qualité","[aideauchoixdesconduites_vf_2_rev260125.xlsm]'Aide (F)'!Qualité"]
["'Aide (D)'!Boden","[aideauchoixdesconduites_vf_2_rev260125.xlsm]'Aide (D)'!Boden"]
["'Aide (F)'!Caractéristiques","[aideauchoixdesconduites_vf_2_rev260125.xlsm]'Aide (F)'!Caractéristiques"]
["'Aide (D)'!Untergrundscharakteristiken","[aideauchoixdesconduites_vf_2_rev260125.xlsm]'Aide (D)'!Untergrundscharakteristiken"]
["'Aide (F)'!Pression","[aideauchoixdesconduites_vf_2_rev260125.xlsm]'Aide (F)'!Pression"]
["'Aide (D)'!Erddruckbeiwert","[aideauchoixdesconduites_vf_2_rev260125.xlsm]'Aide (D)'!Erddruckbeiwert"]
["'Aide (F)'!Tassement","[aideauchoixdesconduites_vf_2_rev260125.xlsm]'Aide (F)'!Tassement"]
["'Aide (D)'!Setzung","[aideauchoixdesconduites_vf_2_rev260125.xlsm]'Aide (D)'!Setzung"]
["'Aide (F)'!Réduction","[aideauchoixdesconduites_vf_2_rev260125.xlsm]'Aide (F)'!Réduction"]
["'Aide (D)'!Lastminderung","[aideauchoixdesconduites_vf_2_rev260125.xlsm]'Aide (D)'!Lastminderung"]
["'Aide (F)'!Largeur","[aideauchoixdesconduites_vf_2_rev260125.xlsm]'Aide (F)'!Largeur"]
["'Aide (D)'!Grabenbreite","[aideauchoixdesconduites_vf_2_rev260125.xlsm]'Aide (D)'!Grabenbreite"]
["'Aide (F)'!Enrobage","[aideauchoixdesconduites_vf_2_rev260125.xlsm]'Aide (F)'!Enrobage"]
["'Aide (D)'!Hüllbeton","[aideauchoixdesconduites_vf_2_rev260125.xlsm]'Aide (D)'!Hüllbeton"]
["'Aide (F)'!Souterraine","[aideauchoixdesconduites_vf_2_rev260125.xlsm]'Aide (F)'!Souterraine"]
["'Aide (D)'!Grundwasser","[aideauchoixdesconduites_vf_2_rev260125.xlsm]'Aide (D)'!Grundwasser"]
["'Aide (F)'!Eau","[aideauchoixdesconduites_vf_2_rev260125.xlsm]'Aide (F)'!Eau"]
["'Aide (D)'!Wasser","[aideauchoixdesconduites_vf_2_rev260125.xlsm]'Aide (D)'!Wasser"]

{"sheet":"Limitations (D)","index":2,"n_rows":138,"n_cols":50,"rows_kept":138,"cut":false,"hidden":false,"merged":[[3,8,4,39],[58,18,73,37],[119,13,125,17],[119,24,124,41]]}
[]
[]
[]
[null,null,null,null,null,null,null,null,"PROGRAMM ZUR AUSWAHL VON KANALISATIONSROHREN"]
[]
[null,null,null,null,null,null,null,null,"Nutzungsbedingungen"]
[]
[]
[null,null,null,null,null,null,null,null,"Das Programm ist nur für die statische Bemessungen der Rohren bestimmt. Die hydraulischen Berechnungen werden nicht berücksichtigt."]
[null,null,null,null,null,null,null,null,"Insofern nicht spezifisch erwàhnt, gelten die Grenzen der SIA190:2017."]
[null,null,null,null,null,null,null,null,"Der Entwickler dieses Statikprogrammes, übernimmt keine Verantwortung für die erhaltenen Resultate.",null,null,null,null,null,null,null,null,null,null,null,null,null,null,null,null,null,null,null,null,null,null,null,null,null,null,null,null,null,null,null,null,null,null,null,null,null,null,null,null,{"$f":"IF(Accueil!AQ134=\"Français\",\"Retour\",IF(Accueil!AQ134=\"Deutsch\",\"Zurück\",IF(Accueil!AQ134=\"Italiano\",\"\")))","v":false}]
[]
[]
[null,null,null,null,null,null,null,null,"Einschränkungen des Programms"]
[]
[]
[]
[null,null,null,null,null,null,null,null,"Die behandelten Materialien sind: Beton (B), Polypropylen (PP), PolyvinylchloridPVC), Duktiles Gusseisen (GGG), Steinzeug (STZ), Ungesättigte Polyester (glasfaserverstärkt) (GF-UP) und "]
[null,null,null,null,null,null,null,null,"Polyethylen (PE)."]
[]
[null,null,null,null,null,null,null,null,"Stahlbeton (STB) wird nicht behandelt."]
[]
[null,null,null,null,null,null,null,null,"Das Programm berechnet nur kreisförmige Rohre."]
[]
[null,null,null,null,null,null,null,null,"Das Programm kontrolliert nicht das Tragverhalten der Rohre in Längsrichtung."]
[]
[null,null,null,null,null,null,null,null,"Das Programm kontrolliert nicht die Tragfähigkeit und Setzungsverhalten des Untergrundes."]
[]
[null,null,null,null,null,null,null,null,"Das Programm kontrolliert nicht die Böschungsstabilität."]
[]
[null,null,null,null,null,null,null,null,"Das Programm beachtet die Bauphase nicht, welche auch ausschlaggebend sein kann."]
[]
[null,null,null,null,null,null,null,null,"Die Wanddicke des fiktiven Rohres für die weichen Rohre im Normalverlegeprofil 4 ist limitiert von 150mm bis 500mm."]
[null,null,null,null,null,null,null,null,"Die Iteration in diesem Programm werden in 5mm Schritten durchgeführt."]
[]
[null,null,null,null,null,null,null,null,"Die Beton- (B) und Steinzeugrohre (STZ) können in allen Verlegeprofile verlegt werden, die Kunststoff- und GF-UP Rohre hingegen können nur in den  Verlegeprofile 1 und 4 verlegt werden. "]
[null,null,null,null,null,null,null,null,"Die duktilen Gussrohre (GGG) können nur im Verlegeprofil 1, mit einem Auflagewinkel von αu = 30°, verlegt werden."]
[]
[null,null,null,null,null,null,null,null,"Um zu verhindern, dass die Kunstoff- und die glasfaserverstärkten Rohre (GF-UP) ein steifes Verhalten aufweisen (Nachweise nicht mehr machbar -> Bruchlastversuche), "]
[null,null,null,null,null,null,null,null,"müssen die Rohre in nicht bindige oder schwach bindige Böden verlegt werden (siehe Tabelle 1 der Norm SIA190:2017)."]
[]
[]
[null,null,null,null,null,null,null,null,"Das Programm rechnet mit den Formeln des Dokumentes \"Rohrstatik\"."]
[]
[null,null,null,null,null,null,null,null,"Die Formeln für die Tragsicherheit und die Überprüfung der Verformungen sind für die steifen Kunststoffrohre nicht mehr anwendbar (SFkurz > 0.1). "]
[null,null,null,null,null,null,null,null,"Es müssen Versuche durchgeführt werden um Resultate zu erhalten."]
[]
[null,null,null,null,null,null,null,null,"Die Berechnungen stützen sich auf die vom Markt erhältlichen Rohren ab. Wenn ein Innendurchmesser eingegeben wird, rechnet das Programm mit diesem, oder den nächst Grösseren."]
[]
[null,null,null,null,null,null,null,null,"Die minimale Überdeckungshöhe für den Strassenverkehr ist 1m und für den Bahnverkehr 2m (OK Schiene)."]
[]
[null,null,null,null,null,null,null,null,"Der Lastminderungsfaktor λmin darf nicht angewendet werden, wenn das Rohr sich unter einer Strasse oder Eisenbahnlinie befindet."]
[]
[null,null,null,null,null,null,null,null,"Annahmen des Programms"]
[]
[]
[null,null,null,null,null,null,null,null,"Die Werkstoffkennwerte der Norm SIA190 :2017 werden angewendet."]
[]
[]
[]
[]
[]
[]
[]
[]
[]
[]
[]
[]
[]
[]
[]
[]
[]
[null,null,null,null,null,null,null,null,null,null,null,null,null,null,null,null,null,null,null,null,null,null,"Tabelle 1 (Tabelle 2 SIA190 :2017 Werkstoffkennwerte)"]
[]
[]
[]
[]
[]
[]
[]
[]
[]
[]
[]
[null,null,null,null,null,null,null,null,null,null,null,null,null,null,null,null,null,null,null,null,null,null,"Tabelle 2 (Tabelle 3 SIA190 :2017 Werkstoffkennwerte)"]
[]
[null,null,null,null,null,null,null,null,"Die Dimensionen der Rohre wurden mit verschiedenen Lieferanten verglichen. Die Dimensionen befinden sich im Anhang 9.1 der Bedienungsanleitung und wurden programmiert."]
[]
[]
[null,null,null,null,null,null,null,null,"Obwohl der Artikel 2.4.6 der Norm SIA190 :2017 sagt, dass der minimale Nominaldurchmesser (DN) 250mm ist, rechnet das Programm mit Nominaldurchmetern von 200mm bis 1500mm."]
[]
[]
[null,null,null,null,null,null,null,null,"Folgende Betonklassen werden für den Hüllbeton in betracht gezogen: C16/20; C20/25; C25/30;C30/37"]
[]
[null,null,null,null,null,null,null,null,"Das Elastizitätsmodul des Hüllbetons wurde mit 20'000 N/mm2 programmiert."]
[]
[null,null,null,null,null,null,null,null,"Die Mindestdicke des Hüllbetons ist auf 150mm fixiert und muss die Zugkraft für die steifen Rohre aufnehmen können."]
[]
[null,null,null,null,null,null,null,null,"Das Lastmodell für den Strassenverkehr ist das Lastmodell 1 nach der Norm SIA261 :2014 Artikel (10.2.2)."]
[]
[null,null,null,null,null,null,null,null,"Das Lastmodell für den Bahnverkehr ist das Lastmodell 1 nach der Norm SIA261 :2014 (Artikel 11.2.1)."]
[]
[null,null,null,null,null,null,null,null,"Für die Schmalspuren (Bahnverkehr), rechnet das Programm mit der Vereinfachung der Norm SIA190 :2017 (Artikel 4.2.3.11)"]
[null,null,null,null,null,null,null,null,"und reduziert um 50% die Last des Lastmodells 1."]
[]
[null,null,null,null,null,null,null,null,"Die Lastbeiwerte α für den Verkehr sind manuel einzutragen, mit Ausnahme der Untergeordneten Strassen (0.65) und für die Schmalspuren (1.0),"]
[null,null,null,null,null,null,null,null,"bei diesen beiden Fällen ist der Lastbeiwert schon programmiert."]
[]
[null,null,null,null,null,null,null,null,"Die Verkehrslasten sind nach den Tabellen C.2, C.3 und C.4 des Anhangs der Norm SIA190 :2017 programmiert."]
[null,null,null,null,null,null,null,null,"Für die Höhen, welche in den Tabellen nicht gegeben sind, wurden die Lasten linear interpoliert."]
[]
[null,null,null,null,null,null,null,null,"Der Auftrieb wird mit dem Höchsten Niveau des Grundwasserspiegels berechnet. "]
[null,null,null,null,null,null,null,null,"Das Programm überprüft nicht die Phase des betonierens."]
[]
[null,null,null,null,null,null,null,null,"Die Konventionen für die Anwendung der Formeln sind wie im Dokument \"Rohrstatik\" verwendet. "]
[null,null,null,null,null,null,null,null,"Folgende Abbildung veranschaulicht die Konvention für den Winkel φ in Grad. Die Tabelle zeigt die Vorzeichen für die internen Kräfte auf."]
[]
[]
[]
[]
[]
[]
[]
[]
[]
[null,null,null,null,null,null,null,null,"Der Stützdruckbeiwert KSt für die steifen Rohre im Verlegeprofil U4/V4 ist trotz des Artikels 4.2.9.3 der Norm SIA190 :2017 mit 0.8 programmiert."]
[null,null,null,null,null,null,null,null,"Dies aus dem Grund, dass das Profil 4 günstiger ist, als das Verlegeprofil 3."]
[]
[null,null,null,null,null,null,null,null,"Der Stützfaktor k ist mit dem Wert 1.0 im Programm eingefügt."]
[]
[null,null,null,null,null,null,null,null,"Die Ausladungsziffer C3 wird mit 1.0 für die weichen Rohre im Verlegprofil 4 berücksichttigt."]
[]
[null,null,null,null,null,null,null,null,"Nur 5% der Bemessungslast wird von den weichen Rohren aufgenommen, wenn diese komplett mit Beton umhüllt sind. "]
[null,null,null,null,null,null,null,null,"Der Rest wird durch das \"fiktive\" Rohr aus Beton aufgenommen."]
[]
[null,null,null,null,null,null,null,null,"Wenn die weichen Rohre im Verlegeprofil der Einwirkung des Grundwassers ausgesetzt sind, wird eine initiale Deformation x/d von 0.02 angenommen."]

{"sheet":"Limitations (F)","index":3,"n_rows":139,"n_cols":23,"rows_kept":139,"cut":false,"hidden":false,"merged":[[3,8,4,39],[59,19,74,38],[120,13,126,17],[120,26,125,44]]}
[]
[]
[]
[null,null,null,null,null,null,null,null,"PROGRAMME D'AIDE AU CHOIX DES CONDUITES"]
[]
[null,null,null,null,null,null,null,null,"Conditions d'utilisation"]
[]
[]
[null,null,null,null,null,null,null,null,"Le programme est seulement destiné pour le dimensionnement statique des conduites. Le calcul hydraulique n’est pas considéré."]
[null,null,null,null,null,null,null,null,"Sauf mentionner différemment, les délimitations de la norme SIA190 :2017 s’appliquent."]
[null,null,null,null,null,null,null,null,"Le créateur de ce programme n’assume aucune responsabilité sur les résultats obtenus."]
[]
[]
[null,null,null,null,null,null,null,null,"Limitations du logiciel"]
[]
[]
[]
[null,null,null,null,null,null,null,null,"Les matériaux traités sont : Béton (B), Polypropylène (PP), Polychlorure de vinyle (PVC), Fonte dutcile (GGG), Béton armé (STB), Grès (STZ), Polyester insaturé (GF-UP) et le "]
[null,null,null,null,null,null,null,null,"Polyéthylène insaturé (PE)."]
[]
[null,null,null,null,null,null,null,null,"Le matériau non traité est le Béton armé (STB)"]
[]
[null,null,null,null,null,null,null,null,"Le programme calcule que les tuyaux circulaires."]
[]
[null,null,null,null,null,null,null,null,"Le logiciel ne vérifie pas le comportement des tuyaux dans le sens longitudinal."]
[]
[null,null,null,null,null,null,null,null,"Le logiciel ne vérifie pas la capacité portante et les tassements du sol."]
[]
[null,null,null,null,null,null,null,null,"Le logiciel ne vérifie pas la stabilité des pentes pour les fouilles."]
[]
[null,null,null,null,null,null,null,null,"Le logiciel ne considère pas la phase de chantier, qui peut aussi être déterminant."]
[]
[null,null,null,null,null,null,null,null,"L’épaisseur du tuyau fictif pour les tuyaux souples posé dans le profil d’enrobage 4 est limitée de 150mm à 500mm. "]
[null,null,null,null,null,null,null,null,"Les itérations dans ce logiciel sont faites part pas de 5mm."]
[]
[null,null,null,null,null,null,null,null,"Les tuyaux en béton (B) et grès (STZ) peuvent être posés dans tous les profils d’enrobage. Les tuyaux en plastique (PP, PVC et PE) et GF-UP peuvent qu’être posés "]
[null,null,null,null,null,null,null,null,"dans les profils d’enrobage 1 et 4 et les tuyaux en fonte ductile (GGG) dans le profil d'enrobage 1."]
[]
[null,null,null,null,null,null,null,null,"Le logiciel travaille avec les formules du document technique « Rohrstatik »."]
[]
[null,null,null,null,null,null,null,null,"Les formules pour la sécurité structurale et la vérification de la déformation ne sont plus valables pour les tuyaux en plastique et GF-UP rigide (SFcourt > 0.1). "]
[null,null,null,null,null,null,null,null,"Il est nécessaire de faire des essais de rupture pour obtenir un résultat."]
[]
[null,null,null,null,null,null,null,null,"Les calculs dépendent des tuyaux existants. Si on introduit un diamètre intérieur, le logiciel calcule avec ce diamètre, ou il prend le prochain (plus grand)."]
[]
[null,null,null,null,null,null,null,null,"La hauteur de couverture minimale pour le cas du trafic routier est de 1m et pour le trafic ferroviaire de 2m (depuis le sommet des rails)."]
[]
[null,null,null,null,null,null,null,null,"Les tuyaux en fonte ductile (GGG) peuvent être que poser dans le profil d’enrobage 1, avec un angle d’appui αu = 30°."]
[]
[null,null,null,null,null,null,null,null,"Afin d’éviter que les tuyaux en plastique et GF-UP présentent un comportement rigide (vérification par calcul plus valable -> essais de rupture), "]
[null,null,null,null,null,null,null,null,"il faut poser les tuyaux dans des sols non cohésifs ou faiblement cohésifs (voir tableau 1 de la norme SIA190 :2017)."]
[]
[null,null,null,null,null,null,null,null,"Le coefficient de réduction de charge sur le tuyau λmin n’est pas applicable quand le tuyau se trouve sous une route ou une voie ferrée."]
[]
[null,null,null,null,null,null,null,null,"Hypothèses du logiciel"]
[]
[]
[null,null,null,null,null,null,null,null,"Les caractéristiques des matériaux de la norme SIA190 :2017 ont été appliquées."]
[]
[]
[]
[]
[]
[]
[]
[]
[]
[]
[]
[]
[]
[]
[]
[]
[]
[null,null,null,null,null,null,null,null,null,null,null,null,null,null,null,null,null,null,null,null,null,null,"Tableau 1 (tableau 2 SIA190 :2017 caractérisitques des tuyaux)"]
[]
[]
[]
[]
[]
[]
[]
[]
[]
[]
[]
[null,null,null,null,null,null,null,null,null,null,null,null,null,null,null,null,null,null,null,null,null,"Tableau 2 (tableau 3 SIA190 :2017 caractérisitques des tuyaux GF-UP)"]
[]
[null,null,null,null,null,null,null,null,"Les dimensions des tuyaux ont été comparées avec divers fournisseurs. Les dimensions qui se trouvent dans l’annexe 9.1 "]
[null,null,null,null,null,null,null,null,"du mode d'emploi ont été programmées."]
[]
[null,null,null,null,null,null,null,null,"Malgré l’article 2.4.6 de la norme SIA190 :2017 dit que le diamètre nominal (DN) minimal pour un système séparatif est de 250mm et pour un système unitaire, "]
[null,null,null,null,null,null,null,null,"le programme traite les tuyaux avec un diamètre nominal de 200mm à 1500mm (avec message d'avertissement)."]
[]
[null,null,null,null,null,null,null,null,"Les types de béton d’enrobage considéré sont : C16/20; C20/25; C25/30;C30/37"]
[]
[null,null,null,null,null,null,null,null,"Le module d’élasticité du béton d’enrobage a été programmé à 20’000N/mm2."]
[]
[null,null,null,null,null,null,null,null,"L’épaisseur minimale de l’enrobage est fixée à 150mm et doit être capable de reprendre la force de traction pour les tuyaux rigides."]
[]
[null,null,null,null,null,null,null,null,"Le modèle de charges pour le trafic routier est le modèle de charge 1 selon la SIA261 :2014 [2] articles (10.2.2)."]
[]
[null,null,null,null,null,null,null,null,"Le modèle de charges pour le trafic ferroviaire est le modèle de charge 1 de la norme SIA261 :2014 (article 11.2.1)."]
[]
[null,null,null,null,null,null,null,null,"Pour la charge des voies étroites, le logiciel calcule avec la simplification proposée dans la norme SIA190 :2017 (article 4.2.3.11)"]
[null,null,null,null,null,null,null,null,"et réduis de 50% la charge du modèle 1."]
[]
[null,null,null,null,null,null,null,null,"Les coefficients de charge α pour le trafic sont à introduire manuellement, sauf pour les routes d’importances secondaires (0.65) "]
[null,null,null,null,null,null,null,null,"et les voies étroites (1.0). Dans ces deux cas, le coefficient est déjà programmé."]
[]
[null,null,null,null,null,null,null,null,"Les charges de trafic sont calculées d’après les tableaux dans l’annexe C.2, C.3 et C.4 de la norme SIA190 :2017. "]
[null,null,null,null,null,null,null,null,"Les charges sont interpolées linéairement pour les hauteurs qui ne sont pas indiquées dans ces annexes."]
[]
[null,null,null,null,null,null,null,null,"La poussée d’Archimède est calculée par rapport au plus haut niveau d’eau souterraine. "]
[null,null,null,null,null,null,null,null,"Le logiciel ne vérifie pas la poussée lors de la phase de bétonnage."]
[]
[null,null,null,null,null,null,null,null,"Les conventions pour l’application des formules sont comme mentionnées dans le document technique « Rohrstatik ». "]
[null,null,null,null,null,null,null,null,"L’image ci-dessous montre la convention pour l’angle φ en degré et le tableau ci-dessous montre la convention des signes pour les efforts internes."]
[]
[]
[]
[]
[]
[]
[]
[]
[]
[null,null,null,null,null,null,null,null,"Le facteur de pression d’appui KSt pour les tuyaux rigides posés dans le profil d’enrobage U4/V4 est malgré l’article 4.2.9.3 de la norme SIA190 :2017"]
[null,null,null,null,null,null,null,null,"programmé à 0.8. Ceci, car le profil 4 est plus favorable que le profil 3."]
[]
[null,null,null,null,null,null,null,null,"Facteur de voilement k est considéré égale à 1 pour les tuyaux souples."]
[]
[null,null,null,null,null,null,null,null,"Le Coefficient de décharge C3 est considéré égal à 1.0 pour le profil d’enrobage 4 des tuyaux souples (plastiques et GF-UP)."]
[]
[null,null,null,null,null,null,null,null,"Que 5% de la charge de dimensionnement est reprise par les tuyaux souples lors qu’ils sont complètement enrobés de béton. "]
[null,null,null,null,null,null,null,null,"Le reste est repris par le tuyau en béton « fictif »."]
[]
[null,null,null,null,null,null,null,null,"Lors que le tuyau souple dans le profil d’enrobage 4 est soumis à l’action de l’eau souterraine, une déformation initiale x/d de 0.02 est admise."]

{"sheet":"Aide (D)","index":4,"n_rows":184,"n_cols":29,"rows_kept":184,"cut":false,"hidden":false,"merged":[[68,16,71,45],[78,18,91,43],[99,30,102,33],[107,23,111,40],[119,42,129,52],[2,10,3,41],[4,10,5,27],[5,58,5,61],[20,35,32,44],[20,19,32,32],[43,12,43,16],[43,17,43,23],[43,24,43,35],[42,12,42,16],[42,17,42,23],[42,24,42,35],[50,10,50,11],[50,12,50,19],[56,12,56,16],[56,17,56,23],[56,24,56,35],[169,41,180,52],[57,12,57,16],[57,17,57,23],[57,24,57,35],[134,10,140,32],[155,28,155,29],[154,12,154,15],[154,16,154,19],[154,20,154,23],[154,24,154,27],[143,10,148,21],[155,10,155,11],[155,12,155,15],[155,16,155,19],[155,20,155,23],[155,24,155,27]]}
[]
[]
[null,null,null,null,null,null,null,null,null,null,"PROGRAMM ZUR AUSWAHL VON LEITUNGEN"]
[]
[null,null,null,null,null,null,null,null,null,null,"Hilfe zur Dateneingabe"]
[]
[]
[null,null,null,null,null,null,null,null,null,null,"1. Rohr"]
[null,null,null,null,null,null,null,null,null,null,"Eingabe des Innendurchmessers, welcher aus den hydraulischen Berechnungen benötigt wird."]
[]
[null,null,null,null,null,null,null,null,null,null,"2. Einwirkungen"]
[]
[null,null,null,null,null,null,null,null,null,null,"2.1 Flächenlast"]
[null,null,null,null,null,null,null,null,null,null,"2.1.1 Keine Last"]
[null,null,null,null,null,null,null,null,null,null,"Wenn keine Flächenlast vorhanden ist, muss in der Dropdown Liste der Fall \"Keine Flächenlast\" ausgewählt werden."]
[]
[null,null,null,null,null,null,null,null,null,null,"2.1.2 Flächenlast"]
[null,null,null,null,null,null,null,null,null,null,"Die Flächenlast q ist in kN/m2 einzutragen. Wenn die Flächenlast über dem Rohrscheitel liegt (Zentrum gleich Punkt P), sind x und y gleich 0. Es ist möglich"]
[null,null,null,null,null,null,null,null,null,null,"eine Flächenlast zu berücksichtigen, welche sich nicht an der OK Terrain befindet. Dafür muss ein Wert in t eingegeben werden."]
[]
[]
[]
[]
[]
[]
[]
[]
[]
[]
[]
[]
[]
[]
[]
[null,null,null,null,null,null,null,null,null,null,"2.2 Verkehr (Strasse und Eisenbahn)"]
[null,null,null,null,null,null,null,null,null,null,"2.2.1 Kein Verkehr"]
[null,null,null,null,null,null,null,null,null,null,"Wenn kein Verkehr vorhanden ist, muss in der Dropdown Liste der Fall \"Kein Verkehr\" ausgewählt werden."]
[]
[null,null,null,null,null,null,null,null,null,null,"2.2.2 Verkehr"]
[null,null,null,null,null,null,null,null,null,null,"Um die Last auf den Rohrscheitel für alle Strassenverkehrsfälle zu bestimmen, wird das Lastmodell 1 der SIA261:2014 Norm angewendet. Die Empfehlungen"]
[null,null,null,null,null,null,null,null,null,null,"der SIA190:2017 Norm [4.2.3.9] für den Koeffizienten α, ist folgender:"]
[]
[null,null,null,null,null,null,null,null,null,null,null,null,"Strassenverkehr",null,null,null,null,"Strassenrand",null,null,null,null,null,null,"Untergeordnete Strasse"]
[null,null,null,null,null,null,null,null,null,null,"α",null,0.9,null,null,null,null,0.9,null,null,null,null,null,null,"0.65 (programmiert)"]
[]
[null,null,null,null,null,null,null,null,null,null,"Wenn das Rohr sich das Rohr unterhalb einer Radachse in der Strassenmitte befindet, wird der Fall \"Strassenverkehr\" angewendet. Falls sich das Rohr am Strassenrand befindet,"]
[null,null,null,null,null,null,null,null,null,null,"wird der Fall \"Strassenrand\" angewendet. Bei einer Strasse mit wenig Verkehr und einer Breite kleiner als 6m, wird der Fall \"Untergeordnete Strasse\" angwendet."]
[null,null,null,null,null,null,null,null,null,null,"In der Nähr von Schwellen oder Ähnlichem ist mit einem Stosszuschlag Ψ zu rechnen. Für alle Fälle wird der Faktor mit der Überdeckungshöhe kleiner, aber immer grösser als 1."]
[]
[]
[null,null,null,null,null,null,null,null,null,null,"Ψ",null,"1.25 - 0.1*(H - 0.5) ≥ 1"]
[]
[null,null,null,null,null,null,null,null,null,null,"2.2.3 Zugverkehr"]
[null,null,null,null,null,null,null,null,null,null,"Um die Last auf den Rohrscheitel für alle Zugverkehrsfälle zu bestimmen, wird das Lastmodell 1 der SIA261:2014 Norm angewendet. Die Empfehlungen"]
[null,null,null,null,null,null,null,null,null,null,"der SIA190:2017 Norm [4.2.3.13] für den Koeffizienten α, ist folgender:"]
[]
[null,null,null,null,null,null,null,null,null,null,null,null,"Eingleisig",null,null,null,null,"Mehrgleisig",null,null,null,null,null,null,"Schmalspur"]
[null,null,null,null,null,null,null,null,null,null,"α",null,1.33,null,null,null,null,1.33,null,null,null,null,null,null,"1.0 (programmiert)"]
[]
[null,null,null,null,null,null,null,null,null,null,"Der Fall \"Schmalspur\" beinhaltet auch Strassenbahnen und Agglomerationsverkehr.Das gleiche Lastmodell (1) wird verwendet, aber nach der SIA190:2017 Nrom [4.2.3.11] wird die Last "]
[null,null,null,null,null,null,null,null,null,null,"auf 50% reduziert."]
[]
[null,null,null,null,null,null,null,null,null,null,"3. Terrain"]
[]
[null,null,null,null,null,null,null,null,null,null,"3.1 Untergrundqualität"]
[null,null,null,null,null,null,null,null,null,null,"Nach der SIA190:2017 Norm [5.3.2.3] beeinflusst die Qualität des Untergrunds die Dicke der unteren Bettungsschicht. In der Dropdown Liste muss zwischen dichten Boden oder Fels/"]
[null,null,null,null,null,null,null,null,null,null,"Boden mit fester Konsistenz. Die Minimaldicke beträgt 150mm für alle Bodentypen."]
[]
[]
[]
[]
[]
[]
[]
[null,null,null,null,null,null,null,null,null,null,"3.2 Untergrundscharakteristiken"]
[null,null,null,null,null,null,null,null,null,null,"Wenn die Untergrundcharakteristiken bekannt sind, sind diese Werte in die Felder 5 - 8 einzutragen.Falls die Charateristiken nicht bekannt sind, können die Werte der Tabelle 1 der "]
[null,null,null,null,null,null,null,null,null,null,"SIA190:2017 Norm eingetragen werden:"]
[]
[]
[]
[]
[]
[]
[]
[]
[]
[]
[]
[]
[]
[]
[]
[]
[]
[]
[null,null,null,null,null,null,null,null,null,null,"3.3 Erddruckbeiwert K"]
[null,null,null,null,null,null,null,null,null,null,"Der Erdruck für die steifen Rohre wird mit dem Koeffizienten K berechnet. Dieser Koeffizient wird durch die Proctordichte definiert und ist in der SIA190:2017 Norm"]
[null,null,null,null,null,null,null,null,null,null,"[4.2.9.3] tabelle 9 beschrieben."]
[]
[]
[]
[]
[]
[]
[null,null,null,null,null,null,null,null,null,null,"3.4 Setzungs-Durchbiegungsziffer C2"]
[null,null,null,null,null,null,null,null,null,null,"Die Setzungsdurchbiegungsziffer C2 hängt von der Art des Baugrundes ab und kann von 0-1 variieren. Die tabelle 6 der SIA190:2017 Norm schreibt folgende Werte vor:"]
[]
[]
[]
[]
[]
[]
[]
[]
[]
[null,null,null,null,null,null,null,null,null,null,"3.5 Lastminderungsfaktor λmin"]
[null,null,null,null,null,null,null,null,null,null,"Dank Reibungskräften im Boden bzw. an vorhandenen Grabenwänden, können die permanenten Lasten für die weichen Rohre reduziert werden. Diese Lastreduktion kann nur in betracht "]
[null,null,null,null,null,null,null,null,null,null,"gezogen werden, wenn die Schubübertragung auf die Dauer gewährleistet werden kann. Nach der SIA190:2017 [4.2.6.2.1 und 4.2.6.2.2] müssen folgende Bedingungen erfüllt werden,"]
[null,null,null,null,null,null,null,null,null,null,"um die Lastreduktion anzuwenden:"]
[]
[null,null,null,null,null,null,null,null,null,null,"1. Genügend mineralische Überdeckung"]
[null,null,null,null,null,null,null,null,null,null,"2. E1 ≤ EBh"]
[null,null,null,null,null,null,null,null,null,null,"3. Verdichtungsgrad der Grabenverfüllung DPr > 90%"]
[null,null,null,null,null,null,null,null,null,null,"4. Die Schubübertragung seitlich neben und oberhalb des Rohrs muss auf die volle Höhe gewährleistet sein."]
[null,null,null,null,null,null,null,null,null,null,"5. Rohr befindet sich nicht unter einer Strasse oder Eisenbahnlinie"]
[]
[null,null,null,null,null,null,null,null,null,null,"Normalerweise ist λmin nicht zu berücksichtigen und der Wert ist im Programm mit 1 zu berücksichtigen. Dafür muss in "]
[null,null,null,null,null,null,null,null,null,null,"der Dropdown Liste \"NEIN\" gewählt werden."]
[null,null,null,null,null,null,null,null,null,null,"Falls \"JA\" gewählt wird, sind folgende Felder auszufüllenr: 1. Bodenverdichtung, 2. Erddruckbeiwert K1"]
[null,null,null,null,null,null,null,null,null,null,"und 3. Grabenbreite B."]
[]
[null,null,null,null,null,null,null,null,null,null,"Bodenverdichtung und K1"]
[null,null,null,null,null,null,null,null,null,null,"Die Tabelle 8 der SIA190:2017 Norm schreibt den Wert K1 in Funktion der Bodenverdichtung vor."]
[]
[]
[]
[]
[]
[]
[]
[]
[null,null,null,null,null,null,null,null,null,null,"Grabenbreite"]
[null,null,null,null,null,null,null,null,null,null,"Die Tabelle 11 der SIA190:2017 Norm schreibt die Minimalgrabenbreite B in Funktion der Grabentiefe vor. Achtung, die Grabentiefe ist nicht die Überdeckungshöhe!"]
[]
[]
[]
[]
[]
[]
[]
[null,null,null,null,null,null,null,null,null,null,"3.6 Hüllbeton"]
[null,null,null,null,null,null,null,null,null,null,"Im Hüllbeton entsteht eine Zugkraft, welche durch diesen aufgenommen werden muss. Es stehen mehrere Betonsorten zur Verfügung, die in der Dropdown Liste ausgewählt werden können."]
[null,null,null,null,null,null,null,null,null,null,"Folgende Tabelle zeigt auf, welche Zugspannung pro Betonsorte aufgenommen werden kann."]
[]
[null,null,null,null,null,null,null,null,null,null,null,null,"C16/20",null,null,null,"C20/25",null,null,null,"C25/30",null,null,null,"C30/37"]
[null,null,null,null,null,null,null,null,null,null,"σZug",null,-0.3,null,null,null,-0.35,null,null,null,-0.4,null,null,null,-0.45,null,null,null,"N/mm2"]
[]
[null,null,null,null,null,null,null,null,null,null,"4. Graben"]
[]
[null,null,null,null,null,null,null,null,null,null,"4.1 Höhe Erdmaterial über Rohrscheitel"]
[null,null,null,null,null,null,null,null,null,null,"Die Überdeckungshöhe H ist die Distanz in Meter zwischen OK Terrain und dem Rohrscheitel (aussen)."]
[]
[null,null,null,null,null,null,null,null,null,null,"4.2 Grabenbreite"]
[null,null,null,null,null,null,null,null,null,null,"*Siehe Punkt 3.5 für die Minimalbreiten nach der SIA190:2107 Norm."]
[]
[null,null,null,null,null,null,null,null,null,null,"4.3 Grabentyp"]
[null,null,null,null,null,null,null,null,null,null,"Es ist möglich zwischen vertikalen (U) und abgeböschten (V) Graben zu unterscheiden. Wenn λmin in Betracht gezogen wird, ist es nötig den Unterschied zu machen. Wenn die Last-"]
[null,null,null,null,null,null,null,null,null,null,"minderung nicht berücksichtigt wird, hat dieses Feld keinen Einfluss auf die Berechnung. Wenn die abgeböschte Variante gewählt wirtd, muss der Winkel β bezüglich der "]
[null,null,null,null,null,null,null,null,null,null,"Horizontalen eingegeben werden,"]
[]
[null,null,null,null,null,null,null,null,null,null,"5. Wasser"]
[]
[null,null,null,null,null,null,null,null,null,null,"5.1 Grundwasserspiegel"]
[null,null,null,null,null,null,null,null,null,null,"Beim Grundwasser bestehen 3 Möglichkeiten:"]
[null,null,null,null,null,null,null,null,null,null,"1. Kein Grundwaser-> In der Dropdown Liste  \"Ohne Grundwasser\" auswählen."]
[null,null,null,null,null,null,null,null,null,null,"Sonst \"Mit Grundwasser\" auswählen."]
[null,null,null,null,null,null,null,null,null,null,"2. Wasser höher als OK Terrain -> Negativwert eintragen."]
[null,null,null,null,null,null,null,null,null,null,"3. Wasser tiefer als OK Terrain -> Positiver Wert eintragen."]
[]
[null,null,null,null,null,null,null,null,null,null,"5.2 Wasser im Rohr"]
[null,null,null,null,null,null,null,null,null,null,"Beim Wasser im Rohr bestehen auch 3 Möglichkeiten:"]
[null,null,null,null,null,null,null,null,null,null,"1. Pas d'eau à l'intérieur -> Leeres Rohr"]
[null,null,null,null,null,null,null,null,null,null,"2. Volles Rohr -> Bei Grundwasservorkommen, wird der Auftrieb annuliert"]
[null,null,null,null,null,null,null,null,null,null,"3. Überdruck über Scheitel -> Überdruck pEI von der Rohrwandachse im Rohrscheitel ist einzutragen. (Positiver Wert)"]

{"sheet":"Aide (F)","index":5,"n_rows":184,"n_cols":29,"rows_kept":184,"cut":false,"hidden":false,"merged":[[68,16,71,45],[78,18,91,43],[98,30,102,32],[57,17,57,23],[56,12,56,16],[57,12,57,16],[57,24,57,35],[107,16,112,44],[119,42,129,52],[134,10,140,31],[144,13,148,31],[169,42,180,53],[155,10,155,11],[155,28,155,29],[155,24,155,27],[154,24,154,27],[155,20,155,23],[155,16,155,19],[155,12,155,15],[154,20,154,23],[154,16,154,19],[154,12,154,15],[5,58,5,61],[2,10,3,41],[42,12,42,16],[42,17,42,23],[42,24,42,35],[4,10,5,27],[20,35,32,44],[20,19,32,32],[50,10,50,11],[56,17,56,23],[43,24,43,35],[43,17,43,23],[43,12,43,16],[50,12,50,19],[56,24,56,35]]}
[]
[]
[null,null,null,null,null,null,null,null,null,null,"PROGRAMME D'AIDE AU CHOIX DES CONDUITES"]
[]
[null,null,null,null,null,null,null,null,null,null,"Aide pour l'introduction des données"]
[]
[]
[null,null,null,null,null,null,null,null,null,null,"1. Tuyau"]
[null,null,null,null,null,null,null,null,null,null,"Introduire le diamètre intérieur qui découle du calcul hydraulique en mm"]
[]
[null,null,null,null,null,null,null,null,null,null,"2. Actions"]
[]
[null,null,null,null,null,null,null,null,null,null,"2.1 Charge surfacique"]
[null,null,null,null,null,null,null,null,null,null,"2.1.1 Pas de charge"]
[null,null,null,null,null,null,null,null,null,null,"Quand il y a pas de charge, il faut choisir dans le menu déroulant: Pas de charge."]
[]
[null,null,null,null,null,null,null,null,null,null,"2.1.2 Charge surfacique"]
[null,null,null,null,null,null,null,null,null,null,"La charge surfacique q est à introduire en kN/m2. Si la charge surfacique est parfaitement centrée sur le tuyau (centre confondue avec P), x et y sont égal à 0. Il est possible."]
[null,null,null,null,null,null,null,null,null,null,"de considérer une charge de fondation, qui ne se trouve pas en surface. Cette valeur est à introduire pour t."]
[]
[]
[]
[]
[]
[]
[]
[]
[]
[]
[]
[]
[]
[]
[]
[null,null,null,null,null,null,null,null,null,null,"2.2 Trafic (routier et ferroviaire)"]
[null,null,null,null,null,null,null,null,null,null,"2.2.1 Pas de trafic"]
[null,null,null,null,null,null,null,null,null,null,"Quand il y a pas de trafic, il faut choisir dans le menu déroulant: Pas de trafic."]
[]
[null,null,null,null,null,null,null,null,null,null,"2.2.2 Trafic routier"]
[null,null,null,null,null,null,null,null,null,null,"Le modèle de charge 1 selon la norme SIA261:2014 est utilisé pour tous les cas de trafic routier, afin de déterminer la charge sur le sommet du tuyau. Les recommandations"]
[null,null,null,null,null,null,null,null,null,null,"selon la norme SIA190:2017 [4.2.3.9] pour le coefficient de charge α, sont les suivants:"]
[]
[null,null,null,null,null,null,null,null,null,null,null,null,"Trafic routier",null,null,null,null,"Bord de route",null,null,null,null,null,null,"Route d'importance secondaire"]
[null,null,null,null,null,null,null,null,null,null,"α",null,0.9,null,null,null,null,0.9,null,null,null,null,null,null,"0.65 (programmé)"]
[]
[null,null,null,null,null,null,null,null,null,null,"Le cas \"Trafic routier\" représente le cas ou le tuyau se trouve sous l'axe d'une roue au milieu de la route. Le cas \"bord de route\" représente le cas ou le tuyau se trouve au bord "]
[null,null,null,null,null,null,null,null,null,null,"de la route. Finalement, le cas \"route d'importance secondaire\" représente une route avec peu de trafic et une largeur de chaussée inférieure à 6m."]
[null,null,null,null,null,null,null,null,null,null,"Près de seuils ou d'autres obstacles similaires, le facteur dynamique Ψ est à activer. Pour tous les cas ce facteur diminue avec la hauteur de recouvrement du tuyau, mais est "]
[null,null,null,null,null,null,null,null,null,null,"toujours plus grand que 1."]
[]
[null,null,null,null,null,null,null,null,null,null,"Ψ",null,"1.25 - 0.1*(H - 0.5) ≥ 1"]
[]
[null,null,null,null,null,null,null,null,null,null,"2.2.3 Trafic ferroviaire"]
[null,null,null,null,null,null,null,null,null,null,"Le modèle de charge 1 selon la norme SIA261:2014 est utilisé pour tous les cas de trafic ferroviaire, afin de déterminer la charge sur le sommet du tuyau. Les recom-"]
[null,null,null,null,null,null,null,null,null,null,"mendations selon la norme SIA190:2017 [4.2.3.13] pour le coefficient de charge α, sont les suivants:"]
[]
[null,null,null,null,null,null,null,null,null,null,null,null,"Voie unique",null,null,null,null,"Voies multiples",null,null,null,null,null,null,"Voie étroite"]
[null,null,null,null,null,null,null,null,null,null,"α",null,1.33,null,null,null,null,1.33,null,null,null,null,null,null,"1.0 (programmé)"]
[]
[null,null,null,null,null,null,null,null,null,null,"Le cas \"Voie étroite\", couvre aussi les tramways et le trafic d'agglomération. Le même modèle de charge est utilisé (1), mais selon la SIA190:2017 [4.2.3.11] la charge est ré-"]
[null,null,null,null,null,null,null,null,null,null,"duite à 50%."]
[]
[null,null,null,null,null,null,null,null,null,null,"3. Terrain"]
[]
[null,null,null,null,null,null,null,null,null,null,"3.1 Qualité du sol"]
[null,null,null,null,null,null,null,null,null,null,"Selon la norme SIA190:2017 [5.3.2.3], la qualité du sol influence le calcul de l'épaisseur du lit inférieur. Il faut choisir dans le menu déroulant entre sol stable ou Roche/"]
[null,null,null,null,null,null,null,null,null,null,"sol à consistance ferme. L'épaisseur minimale du lit de pose inférieur est fixée à 150mm pour tous les types de sols."]
[]
[]
[]
[]
[]
[]
[]
[null,null,null,null,null,null,null,null,null,null,"3.2 Caractéristiques du terrain"]
[null,null,null,null,null,null,null,null,null,null,"Si les caractéristiques du terrain sont connues, ces valeurs sont à introduire (case 5 à 8). Si les caractéristiques ne sont pas connues, voici le Tableau 1 de la norme "]
[null,null,null,null,null,null,null,null,null,null,"SIA190:2017 qui donne les valeurs en fonction du type de sol:"]
[]
[]
[]
[]
[]
[]
[]
[]
[]
[]
[]
[]
[]
[]
[]
[]
[]
[]
[null,null,null,null,null,null,null,null,null,null,"3.3 Coefficient de pression du terrain K"]
[null,null,null,null,null,null,null,null,null,null,"Pour les tuyaux rigides, la pression du terrain est calculée avec le coefficient K. Ce coefficient dépend de la densité de Proctor et est défini selon la norme SIA190:2017  "]
[null,null,null,null,null,null,null,null,null,null,"[4.2.9.3] Tableau9."]
[]
[]
[]
[]
[]
[]
[null,null,null,null,null,null,null,null,null,null,"3.4 Coefficient de flexion au tassement C2"]
[null,null,null,null,null,null,null,null,null,null,"Le coefficient de flexion au tassement C2 dépend du type de sol et peut varier de 0 à 1. Le tableau 6 de la norme SIA190:2017 donne les valeurs suivantes:"]
[]
[]
[]
[]
[]
[]
[]
[]
[]
[null,null,null,null,null,null,null,null,null,null,"3.5 Facteur de réduction de charge λmin "]
[null,null,null,null,null,null,null,null,null,null,"Grâce aux forces de frottement du sol contre les parois de tranchées ou le sol avoisinant, les charges permanentes peuvent être réduites pour les tuyaux souples.Cette réduction"]
[null,null,null,null,null,null,null,null,null,null,"de charge est qu'envisageable, si ces forces de frottement sont conservées à long terme. Selon SIA190:2017 [4.2.6.2.1 et 4.2.6.2.2] les conditions suivantes doivent être remplies. "]
[null,null,null,null,null,null,null,null,null,null,"pour pouvoir appliquer la réduction de charge:"]
[]
[null,null,null,null,null,null,null,null,null,null,"1. Couverture minérale suffisante sur le tuyau"]
[null,null,null,null,null,null,null,null,null,null,"2. E1 ≤ EBh"]
[null,null,null,null,null,null,null,null,null,null,"3. Degré de compactage du remblayage DPr > 90%"]
[null,null,null,null,null,null,null,null,null,null,"4. Transfert de cisaillement autour et par-dessus le tuyau doivent être conservées à long terme sur toute la hauteur"]
[null,null,null,null,null,null,null,null,null,null,"5. Tuyau se situe pas sous une route ou une voie ferrée"]
[]
[null,null,null,null,null,null,null,null,null,null,"Généralement λmin est à pas à considérer est la valeur dans le logiciel est considérée =1. Pour ceci, choisir \"NON\" "]
[null,null,null,null,null,null,null,null,null,null,"dans le menu déroulant."]
[null,null,null,null,null,null,null,null,null,null,"Si \"OUI\" est choisi, les suivantes cases sont à remplir: 1. Compactage du sol, 2. Coefficient de pression du terrain K1"]
[null,null,null,null,null,null,null,null,null,null,"et 3. Largeur de fouille B."]
[]
[null,null,null,null,null,null,null,null,null,null,"Compactage du sol et K1"]
[null,null,null,null,null,null,null,null,null,null,"Le tableau 8 de la norme SIA190:2017 indique la valeur de K1 en fonction du compactage du sol."]
[]
[]
[]
[]
[]
[]
[]
[]
[null,null,null,null,null,null,null,null,null,null,"Largeur de fouille"]
[null,null,null,null,null,null,null,null,null,null,"Le tableau 11 de la norme SIA190:2017 indique la largeur de fouille minimale B en fonction de la profondeur de fouille. Attention, la profondeur de fouille n'est pas la hauteur de "]
[null,null,null,null,null,null,null,null,null,null,"couverture!"]
[]
[]
[]
[]
[]
[]
[null,null,null,null,null,null,null,null,null,null,"3.6 Type de béton d'enrobage"]
[null,null,null,null,null,null,null,null,null,null,"Il résulte une force de traction dans le béton d'enrobage, qui doit être repris par ceci. Il y a plusieurs types de béton à choix pour l'enrobage. Il faut choisir un type dans le menu "]
[null,null,null,null,null,null,null,null,null,null,"tableau suivant montre la contrainte de traction qui peut être repris par type de béton."]
[]
[null,null,null,null,null,null,null,null,null,null,null,null,"C16/20",null,null,null,"C20/25",null,null,null,"C25/30",null,null,null,"C30/37"]
[null,null,null,null,null,null,null,null,null,null,"σtraction",null,-0.3,null,null,null,-0.35,null,null,null,-0.4,null,null,null,-0.45,null,null,null,"N/mm2"]
[]
[null,null,null,null,null,null,null,null,null,null,"4. Fouille"]
[]
[null,null,null,null,null,null,null,null,null,null,"4.1 Hauteur de couverture"]
[null,null,null,null,null,null,null,null,null,null,"La hauteur de couverture H est la distance en mètre entre le terrain et le sommet (extérieur) du tuyau."]
[]
[null,null,null,null,null,null,null,null,null,null,"4.2 Largeur de fouille"]
[null,null,null,null,null,null,null,null,null,null,"*Voir points 3.5 pour les largeurs minimales selon la norme SIA190:2107."]
[]
[null,null,null,null,null,null,null,null,null,null,"4.3 Type de fouille"]
[null,null,null,null,null,null,null,null,null,null,"Il est possible de choisir des fouilles verticales (U) ou talutées (V). Il est nécessaire de bien choisir un des deux cas, lorsqu’on considère λmin. Si la réduction n'est pas cons- "]
[null,null,null,null,null,null,null,null,null,null,"idérer, cette case n'a pas d'influence sur les calculs. Lorsque la fouille talutée est choisie, il est nécessaire d'indiquer l'angle β par rapport à l'horizontale."]
[]
[]
[null,null,null,null,null,null,null,null,null,null,"5. Eau"]
[]
[null,null,null,null,null,null,null,null,null,null,"5.1 Eau souterraine"]
[null,null,null,null,null,null,null,null,null,null,"Pour l'eau souterraine, il y a 3 possibilités:"]
[null,null,null,null,null,null,null,null,null,null,"1. Pas d'eau souterraine -> choisir dans le menu déroulant \"Sans eau souterraine\"."]
[null,null,null,null,null,null,null,null,null,null,"Sinon choisir dans le menu déroulant \"Avec eau souterraine\"."]
[null,null,null,null,null,null,null,null,null,null,"2. Eau plus haute que le terrain -> introduction d'une valeur négative."]
[null,null,null,null,null,null,null,null,null,null,"3. Eau plus basse que le terrain -> introduction d'une valeur positive."]
[]
[null,null,null,null,null,null,null,null,null,null,"5.2 Eau à l'intérieur"]
[null,null,null,null,null,null,null,null,null,null,"Pour l'eau intérieure, il y a aussi 3 possibilités:"]
[null,null,null,null,null,null,null,null,null,null,"1. Pas d'eau à l'intérieur -> tuyau vide"]
[null,null,null,null,null,null,null,null,null,null,"2. Tuyau plein -> Si présence d'eau souterraine, la poussée d'Archimède est annulée"]
[null,null,null,null,null,null,null,null,null,null,"3. Tuyau sous pression -> supression pEI depuis l'axe de la paroi au sommet du tuyau est à introduire. (Valeur positive)"]

{"sheet":"Données","index":6,"n_rows":66,"n_cols":62,"rows_kept":66,"cut":false,"hidden":false,"merged":[[51,35,51,36],[53,35,53,36],[70,13,70,18],[65,10,65,12],[65,16,65,18],[59,10,59,12],[61,10,61,12],[53,30,53,31],[41,30,41,31],[68,10,68,12],[68,13,68,18],[57,30,57,31],[63,10,63,12],[63,15,63,22],[51,15,51,26],[61,16,61,22],[43,30,43,33],[49,30,49,33],[57,16,57,26],[41,10,41,12],[43,10,43,12],[41,15,41,26],[43,15,43,26],[53,15,53,20],[55,15,55,19],[49,15,49,26],[47,30,47,31],[51,10,51,12],[53,10,53,12],[55,10,55,12],[45,16,45,26],[13,30,13,31],[11,30,11,31],[27,16,27,26],[27,30,27,31],[19,16,19,26],[15,30,15,31],[29,10,29,12],[31,10,31,12],[35,10,35,12],[37,10,37,12],[39,10,39,12],[13,35,13,36],[13,16,13,26],[17,30,17,31],[72,10,72,12],[72,13,72,18],[27,35,27,36],[31,15,31,24],[65,35,65,36],[65,30,65,31],[61,30,61,31],[59,30,59,37],[63,30,63,37],[39,30,39,31],[37,30,37,31],[35,30,35,31],[41,35,41,36],[43,35,43,36],[55,30,55,37],[61,35,61,36],[51,30,51,31],[17,35,17,36],[70,10,70,12],[15,16,15,26],[17,16,17,26],[2,9,3,42],[5,10,5,12],[5,30,5,31],[9,35,9,36],[5,35,5,36],[11,35,11,36],[7,30,7,35],[11,16,11,26],[9,30,9,31],[9,16,9,26],[5,15,5,21],[7,15,7,21],[32,61,35,64],[29,30,29,38],[31,35,31,36],[33,35,33,36],[31,30,31,31],[27,27,27,28],[33,15,33,26],[23,16,23,26],[25,16,25,26],[33,30,33,31],[15,35,15,36],[23,39,23,55],[31,58,31,63],[35,35,35,36],[35,15,35,26],[39,25,39,26],[59,15,59,20],[39,15,39,24],[39,61,41,64],[19,30,19,31],[23,30,23,31],[25,30,25,31],[21,30,21,38],[19,35,19,36],[23,35,23,36],[25,35,25,36],[37,15,37,26],[39,35,39,36],[27,39,27,51],[37,35,37,37],[21,15,21,21],[29,15,29,21],[57,35,57,36],[45,30,45,42]]}
[]
[]
[null,null,null,null,null,null,null,null,null,{"$f":"'Langue Makro'!B3","v":"PROGRAMME D'AIDE AU CHOIX DES CONDUITES"}]
[]
[]
[null,null,null,null,null,null,null,null,null,null,{"$f":"'Langue Makro'!B8","v":"Tuyau:"},null,null,null,null,{"$f":"IF(Accueil!AZ15=\"Français\",HYPERLINK('Langue Makro'!B100,'Langue Makro'!B15),HYPERLINK('Langue Makro'!B101,'Langue Makro'!B15))","v":"1.Diamètre intérieur"},null,null,null,null,null,null,null,null,null,null,null,"di",null,null,300,null,null,null,null,"[mm]"]
[]
[null,null,null,null,null,null,null,null,null,null,{"$f":"'Langue Makro'!B9","v":"Actions:"},null,null,null,null,{"$f":"IF(Accueil!AZ15=\"Français\",HYPERLINK('Langue Makro'!B102,'Langue Makro'!B16),HYPERLINK('Langue Makro'!B103,'Langue Makro'!B16))","v":"2.Charge surfacique"},null,null,null,null,null,null,null,null,null,null,null,null,null,null,"Pas de charge"]
[]
[null,null,null,null,null,null,null,null,null,null,null,null,null,null,null,null,{"$f":"'Langue Makro'!B17","v":"charge surfacique"},null,null,null,null,null,null,null,null,null,null,"q",null,null,25,null,null,null,null,"[kN/m2]"]
[]
[null,null,null,null,null,null,null,null,null,null,null,null,null,null,null,null,{"$f":"'Langue Makro'!B18","v":"Largeur de la charge"},null,null,null,null,null,null,null,null,null,null,"B",null,null,40,null,null,null,null,"[m]"]
[]
[null,null,null,null,null,null,null,null,null,null,null,null,null,null,null,null,{"$f":"'Langue Makro'!B19","v":"Longueur de la charge"},null,null,null,null,null,null,null,null,null,null,"L",null,null,20,null,null,null,null,"[m]"]
[]
[null,null,null,null,null,null,null,null,null,null,null,null,null,null,null,null,{"$f":"'Langue Makro'!B20","v":"Distance entre point P et centre de la charge"},null,null,null,null,null,null,null,null,null,null,"x",null,null,0,null,null,null,null,"[m]"]
[]
[null,null,null,null,null,null,null,null,null,null,null,null,null,null,null,null,{"$f":"'Langue Makro'!B21","v":"Distance entre point P et centre de la charge"},null,null,null,null,null,null,null,null,null,null,"y",null,null,0,null,null,null,null,"[m]"]
[]
[null,null,null,null,null,null,null,null,null,null,null,null,null,null,null,null,{"$f":"'Langue Makro'!B22","v":"Profondeur par rapport au terrain"},null,null,null,null,null,null,null,null,null,null,"t",null,null,1,null,null,null,null,"[m]"]
[]
[null,null,null,null,null,null,null,null,null,null,null,null,null,null,null,{"$f":"IF(Accueil!AZ15=\"Français\",HYPERLINK('Langue Makro'!B104,'Langue Makro'!B23),HYPERLINK('Langue Makro'!B105,'Langue Makro'!B23))","v":"3. Trafic routier/ferroviaire"},null,null,null,null,null,null,null,null,null,null,null,null,null,null,"Trafic routier"]
[]
[null,null,null,null,null,null,null,null,null,null,null,null,null,null,null,null,{"$f":"'Langue Makro'!B24","v":"Facteur de charge routier"},null,null,null,null,null,null,null,null,null,null,"αroutier",null,null,0.9,null,null,null,null,"[-]",null,null,null,{"$f":"'Langue Makro'!B87","v":"Pour les routes d'importances secondaires, une valeur de 0.65 est programmée"}]
[]
[null,null,null,null,null,null,null,null,null,null,null,null,null,null,null,null,{"$f":"'Langue Makro'!B25","v":"Coefficient dynamique pour trafic routier"},null,null,null,null,null,null,null,null,null,null,"ψ",null,null,"Sans",null,null,null,null,"[-]"]
[]
[null,null,null,null,null,null,null,null,null,null,null,null,null,null,null,null,{"$f":"'Langue Makro'!B26","v":"Facteur de charge ferroviaire"},null,null,null,null,null,null,null,null,null,null,"αferr.",null,null,1.33,null,null,null,null,"[-]",null,null,null,{"$f":"'Langue Makro'!B88","v":"Pour les voies étroites, une valeur de 1.0 est programmée"}]
[]
[null,null,null,null,null,null,null,null,null,null,{"$f":"'Langue Makro'!B10","v":"Terrain:"},null,null,null,null,{"$f":"IF(Accueil!AZ15=\"Français\",HYPERLINK('Langue Makro'!B106,'Langue Makro'!B27),HYPERLINK('Langue Makro'!B107,'Langue Makro'!B27))","v":"4. Qualité du sol"},null,null,null,null,null,null,null,null,null,null,null,null,null,null,"Sol stable"]
[]
[null,null,null,null,null,null,null,null,null,null,null,null,null,null,null,{"$f":"IF(Accueil!AZ15=\"Français\",HYPERLINK('Langue Makro'!B108,'Langue Makro'!B28),HYPERLINK('Langue Makro'!B109,'Langue Makro'!B28))","v":"5. Poids volumique apparent humide"},null,null,null,null,null,null,null,null,null,null,null,"γ",null,null,20,null,null,null,null,"[kN/m3]",null,null,null,null,null,null,null,null,null,null,null,null,null,null,null,null,null,null,null,null,null,null,"LEGENDE"]
[null,null,null,null,null,null,null,null,null,null,null,null,null,null,null,null,null,null,null,null,null,null,null,null,null,null,null,null,null,null,null,null,null,null,null,null,null,null,null,null,null,null,null,null,null,null,null,null,null,null,null,null,null,null,null,null,null,null,null,null,null,{"$f":"'Langue Makro'!B91","v":"Hypertexte vers la feuille d'aide"}]
[null,null,null,null,null,null,null,null,null,null,null,null,null,null,null,{"$f":"'Langue Makro'!B29","v":"6. Poids volumique déjaugé"},null,null,null,null,null,null,null,null,null,null,null,"γ'",null,null,11,null,null,null,null,"[kN/m3]",null,null,null,null,null,null,null,null,null,null,null,null,null,null,null,null,null,null,null,null,null,null,"abcdef:"]
[]
[null,null,null,null,null,null,null,null,null,null,null,null,null,null,null,{"$f":"'Langue Makro'!B30","v":"7. Angle de frottement interne"},null,null,null,null,null,null,null,null,null,null,null,"φ",null,null,30,null,null,null,null,"[°]"]
[]
[null,null,null,null,null,null,null,null,null,null,null,null,null,null,null,{"$f":"'Langue Makro'!B31","v":"8. Module de déformation vertical du sol"},null,null,null,null,null,null,null,null,null,null,null,"EB",null,null,5,null,null,null,null,"[N/mm2]"]
[]
[null,null,null,null,null,null,null,null,null,null,null,null,null,null,null,{"$f":"IF(Accueil!AZ15=\"Français\",HYPERLINK('Langue Makro'!B110,'Langue Makro'!B32),HYPERLINK('Langue Makro'!B111,'Langue Makro'!B32))","v":"9. Coefficient de pression du terrain"},null,null,null,null,null,null,null,null,null,null,null,"K",null,null,0.5,null,null,null,null,"[-]",null,null,null,null,null,null,null,null,null,null,null,null,null,null,null,null,null,null,null,null,null,null,null,null,":",{"$f":"'Langue Makro'!B92","v":"Cases à remplir"}]
[]
[null,null,null,null,null,null,null,null,null,null,null,null,null,null,null,{"$f":"IF(Accueil!AZ15=\"Français\",HYPERLINK('Langue Makro'!B112,'Langue Makro'!B33),HYPERLINK('Langue Makro'!B113,'Langue Makro'!B33))","v":"10. Coefficient de flexion au tassement"},null,null,null,null,null,null,null,null,null,null,null,"C2",null,null,0.5,null,null,null,null,"[-]"]
[]
[null,null,null,null,null,null,null,null,null,null,null,null,null,null,null,{"$f":"IF(Accueil!AZ15=\"Français\",HYPERLINK('Langue Makro'!B114,'Langue Makro'!B34),HYPERLINK('Langue Makro'!B115,'Langue Makro'!B34))","v":"11. Facteur de réduction de charges "},null,null,null,null,null,null,null,null,null,null,null,"λmin",null,null,"NON"]
[]
[null,null,null,null,null,null,null,null,null,null,null,null,null,null,null,null,{"$f":"'Langue Makro'!B35","v":"Théorie du silo (K1 et δ)"},null,null,null,null,null,null,null,null,null,null,null,null,null,"Compactage par couches sans vérifications"]
[]
[null,null,null,null,null,null,null,null,null,null,null,null,null,null,null,null,null,null,null,null,null,null,null,null,null,null,null,"K1",null,null,0.5]
[]
[null,null,null,null,null,null,null,null,null,null,null,null,null,null,null,{"$f":"IF(Accueil!AZ15=\"Français\",HYPERLINK('Langue Makro'!B118,'Langue Makro'!B36),HYPERLINK('Langue Makro'!B119,'Langue Makro'!B36))","v":"12. Type de béton d'enrobage"},null,null,null,null,null,null,null,null,null,null,null,null,null,null,"C16/20"]
[]
[null,null,null,null,null,null,null,null,null,null,{"$f":"'Langue Makro'!B11","v":"Fouille:"},null,null,null,null,{"$f":"'Langue Makro'!B37","v":"13. Hauteur de couverture"},null,null,null,null,null,null,null,null,null,null,null,"H",null,null,3,null,null,null,null,"[m]"]
[]
[null,null,null,null,null,null,null,null,null,null,null,null,null,null,null,{"$f":"IF(Accueil!AZ15=\"Français\",HYPERLINK('Langue Makro'!B116,'Langue Makro'!B38),HYPERLINK('Langue Makro'!B117,'Langue Makro'!B38))","v":"14. Largeur de fouille"},null,null,null,null,null,null,null,null,null,null,null,"B",null,null,1.5,null,null,null,null,"[m]"]
[]
[null,null,null,null,null,null,null,null,null,null,null,null,null,null,null,{"$f":"'Langue Makro'!B39","v":"15. Type de fouille"},null,null,null,null,null,null,null,null,null,null,null,null,null,null,"Verticale (U)"]
[]
[null,null,null,null,null,null,null,null,null,null,null,null,null,null,null,null,{"$f":"IF(Accueil!AZ15=\"Français\",\"Angle de talus (par rapport à l'horizontale)\",IF(Accueil!AZ15=\"Deutsch\",\"Böschungswinkel (gegenüber Horizontalen)\",IF(Accueil!AZ15=\"Italiano\",\"15.\")))","v":"Angle de talus (par rapport à l'horizontale)"},null,null,null,null,null,null,null,null,null,null,"β",null,null,30,null,null,null,null,"[°]"]
[]
[null,null,null,null,null,null,null,null,null,null,{"$f":"'Langue Makro'!B12","v":"Eau:"},null,null,null,null,{"$f":"IF(Accueil!AZ15=\"Français\",HYPERLINK('Langue Makro'!B120,'Langue Makro'!B40),HYPERLINK('Langue Makro'!B121,'Langue Makro'!B40))","v":"16. Eau souterraine"},null,null,null,null,null,null,null,null,null,null,null,null,null,null,"Sans eau souterraine"]
[]
[null,null,null,null,null,null,null,null,null,null,null,null,null,null,null,null,{"$f":"'Langue Makro'!B41","v":"Niveau d'eau souterraine"},null,null,null,null,null,null,null,null,null,null,"hw",null,null,1.3,null,null,null,null,"[m]"]
[]
[null,null,null,null,null,null,null,null,null,null,null,null,null,null,null,{"$f":"IF(Accueil!AZ15=\"Français\",HYPERLINK('Langue Makro'!B122,'Langue Makro'!B42),HYPERLINK('Langue Makro'!B123,'Langue Makro'!B42))","v":"17. Eau à l'intérieur du tuyau"},null,null,null,null,null,null,null,null,null,null,null,null,null,null,"Tuyau vide"]
[]
[null,null,null,null,null,null,null,null,null,null,null,null,null,null,null,null,{"$f":"'Langue Makro'!B43","v":"Pression "},null,null,null,null,null,null,null,null,null,null,"pEi",null,null,10,null,null,null,null,"[kN/m2]"]

{"sheet":"Calculs","index":7,"n_rows":561,"n_cols":517,"rows_kept":139,"cut":true,"hidden":false,"merged":[[222,502,222,504],[229,499,229,501],[229,502,229,504],[415,473,415,478],[326,486,326,490],[332,486,332,491],[334,473,334,478],[339,473,339,478],[345,473,345,478],[350,473,350,478],[352,473,353,473],[362,473,363,473],[365,473,365,478],[370,473,370,478],[377,473,377,478],[382,473,382,474],[382,476,382,478],[387,473,387,478],[396,473,396,478],[401,473,401,478],[410,473,410,478],[256,473,256,479],[258,486,258,491],[261,473,261,479],[268,486,268,492],[271,473,271,479],[274,486,274,491],[276,473,276,478],[287,473,288,473],[290,473,290,479],[295,473,295,479],[300,486,300,491],[302,473,302,479],[305,486,305,491],[308,473,308,478],[315,486,315,491],[320,486,320,487],[320,489,320,491],[202,483,215,483],[211,473,211,475],[211,476,211,478],[215,475,216,475],[215,478,216,478],[217,473,217,475],[217,476,217,478],[217,489,217,491],[217,492,217,494],[225,473,225,475],[225,476,225,478],[225,489,225,491],[228,473,229,478],[228,486,228,491],[231,473,231,478],[250,486,251,486],[253,486,253,492],[149,479,149,482],[149,490,149,493],[153,479,153,482],[153,490,153,493],[162,479,162,482],[162,490,162,493],[166,474,166,479],[166,489,166,494],[174,474,174,479],[174,489,174,494],[181,474,181,479],[181,489,181,494],[187,493,188,494],[190,474,190,479],[190,489,190,494],[191,475,191,476],[201,474,201,475],[201,476,201,479],[201,490,201,491],[201,493,201,496],[187,478,188,479],[105,487,105,489],[108,474,108,476],[108,477,108,479],[108,481,108,483],[108,486,108,488],[108,489,108,491],[108,493,108,495],[112,473,112,483],[112,485,112,495],[122,475,122,482],[122,486,122,493],[136,475,136,482],[136,486,136,493],[143,479,143,480],[144,479,144,480],[144,490,144,491],[145,479,145,482],[145,490,145,493],[415,447,415,452],[2,481,2,485],[3,481,4,481],[3,482,4,482],[3,483,4,483],[3,484,4,484],[3,485,4,485],[8,490,17,496],[29,485,29,488],[30,477,30,483],[31,482,31,483],[38,478,38,481],[39,479,40,479],[39,481,40,481],[43,478,43,481],[43,485,43,488],[48,478,48,481],[48,485,48,488],[50,482,50,485],[62,484,62,489],[66,476,66,480],[72,476,72,481],[72,484,72,489],[77,476,77,479],[79,476,79,479],[81,476,81,479],[85,477,85,481],[85,485,85,489],[86,485,86,486],[94,474,94,481],[94,486,94,493],[105,477,105,479],[326,460,326,464],[332,460,332,465],[334,447,334,452],[339,447,339,452],[345,447,345,452],[350,447,350,452],[352,447,353,447],[362,447,363,447],[365,447,365,452],[370,447,370,452],[377,447,377,452],[382,447,382,448],[382,450,382,452],[387,447,387,452],[396,447,396,452],[401,447,401,452],[410,447,410,452],[256,447,256,453],[258,460,258,465],[261,447,261,453],[268,460,268,466],[271,447,271,453],[274,460,274,465],[276,447,276,452],[287,447,288,447],[290,447,290,453],[295,447,295,453],[300,460,300,465],[302,447,302,453],[305,460,305,465],[308,447,308,452],[315,460,315,465],[320,460,320,461],[320,463,320,465],[202,457,215,457],[211,447,211,449],[211,450,211,452],[215,449,216,449],[215,452,216,452],[217,447,217,449],[217,450,217,452],[217,463,217,465],[217,466,217,468],[225,447,225,449],[225,450,225,452],[225,463,225,465],[228,447,229,452],[228,460,228,465],[231,447,231,452],[250,460,251,460],[253,460,253,466],[149,453,149,456],[149,464,149,467],[153,453,153,456],[153,464,153,467],[162,453,162,456],[162,464,162,467],[166,448,166,453],[166,463,166,468],[174,448,174,453],[174,463,174,468],[181,448,181,453],[181,463,181,468],[187,467,188,468],[190,448,190,453],[190,463,190,468],[191,449,191,450],[201,448,201,449],[201,450,201,453],[201,464,201,465],[201,467,201,470],[105,461,105,463],[108,448,108,450],[108,451,108,453],[108,455,108,457],[108,460,108,462],[108,463,108,465],[108,467,108,469],[112,447,112,457],[112,459,112,469],[122,449,122,456],[122,460,122,467],[136,449,136,456],[136,460,136,467],[143,453,143,454],[144,453,144,454],[144,464,144,465],[145,453,145,456],[145,464,145,467],[415,421,415,426],[2,455,2,459],[3,455,4,455],[3,456,4,456],[3,457,4,457],[3,458,4,458],[3,459,4,459],[8,464,17,470],[29,459,29,462],[30,451,30,457],[31,456,31,457],[38,452,38,455],[39,453,40,453],[39,455,40,455],[43,452,43,455],[43,459,43,462],[48,452,48,455],[48,459,48,462],[50,456,50,459],[62,458,62,463],[66,450,66,454],[72,450,72,455],[72,458,72,463],[77,450,77,453],[79,450,79,453],[81,450,81,453],[85,451,85,455],[85,459,85,463],[86,459,86,460],[94,448,94,455],[94,460,94,467],[105,451,105,453],[326,434,326,438],[332,434,332,439],[334,421,334,426],[339,421,339,426],[345,421,345,426],[350,421,350,426],[352,421,353,421],[362,421,363,421],[365,421,365,426],[370,421,370,426],[377,421,377,426],[382,421,382,422],[382,424,382,426],[387,421,387,426],[396,421,396,426],[401,421,401,426],[410,421,410,426],[256,421,256,427],[258,434,258,439],[261,421,261,427],[268,434,268,440],[271,421,271,427],[274,434,274,439],[276,421,276,426],[287,421,288,421],[290,421,290,427],[295,421,295,427],[300,434,300,439],[302,421,302,427],[305,434,305,439],[308,421,308,426],[315,434,315,439],[320,434,320,435],[320,437,320,439],[202,431,215,431],[211,421,211,423],[211,424,211,426],[215,423,216,423],[215,426,216,426],[217,421,217,423],[217,424,217,426],[217,437,217,439],[217,440,217,442],[225,421,225,423],[225,424,225,426],[225,437,225,439],[228,421,229,426],[228,434,228,439],[231,421,231,426],[250,434,251,434],[253,434,253,440],[149,427,149,430],[149,438,149,441],[153,427,153,430],[153,438,153,441],[162,427,162,430],[162,438,162,441],[166,422,166,427],[166,437,166,442],[174,422,174,427],[174,437,174,442],[181,422,181,427],[181,437,181,442],[187,441,188,442],[190,422,190,427],[190,437,190,442],[191,423,191,424],[201,422,201,423],[201,424,201,427],[201,438,201,439],[201,441,201,444],[105,435,105,437],[108,422,108,424],[108,425,108,427],[108,429,108,431],[108,434,108,436],[108,437,108,439],[108,441,108,443],[112,421,112,431],[112,433,112,443],[122,423,122,430],[122,434,122,441],[136,423,136,430],[136,434,136,441],[143,427,143,428],[144,427,144,428],[144,438,144,439],[145,427,145,430],[145,438,145,441],[415,395,415,400],[2,429,2,433],[3,429,4,429],[3,430,4,430],[3,431,4,431],[3,432,4,432],[3,433,4,433],[8,438,17,444],[29,433,29,436],[30,425,30,431],[31,430,31,431],[38,426,38,429],[39,427,40,427],[39,429,40,429],[43,426,43,429],[43,433,43,436],[48,426,48,429],[48,433,48,436],[50,430,50,433],[62,432,62,437],[66,424,66,428],[72,424,72,429],[72,432,72,437],[77,424,77,427],[79,424,79,427],[81,424,81,427],[85,425,85,429],[85,433,85,437],[86,433,86,434],[94,422,94,429],[94,434,94,441],[105,425,105,427],[326,408,326,412],[332,408,332,413],[334,395,334,400],[339,395,339,400],[345,395,345,400],[350,395,350,400],[352,395,353,395],[362,395,363,395],[365,395,365,400],[370,395,370,400],[377,395,377,400],[382,395,382,396],[382,398,382,400],[387,395,387,400],[396,395,396,400],[401,395,401,400],[410,395,410,400],[256,395,256,401],[258,408,258,413],[261,395,261,401],[268,408,268,414],[271,395,271,401],[274,408,274,413],[276,395,276,400],[287,395,288,395],[290,395,290,401],[295,395,295,401],[300,408,300,413],[302,395,302,401],[305,408,305,413],[308,395,308,400],[315,408,315,413],[320,408,320,409],[320,411,320,413],[202,405,215,405],[211,395,211,397],[211,398,211,400],[215,397,216,397],[215,400,216,400],[217,395,217,397],[217,398,217,400],[217,411,217,413],[217,414,217,416],[225,395,225,397],[225,398,225,400],[225,411,225,413],[228,395,229,400],[228,408,228,413],[231,395,231,400],[250,408,251,408],[253,408,253,414],[149,401,149,404],[149,412,149,415],[153,401,153,404],[153,412,153,415],[162,401,162,404],[162,412,162,415],[166,396,166,401],[166,411,166,416],[174,396,174,401],[174,411,174,416],[181,396,181,401],[181,411,181,416],[187,415,188,416],[190,396,190,401],[190,411,190,416],[191,397,191,398],[201,396,201,397],[201,398,201,401],[201,412,201,413],[201,415,201,418],[105,409,105,411],[108,396,108,398],[108,399,108,401],[108,403,108,405],[108,408,108,410],[108,411,108,413],[108,415,108,417],[112,395,112,405],[112,407,112,417],[122,397,122,404],[122,408,122,415],[136,397,136,404],[136,408,136,415],[143,401,143,402],[144,401,144,402],[144,412,144,413],[145,401,145,404],[145,412,145,415],[415,369,415,374],[2,403,2,407],[3,403,4,403],[3,404,4,404],[3,405,4,405],[3,406,4,406],[3,407,4,407],[8,412,17,418],[29,407,29,410],[30,399,30,405],[31,404,31,405],[38,400,38,403],[39,401,40,401],[39,403,40,403],[43,400,43,403],[43,407,43,410],[48,400,48,403],[48,407,48,410],[50,404,50,407],[62,406,62,411],[66,398,66,402],[72,398,72,403],[72,406,72,411],[77,398,77,401],[79,398,79,401],[81,398,81,401],[85,399,85,403],[85,407,85,411],[86,407,86,408],[94,396,94,403],[94,408,94,415],[105,399,105,401],[326,382,326,386],[332,382,332,387],[334,369,334,374],[339,369,339,374],[345,369,345,374],[350,369,350,374],[352,369,353,369],[362,369,363,369],[365,369,365,374],[370,369,370,374],[377,369,377,374],[382,369,382,370],[382,372,382,374],[387,369,387,374],[396,369,396,374],[401,369,401,374],[410,369,410,374],[217,369,217,371],[217,372,217,374],[217,385,217,387],[217,388,217,390],[225,369,225,371],[225,372,225,374],[225,385,225,387],[228,369,229,374],[228,382,228,387],[231,369,231,374],[250,382,251,382],[253,382,253,388],[256,369,256,375],[258,382,258,387],[261,369,261,375],[268,382,268,388],[271,369,271,375],[166,370,166,375],[166,385,166,390],[174,370,174,375],[174,385,174,390],[181,370,181,375],[181,385,181,390],[187,389,188,390],[190,370,190,375],[190,385,190,390],[191,371,191,372],[201,370,201,371],[201,372,201,375],[201,386,201,387],[201,389,201,392],[187,374,188,375],[202,379,215,379],[211,369,211,371],[211,372,211,374],[215,371,216,371],[215,374,216,374],[108,389,108,391],[112,369,112,379],[112,381,112,391],[122,371,122,378],[122,382,122,389],[136,371,136,378],[136,382,136,389],[143,375,143,376],[144,375,144,376],[144,386,144,387],[145,375,145,378],[145,386,145,389],[149,375,149,378],[149,386,149,389],[153,375,153,378],[153,386,153,389],[162,375,162,378],[162,386,162,389],[30,373,30,379],[31,378,31,379],[38,374,38,377],[39,375,40,375],[39,377,40,377],[43,374,43,377],[43,381,43,384],[48,374,48,377],[48,381,48,384],[50,378,50,381],[62,380,62,385],[66,372,66,376],[72,372,72,377],[72,380,72,385],[77,372,77,375],[108,377,108,379],[108,382,108,384],[108,385,108,387],[228,356,228,361],[250,356,251,356],[253,356,253,362],[258,356,258,361],[268,356,268,362],[274,356,274,361],[300,356,300,361],[305,356,305,361],[315,356,315,361],[320,356,320,357],[320,359,320,361],[326,356,326,360],[332,356,332,361],[2,377,2,381],[3,377,4,377],[3,378,4,378],[3,379,4,379],[3,380,4,380],[3,381,4,381],[79,372,79,375],[81,372,81,375],[85,373,85,377],[85,381,85,385],[86,381,86,382],[94,370,94,377],[94,382,94,389],[105,373,105,375],[105,383,105,385],[108,370,108,372],[108,373,108,375],[8,386,17,392],[29,381,29,384],[108,363,108,365],[122,356,122,363],[136,356,136,363],[145,360,145,363],[144,360,144,361],[149,360,149,363],[153,360,153,363],[162,360,162,363],[166,359,166,364],[174,359,174,364],[181,359,181,364],[187,363,188,364],[190,359,190,364],[201,360,201,361],[201,363,201,366],[217,359,217,361],[225,359,225,361],[217,362,217,364],[88,122,88,129],[88,136,88,143],[88,148,88,155],[88,162,88,169],[88,174,88,181],[88,188,88,195],[88,200,88,207],[88,214,88,221],[88,226,88,233],[88,240,88,247],[88,252,88,259],[88,266,88,273],[88,278,88,285],[83,298,83,305],[83,324,83,331],[94,344,94,351],[88,32,88,39],[88,44,88,51],[88,58,88,65],[88,70,88,77],[88,84,88,91],[88,96,88,103],[88,110,88,117],[85,347,85,351],[217,343,217,345],[217,346,217,348],[225,343,225,345],[225,346,225,348],[231,343,231,348],[539,323,539,329],[545,322,546,322],[553,323,553,329],[559,322,560,322],[559,331,560,332],[273,323,273,328],[318,323,318,328],[327,323,327,329],[336,323,336,328],[381,323,381,328],[390,323,390,328],[435,323,435,328],[444,323,444,328],[453,323,453,324],[453,326,453,328],[458,323,458,328],[471,323,471,328],[484,323,484,328],[497,323,497,328],[287,343,288,343],[308,343,308,348],[350,343,350,348],[365,343,365,348],[370,343,370,348],[377,343,377,348],[352,343,353,343],[510,323,510,328],[523,323,523,328],[524,324,524,325],[180,324,180,329],[181,325,181,326],[191,318,191,323],[191,324,191,329],[191,332,191,337],[196,316,197,316],[199,316,200,316],[199,324,199,330],[199,331,199,337],[202,316,203,316],[205,316,206,316],[206,324,206,330],[206,331,206,337],[211,323,211,328],[213,323,213,328],[221,323,221,328],[264,323,264,329],[160,324,160,325],[161,324,161,325],[163,324,163,329],[164,324,164,325],[165,324,165,325],[166,324,166,325],[167,324,167,325],[168,324,168,325],[170,324,170,329],[170,331,170,337],[171,331,171,332],[172,331,173,332],[174,331,174,332],[175,331,175,332],[176,328,177,329],[176,331,176,332],[176,336,177,337],[177,331,177,332],[97,322,97,324],[97,325,97,327],[97,329,97,331],[101,321,101,331],[111,323,111,330],[125,323,125,330],[132,327,132,328],[133,327,133,328],[134,327,134,330],[138,327,138,330],[142,327,142,330],[151,327,151,330],[155,324,155,329],[156,324,156,326],[157,324,157,325],[158,324,158,325],[159,324,159,325],[39,324,39,327],[43,324,43,329],[56,324,56,328],[61,324,61,329],[62,324,62,328],[63,324,63,327],[64,324,64,327],[65,324,65,327],[66,324,67,327],[68,324,69,327],[70,324,71,327],[74,324,74,328],[75,324,75,325],[77,324,77,325],[82,323,82,324],[94,323,94,325],[2,324,2,329],[3,324,4,324],[3,325,4,325],[3,326,4,326],[3,327,4,327],[3,328,4,328],[3,329,4,329],[8,332,17,338],[27,324,27,329],[28,324,29,324],[28,325,29,325],[28,326,29,326],[28,327,29,327],[28,328,29,328],[28,329,29,329],[34,324,34,327],[35,324,35,325],[35,326,35,327],[553,297,553,303],[559,296,560,296],[559,305,560,306],[327,297,327,303],[336,297,336,302],[381,297,381,302],[390,297,390,302],[435,297,435,302],[444,297,444,302],[453,297,453,298],[453,300,453,302],[458,297,458,302],[471,297,471,302],[484,297,484,302],[497,297,497,302],[510,297,510,302],[523,297,523,302],[524,298,524,299],[539,297,539,303],[545,296,546,296],[191,292,191,297],[191,298,191,303],[191,306,191,311],[196,290,197,290],[199,290,200,290],[199,298,199,304],[199,305,199,311],[202,290,203,290],[205,290,206,290],[206,298,206,304],[206,305,206,311],[211,297,211,302],[213,297,213,302],[221,297,221,302],[264,297,264,303],[273,297,273,302],[318,297,318,302],[164,298,164,299],[165,298,165,299],[166,298,166,299],[167,298,167,299],[168,298,168,299],[170,298,170,303],[170,305,170,311],[171,305,171,306],[172,305,173,306],[174,305,174,306],[175,305,175,306],[176,302,177,303],[176,305,176,306],[176,310,177,311],[177,305,177,306],[180,298,180,303],[181,299,181,300],[101,295,101,305],[111,297,111,304],[125,297,125,304],[132,301,132,302],[133,301,133,302],[134,301,134,304],[138,301,138,304],[142,301,142,304],[151,301,151,304],[155,298,155,303],[156,298,156,300],[157,298,157,299],[158,298,158,299],[159,298,159,299],[160,298,160,299],[161,298,161,299],[163,298,163,303],[61,298,61,303],[62,298,62,302],[63,298,63,301],[64,298,64,301],[65,298,65,301],[66,298,67,301],[68,298,69,301],[70,298,71,301],[74,298,74,302],[75,298,75,299],[77,298,77,299],[82,297,82,298],[94,297,94,299],[97,296,97,298],[97,299,97,301],[97,303,97,305],[2,298,2,303],[3,298,4,298],[8,306,17,312],[27,298,27,303],[28,301,29,301],[28,302,29,302],[28,303,29,303],[34,298,34,301],[35,298,35,299],[35,300,35,301],[39,298,39,301],[43,298,43,303],[56,298,56,302],[3,299,4,299],[3,300,4,300],[3,301,4,301],[3,302,4,302],[3,303,4,303],[28,298,29,298],[28,299,29,299],[28,300,29,300],[320,200,320,204],[326,200,326,205],[302,206,303,206],[102,207,102,209],[72,198,72,201],[2,221,2,225],[2,247,2,251],[2,273,2,277],[3,221,4,221],[3,222,4,222],[3,223,4,223],[3,224,4,224],[3,225,4,225],[3,247,4,247],[3,248,4,248],[3,249,4,249],[3,250,4,250],[215,196,215,198],[217,196,217,198],[106,187,106,197],[106,199,106,209],[75,190,76,193],[75,198,75,201],[76,198,76,201],[77,198,77,201],[79,191,79,195],[79,199,79,203],[80,199,80,200],[73,190,74,193],[73,198,73,201],[305,187,306,187],[309,187,309,192],[309,200,309,205],[314,187,314,188],[314,190,314,192],[314,200,314,201],[314,203,314,205],[319,187,319,192],[282,187,283,187],[282,200,283,200],[291,187,292,187],[291,200,292,200],[294,187,294,192],[294,200,294,205],[299,187,299,192],[299,200,299,205],[302,187,303,187],[302,200,303,200],[255,187,256,187],[255,200,256,200],[255,206,256,206],[258,187,259,187],[258,200,259,200],[262,187,262,193],[262,200,262,206],[268,187,268,192],[268,200,268,205],[222,187,222,192],[222,200,222,205],[235,187,236,187],[235,200,236,200],[244,187,245,187],[244,200,245,200],[247,187,247,193],[247,200,247,206],[252,200,252,205],[252,187,252,193],[219,187,219,189],[219,190,219,192],[219,203,219,205],[219,206,219,208],[194,196,194,199],[195,188,195,189],[195,190,195,193],[195,204,195,205],[195,207,195,210],[196,190,196,193],[196,197,209,197],[196,207,196,210],[199,194,200,194],[202,194,203,194],[204,187,204,189],[204,190,204,192],[205,189,207,189],[205,192,207,192],[205,194,206,194],[208,189,209,189],[208,192,209,192],[208,194,209,194],[181,192,182,193],[181,207,182,208],[184,188,184,193],[184,203,184,208],[185,189,185,190],[185,204,185,205],[163,188,163,189],[163,203,163,204],[164,188,164,189],[164,203,164,204],[165,188,165,189],[165,203,165,204],[166,188,166,189],[166,203,166,204],[168,188,168,193],[168,203,168,208],[211,187,211,189],[211,190,211,192],[211,203,211,205],[211,206,211,208],[160,188,160,193],[160,203,160,208],[162,188,162,189],[162,203,162,204],[116,189,116,196],[116,200,116,207],[130,189,130,196],[130,200,130,207],[137,193,137,194],[137,204,137,205]],"bounds":{"rows_first":62,"rows_last":15,"rows_between":62,"halvings":5},"merged_total":2857,"flags":["merged_cut"]}
["Caractéristiques des matériaux pour tuyaux circulaires homogènes [SIA190;Tableau 2]"]
["Matériau","Module d'élasticité (valeur de calcul) ",null,"Coefficient de Poisson","Poids volumique","Contrainte admissible de tension annulaire","Charge de rupture au sommet (valeur min.)"]
[null,null,null,null,null,null,null,null,null,null,null,null,null,null,"1.Béton (dimensions existantes)",null,null,null,null,null,null,null,null,null,null,null,null,null,null,null,null,null,null,null,null,null,null,null,null,"1.PP SN4(dimensions existantes)",null,null,null,null,null,null,null,null,null,null,null,null,null,null,null,null,null,null,null,null,null,null,null,null,null,"1.PP SN8(dimensions existantes)",null,null,null,null,null,null,null,null,null,null,null,null,null,null,null,null,null,null,null,null,null,null,null,null,null,"1.PP SN12(dimensions existantes)",null,null,null,null,null,null,null,null,null,null,null,null,null,null,null,null,null,null,null,null,null,null,null,null,null,"1.PP SN16(dimensions existantes)",null,null,null,null,null,null,null,null,null,null,null,null,null,null,null,null,null,null,null,null,null,null,null,null,null,"1.PVC SN2(dimensions existantes)",null,null,null,null,null,null,null,null,null,null,null,null,null,null,null,null,null,null,null,null,null,null,null,null,null,"1.PVC SN4(dimensions existantes)",null,null,null,null,null,null,null,null,null,null,null,null,null,null,null,null,null,null,null,null,null,null,null,null,null,"1.PVC SN8(dimensions existantes)",null,null,null,null,null,null,null,null,null,null,null,null,null,null,null,null,null,null,null,null,null,null,null,null,null,"1.PE SN2(dimensions existantes)",null,null,null,null,null,null,null,null,null,null,null,null,null,null,null,null,null,null,null,null,null,null,null,null,null,"1.PE SN4(dimensions existantes)",null,null,null,null,null,null,null,null,null,null,null,null,null,null,null,null,null,null,null,null,null,null,null,null,null,"1.PE SN8(dimensions existantes)",null,null,null,null,null,null,null,null,null,null,null,null,null,null,null,null,null,null,null,null,null,null,null,null,"1.Grès vitrifié charge normale (dimensions existantes)",null,null,null,null,null,null,null,null,null,null,null,null,null,null,null,null,null,null,null,null,null,null,null,null,null,"1.Grès vitrifié charge supérieure (dimensions existantes)",null,null,null,null,null,null,null,null,null,null,null,null,null,null,null,null,null,null,null,null,null,null,null,null,null,null,"1. GF-UP SN 2500 (dimensions existantes)",null,null,null,null,null,null,null,null,null,null,null,null,null,null,null,null,null,null,null,null,null,null,null,null,null,"1. GF-UP SN 5000 (dimensions existantes)",null,null,null,null,null,null,null,null,null,null,null,null,null,null,null,null,null,null,null,null,null,null,null,null,null,"1. GF-UP SN 10000 (dimensions existantes)",null,null,null,null,null,null,null,null,null,null,null,null,null,null,null,null,null,null,null,null,null,null,null,null,null,"1. GF-UP SN 15000 (dimensions existantes)",null,null,null,null,null,null,null,null,null,null,null,null,null,null,null,null,null,null,null,null,null,null,null,null,null,"1. GF-UP SN 16000 (dimensions existantes)",null,null,null,null,null,null,null,null,null,null,null,null,null,null,null,null,null,null,null,null,null,null,null,null,null,"1. GF-UP SN 20000 (dimensions existantes)",null,null,null,null,null,null,null,null,null,null,null,null,null,null,null,null,null,null,null,null,null,null,null,null,null,"1.Fonte (dimensions existantes)"]
[null,null,null,null,null,null,null,null,null,null,null,null,null,null,"Diamètre intérieur [mm]","Diamètre nominal [mm]","Diamètre ext-érieur [mm]","épaisseur de paroi [mm]","rayon moyen [mm]","Classe de résistance",null,null,null,null,null,null,null,null,null,null,null,null,null,null,null,null,null,null,null,"Diamètre intérieur [mm]","Diamètre nominal [mm]","Diamètre ext-érieur [mm]","épaisseur de paroi [mm]","rayon moyen [mm]",null,null,null,null,null,null,null,null,null,null,null,null,null,null,null,null,null,null,null,null,null,"Diamètre intérieur [mm]","Diamètre nominal [mm]","Diamètre ext-érieur [mm]","épaisseur de paroi [mm]","rayon moyen [mm]",null,null,null,null,null,null,null,null,null,null,null,null,null,null,null,null,null,null,null,null,null,"Diamètre intérieur [mm]","Diamètre nominal [mm]","Diamètre ext-érieur [mm]","épaisseur de paroi [mm]","rayon moyen [mm]",null,null,null,null,null,null,null,null,null,null,null,null,null,null,null,null,null,null,null,null,null,"Diamètre intérieur [mm]","Diamètre nominal [mm]","Diamètre ext-érieur [mm]","épaisseur de paroi [mm]","rayon moyen [mm]",null,null,null,null,null,null,null,null,null,null,null,null,null,null,null,null,null,null,null,null,null,"Diamètre intérieur [mm]","Diamètre nominal [mm]","Diamètre ext-érieur [mm]","épaisseur de paroi [mm]","rayon moyen [mm]",null,null,null,null,null,null,null,null,null,null,null,null,null,null,null,null,null,null,null,null,null,"Diamètre intérieur [mm]","Diamètre nominal [mm]","Diamètre ext-érieur [mm]","épaisseur de paroi [mm]","rayon moyen [mm]",null,null,null,null,null,null,null,null,null,null,null,null,null,null,null,null,null,null,null,null,null,"Diamètre intérieur [mm]","Diamètre nominal [mm]","Diamètre ext-érieur [mm]","épaisseur de paroi [mm]","rayon moyen [mm]",null,null,null,null,null,null,null,null,null,null,null,null,null,null,null,null,null,null,null,null,null,"Diamètre intérieur [mm]","Diamètre nominal [mm]","Diamètre ext-érieur [mm]","épaisseur de paroi [mm]","rayon moyen [mm]",null,null,null,null,null,null,null,null,null,null,null,null,null,null,null,null,null,null,null,null,null,"Diamètre intérieur [mm]","Diamètre nominal [mm]","Diamètre ext-érieur [mm]","épaisseur de paroi [mm]","rayon moyen [mm]",null,null,null,null,null,null,null,null,null,null,null,null,null,null,null,null,null,null,null,null,null,"Diamètre intérieur [mm]","Diamètre nominal [mm]","Diamètre ext-érieur [mm]","épaisseur de paroi [mm]","rayon moyen [mm]",null,null,null,null,null,null,null,null,null,null,null,null,null,null,null,null,null,null,null,null,"Diamètre intérieur [mm]","Diamètre nominal [mm]","Diamètre extérieur [mm]","épaisseur de paroi [mm]","rayon moyen [mm]","Classe de résistance",null,null,null,null,null,null,null,null,null,null,null,null,null,null,null,null,null,null,null,null,"Diamètre intérieur [mm]","Diamètre nominal [mm]","Diamètre extérieur [mm]","épaisseur de paroi [mm]","rayon moyen [mm]","Classe de résistance",null,null,null,null,null,null,null,null,null,null,null,null,null,null,null,null,null,null,null,null,null,"Diamètre intérieur [mm]","Diamètre nominal [mm]","Diamètre ext-érieur [mm]","épaisseur de paroi [mm]","rayon moyen [mm]",null,null,null,null,null,null,null,null,null,null,null,null,null,null,null,null,null,null,null,null,null,"Diamètre intérieur [mm]","Diamètre nominal [mm]","Diamètre ext-érieur [mm]","épaisseur de paroi [mm]","rayon moyen [mm]",null,null,null,null,null,null,null,null,null,null,null,null,null,null,null,null,null,null,null,null,null,"Diamètre intérieur [mm]","Diamètre nominal [mm]","Diamètre ext-érieur [mm]","épaisseur de paroi [mm]","rayon moyen [mm]",null,null,null,null,null,null,null,null,null,null,null,null,null,null,null,null,null,null,null,null,null,"Diamètre intérieur [mm]","Diamètre nominal [mm]","Diamètre ext-érieur [mm]","épaisseur de paroi [mm]","rayon moyen [mm]",null,null,null,null,null,null,null,null,null,null,null,null,null,null,null,null,null,null,null,null,null,"Diamètre intérieur [mm]","Diamètre nominal [mm]","Diamètre ext-érieur [mm]","épaisseur de paroi [mm]","rayon moyen [mm]",null,null,null,null,null,null,null,null,null,null,null,null,null,null,null,null,null,null,null,null,null,"Diamètre intérieur [mm]","Diamètre nominal [mm]","Diamètre ext-érieur [mm]","épaisseur de paroi [mm]","rayon moyen [mm]",null,null,null,null,null,null,null,null,null,null,null,null,null,null,null,null,null,null,null,null,null,"Diamètre intérieur [mm]","Diamètre nominal [mm]","Diamètre ext-érieur [mm]","épaisseur de paroi [mm]","rayon moyen [mm]"]
[null,"ER,court","ER,long","ν","γR","σRbz,long,adm","qBr"]
[null,"[N/mm2]","[N/mm2]","[-]","[kN/m3]","[N/mm2]","[kN/m]",null,null,null,null,null,null,null,"di","DN","da","e","rm","FK",null,null,null,null,null,null,null,null,null,null,null,null,null,null,null,null,null,null,null,"di","DN","da","e","rm",null,null,null,null,null,null,null,null,null,null,null,null,null,null,null,null,null,null,null,null,null,"di","DN","da","e","rm",null,null,null,null,null,null,null,null,null,null,null,null,null,null,null,null,null,null,null,null,null,"di","DN","da","e","rm",null,null,null,null,null,null,null,null,null,null,null,null,null,null,null,null,null,null,null,null,null,"di","DN","da","e","rm",null,null,null,null,null,null,null,null,null,null,null,null,null,null,null,null,null,null,null,null,null,"di","DN","da","e","rm",null,null,null,null,null,null,null,null,null,null,null,null,null,null,null,null,null,null,null,null,null,"di","DN","da","e","rm",null,null,null,null,null,null,null,null,null,null,null,null,null,null,null,null,null,null,null,null,null,"di","DN","da","e","rm",null,null,null,null,null,null,null,null,null,null,null,null,null,null,null,null,null,null,null,null,null,"di","DN","da","e","rm",null,null,null,null,null,null,null,null,null,null,null,null,null,null,null,null,null,null,null,null,null,"di","DN","da","e","rm",null,null,null,null,null,null,null,null,null,null,null,null,null,null,null,null,null,null,null,null,null,"di","DN","da","e","rm",null,null,null,null,null,null,null,null,null,null,null,null,null,null,null,null,null,null,null,null,"di","DN","da","e","rm","FK",null,null,null,null,null,null,null,null,null,null,null,null,null,null,null,null,null,null,null,null,"di","DN","da","e","rm","FK",null,null,null,null,null,null,null,null,null,null,null,null,null,null,null,null,null,null,null,null,null,"di","DN","da","e","rm",null,null,null,null,null,null,null,null,null,null,null,null,null,null,null,null,null,null,null,null,null,"di","DN","da","e","rm",null,null,null,null,null,null,null,null,null,null,null,null,null,null,null,null,null,null,null,null,null,"di","DN","da","e","rm",null,null,null,null,null,null,null,null,null,null,null,null,null,null,null,null,null,null,null,null,null,"di","DN","da","e","rm",null,null,null,null,null,null,null,null,null,null,null,null,null,null,null,null,null,null,null,null,null,"di","DN","da","e","rm",null,null,null,null,null,null,null,null,null,null,null,null,null,null,null,null,null,null,null,null,null,"di","DN","da","e","rm",null,null,null,null,null,null,null,null,null,null,null,null,null,null,null,null,null,null,null,null,null,"di","DN","da","e","rm"]
["B",30000,30000,0.2,24,4,null,null,null,null,null,null,null,null,1500,1500,{"$f":"O7+2*R7","v":1700},100,{"$f":"(Q7-R7)/2","v":800},20,null,null,null,null,null,null,null,null,null,null,null,null,null,null,null,null,null,null,null,{"$f":"AP7-2*AQ7","v":375.4},400,{"$f":"AO7","v":400},12.3,{"$f":"(AP7-AQ7)/2","v":193.85},null,null,null,null,null,null,null,null,null,null,null,null,null,null,null,null,null,null,null,null,null,{"$f":"BP7-2*BQ7","v":465.8},500,500,17.100000000000001,{"$f":"(BP7-BQ7)/2","v":241.45},null,null,null,null,null,null,null,null,null,null,null,null,null,null,null,null,null,null,null,null,null,{"$f":"CP7-2*CQ7","v":461.8},500,500,19.100000000000001,{"$f":"(CP7-CQ7)/2","v":240.45},null,null,null,null,null,null,null,null,null,null,null,null,null,null,null,null,null,null,null,null,null,{"$f":"DP7-2*DQ7","v":454.4},500,500,22.8,{"$f":"(DP7-DQ7)/2","v":238.6},null,null,null,null,null,null,null,null,null,null,null,null,null,null,null,null,null,null,null,null,null,{"$f":"EP7-2*EQ7","v":960.8},1000,1000,19.600000000000001,{"$f":"(EP7-EQ7)/2","v":490.2},null,null,null,null,null,null,null,null,null,null,null,null,null,null,null,null,null,null,null,null,null,{"$f":"FP7-2*FQ7","v":951},1000,1000,24.5,{"$f":"(FP7-FQ7)/2","v":487.75},null,null,null,null,null,null,null,null,null,null,null,null,null,null,null,null,null,null,null,null,null,{"$f":"GP7-2*GQ7","v":753.4},800,800,23.3,{"$f":"(GP7-GQ7)/2","v":388.35},null,null,null,null,null,null,null,null,null,null,null,null,null,null,null,null,null,null,null,null,null,{"$f":"HP7-2*HQ7","v":591.4},630,630,19.3,{"$f":"(HP7-HQ7)/2","v":305.35000000000002},null,null,null,null,null,null,null,null,null,null,null,null,null,null,null,null,null,null,null,null,null,{"$f":"IP7-2*IQ7","v":369.4},400,400,15.3,{"$f":"(IP7-IQ7)/2","v":192.35},null,null,null,null,null,null,null,null,null,null,null,null,null,null,null,null,null,null,null,null,null,{"$f":"JP7-2*JQ7","v":361.8},400,400,19.100000000000001,{"$f":"(JP7-JQ7)/2","v":190.45},null,null,null,null,null,null,null,null,null,null,null,null,null,null,null,null,null,null,null,null,597,600,{"$f":"KM7+2*KP7","v":687},45,{"$f":"(KO7-KP7)/2","v":321},95,null,null,null,null,null,null,null,null,null,null,null,null,null,null,null,null,null,null,null,null,792,800,932,{"$f":"(LO7-LM7)/2","v":70},{"$f":"(LO7-LP7)/2","v":431},120,null,null,null,null,null,null,null,null,null,null,null,null,null,null,null,null,null,null,null,null,null,{"$f":"MP7-2*MQ7","v":1457},1500,1499,21,{"$f":"(MP7-MQ7)/2","v":739},null,null,null,null,null,null,null,null,null,null,null,null,null,null,null,null,null,null,null,null,null,{"$f":"NP7-2*NQ7","v":1445},1500,1499,27,{"$f":"(NP7-NQ7)/2","v":736},null,null,null,null,null,null,null,null,null,null,null,null,null,null,null,null,null,null,null,null,null,{"$f":"OP7-2*OQ7","v":1433},1500,1499,33,{"$f":"(OP7-OQ7)/2","v":733},null,null,null,null,null,null,null,null,null,null,null,null,null,null,null,null,null,null,null,null,null,{"$f":"PP7-2*PQ7","v":1425},1500,1499,37,{"$f":"(PP7-PQ7)/2","v":731},null,null,null,null,null,null,null,null,null,null,null,null,null,null,null,null,null,null,null,null,null,{"$f":"QP7-2*QQ7","v":1423},1500,1499,38,{"$f":"(QP7-QQ7)/2","v":730.5},null,null,null,null,null,null,null,null,null,null,null,null,null,null,null,null,null,null,null,null,null,{"$f":"RP7-2*RQ7","v":1417},1500,1499,41,{"$f":"(RP7-RQ7)/2","v":729},null,null,null,null,null,null,null,null,null,null,null,null,null,null,null,null,null,null,null,null,null,{"$f":"SP7-2*SQ7","v":718.8},700,738,9.6,{"$f":"(SP7-SQ7)/2","v":364.2}]
["STZ",50000,50000,0.25,22,6,null,null,null,null,null,null,null,null,1250,1250,1450,100,675,20,null,null,null,null,null,null,null,null,null,null,null,null,null,null,null,null,null,null,null,{"$f":"AP8-2*AQ8","v":295.60000000000002},315,{"$f":"AO8","v":315},9.6999999999999993,{"$f":"(AP8-AQ8)/2","v":152.65},null,null,null,null,null,null,null,null,null,null,null,null,null,null,null,null,null,null,null,null,null,{"$f":"BP8-2*BQ8","v":372.6},400,{"$f":"BO8","v":400},13.7,{"$f":"(BP8-BQ8)/2","v":193.15},null,null,null,null,null,null,null,null,null,null,null,null,null,null,null,null,null,null,null,null,null,{"$f":"CP8-2*CQ8","v":369.4},400,{"$f":"CO8","v":400},15.3,{"$f":"(CP8-CQ8)/2","v":192.35},null,null,null,null,null,null,null,null,null,null,null,null,null,null,null,null,null,null,null,null,null,{"$f":"DP8-2*DQ8","v":363.6},400,{"$f":"DO8","v":400},18.2,{"$f":"(DP8-DQ8)/2","v":190.9},null,null,null,null,null,null,null,null,null,null,null,null,null,null,null,null,null,null,null,null,null,{"$f":"EP8-2*EQ8","v":864.8},900,900,17.600000000000001,{"$f":"(EP8-EQ8)/2","v":441.2},null,null,null,null,null,null,null,null,null,null,null,null,null,null,null,null,null,null,null,null,null,{"$f":"FP8-2*FQ8","v":856},900,900,22,{"$f":"(FP8-FQ8)/2","v":439},null,null,null,null,null,null,null,null,null,null,null,null,null,null,null,null,null,null,null,null,null,{"$f":"GP8-2*GQ8","v":668.6},710,710,20.7,{"$f":"(GP8-GQ8)/2","v":344.65},null,null,null,null,null,null,null,null,null,null,null,null,null,null,null,null,null,null,null,null,null,469.4,500,500,15.3,242.35,null,null,null,null,null,null,null,null,null,null,null,null,null,null,null,null,null,null,null,null,null,{"$f":"IP8-2*IQ8","v":327.8},355,355,13.6,{"$f":"(IP8-IQ8)/2","v":170.7},null,null,null,null,null,null,null,null,null,null,null,null,null,null,null,null,null,null,null,null,null,{"$f":"JP8-2*JQ8","v":321.2},355,355,16.899999999999999,{"$f":"(JP8-JQ8)/2","v":169.05},null,null,null,null,null,null,null,null,null,null,null,null,null,null,null,null,null,null,null,null,496,500,581,42.5,269.25,120,null,null,null,null,null,null,null,null,null,null,null,null,null,null,null,null,null,null,null,null,694,700,832,{"$f":"(LO8-LM8)/2","v":69},381.5,120,null,null,null,null,null,null,null,null,null,null,null,null,null,null,null,null,null,null,null,null,null,{"$f":"MP8-2*MQ8","v":1392},1400,1434,21,{"$f":"(MP8-MQ8)/2","v":706.5},null,null,null,null,null,null,null,null,null,null,null,null,null,null,null,null,null,null,null,null,null,{"$f":"NP8-2*NQ8","v":1382},1400,1434,26,{"$f":"(NP8-NQ8)/2","v":704},null,null,null,null,null,null,null,null,null,null,null,null,null,null,null,null,null,null,null,null,null,{"$f":"OP8-2*OQ8","v":1370},1400,1434,32,{"$f":"(OP8-OQ8)/2","v":701},null,null,null,null,null,null,null,null,null,null,null,null,null,null,null,null,null,null,null,null,null,{"$f":"PP8-2*PQ8","v":1362},1400,1434,36,{"$f":"(PP8-PQ8)/2","v":699},null,null,null,null,null,null,null,null,null,null,null,null,null,null,null,null,null,null,null,null,null,{"$f":"QP8-2*QQ8","v":1362},1400,1434,36,{"$f":"(QP8-QQ8)/2","v":699},null,null,null,null,null,null,null,null,null,null,null,null,null,null,null,null,null,null,null,null,null,{"$f":"RP8-2*RQ8","v":1356},1400,1434,39,{"$f":"(RP8-RQ8)/2","v":697.5},null,null,null,null,null,null,null,null,null,null,null,null,null,null,null,null,null,null,null,null,null,{"$f":"SP8-2*SQ8","v":619.6},600,635,7.7,{"$f":"(SP8-SQ8)/2","v":313.64999999999998}]
["GGG(EN-GJS)",170000,170000,0.3,70.5,330,null,null,"Matériaux",null,null,null,null,null,1000,1000,1200,100,550,50,null,null,"Béton",null,null,null,null,null,null,null,null,null,null,null,null,null,null,null,null,{"$f":"AP9-2*AQ9","v":234.6},250,{"$f":"AO9","v":250},7.7,{"$f":"(AP9-AQ9)/2","v":121.15},null,null,null,null,"PP-SN4",null,null,null,null,null,null,null,null,null,null,null,null,null,null,null,null,{"$f":"BP9-2*BQ9","v":293.39999999999998},315,{"$f":"BO9","v":315},10.8,{"$f":"(BP9-BQ9)/2","v":152.1},null,null,null,null,"PP-SN8",null,null,null,null,null,null,null,null,null,null,null,null,null,null,null,null,{"$f":"CP9-2*CQ9","v":290.8},315,{"$f":"CO9","v":315},12.1,{"$f":"(CP9-CQ9)/2","v":151.44999999999999},null,null,null,null,"PP-SN12",null,null,null,null,null,null,null,null,null,null,null,null,null,null,null,null,{"$f":"DP9-2*DQ9","v":286.2},315,{"$f":"DO9","v":315},14.4,{"$f":"(DP9-DQ9)/2","v":150.30000000000001},null,null,null,null,"PP-SN16",null,null,null,null,null,null,null,null,null,null,null,null,null,null,null,null,{"$f":"EP9-2*EQ9","v":768.6},800,800,15.7,{"$f":"(EP9-EQ9)/2","v":392.15},null,null,null,null,"PVC-SN2",null,null,null,null,null,null,null,null,null,null,null,null,null,null,null,null,{"$f":"FP9-2*FQ9","v":760.8},800,800,19.600000000000001,{"$f":"(FP9-FQ9)/2","v":390.2},null,null,null,null,"PVC-SN4",null,null,null,null,null,null,null,null,null,null,null,null,null,null,null,null,{"$f":"GP9-2*GQ9","v":593.20000000000005},630,630,18.399999999999999,{"$f":"(GP9-GQ9)/2","v":305.8},null,null,null,null,"PVC-SN8",null,null,null,null,null,null,null,null,null,null,null,null,null,null,null,null,422.4,450,450,13.8,218.1,null,null,null,null,"PE-SN2",null,null,null,null,null,null,null,null,null,null,null,null,null,null,null,null,{"$f":"IP9-2*IQ9","v":290.8},315,315,12.1,{"$f":"(IP9-IQ9)/2","v":151.44999999999999},null,null,null,null,"PE-SN4",null,null,null,null,null,null,null,null,null,null,null,null,null,null,null,null,{"$f":"JP9-2*JQ9","v":285},315,315,15,{"$f":"(JP9-JQ9)/2","v":150},null,null,null,null,"PE-SN8",null,null,null,null,null,null,null,null,null,null,null,null,null,null,null,398,400,486,44,221,160,null,null,"Grès-vitrifié (charge normale)",null,null,null,null,null,null,null,null,null,null,null,null,null,null,null,null,null,597,600,725,64,330.5,160,null,null,"Grès-vitrifié (charge supérieure)",null,null,null,null,null,null,null,null,null,null,null,null,null,null,null,null,null,null,1308,1350,1348,20,664,null,null,null,null,"GF-UP SN 2500",null,null,null,null,null,null,null,null,null,null,null,null,null,null,null,null,1300,1350,1348,24,662,null,null,null,null,"GF-UP SN 5000",null,null,null,null,null,null,null,null,null,null,null,null,null,null,null,null,1288,1350,1348,30,659,null,null,null,null,"GF-UP SN 10000",null,null,null,null,null,null,null,null,null,null,null,null,null,null,null,null,1280,1350,1348,34,657,null,null,null,null,"GF-UP SN 15000",null,null,null,null,null,null,null,null,null,null,null,null,null,null,null,null,1280,1350,1348,34,657,null,null,null,null,"GF-UP SN 16000",null,null,null,null,null,null,null,null,null,null,null,null,null,null,null,null,1274,1350,1348,37,655.5,null,null,null,null,"GF-UP SN 20000",null,null,null,null,null,null,null,null,null,null,null,null,null,null,null,null,518,500,532,7,{"$f":"(SP9-SQ9)/2","v":262.5},null,null,null,null,"Fonte"]
["PVC-U",3000,1500,0.38,14,20,null,null,null,null,null,null,null,null,800,800,960,80,440,50,null,null,null,null,null,null,null,null,null,null,null,null,null,null,null,null,null,null,null,{"$f":"AP10-2*AQ10","v":187.6},200,{"$f":"AO10","v":200},6.2,{"$f":"(AP10-AQ10)/2","v":96.9},null,null,null,null,null,null,null,null,null,null,null,null,null,null,null,null,null,null,null,null,null,{"$f":"BP10-2*BQ10","v":232.8},250,{"$f":"BO10","v":250},8.6,{"$f":"(BP10-BQ10)/2","v":120.7},null,null,null,null,null,null,null,null,null,null,null,null,null,null,null,null,null,null,null,null,null,{"$f":"CP10-2*CQ10","v":230.8},250,{"$f":"CO10","v":250},9.6,{"$f":"(CP10-CQ10)/2","v":120.2},null,null,null,null,null,null,null,null,null,null,null,null,null,null,null,null,null,null,null,null,null,{"$f":"DP10-2*DQ10","v":227.2},250,{"$f":"DO10","v":250},11.4,{"$f":"(DP10-DQ10)/2","v":119.3},null,null,null,null,null,null,null,null,null,null,null,null,null,null,null,null,null,null,null,null,null,{"$f":"EP10-2*EQ10","v":682.2},710,710,13.9,{"$f":"(EP10-EQ10)/2","v":348.05},null,null,null,null,null,null,null,null,null,null,null,null,null,null,null,null,null,null,null,null,null,{"$f":"FP10-2*FQ10","v":675.2},710,710,17.399999999999999,{"$f":"(FP10-FQ10)/2","v":346.3},null,null,null,null,null,null,null,null,null,null,null,null,null,null,null,null,null,null,null,null,null,{"$f":"GP10-2*GQ10","v":470.8},500,500,14.6,{"$f":"(GP10-GQ10)/2","v":242.7},null,null,null,null,null,null,null,null,null,null,null,null,null,null,null,null,null,null,null,null,null,375.4,400,400,12.3,193.85,null,null,null,null,null,null,null,null,null,null,null,null,null,null,null,null,null,null,null,null,null,{"$f":"IP10-2*IQ10","v":230.8},250,250,9.6,{"$f":"(IP10-IQ10)/2","v":120.2},null,null,null,null,null,null,null,null,null,null,null,null,null,null,null,null,null,null,null,null,null,{"$f":"JP10-2*JQ10","v":226.2},250,250,11.9,{"$f":"(JP10-JQ10)/2","v":119.05},null,null,null,null,null,null,null,null,null,null,null,null,null,null,null,null,null,null,null,null,348,350,417,34.5,191.25,160,null,null,null,null,null,null,null,null,null,null,null,null,null,null,null,null,null,null,null,null,496,500,609,56.5,276.25,160,null,null,null,null,null,null,null,null,null,null,null,null,null,null,null,null,null,null,null,null,null,1242,1280,1280,19,630.5,null,null,null,null,null,null,null,null,null,null,null,null,null,null,null,null,null,null,null,null,null,1234,1280,1280,23,628.5,null,null,null,null,null,null,null,null,null,null,null,null,null,null,null,null,null,null,null,null,null,1224,1280,1280,28,626,null,null,null,null,null,null,null,null,null,null,null,null,null,null,null,null,null,null,null,null,null,1216,1280,1280,32,624,null,null,null,null,null,null,null,null,null,null,null,null,null,null,null,null,null,null,null,null,null,1214,1280,1280,33,623.5,null,null,null,null,null,null,null,null,null,null,null,null,null,null,null,null,null,null,null,null,null,1210,1280,1280,35,622.5,null,null,null,null,null,null,null,null,null,null,null,null,null,null,null,null,null,null,null,null,null,416.4,400,429,6.3,{"$f":"(SP10-SQ10)/2","v":211.35}]
["PE-HD",1000,250,0.4,9.5,14,null,null,null,null,null,null,null,null,700,700,840,70,385,60,null,null,null,null,null,null,null,null,null,null,null,null,null,null,null,null,null,null,null,{"$f":"AP11-2*AQ11","v":0},0,{"$f":"AO11","v":0},0,0,null,null,null,null,null,null,null,null,null,null,null,null,null,null,null,null,null,null,null,null,null,{"$f":"BP11-2*BQ11","v":186.2},200,{"$f":"BO11","v":200},6.9,{"$f":"(BP11-BQ11)/2","v":96.55},null,null,null,null,null,null,null,null,null,null,null,null,null,null,null,null,null,null,null,null,null,{"$f":"CP11-2*CQ11","v":184.6},200,{"$f":"CO11","v":200},7.7,{"$f":"(CP11-CQ11)/2","v":96.15},null,null,null,null,null,null,null,null,null,null,null,null,null,null,null,null,null,null,null,null,null,{"$f":"DP11-2*DQ11","v":181.8},200,{"$f":"DO11","v":200},9.1,{"$f":"(DP11-DQ11)/2","v":95.45},null,null,null,null,null,null,null,null,null,null,null,null,null,null,null,null,null,null,null,null,null,{"$f":"EP11-2*EQ11","v":605.4},630,630,12.3,{"$f":"(EP11-EQ11)/2","v":308.85000000000002},null,null,null,null,null,null,null,null,null,null,null,null,null,null,null,null,null,null,null,null,null,{"$f":"FP11-2*FQ11","v":599.20000000000005},630,630,15.4,{"$f":"(FP11-FQ11)/2","v":307.3},null,null,null,null,null,null,null,null,null,null,null,null,null,null,null,null,null,null,null,null,null,{"$f":"GP11-2*GQ11","v":423.6},450,450,13.2,{"$f":"(GP11-GQ11)/2","v":218.4},null,null,null,null,null,null,null,null,null,null,null,null,null,null,null,null,null,null,null,null,null,333.2,355,355,10.9,172.05,null,null,null,null,null,null,null,null,null,null,null,null,null,null,null,null,null,null,null,null,null,{"$f":"IP11-2*IQ11","v":184.6},200,200,7.7,{"$f":"(IP11-IQ11)/2","v":96.15},null,null,null,null,null,null,null,null,null,null,null,null,null,null,null,null,null,null,null,null,null,{"$f":"JP11-2*JQ11","v":180.8},200,200,9.6,{"$f":"(JP11-JQ11)/2","v":95.2},null,null,null,null,null,null,null,null,null,null,null,null,null,null,null,null,null,null,null,null,300,300,355,27.5,163.75,160,null,null,null,null,null,null,null,null,null,null,null,null,null,null,null,null,null,null,null,null,398,400,492,47,222.5,200,null,null,null,null,null,null,null,null,null,null,null,null,null,null,null,null,null,null,null,null,null,1193,1200,1229,18,605.5,null,null,null,null,null,null,null,null,null,null,null,null,null,null,null,null,null,null,null,null,null,1185,1200,1229,22,603.5,null,null,null,null,null,null,null,null,null,null,null,null,null,null,null,null,null,null,null,null,null,1175,1200,1229,27,601,null,null,null,null,null,null,null,null,null,null,null,null,null,null,null,null,null,null,null,null,null,1167,1200,1229,31,599,null,null,null,null,null,null,null,null,null,null,null,null,null,null,null,null,null,null,null,null,null,1167,1200,1229,31,599,null,null,null,null,null,null,null,null,null,null,null,null,null,null,null,null,null,null,null,null,null,1161,1200,1229,34,597.5,null,null,null,null,null,null,null,null,null,null,null,null,null,null,null,null,null,null,null,null,null,366,350,378,6,{"$f":"(SP11-SQ11)/2","v":186}]
["PP",1250,300,0.4,9,8,null,null,null,null,null,null,null,null,600,600,730,65,332.5,60,null,null,null,null,null,null,null,null,null,null,null,null,null,null,null,null,null,null,null,0,0,0,0,0,null,null,null,null,null,null,null,null,null,null,null,null,null,null,null,null,null,null,null,null,null,{"$f":"BP12-2*BQ12","v":0},0,{"$f":"BO12","v":0},0,0,null,null,null,null,null,null,null,null,null,null,null,null,null,null,null,null,null,null,null,null,null,{"$f":"CP12-2*CQ12","v":0},0,{"$f":"CO12","v":0},0,0,null,null,null,null,null,null,null,null,null,null,null,null,null,null,null,null,null,null,null,null,null,{"$f":"DP12-2*DQ12","v":0},0,{"$f":"DO12","v":0},0,0,null,null,null,null,null,null,null,null,null,null,null,null,null,null,null,null,null,null,null,null,null,{"$f":"EP12-2*EQ12","v":480.4},500,500,9.8000000000000007,{"$f":"(EP12-EQ12)/2","v":245.1},null,null,null,null,null,null,null,null,null,null,null,null,null,null,null,null,null,null,null,null,null,{"$f":"FP12-2*FQ12","v":475.4},500,500,12.3,{"$f":"(FP12-FQ12)/2","v":243.85},null,null,null,null,null,null,null,null,null,null,null,null,null,null,null,null,null,null,null,null,null,{"$f":"GP12-2*GQ12","v":376.6},400,400,11.7,{"$f":"(GP12-GQ12)/2","v":194.15},null,null,null,null,null,null,null,null,null,null,null,null,null,null,null,null,null,null,null,null,null,295.60000000000002,315,315,9.6999999999999993,152.65,null,null,null,null,null,null,null,null,null,null,null,null,null,null,null,null,null,null,null,null,null,{"$f":"IP12-2*IQ12","v":0},0,{"$f":"IO12","v":0},0,{"$f":"(IP12-IQ12)/2","v":0},null,null,null,null,null,null,null,null,null,null,null,null,null,null,null,null,null,null,null,null,null,{"$f":"JP12-2*JQ12","v":0},0,{"$f":"JO12","v":0},0,{"$f":"(JP12-JQ12)/2","v":0},null,null,null,null,null,null,null,null,null,null,null,null,null,null,null,null,null,null,null,null,250,250,299,24.5,137.25,160,null,null,null,null,null,null,null,null,null,null,null,null,null,null,null,null,null,null,null,null,300,300,376,38,169,240,null,null,null,null,null,null,null,null,null,null,null,null,null,null,null,null,null,null,null,null,null,1067,1100,1099,16,541.5,null,null,null,null,null,null,null,null,null,null,null,null,null,null,null,null,null,null,null,null,null,1059,1100,1099,20,539.5,null,null,null,null,null,null,null,null,null,null,null,null,null,null,null,null,null,null,null,null,null,1049,1100,1099,25,537,null,null,null,null,null,null,null,null,null,null,null,null,null,null,null,null,null,null,null,null,null,1043,1100,1099,28,535.5,null,null,null,null,null,null,null,null,null,null,null,null,null,null,null,null,null,null,null,null,null,1043,1100,1099,28,535.5,null,null,null,null,null,null,null,null,null,null,null,null,null,null,null,null,null,null,null,null,null,1039,1100,1099,30,534.5,null,null,null,null,null,null,null,null,null,null,null,null,null,null,null,null,null,null,null,null,null,314.8,300,326,5.6,{"$f":"(SP12-SQ12)/2","v":160.19999999999999}]
["PP-MD",1500,375,0.35,10,8.5,null,null,null,null,null,null,null,null,500,500,628,64,282,60,null,null,null,null,null,null,null,null,null,null,null,null,null,null,null,null,null,null,null,0,0,0,0,0,null,null,null,null,null,null,null,null,null,null,null,null,null,null,null,null,null,null,null,null,null,0,0,0,0,0,null,null,null,null,null,null,null,null,null,null,null,null,null,null,null,null,null,null,null,null,null,0,0,0,0,0,null,null,null,null,null,null,null,null,null,null,null,null,null,null,null,null,null,null,null,null,null,0,0,0,0,0,null,null,null,null,null,null,null,null,null,null,null,null,null,null,null,null,null,null,null,null,null,432.4,450,450,8.8000000000000007,220.6,null,null,null,null,null,null,null,null,null,null,null,null,null,null,null,null,null,null,null,null,null,428,450,450,11,219.5,null,null,null,null,null,null,null,null,null,null,null,null,null,null,null,null,null,null,null,null,null,334.2,355,355,10.4,172.3,null,null,null,null,null,null,null,null,null,null,null,null,null,null,null,null,null,null,null,null,null,234.6,250,250,7.7,121.15,null,null,null,null,null,null,null,null,null,null,null,null,null,null,null,null,null,null,null,null,null,0,0,0,0,0,null,null,null,null,null,null,null,null,null,null,null,null,null,null,null,null,null,null,null,null,null,0,0,0,0,0,null,null,null,null,null,null,null,null,null,null,null,null,null,null,null,null,null,null,null,null,200,200,242,21,110.5,160,null,null,null,null,null,null,null,null,null,null,null,null,null,null,null,null,null,null,null,null,250,250,318,34,142,240,null,null,null,null,null,null,null,null,null,null,null,null,null,null,null,null,null,null,null,null,null,996,1000,1026,15,505.5,null,null,null,null,null,null,null,null,null,null,null,null,null,null,null,null,null,null,null,null,null,988,1000,1026,19,503.5,null,null,null,null,null,null,null,null,null,null,null,null,null,null,null,null,null,null,null,null,null,980,1000,1026,23,501.5,null,null,null,null,null,null,null,null,null,null,null,null,null,null,null,null,null,null,null,null,null,974,1000,1026,26,500,null,null,null,null,null,null,null,null,null,null,null,null,null,null,null,null,null,null,null,null,null,974,1000,1026,26,500,null,null,null,null,null,null,null,null,null,null,null,null,null,null,null,null,null,null,null,null,null,970,1000,1026,28,499,null,null,null,null,null,null,null,null,null,null,null,null,null,null,null,null,null,null,null,null,null,263.39999999999998,250,274,5.3,134.35]
["PP-HM",1700,425,0.4,9,8,null,null,null,null,null,null,null,null,400,400,500,50,225,90,null,null,null,null,null,null,null,null,null,null,null,null,null,null,null,null,null,null,null,0,0,0,0,0,null,null,null,null,null,null,null,null,null,null,null,null,null,null,null,null,null,null,null,null,null,0,0,0,0,0,null,null,null,null,null,null,null,null,null,null,null,null,null,null,null,null,null,null,null,null,null,0,0,0,0,0,null,null,null,null,null,null,null,null,null,null,null,null,null,null,null,null,null,null,null,null,null,0,0,0,0,0,null,null,null,null,null,null,null,null,null,null,null,null,null,null,null,null,null,null,null,null,null,384.2,400,400,7.9,196.05,null,null,null,null,null,null,null,null,null,null,null,null,null,null,null,null,null,null,null,null,null,380.4,400,400,9.8000000000000007,195.1,null,null,null,null,null,null,null,null,null,null,null,null,null,null,null,null,null,null,null,null,null,296.60000000000002,315,315,9.1999999999999993,152.9,null,null,null,null,null,null,null,null,null,null,null,null,null,null,null,null,null,null,null,null,null,187.6,200,200,6.2,96.9,null,null,null,null,null,null,null,null,null,null,null,null,null,null,null,null,null,null,null,null,null,0,0,0,0,0,null,null,null,null,null,null,null,null,null,null,null,null,null,null,null,null,null,null,null,null,null,0,0,0,0,0,null,null,null,null,null,null,null,null,null,null,null,null,null,null,null,null,null,null,null,null,0,0,0,0,0,0,null,null,null,null,null,null,null,null,null,null,null,null,null,null,null,null,null,null,null,null,200,200,254,27,113.5,240,null,null,null,null,null,null,null,null,null,null,null,null,null,null,null,null,null,null,null,null,null,932,960,960,14,473,null,null,null,null,null,null,null,null,null,null,null,null,null,null,null,null,null,null,null,null,null,924,960,960,18,471,null,null,null,null,null,null,null,null,null,null,null,null,null,null,null,null,null,null,null,null,null,916,960,960,22,469,null,null,null,null,null,null,null,null,null,null,null,null,null,null,null,null,null,null,null,null,null,912,960,960,24,468,null,null,null,null,null,null,null,null,null,null,null,null,null,null,null,null,null,null,null,null,null,910,960,960,25,467.5,null,null,null,null,null,null,null,null,null,null,null,null,null,null,null,null,null,null,null,null,null,906,960,960,27,466.5,null,null,null,null,null,null,null,null,null,null,null,null,null,null,null,null,null,null,null,null,null,212.2,200,222,4.9000000000000004,108.55]
["PP-QD",3000,1400,0.35,11.5,8,null,null,null,null,null,null,null,null,300,300,380,40,170,90,null,null,null,null,null,null,null,null,null,null,null,null,null,null,null,null,null,null,null,{"$f":"AP15-2*AQ15","v":0},0,{"$f":"AO15","v":0},0,0,null,null,null,null,null,null,null,null,null,null,null,null,null,null,null,null,null,null,null,null,null,0,0,0,0,0,null,null,null,null,null,null,null,null,null,null,null,null,null,null,null,null,null,null,null,null,null,0,0,0,0,0,null,null,null,null,null,null,null,null,null,null,null,null,null,null,null,null,null,null,null,null,null,0,0,0,0,0,null,null,null,null,null,null,null,null,null,null,null,null,null,null,null,null,null,null,null,null,null,341,355,355,7,174,null,null,null,null,null,null,null,null,null,null,null,null,null,null,null,null,null,null,null,null,null,337.6,355,355,8.6999999999999993,173.15,null,null,null,null,null,null,null,null,null,null,null,null,null,null,null,null,null,null,null,null,null,235.4,250,250,7.3,121.35,null,null,null,null,null,null,null,null,null,null,null,null,null,null,null,null,null,null,null,null,null,0,0,{"$f":"HO15","v":0},0,0,null,null,null,null,null,null,null,null,null,null,null,null,null,null,null,null,null,null,null,null,null,0,0,0,0,0,null,null,null,null,null,null,null,null,null,null,null,null,null,null,null,null,null,null,null,null,null,0,0,0,0,0,null,null,null,null,null,null,null,null,null,null,null,null,null,null,null,null,null,null,null,null,0,0,0,0,0,0,null,null,null,null,null,null,null,null,null,null,null,null,null,null,null,null,null,null,null,null,0,0,0,{"$f":"(LO15-LM15)/2","v":0},0,0,null,null,null,null,null,null,null,null,null,null,null,null,null,null,null,null,null,null,null,null,null,896,900,924,14,455,null,null,null,null,null,null,null,null,null,null,null,null,null,null,null,null,null,null,null,null,null,890,900,924,17,453.5,null,null,null,null,null,null,null,null,null,null,null,null,null,null,null,null,null,null,null,null,null,882,900,924,21,451.5,null,null,null,null,null,null,null,null,null,null,null,null,null,null,null,null,null,null,null,null,null,878,900,924,23,450.5,null,null,null,null,null,null,null,null,null,null,null,null,null,null,null,null,null,null,null,null,null,876,900,924,24,450,null,null,null,null,null,null,null,null,null,null,null,null,null,null,null,null,null,null,null,null,null,872,900,924,26,449,null,null,null,null,null,null,null,null,null,null,null,null,null,null,null,null,null,null,null,null,null,0,0,{"$f":"SO15","v":0},0,0]
[null,null,null,null,null,null,null,null,null,null,null,null,null,null,250,250,{"$f":"O16+2*R16","v":320},35,{"$f":"(Q16-R16)/2","v":142.5},125,null,null,null,null,null,null,null,null,null,null,null,null,null,null,null,null,null,null,null,0,0,0,0,0,null,null,null,null,null,null,null,null,null,null,null,null,null,null,null,null,null,null,null,null,null,0,0,0,0,0,null,null,null,null,null,null,null,null,null,null,null,null,null,null,null,null,null,null,null,null,null,0,0,0,0,0,null,null,null,null,null,null,null,null,null,null,null,null,null,null,null,null,null,null,null,null,null,0,0,0,0,0,null,null,null,null,null,null,null,null,null,null,null,null,null,null,null,null,null,null,null,null,null,302.60000000000002,315,315,6.2,154.4,null,null,null,null,null,null,null,null,null,null,null,null,null,null,null,null,null,null,null,null,null,299.60000000000002,315,315,7.7,153.65,null,null,null,null,null,null,null,null,null,null,null,null,null,null,null,null,null,null,null,null,null,188.2,200,200,5.9,97.05,null,null,null,null,null,null,null,null,null,null,null,null,null,null,null,null,null,null,null,null,null,0,0,0,0,0,null,null,null,null,null,null,null,null,null,null,null,null,null,null,null,null,null,null,null,null,null,0,0,0,0,0,null,null,null,null,null,null,null,null,null,null,null,null,null,null,null,null,null,null,null,null,null,0,0,0,0,0,null,null,null,null,null,null,null,null,null,null,null,null,null,null,null,null,null,null,null,null,0,0,0,0,0,0,null,null,null,null,null,null,null,null,null,null,null,null,null,null,null,null,null,null,null,null,0,0,0,0,0,0,null,null,null,null,null,null,null,null,null,null,null,null,null,null,null,null,null,null,null,null,null,834,860,860,13,423.5,null,null,null,null,null,null,null,null,null,null,null,null,null,null,null,null,null,null,null,null,null,828,860,860,16,422,null,null,null,null,null,null,null,null,null,null,null,null,null,null,null,null,null,null,null,null,null,822,860,860,19,420.5,null,null,null,null,null,null,null,null,null,null,null,null,null,null,null,null,null,null,null,null,null,816,860,860,22,419,null,null,null,null,null,null,null,null,null,null,null,null,null,null,null,null,null,null,null,null,null,816,860,860,22,419,null,null,null,null,null,null,null,null,null,null,null,null,null,null,null,null,null,null,null,null,null,812,860,860,24,418,null,null,null,null,null,null,null,null,null,null,null,null,null,null,null,null,null,null,null,null,null,0,0,0,0,0]
["Caractéristiques des matériaux pour tuyaux circulaires GF-UP [SIA190;Tableau 3]",null,null,null,null,null,null,null,null,null,null,null,null,null,0,0,0,0,0,0,null,null,null,null,null,null,null,null,null,null,null,null,null,null,null,null,null,null,null,0,0,0,0,0,null,null,null,null,null,null,null,null,null,null,null,null,null,null,null,null,null,null,null,null,null,0,0,0,0,0,null,null,null,null,null,null,null,null,null,null,null,null,null,null,null,null,null,null,null,null,null,0,0,0,0,0,null,null,null,null,null,null,null,null,null,null,null,null,null,null,null,null,null,null,null,null,null,0,0,0,0,0,null,null,null,null,null,null,null,null,null,null,null,null,null,null,null,null,null,null,null,null,null,240.2,250,250,4.9000000000000004,122.55,null,null,null,null,null,null,null,null,null,null,null,null,null,null,null,null,null,null,null,null,null,237.6,250,250,6.2,121.9,null,null,null,null,null,null,null,null,null,null,null,null,null,null,null,null,null,null,null,null,null,0,0,{"$f":"GO17","v":0},0,0,null,null,null,null,null,null,null,null,null,null,null,null,null,null,null,null,null,null,null,null,null,0,0,0,0,0,null,null,null,null,null,null,null,null,null,null,null,null,null,null,null,null,null,null,null,null,null,0,0,0,0,0,null,null,null,null,null,null,null,null,null,null,null,null,null,null,null,null,null,null,null,null,null,0,0,0,0,0,null,null,null,null,null,null,null,null,null,null,null,null,null,null,null,null,null,null,null,null,0,0,0,0,0,0,null,null,null,null,null,null,null,null,null,null,null,null,null,null,null,null,null,null,null,null,0,0,0,0,0,0,null,null,null,null,null,null,null,null,null,null,null,null,null,null,null,null,null,null,null,null,null,796,800,820,12,404,null,null,null,null,null,null,null,null,null,null,null,null,null,null,null,null,null,null,null,null,null,790,800,820,15,402.5,null,null,null,null,null,null,null,null,null,null,null,null,null,null,null,null,null,null,null,null,null,782,800,820,19,400.5,null,null,null,null,null,null,null,null,null,null,null,null,null,null,null,null,null,null,null,null,null,778,800,820,21,399.5,null,null,null,null,null,null,null,null,null,null,null,null,null,null,null,null,null,null,null,null,null,778,800,820,21,399.5,null,null,null,null,null,null,null,null,null,null,null,null,null,null,null,null,null,null,null,null,null,774,800,820,23,398.5,null,null,null,null,null,null,null,null,null,null,null,null,null,null,null,null,null,null,null,null,null,0,0,0,0,0]
["Matériau","Module d'élasticité (valeur de calcul)",null,"Coefficient de Poisson","Poids volumique","Valeur de calcul de la déformation rélative",null,null,null,null,null,null,null,null,0,0,0,0,0,0,null,null,null,null,null,null,null,null,null,null,null,null,null,null,null,null,null,null,null,0,0,0,0,0,null,null,null,null,null,null,null,null,null,null,null,null,null,null,null,null,null,null,null,null,null,0,0,0,0,0,null,null,null,null,null,null,null,null,null,null,null,null,null,null,null,null,null,null,null,null,null,0,0,0,0,0,null,null,null,null,null,null,null,null,null,null,null,null,null,null,null,null,null,null,null,null,null,0,0,0,0,0,null,null,null,null,null,null,null,null,null,null,null,null,null,null,null,null,null,null,null,null,null,192.2,200,200,3.9,98.05,null,null,null,null,null,null,null,null,null,null,null,null,null,null,null,null,null,null,null,null,null,190.2,200,200,4.9000000000000004,97.55,null,null,null,null,null,null,null,null,null,null,null,null,null,null,null,null,null,null,null,null,null,0,0,0,0,0,null,null,null,null,null,null,null,null,null,null,null,null,null,null,null,null,null,null,null,null,null,0,0,0,0,0,null,null,null,null,null,null,null,null,null,null,null,null,null,null,null,null,null,null,null,null,null,0,0,0,0,0,null,null,null,null,null,null,null,null,null,null,null,null,null,null,null,null,null,null,null,null,null,0,0,{"$f":"JO18","v":0},0,0,null,null,null,null,null,null,null,null,null,null,null,null,null,null,null,null,null,null,null,null,0,0,0,0,0,0,null,null,null,null,null,null,null,null,null,null,null,null,null,null,null,null,null,null,null,null,0,0,0,0,0,0,null,null,null,null,null,null,null,null,null,null,null,null,null,null,null,null,null,null,null,null,null,730,750,752,11,370.5,null,null,null,null,null,null,null,null,null,null,null,null,null,null,null,null,null,null,null,null,null,724,750,752,14,369,null,null,null,null,null,null,null,null,null,null,null,null,null,null,null,null,null,null,null,null,null,718,750,752,17,367.5,null,null,null,null,null,null,null,null,null,null,null,null,null,null,null,null,null,null,null,null,null,714,750,752,19,366.5,null,null,null,null,null,null,null,null,null,null,null,null,null,null,null,null,null,null,null,null,null,712,750,752,20,366,null,null,null,null,null,null,null,null,null,null,null,null,null,null,null,null,null,null,null,null,null,710,750,752,21,365.5,null,null,null,null,null,null,null,null,null,null,null,null,null,null,null,null,null,null,null,null,null,0,0,0,0,0]
[null,null,null,null,null,null,null,null,null,null,null,null,null,null,0,0,0,0,0,0,null,null,null,null,null,null,null,null,null,null,null,null,null,null,null,null,null,null,null,0,0,0,0,0,null,null,null,null,null,null,null,null,null,null,null,null,null,null,null,null,null,null,null,null,null,0,0,0,0,0,null,null,null,null,null,null,null,null,null,null,null,null,null,null,null,null,null,null,null,null,null,0,0,0,0,0,null,null,null,null,null,null,null,null,null,null,null,null,null,null,null,null,null,null,null,null,null,0,0,0,0,0,null,null,null,null,null,null,null,null,null,null,null,null,null,null,null,null,null,null,null,null,null,0,0,{"$f":"EO19","v":0},0,0,null,null,null,null,null,null,null,null,null,null,null,null,null,null,null,null,null,null,null,null,null,0,0,{"$f":"FO19","v":0},0,0,null,null,null,null,null,null,null,null,null,null,null,null,null,null,null,null,null,null,null,null,null,0,0,0,0,0,null,null,null,null,null,null,null,null,null,null,null,null,null,null,null,null,null,null,null,null,null,0,0,{"$f":"HO19","v":0},0,0,null,null,null,null,null,null,null,null,null,null,null,null,null,null,null,null,null,null,null,null,null,0,0,0,0,0,null,null,null,null,null,null,null,null,null,null,null,null,null,null,null,null,null,null,null,null,null,0,0,0,0,0,null,null,null,null,null,null,null,null,null,null,null,null,null,null,null,null,null,null,null,null,0,0,0,0,0,0,null,null,null,null,null,null,null,null,null,null,null,null,null,null,null,null,null,null,null,null,0,0,0,0,0,0,null,null,null,null,null,null,null,null,null,null,null,null,null,null,null,null,null,null,null,null,null,696,700,718,11,353.5,null,null,null,null,null,null,null,null,null,null,null,null,null,null,null,null,null,null,null,null,null,692,700,718,13,352.5,null,null,null,null,null,null,null,null,null,null,null,null,null,null,null,null,null,null,null,null,null,684,700,718,17,350.5,null,null,null,null,null,null,null,null,null,null,null,null,null,null,null,null,null,null,null,null,null,680,700,718,19,349.5,null,null,null,null,null,null,null,null,null,null,null,null,null,null,null,null,null,null,null,null,null,680,700,718,19,349.5,null,null,null,null,null,null,null,null,null,null,null,null,null,null,null,null,null,null,null,null,null,678,700,718,20,349,null,null,null,null,null,null,null,null,null,null,null,null,null,null,null,null,null,null,null,null,null,0,0,0,0,0]
[null,null,null,null,null,null,null,null,null,null,null,null,null,null,0,0,0,0,0,0,null,null,null,null,null,null,null,null,null,null,null,null,null,null,null,null,null,null,null,0,0,0,0,0,null,null,null,null,null,null,null,null,null,null,null,null,null,null,null,null,null,null,null,null,null,0,0,0,0,0,null,null,null,null,null,null,null,null,null,null,null,null,null,null,null,null,null,null,null,null,null,0,0,0,0,0,null,null,null,null,null,null,null,null,null,null,null,null,null,null,null,null,null,null,null,null,null,0,0,0,0,0,null,null,null,null,null,null,null,null,null,null,null,null,null,null,null,null,null,null,null,null,null,0,0,0,0,0,null,null,null,null,null,null,null,null,null,null,null,null,null,null,null,null,null,null,null,null,null,0,0,0,0,0,null,null,null,null,null,null,null,null,null,null,null,null,null,null,null,null,null,null,null,null,null,0,0,0,0,0,null,null,null,null,null,null,null,null,null,null,null,null,null,null,null,null,null,null,null,null,null,0,0,0,0,0,null,null,null,null,null,null,null,null,null,null,null,null,null,null,null,null,null,null,null,null,null,0,0,0,0,0,null,null,null,null,null,null,null,null,null,null,null,null,null,null,null,null,null,null,null,null,null,0,0,0,0,0,null,null,null,null,null,null,null,null,null,null,null,null,null,null,null,null,null,null,null,null,0,0,0,0,0,0,null,null,null,null,null,null,null,null,null,null,null,null,null,null,null,null,null,null,null,null,0,0,0,0,0,0,null,null,null,null,null,null,null,null,null,null,null,null,null,null,null,null,null,null,null,null,null,630,650,650,10,320,null,null,null,null,null,null,null,null,null,null,null,null,null,null,null,null,null,null,null,null,null,626,650,650,12,319,null,null,null,null,null,null,null,null,null,null,null,null,null,null,null,null,null,null,null,null,null,620,650,650,15,317.5,null,null,null,null,null,null,null,null,null,null,null,null,null,null,null,null,null,null,null,null,null,616,650,650,17,316.5,null,null,null,null,null,null,null,null,null,null,null,null,null,null,null,null,null,null,null,null,null,616,650,650,17,316.5,null,null,null,null,null,null,null,null,null,null,null,null,null,null,null,null,null,null,null,null,null,612,650,650,19,315.5,null,null,null,null,null,null,null,null,null,null,null,null,null,null,null,null,null,null,null,null,null,0,0,0,0,0]
[null,"S0,court","S0,long","ν","γR","∆dlong/dm",null,null,null,null,null,null,null,null,0,0,0,0,0,0,null,null,null,null,null,null,null,null,null,null,null,null,null,null,null,null,null,null,null,0,0,0,0,0,null,null,null,null,null,null,null,null,null,null,null,null,null,null,null,null,null,null,null,null,null,0,0,0,0,0,null,null,null,null,null,null,null,null,null,null,null,null,null,null,null,null,null,null,null,null,null,0,0,0,0,0,null,null,null,null,null,null,null,null,null,null,null,null,null,null,null,null,null,null,null,null,null,0,0,0,0,0,null,null,null,null,null,null,null,null,null,null,null,null,null,null,null,null,null,null,null,null,null,0,0,0,0,0,null,null,null,null,null,null,null,null,null,null,null,null,null,null,null,null,null,null,null,null,null,0,0,0,0,0,null,null,null,null,null,null,null,null,null,null,null,null,null,null,null,null,null,null,null,null,null,0,0,0,0,0,null,null,null,null,null,null,null,null,null,null,null,null,null,null,null,null,null,null,null,null,null,0,0,0,0,0,null,null,null,null,null,null,null,null,null,null,null,null,null,null,null,null,null,null,null,null,null,0,0,0,0,0,null,null,null,null,null,null,null,null,null,null,null,null,null,null,null,null,null,null,null,null,null,0,0,0,0,0,null,null,null,null,null,null,null,null,null,null,null,null,null,null,null,null,null,null,null,null,0,0,0,0,0,0,null,null,null,null,null,null,null,null,null,null,null,null,null,null,null,null,null,null,null,null,0,0,0,0,0,0,null,null,null,null,null,null,null,null,null,null,null,null,null,null,null,null,null,null,null,null,null,596,600,616,10,303,null,null,null,null,null,null,null,null,null,null,null,null,null,null,null,null,null,null,null,null,null,592,600,616,12,302,null,null,null,null,null,null,null,null,null,null,null,null,null,null,null,null,null,null,null,null,null,588,600,616,14,301,null,null,null,null,null,null,null,null,null,null,null,null,null,null,null,null,null,null,null,null,null,584,600,616,16,300,null,null,null,null,null,null,null,null,null,null,null,null,null,null,null,null,null,null,null,null,null,582,600,616,17,299.5,null,null,null,null,null,null,null,null,null,null,null,null,null,null,null,null,null,null,null,null,null,580,600,616,18,299,null,null,null,null,null,null,null,null,null,null,null,null,null,null,null,null,null,null,null,null,null,0,0,0,0,0]
[null,"[N/m2]","[N/m2]","[-]","[kN/m3]","[%]",null,null,null,null,null,null,null,null,0,0,0,0,0,0,null,null,null,null,null,null,null,null,null,null,null,null,null,null,null,null,null,null,null,0,0,0,0,0,null,null,null,null,null,null,null,null,null,null,null,null,null,null,null,null,null,null,null,null,null,0,0,0,0,0,null,null,null,null,null,null,null,null,null,null,null,null,null,null,null,null,null,null,null,null,null,0,0,0,0,0,null,null,null,null,null,null,null,null,null,null,null,null,null,null,null,null,null,null,null,null,null,0,0,0,0,0,null,null,null,null,null,null,null,null,null,null,null,null,null,null,null,null,null,null,null,null,null,0,0,0,0,0,null,null,null,null,null,null,null,null,null,null,null,null,null,null,null,null,null,null,null,null,null,0,0,0,0,0,null,null,null,null,null,null,null,null,null,null,null,null,null,null,null,null,null,null,null,null,null,0,0,0,0,0,null,null,null,null,null,null,null,null,null,null,null,null,null,null,null,null,null,null,null,null,null,0,0,0,0,0,null,null,null,null,null,null,null,null,null,null,null,null,null,null,null,null,null,null,null,null,null,0,0,0,0,0,null,null,null,null,null,null,null,null,null,null,null,null,null,null,null,null,null,null,null,null,null,0,0,0,0,0,null,null,null,null,null,null,null,null,null,null,null,null,null,null,null,null,null,null,null,null,0,0,0,0,0,0,null,null,null,null,null,null,null,null,null,null,null,null,null,null,null,null,null,null,null,null,0,0,0,0,0,0,null,null,null,null,null,null,null,null,null,null,null,null,null,null,null,null,null,null,null,null,null,532,550,550,9,270.5,null,null,null,null,null,null,null,null,null,null,null,null,null,null,null,null,null,null,null,null,null,528,550,550,11,269.5,null,null,null,null,null,null,null,null,null,null,null,null,null,null,null,null,null,null,null,null,null,524,550,550,13,268.5,null,null,null,null,null,null,null,null,null,null,null,null,null,null,null,null,null,null,null,null,null,520,550,550,15,267.5,null,null,null,null,null,null,null,null,null,null,null,null,null,null,null,null,null,null,null,null,null,520,550,550,15,267.5,null,null,null,null,null,null,null,null,null,null,null,null,null,null,null,null,null,null,null,null,null,518,550,550,16,267,null,null,null,null,null,null,null,null,null,null,null,null,null,null,null,null,null,null,null,null,null,0,0,0,0,0]
["GF-UP SN 1250",1250,625,0.35,17,9,null,null,null,null,null,null,null,null,0,0,0,0,0,0,null,null,null,null,null,null,null,null,null,null,null,null,null,null,null,null,null,null,null,0,0,0,0,0,null,null,null,null,null,null,null,null,null,null,null,null,null,null,null,null,null,null,null,null,null,0,0,0,0,0,null,null,null,null,null,null,null,null,null,null,null,null,null,null,null,null,null,null,null,null,null,0,0,0,0,0,null,null,null,null,null,null,null,null,null,null,null,null,null,null,null,null,null,null,null,null,null,0,0,0,0,0,null,null,null,null,null,null,null,null,null,null,null,null,null,null,null,null,null,null,null,null,null,0,0,0,0,0,null,null,null,null,null,null,null,null,null,null,null,null,null,null,null,null,null,null,null,null,null,0,0,0,0,0,null,null,null,null,null,null,null,null,null,null,null,null,null,null,null,null,null,null,null,null,null,0,0,0,0,0,null,null,null,null,null,null,null,null,null,null,null,null,null,null,null,null,null,null,null,null,null,0,0,0,0,0,null,null,null,null,null,null,null,null,null,null,null,null,null,null,null,null,null,null,null,null,null,0,0,0,0,0,null,null,null,null,null,null,null,null,null,null,null,null,null,null,null,null,null,null,null,null,null,0,0,0,0,0,null,null,null,null,null,null,null,null,null,null,null,null,null,null,null,null,null,null,null,null,0,0,0,0,0,0,null,null,null,null,null,null,null,null,null,null,null,null,null,null,null,null,null,null,null,null,0,0,0,0,0,0,null,null,null,null,null,null,null,null,null,null,null,null,null,null,null,null,null,null,null,null,null,514,500,530,8,261,null,null,null,null,null,null,null,null,null,null,null,null,null,null,null,null,null,null,null,null,null,510,500,530,10,260,null,null,null,null,null,null,null,null,null,null,null,null,null,null,null,null,null,null,null,null,null,506,500,530,12,259,null,null,null,null,null,null,null,null,null,null,null,null,null,null,null,null,null,null,null,null,null,502,500,530,14,258,null,null,null,null,null,null,null,null,null,null,null,null,null,null,null,null,null,null,null,null,null,502,500,530,14,258,null,null,null,null,null,null,null,null,null,null,null,null,null,null,null,null,null,null,null,null,null,500,500,530,15,257.5,null,null,null,null,null,null,null,null,null,null,null,null,null,null,null,null,null,null,null,null,null,0,0,0,0,0]
["GF-UP SN 2500",2500,1250,0.35,17,7.5,null,null,null,null,null,null,null,null,0,0,0,0,0,0,null,null,null,null,null,null,null,null,null,null,null,null,null,null,null,null,null,null,null,0,0,0,0,0,null,null,null,null,null,null,null,null,null,null,null,null,null,null,null,null,null,null,null,null,null,0,0,0,0,0,null,null,null,null,null,null,null,null,null,null,null,null,null,null,null,null,null,null,null,null,null,0,0,0,0,0,null,null,null,null,null,null,null,null,null,null,null,null,null,null,null,null,null,null,null,null,null,0,0,0,0,0,null,null,null,null,null,null,null,null,null,null,null,null,null,null,null,null,null,null,null,null,null,0,0,0,0,0,null,null,null,null,null,null,null,null,null,null,null,null,null,null,null,null,null,null,null,null,null,0,0,0,0,0,null,null,null,null,null,null,null,null,null,null,null,null,null,null,null,null,null,null,null,null,null,0,0,0,0,0,null,null,null,null,null,null,null,null,null,null,null,null,null,null,null,null,null,null,null,null,null,0,0,0,0,0,null,null,null,null,null,null,null,null,null,null,null,null,null,null,null,null,null,null,null,null,null,0,0,{"$f":"IO24","v":0},0,0,null,null,null,null,null,null,null,null,null,null,null,null,null,null,null,null,null,null,null,null,null,0,0,0,0,0,null,null,null,null,null,null,null,null,null,null,null,null,null,null,null,null,null,null,null,null,0,0,0,0,0,0,null,null,null,null,null,null,null,null,null,null,null,null,null,null,null,null,null,null,null,null,0,0,0,0,0,0,null,null,null,null,null,null,null,null,null,null,null,null,null,null,null,null,null,null,null,null,null,462,450,478,8,235,null,null,null,null,null,null,null,null,null,null,null,null,null,null,null,null,null,null,null,null,null,460,450,478,9,234.5,null,null,null,null,null,null,null,null,null,null,null,null,null,null,null,null,null,null,null,null,null,456,450,478,11,233.5,null,null,null,null,null,null,null,null,null,null,null,null,null,null,null,null,null,null,null,null,null,452,450,478,13,232.5,null,null,null,null,null,null,null,null,null,null,null,null,null,null,null,null,null,null,null,null,null,452,450,478,13,232.5,null,null,null,null,null,null,null,null,null,null,null,null,null,null,null,null,null,null,null,null,null,450,450,478,14,232,null,null,null,null,null,null,null,null,null,null,null,null,null,null,null,null,null,null,null,null,null,0,0,0,0,0]
["GF-UP SN 5000",5000,2500,0.35,17,6,null,null,null,null,null,null,null,null,0,0,0,0,0,0,null,null,null,null,null,null,null,null,null,null,null,null,null,null,null,null,null,null,null,0,0,0,0,0,null,null,null,null,null,null,null,null,null,null,null,null,null,null,null,null,null,null,null,null,null,0,0,0,0,0,null,null,null,null,null,null,null,null,null,null,null,null,null,null,null,null,null,null,null,null,null,0,0,0,0,0,null,null,null,null,null,null,null,null,null,null,null,null,null,null,null,null,null,null,null,null,null,0,0,0,0,0,null,null,null,null,null,null,null,null,null,null,null,null,null,null,null,null,null,null,null,null,null,0,0,0,0,0,null,null,null,null,null,null,null,null,null,null,null,null,null,null,null,null,null,null,null,null,null,0,0,0,0,0,null,null,null,null,null,null,null,null,null,null,null,null,null,null,null,null,null,null,null,null,null,0,0,0,0,0,null,null,null,null,null,null,null,null,null,null,null,null,null,null,null,null,null,null,null,null,null,0,0,0,0,0,null,null,null,null,null,null,null,null,null,null,null,null,null,null,null,null,null,null,null,null,null,0,0,0,0,0,null,null,null,null,null,null,null,null,null,null,null,null,null,null,null,null,null,null,null,null,null,0,0,0,0,0,null,null,null,null,null,null,null,null,null,null,null,null,null,null,null,null,null,null,null,null,0,0,0,0,0,0,null,null,null,null,null,null,null,null,null,null,null,null,null,null,null,null,null,null,null,null,0,0,0,0,0,0,null,null,null,null,null,null,null,null,null,null,null,null,null,null,null,null,null,null,null,null,null,411,400,427,8,209.5,null,null,null,null,null,null,null,null,null,null,null,null,null,null,null,null,null,null,null,null,null,409,400,427,9,209,null,null,null,null,null,null,null,null,null,null,null,null,null,null,null,null,null,null,null,null,null,405,400,427,11,208,null,null,null,null,null,null,null,null,null,null,null,null,null,null,null,null,null,null,null,null,null,401,400,427,13,207,null,null,null,null,null,null,null,null,null,null,null,null,null,null,null,null,null,null,null,null,null,401,400,427,13,207,null,null,null,null,null,null,null,null,null,null,null,null,null,null,null,null,null,null,null,null,null,399,400,427,14,206.5,null,null,null,null,null,null,null,null,null,null,null,null,null,null,null,null,null,null,null,null,null,0,0,0,0,0]
["GF-UP SN 10000",10000,5000,0.35,17,4.5,null,null,null,null,null,null,null,null,null,null,null,null,null,null,null,null,null,null,null,null,null,null,null,null,null,null,null,null,null,null,null,null,null,null,null,null,null,null,null,null,null,null,null,null,null,null,null,null,null,null,null,null,null,null,null,null,null,null,null,null,null,null,null,null,null,null,null,null,null,null,null,null,null,null,null,null,null,null,null,null,null,null,null,null,null,null,null,null,null,null,null,null,null,null,null,null,null,null,null,null,null,null,null,null,null,null,null,null,null,null,null,null,null,null,null,null,null,null,null,null,null,null,null,null,null,null,null,null,null,null,null,null,null,null,null,null,null,null,null,null,null,null,null,null,null,null,null,null,null,null,null,null,null,null,null,null,null,null,null,null,null,null,null,null,null,null,null,null,null,null,null,null,null,null,null,null,null,null,null,null,null,null,null,null,null,null,null,null,null,null,null,null,null,null,null,null,null,null,null,null,null,null,null,null,null,null,null,null,null,null,null,null,null,null,null,null,null,null,null,null,null,null,null,null,null,null,null,null,null,null,null,null,null,null,null,null,null,null,null,null,null,null,null,null,null,null,null,null,null,null,null,null,null,null,null,null,null,null,null,null,null,null,null,null,null,null,null,null,null,null,null,null,null,null,null,null,null,null,null,null,null,null,null,null,null,null,null,null,null,null,null,null,null,null,null,null,null,null,null,null,null,null,null,null,null,null,null,null,null,null,null,null,null,null,null,null,null,null,null,null,null,null,null,null,null,null,null,null,null,null,null,null,null,null,null,null,null,null,null,null,null,null,null,null,null,362,350,376,7,184.5,null,null,null,null,null,null,null,null,null,null,null,null,null,null,null,null,null,null,null,null,null,360,350,376,8,184,null,null,null,null,null,null,null,null,null,null,null,null,null,null,null,null,null,null,null,null,null,356,350,376,10,183,null,null,null,null,null,null,null,null,null,null,null,null,null,null,null,null,null,null,null,null,null,354,350,376,11,182.5,null,null,null,null,null,null,null,null,null,null,null,null,null,null,null,null,null,null,null,null,null,352,350,376,12,182,null,null,null,null,null,null,null,null,null,null,null,null,null,null,null,null,null,null,null,null,null,352,350,376,12,182]
["GF-UP SN 15000",15000,7500,0.35,17,4,null,null,null,null,null,null,null,null,null,null,null,null,null,null,null,null,null,null,null,null,null,null,null,null,null,null,null,null,null,null,null,null,null,null,null,null,null,"2.PP (dimensions de calcul) U4/V4",null,null,null,null,null,null,null,null,null,null,null,null,null,null,null,null,null,null,null,null,null,null,null,null,null,"2.PP (dimensions de calcul) U4/V4",null,null,null,null,null,null,null,null,null,null,null,null,null,null,null,null,null,null,null,null,null,null,null,null,null,"2.PP (dimensions de calcul) U4/V4",null,null,null,null,null,null,null,null,null,null,null,null,null,null,null,null,null,null,null,null,null,null,null,null,null,"2.PP (dimensions de calcul) U4/V4",null,null,null,null,null,null,null,null,null,null,null,null,null,null,null,null,null,null,null,null,null,null,null,null,null,"2.PVC (dimensions de calcul) U4/V4",null,null,null,null,null,null,null,null,null,null,null,null,null,null,null,null,null,null,null,null,null,null,null,null,null,"2.PVC (dimensions de calcul) U4/V4",null,null,null,null,null,null,null,null,null,null,null,null,null,null,null,null,null,null,null,null,null,null,null,null,null,"2.PVC (dimensions de calcul) U4/V4",null,null,null,null,null,null,null,null,null,null,null,null,null,null,null,null,null,null,null,null,null,null,null,null,null,"2.PE (dimensions de calcul) U4/V4",null,null,null,null,null,null,null,null,null,null,null,null,null,null,null,null,null,null,null,null,null,null,null,null,null,"2.PE (dimensions de calcul) U4/V4",null,null,null,null,null,null,null,null,null,null,null,null,null,null,null,null,null,null,null,null,null,null,null,null,null,"2.PE (dimensions de calcul) U4/V4",null,null,null,null,null,null,null,null,null,null,null,null,null,null,null,null,null,null,null,null,null,null,null,null,null,null,null,null,null,null,null,null,null,null,null,null,null,null,null,null,null,null,null,null,null,null,null,null,null,null,null,null,null,null,null,null,null,null,null,null,null,null,null,null,null,null,null,null,null,null,null,null,null,0,0,0,0,0,null,null,null,null,null,null,null,null,null,null,null,null,null,null,null,null,null,null,null,null,null,0,0,0,0,0,null,null,null,null,null,null,null,null,null,null,null,null,null,null,null,null,null,null,null,null,null,306,300,324,9,157.5,null,null,null,null,null,null,null,null,null,null,null,null,null,null,null,null,null,null,null,null,null,304,300,324,10,157,null,null,null,null,null,null,null,null,null,null,null,null,null,null,null,null,null,null,null,null,null,304,300,324,10,157,null,null,null,null,null,null,null,null,null,null,null,null,null,null,null,null,null,null,null,null,null,302,300,324,11,156.5]
["GF-UP SN 16000",16000,8000,0.35,17,3.9,null,null,null,null,null,null,null,null,"2.Béton (dimensions de calcul)",null,null,null,null,null,null,null,null,null,null,null,null,null,null,null,null,null,null,null,null,null,"2.PP (dimensions de calcul) U1/V1",null,null,null,null,null,null,"Diamètre intérieur [mm]","Diamètre ext-érieur [mm]","épaisseur de paroi [mm]","rayon moyen [mm]",null,null,null,null,null,null,null,null,null,null,null,null,null,null,null,"2.PP (dimensions de calcul) U1/V1",null,null,null,null,null,null,"Diamètre intérieur [mm]","Diamètre ext-érieur [mm]","épaisseur de paroi [mm]","rayon moyen [mm]",null,null,null,null,null,null,null,null,null,null,null,null,null,null,null,"2.PP (dimensions de calcul) U1/V1",null,null,null,null,null,null,"Diamètre intérieur [mm]","Diamètre ext-érieur [mm]","épaisseur de paroi [mm]","rayon moyen [mm]",null,null,null,null,null,null,null,null,null,null,null,null,null,null,null,"2.PP (dimensions de calcul) U1/V1",null,null,null,null,null,null,"Diamètre intérieur [mm]","Diamètre ext-érieur [mm]","épaisseur de paroi [mm]","rayon moyen [mm]",null,null,null,null,null,null,null,null,null,null,null,null,null,null,null,"2.PVC (dimensions de calcul) U1/V1",null,null,null,null,null,null,"Diamètre intérieur [mm]","Diamètre ext-érieur [mm]","épaisseur de paroi [mm]","rayon moyen [mm]",null,null,null,null,null,null,null,null,null,null,null,null,null,null,null,"2.PVC (dimensions de calcul) U1/V1",null,null,null,null,null,null,"Diamètre intérieur [mm]","Diamètre ext-érieur [mm]","épaisseur de paroi [mm]","rayon moyen [mm]",null,null,null,null,null,null,null,null,null,null,null,null,null,null,null,"2.PVC (dimensions de calcul) U1/V1",null,null,null,null,null,null,"Diamètre intérieur [mm]","Diamètre ext-érieur [mm]","épaisseur de paroi [mm]","rayon moyen [mm]",null,null,null,null,null,null,null,null,null,null,null,null,null,null,null,"2.PE (dimensions de calcul) U1/V1",null,null,null,null,null,null,"Diamètre intérieur [mm]","Diamètre ext-érieur [mm]","épaisseur de paroi [mm]","rayon moyen [mm]",null,null,null,null,null,null,null,null,null,null,null,null,null,null,null,"2.PE (dimensions de calcul) U1/V1",null,null,null,null,null,null,"Diamètre intérieur [mm]","Diamètre ext-érieur [mm]","épaisseur de paroi [mm]","rayon moyen [mm]",null,null,null,null,null,null,null,null,null,null,null,null,null,null,null,"2.PE (dimensions de calcul) U1/V1",null,null,null,null,null,null,"Diamètre intérieur [mm]","Diamètre ext-érieur [mm]","épaisseur de paroi [mm]","rayon moyen [mm]",null,null,null,null,null,null,null,null,null,null,null,null,null,null,null,null,null,"2.Béton (dimensions de calcul)",null,null,null,null,null,null,null,null,null,null,null,null,null,null,null,null,null,null,null,null,null,null,null,null,null,"2.Béton (dimensions de calcul)",null,null,null,null,null,null,null,null,null,null,null,null,null,null,null,null,null,null,null,null,null,null,null,null,null,null,0,0,0,0,0,null,null,null,null,null,null,null,null,null,null,null,null,null,null,null,null,null,null,null,null,null,0,0,0,0,0,null,null,null,null,null,null,null,null,null,null,null,null,null,null,null,null,null,null,null,null,null,256,250,272,8,132,null,null,null,null,null,null,null,null,null,null,null,null,null,null,null,null,null,null,null,null,null,254,250,272,9,131.5,null,null,null,null,null,null,null,null,null,null,null,null,null,null,null,null,null,null,null,null,null,254,250,272,9,131.5,null,null,null,null,null,null,null,null,null,null,null,null,null,null,null,null,null,null,null,null,null,254,250,272,9,131.5,null,null,null,null,null,null,null,null,null,null,null,null,null,null,null,null,null,null,"2.Fonte (dimensions de calcul) U1/V1"]
["GF-UP SN 20000",20000,10000,0.35,17,3.6,null,null,null,null,null,null,null,null,"Diamètre intérieur [mm]","Diamètre nominal [mm]","Diamètre ext-érieur [mm]","épaisseur de paroi [mm]","rayon moyen [mm]","classe de résistance",null,null,null,null,null,null,null,null,null,null,null,null,null,null,null,null,"Diamètre intérieur [mm]","Diamètre nominal [mm]","Diamètre ext-érieur [mm]","épaisseur de paroi [mm]","rayon moyen [mm]",null,null,null,null,null,null,null,null,null,null,null,null,null,null,null,null,null,null,null,null,null,"Diamètre intérieur [mm]","Diamètre nominal [mm]","Diamètre ext-érieur [mm]","épaisseur de paroi [mm]","rayon moyen [mm]",null,null,null,null,null,null,null,null,null,null,null,null,null,null,null,null,null,null,null,null,null,"Diamètre intérieur [mm]","Diamètre nominal [mm]","Diamètre ext-érieur [mm]","épaisseur de paroi [mm]","rayon moyen [mm]",null,null,null,null,null,null,null,null,null,null,null,null,null,null,null,null,null,null,null,null,null,"Diamètre intérieur [mm]","Diamètre nominal [mm]","Diamètre ext-érieur [mm]","épaisseur de paroi [mm]","rayon moyen [mm]",null,null,null,null,null,null,null,null,null,null,null,null,null,null,null,null,null,null,null,null,null,"Diamètre intérieur [mm]","Diamètre nominal [mm]","Diamètre ext-érieur [mm]","épaisseur de paroi [mm]","rayon moyen [mm]",null,null,null,null,null,null,null,null,null,null,null,null,null,null,null,null,null,null,null,null,null,"Diamètre intérieur [mm]","Diamètre nominal [mm]","Diamètre ext-érieur [mm]","épaisseur de paroi [mm]","rayon moyen [mm]",null,null,null,null,null,null,null,null,null,null,null,null,null,null,null,null,null,null,null,null,null,"Diamètre intérieur [mm]","Diamètre nominal [mm]","Diamètre ext-érieur [mm]","épaisseur de paroi [mm]","rayon moyen [mm]",null,null,null,null,null,null,null,null,null,null,null,null,null,null,null,null,null,null,null,null,null,"Diamètre intérieur [mm]","Diamètre nominal [mm]","Diamètre ext-érieur [mm]","épaisseur de paroi [mm]","rayon moyen [mm]",null,null,null,null,null,null,null,null,null,null,null,null,null,null,null,null,null,null,null,null,null,"Diamètre intérieur [mm]","Diamètre nominal [mm]","Diamètre ext-érieur [mm]","épaisseur de paroi [mm]","rayon moyen [mm]",null,null,null,null,null,null,null,null,null,null,null,null,null,null,null,null,null,null,null,null,null,"Diamètre intérieur [mm]","Diamètre nominal [mm]","Diamètre ext-érieur [mm]","épaisseur de paroi [mm]","rayon moyen [mm]",null,null,null,null,null,null,null,null,null,null,null,null,null,null,null,null,null,null,null,null,null,null,null,"Diamètre intérieur [mm]","Diamètre nominal [mm]","Diamètre extérieur [mm]","épaisseur de paroi [mm]","rayon moyen [mm]","classe de résistance",null,null,null,null,null,null,null,null,null,null,null,null,null,null,null,null,null,null,null,null,"Diamètre intérieur [mm]","Diamètre nominal [mm]","Diamètre extérieur [mm]","épaisseur de paroi [mm]","rayon moyen [mm]","classe de résistance",null,null,null,null,null,null,null,null,null,null,null,null,null,null,null,null,null,null,null,null,null,0,0,0,0,0,null,null,null,null,null,null,null,null,null,null,null,null,null,null,null,null,null,null,null,null,null,0,0,0,0,0,null,null,null,null,null,null,null,null,null,null,null,null,null,null,null,null,null,null,null,null,null,206,200,220,7,106.5,null,null,null,null,null,null,null,null,null,null,null,null,null,null,null,null,null,null,null,null,null,206,200,220,7,106.5,null,null,null,null,null,null,null,null,null,null,null,null,null,null,null,null,null,null,null,null,null,206,200,220,7,106.5,null,null,null,null,null,null,null,null,null,null,null,null,null,null,null,null,null,null,null,null,null,204,200,220,8,106,null,null,null,null,null,null,null,null,null,null,null,null,null,null,null,null,null,null,"Diamètre intérieur [mm]","Diamètre nominal [mm]","Diamètre ext-érieur [mm]","épaisseur de paroi [mm]","rayon moyen [mm]"]
[null,null,null,null,null,null,null,null,null,null,null,null,null,null,null,null,null,null,null,null,null,null,null,null,null,null,null,null,null,null,null,null,null,null,null,null,null,null,null,null,null,null,null,"di","da","e","rm",null,null,null,null,null,null,null,null,null,null,null,null,null,null,null,null,null,null,null,null,null,null,"di","da","e","rm",null,null,null,null,null,null,null,null,null,null,null,null,null,null,null,null,null,null,null,null,null,null,"di","da","e","rm",null,null,null,null,null,null,null,null,null,null,null,null,null,null,null,null,null,null,null,null,null,null,"di","da","e","rm",null,null,null,null,null,null,null,null,null,null,null,null,null,null,null,null,null,null,null,null,null,null,"di","da","e","rm",null,null,null,null,null,null,null,null,null,null,null,null,null,null,null,null,null,null,null,null,null,null,"di","da","e","rm",null,null,null,null,null,null,null,null,null,null,null,null,null,null,null,null,null,null,null,null,null,null,"di","da","e","rm",null,null,null,null,null,null,null,null,null,null,null,null,null,null,null,null,null,null,null,null,null,null,"di","da","e","rm",null,null,null,null,null,null,null,null,null,null,null,null,null,null,null,null,null,null,null,null,null,null,"di","da","e","rm",null,null,null,null,null,null,null,null,null,null,null,null,null,null,null,null,null,null,null,null,null,null,"di","da","e","rm",null,null,null,null,null,null,null,null,null,null,null,null,null,null,null,null,null,null,null,null,null,null,null,null,null,null,null,null,null,null,null,null,null,null,null,null,null,null,null,null,null,null,null,null,null,null,null,null,null,null,null,null,null,null,null,null,null,null,null,null,null,null,null,null,null,null,null,null,null,null,null,null,null,null,"2.GF-UP (dimensions de calcul) U4/V4",null,null,null,null,null,null,null,null,null,null,null,null,null,null,null,null,null,null,null,null,null,null,null,null,null,"2.GF-UP (dimensions de calcul) U4/V4",null,null,null,null,null,null,null,null,null,null,null,null,null,null,null,null,null,null,null,null,null,null,null,null,null,"2.GF-UP (dimensions de calcul) U4/V4",null,null,null,null,null,null,null,null,null,null,null,null,null,null,null,null,null,null,null,null,null,null,null,null,null,"2.GF-UP (dimensions de calcul) U4/V4",null,null,null,null,null,null,null,null,null,null,null,null,null,null,null,null,null,null,null,null,null,null,null,null,null,"2.GF-UP (dimensions de calcul) U4/V4",null,null,null,null,null,null,null,null,null,null,null,null,null,null,null,null,null,null,null,null,null,null,null,null,null,"2.GF-UP (dimensions de calcul) U4/V4"]
["Facteur dynamique ψ","Trafic routier [SIA 190;Tableau 14 +15]",null,null,null,"Bord de route ",null,null,null,null,null,null,null,null,"di","DN","da","e","rm","FK",null,null,null,null,null,null,null,null,null,null,null,null,null,null,null,null,"di","DN","da","e","rm",null,null,{"$f":"AM32","v":400},{"$f":"AR31+2*AT31","v":730},165,{"$f":"(AS31-AT31)/2","v":282.5},null,null,null,null,null,null,null,null,null,null,null,null,null,null,null,"di","DN","da","e","rm",null,null,{"$f":"BM32","v":400},{"$f":"BR31+2*BT31","v":730},165,{"$f":"(BS31-BT31)/2","v":282.5},null,null,null,null,null,null,null,null,null,null,null,null,null,null,null,"di","DN","da","e","rm",null,null,{"$f":"CM32","v":400},{"$f":"CR31+2*CT31","v":730},165,{"$f":"(CS31-CT31)/2","v":282.5},null,null,null,null,null,null,null,null,null,null,null,null,null,null,null,"di","DN","da","e","rm",null,null,{"$f":"DM32","v":400},{"$f":"DR31+2*DT31","v":730},165,{"$f":"(DS31-DT31)/2","v":282.5},null,null,null,null,null,null,null,null,null,null,null,null,null,null,null,"di","DN","da","e","rm",null,null,{"$f":"EM32","v":315},{"$f":"ER31+2*ET31","v":615},150,{"$f":"(ES31-ET31)/2","v":232.5},null,null,null,null,null,null,null,null,null,null,null,null,null,null,null,"di","DN","da","e","rm",null,null,{"$f":"FM32","v":355},{"$f":"FR31+2*FT31","v":655},150,{"$f":"(FS31-FT31)/2","v":252.5},null,null,null,null,null,null,null,null,null,null,null,null,null,null,null,"di","DN","da","e","rm",null,null,{"$f":"GM32","v":355},{"$f":"GR31+2*GT31","v":655},150,{"$f":"(GS31-GT31)/2","v":252.5},null,null,null,null,null,null,null,null,null,null,null,null,null,null,null,"di","DN","da","e","rm",null,null,{"$f":"HM32","v":355},{"$f":"HR31+2*HT31","v":655},150,{"$f":"(HS31-HT31)/2","v":252.5},null,null,null,null,null,null,null,null,null,null,null,null,null,null,null,"di","DN","da","e","rm",null,null,{"$f":"IM32","v":355},{"$f":"IR31+2*IT31","v":655},150,{"$f":"(IS31-IT31)/2","v":252.5},null,null,null,null,null,null,null,null,null,null,null,null,null,null,null,"di","DN","da","e","rm",null,null,{"$f":"JM32","v":355},{"$f":"JR31+2*JT31","v":655},150,{"$f":"(JS31-JT31)/2","v":252.5},null,null,null,null,null,null,null,null,null,null,null,null,null,null,null,null,null,"di","DN","da","e","rm","FK",null,null,null,null,null,null,null,null,null,null,null,null,null,null,null,null,null,null,null,null,"di","DN","da","e","rm","FK",null,null,null,null,null,null,null,null,null,null,null,null,null,null,null,null,null,"2.GF-UP (dimensions de calcul) U1/V1",null,null,null,null,null,null,null,"Diamètre intérieur [mm]","Diamètre ext-érieur [mm]",500,"rayon moyen [mm]",null,null,null,null,null,null,null,null,null,null,null,null,null,null,"2.GF-UP (dimensions de calcul) U1/V1",null,null,null,null,null,null,null,"Diamètre intérieur [mm]","Diamètre ext-érieur [mm]",150,"rayon moyen [mm]",null,null,null,null,null,null,null,null,null,null,null,null,null,null,"2.GF-UP (dimensions de calcul) U1/V1",null,null,null,null,null,null,null,"Diamètre intérieur [mm]","Diamètre ext-érieur [mm]",150,"rayon moyen [mm]",null,null,null,null,null,null,null,null,null,null,null,null,null,null,"2.GF-UP (dimensions de calcul) U1/V1",null,null,null,null,null,null,null,"Diamètre intérieur [mm]","Diamètre ext-érieur [mm]",150,"rayon moyen [mm]",null,null,null,null,null,null,null,null,null,null,null,null,null,null,"2.GF-UP (dimensions de calcul) U1/V1",null,null,null,null,null,null,null,"Diamètre intérieur [mm]","Diamètre ext-érieur [mm]",150,"rayon moyen [mm]",null,null,null,null,null,null,null,null,null,null,null,null,null,null,"2.GF-UP (dimensions de calcul) U1/V1",null,null,null,null,null,null,null,"Diamètre intérieur [mm]","Diamètre ext-érieur [mm]",150,"rayon moyen [mm]",null,null,null,null,null,null,null,null,null,null,null,null,null,null,null,"di","DN","da","e","rm"]
[null,null,null,null,null,null,null,null,null,null,null,null,null,null,{"$f":"INDEX(O7:O16,MATCH(Données!AE6,Calculs!O7:O16,-1))","v":300},{"$f":"VLOOKUP(O32,O7:T16,2,FALSE)","v":300},{"$f":"VLOOKUP(O32,O7:T16,3,FALSE)","v":380},{"$f":"VLOOKUP(O32,O7:T16,4,FALSE)","v":40},{"$f":"VLOOKUP(O32,O7:T16,5,FALSE)","v":170},{"$f":"VLOOKUP(P32,O7:T16,6,FALSE)","v":90},null,null,null,null,null,null,null,null,null,null,null,null,null,null,null,null,{"$f":"IF(Données!$AE$6>375.4,375.4,INDEX(AN7:AN10,MATCH(Données!$AE$6,Calculs!AN7:AN10,-1)))","v":375.4},{"$f":"VLOOKUP(AK32,Calculs!AN7:AR10,2,FALSE)","v":400},{"$f":"VLOOKUP(AK32,Calculs!AN7:AR10,3,FALSE)","v":400},{"$f":"VLOOKUP(AK32,Calculs!AN7:AR10,4,FALSE)","v":12.3},{"$f":"VLOOKUP(AK32,Calculs!AN7:AR10,5,FALSE)","v":193.85},null,null,null,null,null,null,null,null,null,null,null,null,null,null,null,null,null,null,null,null,null,{"$f":"IF(Données!$AE$6>465.8,465.8,INDEX(BN7:BN11,MATCH(Données!$AE$6,Calculs!BN7:BN11,-1)))","v":372.6},{"$f":"VLOOKUP(BK32,Calculs!BN7:BR11,2,FALSE)","v":400},{"$f":"VLOOKUP(BK32,Calculs!BN7:BR11,3,FALSE)","v":400},{"$f":"VLOOKUP(BK32,Calculs!BN7:BR11,4,FALSE)","v":13.7},{"$f":"VLOOKUP(BK32,Calculs!BN7:BR11,5,FALSE)","v":193.15},null,null,null,null,null,null,null,null,null,null,null,null,null,null,null,null,null,null,null,null,null,{"$f":"IF(Données!$AE$6>461.8,461.8,INDEX(CN7:CN11,MATCH(Données!$AE$6,Calculs!CN7:CN11,-1)))","v":369.4},{"$f":"VLOOKUP(CK32,Calculs!CN7:CR11,2,FALSE)","v":400},{"$f":"VLOOKUP(CK32,Calculs!CN7:CR11,3,FALSE)","v":400},{"$f":"VLOOKUP(CK32,Calculs!CN7:CR11,4,FALSE)","v":15.3},{"$f":"VLOOKUP(CK32,Calculs!CN7:CR11,5,FALSE)","v":192.35},null,null,null,null,null,null,null,null,null,null,null,null,null,null,null,null,null,null,null,null,null,{"$f":"IF(Données!$AE$6>454.4,454.4,INDEX(DN7:DN11,MATCH(Données!$AE$6,Calculs!DN7:DN11,-1)))","v":363.6},{"$f":"VLOOKUP(DK32,Calculs!DN7:DR11,2,FALSE)","v":400},{"$f":"VLOOKUP(DK32,Calculs!DN7:DR11,3,FALSE)","v":400},{"$f":"VLOOKUP(DK32,Calculs!DN7:DR11,4,FALSE)","v":18.2},{"$f":"VLOOKUP(DK32,Calculs!DN7:DR11,5,FALSE)","v":190.9},null,null,null,null,null,null,null,null,null,null,null,null,null,null,null,null,null,null,null,null,null,{"$f":"IF(Données!$AE$6>960.8,960.8,INDEX(EN7:EN18,MATCH(Données!$AE$6,Calculs!EN7:EN18,-1)))","v":302.60000000000002},{"$f":"VLOOKUP(EK32,Calculs!EN7:ER18,2,FALSE)","v":315},{"$f":"VLOOKUP(EK32,Calculs!EN7:ER18,3,FALSE)","v":315},{"$f":"VLOOKUP(EK32,Calculs!EN7:ER18,4,FALSE)","v":6.2},{"$f":"VLOOKUP(EK32,Calculs!EN7:ER18,5,FALSE)","v":154.4},null,null,null,null,null,null,null,null,null,null,null,null,null,null,null,null,null,null,null,null,null,{"$f":"IF(Données!$AE$6>951,951,INDEX(FN7:FN18,MATCH(Données!$AE$6,Calculs!FN7:FN18,-1)))","v":337.6},{"$f":"VLOOKUP(FK32,Calculs!FN7:FR18,2,FALSE)","v":355},{"$f":"VLOOKUP(FK32,Calculs!FN7:FR18,3,FALSE)","v":355},{"$f":"VLOOKUP(FK32,Calculs!FN7:FR18,4,FALSE)","v":8.6999999999999993},{"$f":"VLOOKUP(FK32,Calculs!FN7:FR18,5,FALSE)","v":173.15},null,null,null,null,null,null,null,null,null,null,null,null,null,null,null,null,null,null,null,null,null,{"$f":"IF(Données!$AE$6>753.4,753.4,INDEX(GN7:GN16,MATCH(Données!$AE$6,Calculs!GN7:GN16,-1)))","v":334.2},{"$f":"VLOOKUP(GK32,Calculs!GN7:GR16,2,FALSE)","v":355},{"$f":"VLOOKUP(GK32,Calculs!GN7:GR16,3,FALSE)","v":355},{"$f":"VLOOKUP(GK32,Calculs!GN7:GR16,4,FALSE)","v":10.4},{"$f":"VLOOKUP(GK32,Calculs!GN7:GR16,5,FALSE)","v":172.3},null,null,null,null,null,null,null,null,null,null,null,null,null,null,null,null,null,null,null,null,null,{"$f":"IF(Données!$AE$6>591.4,591.4,INDEX(HN7:HN25,MATCH(Données!$AE$6,Calculs!HN7:HN25,-1)))","v":333.2},{"$f":"VLOOKUP(HK32,Calculs!HN7:HR25,2,FALSE)","v":355},{"$f":"VLOOKUP(HK32,Calculs!HN7:HR25,3,FALSE)","v":355},{"$f":"VLOOKUP(HK32,Calculs!HN7:HR25,4,FALSE)","v":10.9},{"$f":"VLOOKUP(HK32,Calculs!HN7:HR25,5,FALSE)","v":172.05},null,null,null,null,null,null,null,null,null,null,null,null,null,null,null,null,null,null,null,null,null,{"$f":"IF(Données!$AE$6>369.4,369.4,INDEX(IN7:IN18,MATCH(Données!$AE$6,Calculs!IN7:IN18,-1)))","v":327.8},{"$f":"VLOOKUP(IK32,Calculs!IN7:IR18,2,FALSE)","v":355},{"$f":"VLOOKUP(IK32,Calculs!IN7:IR18,3,FALSE)","v":355},{"$f":"VLOOKUP(IK32,Calculs!IN7:IR18,4,FALSE)","v":13.6},{"$f":"VLOOKUP(IK32,Calculs!IN7:IR18,5,FALSE)","v":170.7},null,null,null,null,null,null,null,null,null,null,null,null,null,null,null,null,null,null,null,null,null,{"$f":"IF(Données!$AE$6>361.8,361.8,INDEX(JN7:JN16,MATCH(Données!$AE$6,Calculs!JN7:JN16,-1)))","v":321.2},{"$f":"VLOOKUP(JK32,Calculs!JN7:JR16,2,FALSE)","v":355},{"$f":"VLOOKUP(JK32,Calculs!JN7:JR16,3,FALSE)","v":355},{"$f":"VLOOKUP(JK32,Calculs!JN7:JR16,4,FALSE)","v":16.899999999999999},{"$f":"VLOOKUP(JK32,Calculs!JN7:JR16,5,FALSE)","v":169.05},null,null,null,null,null,null,null,null,null,null,null,null,null,null,null,null,null,null,null,null,null,null,null,{"$f":"IF(KM7>Données!$AE$6,INDEX(KM7:KM25,MATCH(Données!$AE$6,Calculs!KM7:KM25,-1)),KM7)","v":300},{"$f":"VLOOKUP(KM32,KM7:KR25,2,FALSE)","v":300},{"$f":"VLOOKUP(KM32,KM7:KR25,3,FALSE)","v":355},{"$f":"VLOOKUP(KM32,KM7:KR25,4,FALSE)","v":27.5},{"$f":"VLOOKUP(KM32,KM7:KR25,5,FALSE)","v":163.75},{"$f":"VLOOKUP(KN32,KN7:KR25,5,FALSE)","v":160},null,null,null,null,null,null,null,null,null,null,null,null,null,null,null,null,null,null,null,null,{"$f":"IF(LM7>Données!$AE$6,INDEX(LM7:LM25,MATCH(Données!$AE$6,Calculs!LM7:LM25,-1)),LM7)","v":300},{"$f":"VLOOKUP(LM32,LM7:LR25,2,FALSE)","v":300},{"$f":"VLOOKUP(LM32,LM7:LR25,3,FALSE)","v":376},{"$f":"VLOOKUP(LM32,LM7:LR25,4,FALSE)","v":38},{"$f":"VLOOKUP(LM32,LM7:LR25,5,FALSE)","v":169},{"$f":"VLOOKUP(LN32,LN7:LR25,5,FALSE)","v":240},null,null,null,null,null,null,null,null,null,null,null,null,null,null,null,null,null,"Diamètre intérieur [mm]","Diamètre nominal [mm]","Diamètre ext-érieur [mm]","épaisseur de paroi [mm]","rayon moyen [mm]","Valeur de calcul de la tension annulaire [N/mm2]",null,null,null,null,null,null,null,null,null,null,null,null,null,null,null,null,null,null,null,null,"Diamètre intérieur [mm]","Diamètre nominal [mm]","Diamètre ext-érieur [mm]","épaisseur de paroi [mm]","rayon moyen [mm]","Valeur de calcul de la tension annulaire [N/mm2]",null,null,null,null,null,null,null,null,null,null,null,null,null,null,null,null,null,null,null,null,"Diamètre intérieur [mm]","Diamètre nominal [mm]","Diamètre ext-érieur [mm]","épaisseur de paroi [mm]","rayon moyen [mm]","Valeur de calcul de la tension annulaire [N/mm2]",null,null,null,null,null,null,null,null,null,null,null,null,null,null,null,null,null,null,null,null,"Diamètre intérieur [mm]","Diamètre nominal [mm]","Diamètre ext-érieur [mm]","épaisseur de paroi [mm]","rayon moyen [mm]","Valeur de calcul de la tension annulaire [N/mm2]",null,null,null,null,null,null,null,null,null,null,null,null,null,null,null,null,null,null,null,null,"Diamètre intérieur [mm]","Diamètre nominal [mm]","Diamètre ext-érieur [mm]","épaisseur de paroi [mm]","rayon moyen [mm]","Valeur de calcul de la tension annulaire [N/mm2]",null,null,null,null,null,null,null,null,null,null,null,null,null,null,null,null,null,null,null,null,"Diamètre intérieur [mm]","Diamètre nominal [mm]","Diamètre ext-érieur [mm]","épaisseur de paroi [mm]","rayon moyen [mm]","Valeur de calcul de la tension annulaire [N/mm2]",null,null,null,null,null,null,null,null,null,null,null,null,null,null,null,null,null,null,null,null,null,{"$f":"IF(Données!$AE$6>718.8,718.8,INDEX(SN7:SN16,MATCH(Données!$AE$6,Calculs!SN7:SN16,-1)))","v":314.8},{"$f":"VLOOKUP(SK32,Calculs!SN7:SR16,2,FALSE)","v":300},{"$f":"VLOOKUP(SK32,Calculs!SN7:SR16,3,FALSE)","v":326},{"$f":"VLOOKUP(SK32,Calculs!SN7:SR16,4,FALSE)","v":5.6},{"$f":"VLOOKUP(SK32,Calculs!SN7:SR16,5,FALSE)","v":160.19999999999999}]
[{"$f":"IF(OR(Données!AE26=\"Avec\",Données!AE26=\"Mit\"),1.25-0.1*(Données!AE52-0.5),1)","v":1},"Totale","Charge de roue","Totale - charge de roue",null,"Totale","Charge de roue","Totale - charge de roue",null,null,null,null,null,null,null,null,null,null,null,null,null,null,null,null,null,null,null,null,null,null,null,null,null,null,null,null,null,null,null,null,null,null,null,"EEnrobage",20000,"N/mm2",null,null,null,null,null,null,null,null,null,null,null,null,null,null,null,null,null,null,null,null,null,null,null,"EEnrobage",20000,"N/mm2",null,null,null,null,null,null,null,null,null,null,null,null,null,null,null,null,null,null,null,null,null,null,null,"EEnrobage",20000,"N/mm2",null,null,null,null,null,null,null,null,null,null,null,null,null,null,null,null,null,null,null,null,null,null,null,"EEnrobage",20000,"N/mm2",null,null,null,null,null,null,null,null,null,null,null,null,null,null,null,null,null,null,null,null,null,null,null,"EEnrobage",20000,"N/mm2",null,null,null,null,null,null,null,null,null,null,null,null,null,null,null,null,null,null,null,null,null,null,null,"EEnrobage",20000,"N/mm2",null,null,null,null,null,null,null,null,null,null,null,null,null,null,null,null,null,null,null,null,null,null,null,"EEnrobage",20000,"N/mm2",null,null,null,null,null,null,null,null,null,null,null,null,null,null,null,null,null,null,null,null,null,null,null,"EEnrobage",20000,"N/mm2",null,null,null,null,null,null,null,null,null,null,null,null,null,null,null,null,null,null,null,null,null,null,null,"EEnrobage",20000,"N/mm2",null,null,null,null,null,null,null,null,null,null,null,null,null,null,null,null,null,null,null,null,null,null,null,"EEnrobage",20000,"N/mm2",null,null,null,null,null,null,null,null,null,null,null,null,null,null,null,null,null,null,null,null,null,null,null,null,null,null,null,null,null,null,null,null,null,null,null,null,null,null,null,null,null,null,null,null,null,null,null,null,null,null,null,null,null,null,null,null,null,null,null,null,null,null,null,null,null,null,null,null,null,null,null,null,null,null,null,"di","da","e","rm",null,null,null,null,null,null,null,null,null,null,null,null,null,null,null,null,null,null,null,null,null,null,"di","da","e","rm",null,null,null,null,null,null,null,null,null,null,null,null,null,null,null,null,null,null,null,null,null,null,"di","da","e","rm",null,null,null,null,null,null,null,null,null,null,null,null,null,null,null,null,null,null,null,null,null,null,"di","da","e","rm",null,null,null,null,null,null,null,null,null,null,null,null,null,null,null,null,null,null,null,null,null,null,"di","da","e","rm",null,null,null,null,null,null,null,null,null,null,null,null,null,null,null,null,null,null,null,null,null,null,"di","da","e","rm"]
[null,null,null,null,null,null,null,null,null,null,null,null,null,null,null,null,null,null,null,null,null,null,null,null,null,null,null,null,null,null,null,null,null,null,null,null,null,null,null,null,null,null,null,null,null,null,null,null,null,null,null,null,null,null,null,null,null,null,null,null,null,null,null,null,null,null,null,null,null,null,null,null,null,null,null,null,null,null,null,null,null,null,null,null,null,null,null,null,null,null,null,null,null,null,null,null,null,null,null,null,null,null,null,null,null,null,null,null,null,null,null,null,null,null,null,null,null,null,null,null,null,null,null,null,null,null,null,null,null,null,null,null,null,null,null,null,null,null,null,null,null,null,null,null,null,null,null,null,null,null,null,null,null,null,null,null,null,null,null,null,null,null,null,null,null,null,null,null,null,null,null,null,null,null,null,null,null,null,null,null,null,null,null,null,null,null,null,null,null,null,null,null,null,null,null,null,null,null,null,null,null,null,null,null,null,null,null,null,null,null,null,null,null,null,null,null,null,null,null,null,null,null,null,null,null,null,null,null,null,null,null,null,null,null,null,null,null,null,null,null,null,null,null,null,null,null,null,null,null,null,null,null,null,null,null,null,null,null,null,null,null,null,null,null,null,null,null,null,null,null,null,null,null,null,null,null,null,null,null,null,null,null,null,null,null,null,null,null,null,null,null,null,null,null,null,null,null,null,null,null,null,null,null,null,null,null,null,null,null,null,null,null,null,null,null,null,null,null,null,null,null,null,null,null,null,null,null,null,null,null,null,null,null,null,null,null,null,null,null,null,null,null,null,null,null,null,null,"di","DN","da","e","rm","S0,court","S0,long",null,{"$f":"ML35","v":376},{"$f":"MR34+2*MT34","v":686},155,{"$f":"(MS34-MT34)/2","v":265.5},null,null,null,null,null,null,null,null,null,null,null,null,null,null,"di","DN","da","e","rm","S0,court","S0,long",null,{"$f":"NL35","v":376},{"$f":"NR34+2*NT34","v":686},155,{"$f":"(NS34-NT34)/2","v":265.5},null,null,null,null,null,null,null,null,null,null,null,null,null,null,"di","DN","da","e","rm","S0,court","S0,long",null,{"$f":"OL35","v":324},{"$f":"OR34+2*OT34","v":624},150,{"$f":"(OS34-OT34)/2","v":237},null,null,null,null,null,null,null,null,null,null,null,null,null,null,"di","DN","da","e","rm","S0,court","S0,long",null,{"$f":"PL35","v":324},{"$f":"PR34+2*PT34","v":624},150,{"$f":"(PS34-PT34)/2","v":237},null,null,null,null,null,null,null,null,null,null,null,null,null,null,"di","DN","da","e","rm","S0,court","S0,long",null,{"$f":"QL35","v":324},{"$f":"QR34+2*QT34","v":624},150,{"$f":"(QS34-QT34)/2","v":237},null,null,null,null,null,null,null,null,null,null,null,null,null,null,"di","DN","da","e","rm","S0,court","S0,long",null,{"$f":"RL35","v":324},{"$f":"RR34+2*RT34","v":624},150,{"$f":"(RS34-RT34)/2","v":237}]
["H [m]","pv [kN/m2]","proue [kN/m2]","p [kN/m2]","H [m]","pv [kN/m2]","proue [kN/m2]","p [kN/m2]",null,null,null,null,null,null,"3. Rigidité",null,null,null,null,null,null,null,null,null,null,null,null,null,null,null,null,null,null,null,null,null,"3. Rigidité U1/V1",null,null,null,null,null,null,"3. Rigidité U4/V4",null,null,null,null,null,null,null,null,null,null,null,null,null,null,null,null,null,null,"3. Rigidité U1/V1",null,null,null,null,null,null,"3. Rigidité U4/V4",null,null,null,null,null,null,null,null,null,null,null,null,null,null,null,null,null,null,"3. Rigidité U1/V1",null,null,null,null,null,null,"3. Rigidité U4/V4",null,null,null,null,null,null,null,null,null,null,null,null,null,null,null,null,null,null,"3. Rigidité U1/V1",null,null,null,null,null,null,"3. Rigidité U4/V4",null,null,null,null,null,null,null,null,null,null,null,null,null,null,null,null,null,null,"3. Rigidité U1/V1",null,null,null,null,null,null,"3. Rigidité U4/V4",null,null,null,null,null,null,null,null,null,null,null,null,null,null,null,null,null,null,"3. Rigidité U1/V1",null,null,null,null,null,null,"3. Rigidité U4/V4",null,null,null,null,null,null,null,null,null,null,null,null,null,null,null,null,null,null,"3. Rigidité U1/V1",null,null,null,null,null,null,"3. Rigidité U4/V4",null,null,null,null,null,null,null,null,null,null,null,null,null,null,null,null,null,null,"3. Rigidité U1/V1",null,null,null,null,null,null,"3. Rigidité U4/V4",null,null,null,null,null,null,null,null,null,null,null,null,null,null,null,null,null,null,"3. Rigidité U1/V1",null,null,null,null,null,null,"3. Rigidité U4/V4",null,null,null,null,null,null,null,null,null,null,null,null,null,null,null,null,null,null,"3. Rigidité U1/V1",null,null,null,null,null,null,"3. Rigidité U4/V4",null,null,null,null,null,null,null,null,null,null,null,null,null,null,null,null,null,null,null,null,"3. Rigidité",null,null,null,null,null,null,null,null,null,null,null,null,null,null,null,null,null,null,null,null,null,null,null,null,null,"3. Rigidité",null,null,null,null,null,null,null,null,null,null,null,null,null,null,null,null,null,null,null,null,null,null,{"$f":"IF(Données!$AE$6>1457,1457,INDEX(MN7:MN29,MATCH(Données!$AE$6,Calculs!MN7:MN29,-1)))","v":362},{"$f":"VLOOKUP(MJ35,Calculs!MN7:MR29,2,FALSE)","v":350},{"$f":"VLOOKUP(MJ35,Calculs!MN7:MR29,3,FALSE)","v":376},{"$f":"VLOOKUP(MJ35,Calculs!MN7:MR29,4,FALSE)","v":7},{"$f":"VLOOKUP(MJ35,Calculs!MN7:MR29,5,FALSE)","v":184.5},{"$f":"B24","v":2500},{"$f":"C24","v":1250},null,null,null,null,null,null,null,null,null,null,null,null,null,null,null,null,null,null,null,{"$f":"IF(Données!$AE$6>1445,1445,INDEX(NN7:NN29,MATCH(Données!$AE$6,Calculs!NN7:NN29,-1)))","v":360},{"$f":"VLOOKUP(NJ35,Calculs!NN7:NR29,2,FALSE)","v":350},{"$f":"VLOOKUP(NJ35,Calculs!NN7:NR29,3,FALSE)","v":376},{"$f":"VLOOKUP(NJ35,Calculs!NN7:NR29,4,FALSE)","v":8},{"$f":"VLOOKUP(NJ35,Calculs!NN7:NR29,5,FALSE)","v":184},{"$f":"B25","v":5000},{"$f":"C25","v":2500},null,null,null,null,null,null,null,null,null,null,null,null,null,null,null,null,null,null,null,{"$f":"IF(Données!$AE$6>1433,1433,INDEX(ON7:ON29,MATCH(Données!$AE$6,Calculs!ON7:ON29,-1)))","v":306},{"$f":"VLOOKUP(OJ35,Calculs!ON7:OR29,2,FALSE)","v":300},{"$f":"VLOOKUP(OJ35,Calculs!ON7:OR29,3,FALSE)","v":324},{"$f":"VLOOKUP(OJ35,Calculs!ON7:OR29,4,FALSE)","v":9},{"$f":"VLOOKUP(OJ35,Calculs!ON7:OR29,5,FALSE)","v":157.5},{"$f":"B26","v":10000},{"$f":"C26","v":5000},null,null,null,null,null,null,null,null,null,null,null,null,null,null,null,null,null,null,null,{"$f":"IF(Données!$AE$6>1425,1425,INDEX(PN7:PN29,MATCH(Données!$AE$6,Calculs!PN7:PN29,-1)))","v":304},{"$f":"VLOOKUP(PJ35,Calculs!PN7:PR29,2,FALSE)","v":300},{"$f":"VLOOKUP(PJ35,Calculs!PN7:PR29,3,FALSE)","v":324},{"$f":"VLOOKUP(PJ35,Calculs!PN7:PR29,4,FALSE)","v":10},{"$f":"VLOOKUP(PJ35,Calculs!PN7:PR29,5,FALSE)","v":157},{"$f":"B27","v":15000},{"$f":"C27","v":7500},null,null,null,null,null,null,null,null,null,null,null,null,null,null,null,null,null,null,null,{"$f":"IF(Données!$AE$6>1423,1423,INDEX(QN7:QN29,MATCH(Données!$AE$6,Calculs!QN7:QN29,-1)))","v":304},{"$f":"VLOOKUP(QJ35,Calculs!QN7:QR29,2,FALSE)","v":300},{"$f":"VLOOKUP(QJ35,Calculs!QN7:QR29,3,FALSE)","v":324},{"$f":"VLOOKUP(QJ35,Calculs!QN7:QR29,4,FALSE)","v":10},{"$f":"VLOOKUP(QJ35,Calculs!QN7:QR29,5,FALSE)","v":157},{"$f":"B28","v":16000},{"$f":"C28","v":8000},null,null,null,null,null,null,null,null,null,null,null,null,null,null,null,null,null,null,null,{"$f":"IF(Données!$AE$6>1417,1417,INDEX(RN7:RN29,MATCH(Données!$AE$6,Calculs!RN7:RN29,-1)))","v":302},{"$f":"VLOOKUP(RJ35,Calculs!RN7:RR29,2,FALSE)","v":300},{"$f":"VLOOKUP(RJ35,Calculs!RN7:RR29,3,FALSE)","v":324},{"$f":"VLOOKUP(RJ35,Calculs!RN7:RR29,4,FALSE)","v":11},{"$f":"VLOOKUP(RJ35,Calculs!RN7:RR29,5,FALSE)","v":156.5},{"$f":"B29","v":20000},{"$f":"C29","v":10000},null,null,null,null,null,null,null,null,null,null,null,null,null,null,null,null,null,null,null,null,"3. Rigidité U1/V1"]
[0.5,203.90629999999999,155.28729999999999,{"$f":"B36-C36","v":48.619},0.5,168.35650000000001,155.28729999999999,{"$f":"F36-G36","v":13.069200000000023},null,null,null,null,null,null,"SFcourt ",null,"SFlong",null,null,null,null,null,null,null,null,null,null,null,null,null,null,null,null,null,null,null,"SFcourt ",null,"SFlong",null,null,null,null,"SFcourt ",null,"SFlong",null,null,null,null,null,null,null,null,null,null,null,null,null,null,null,null,"SFcourt ",null,"SFlong",null,null,null,null,"SFcourt ",null,"SFlong",null,null,null,null,null,null,null,null,null,null,null,null,null,null,null,null,"SFcourt ",null,"SFlong",null,null,null,null,"SFcourt ",null,"SFlong",null,null,null,null,null,null,null,null,null,null,null,null,null,null,null,null,"SFcourt ",null,"SFlong",null,null,null,null,"SFcourt ",null,"SFlong",null,null,null,null,null,null,null,null,null,null,null,null,null,null,null,null,"SFcourt ",null,"SFlong",null,null,null,null,"SFcourt ",null,"SFlong",null,null,null,null,null,null,null,null,null,null,null,null,null,null,null,null,"SFcourt ",null,"SFlong",null,null,null,null,"SFcourt ",null,"SFlong",null,null,null,null,null,null,null,null,null,null,null,null,null,null,null,null,"SFcourt ",null,"SFlong",null,null,null,null,"SFcourt ",null,"SFlong",null,null,null,null,null,null,null,null,null,null,null,null,null,null,null,null,"SFcourt ",null,"SFlong",null,null,null,null,"SFcourt ",null,"SFlong",null,null,null,null,null,null,null,null,null,null,null,null,null,null,null,null,"SFcourt ",null,"SFlong",null,null,null,null,"SFcourt ",null,"SFlong",null,null,null,null,null,null,null,null,null,null,null,null,null,null,null,null,"SFcourt ",null,"SFlong",null,null,null,null,"SFcourt ",null,"SFlong",null,null,null,null,null,null,null,null,null,null,null,null,null,null,null,null,null,null,"SFcourt ",null,"SFlong",null,null,null,null,null,null,null,null,null,null,null,null,null,null,null,null,null,null,null,null,null,null,null,"SFcourt ",null,"SFlong",null,null,null,null,null,null,null,null,null,null,null,null,null,null,null,null,null,null,null,null,null,null,null,null,null,null,null,null,"EEnrobage",20000,"N/mm2",null,null,null,null,null,null,null,null,null,null,null,null,null,null,null,null,null,null,null,null,null,null,null,"EEnrobage",20000,"N/mm2",null,null,null,null,null,null,null,null,null,null,null,null,null,null,null,null,null,null,null,null,null,null,null,"EEnrobage",20000,"N/mm2",null,null,null,null,null,null,null,null,null,null,null,null,null,null,null,null,null,null,null,null,null,null,null,"EEnrobage",20000,"N/mm2",null,null,null,null,null,null,null,null,null,null,null,null,null,null,null,null,null,null,null,null,null,null,null,"EEnrobage",20000,"N/mm2",null,null,null,null,null,null,null,null,null,null,null,null,null,null,null,null,null,null,null,null,null,null,null,"EEnrobage",20000,"N/mm2",null,null,null,null,null,null,null,null,null,null,null,null,null,null,null,null,"SFcourt ",null,"SFlong"]
[0.625,156.6532,108.31140000000001,{"$f":"B37-C37","v":48.341799999999992},0.625,123.1211,108.31140000000001,{"$f":"F37-G37","v":14.809699999999992},null,null,null,null,null,null,{"$f":"2/3*(B7/(Données!$AE$38*0.6))*(Calculs!$R$32/(2*Calculs!$S$32))^3","v":10.855553293981952},{"$f":"IF(AND(O37>=0.1,Accueil!$AZ$15=\"Français\"),\"rigide\",IF(AND(O37<0.1,Accueil!$AZ$15=\"Français\"),\"souple\",IF(AND(O37>=0.1,Accueil!$AZ$15=\"Deutsch\"),\"steif\",IF(AND(O37<0.1,Accueil!$AZ$15=\"Deutsch\"),\"weich\"))))","v":"rigide"},{"$f":"2/3*(C7/(Données!$AE$38*0.6))*(Calculs!$R$32/(2*Calculs!$S$32))^3","v":10.855553293981952},{"$f":"IF(AND(Q37>=0.1,Accueil!$AZ$15=\"Français\"),\"rigide\",IF(AND(Q37<0.1,Accueil!$AZ$15=\"Français\"),\"souple\",IF(AND(Q37>=0.1,Accueil!$AZ$15=\"Deutsch\"),\"steif\",IF(AND(Q37<0.1,Accueil!$AZ$15=\"Deutsch\"),\"weich\"))))","v":"rigide"},null,null,null,null,null,null,null,null,null,null,null,null,null,null,null,null,null,null,{"$f":"2/3*(B12/(Données!$AE$38*0.6))*(Calculs!AN32/(2*Calculs!AO32))^3","v":8.8700369816367038E-3},{"$f":"IF(AND(AK37>=0.1,Accueil!$AZ$15=\"Français\"),\"rigide\",IF(AND(AK37<0.1,Accueil!$AZ$15=\"Français\"),\"souple\",IF(AND(AK37>=0.1,Accueil!$AZ$15=\"Deutsch\"),\"steif\",IF(AND(AK37<0.1,Accueil!$AZ$15=\"Deutsch\"),\"weich\"))))","v":"souple"},{"$f":"2/3*(C12/(Données!$AE$38*0.6))*(Calculs!$AN$32/(2*Calculs!$AO$32))^3","v":2.1288088755928086E-3},{"$f":"IF(AND(AM37>=0.1,Accueil!$AZ$15=\"Français\"),\"rigide\",IF(AND(AM37<0.1,Accueil!$AZ$15=\"Français\"),\"souple\",IF(AND(AM37>=0.1,Accueil!$AZ$15=\"Deutsch\"),\"steif\",IF(AND(AM37<0.1,Accueil!$AZ$15=\"Deutsch\"),\"weich\"))))","v":"souple"},null,null,null,{"$f":"2/3*(AS33/(Données!$AE$38*0.6))*(Calculs!AT31/(2*Calculs!AU31))^3","v":110.69397191899354},{"$f":"IF(AND(AR37>=0.1,Accueil!$AZ$15=\"Français\"),\"rigide\",IF(AND(AR37<0.1,Accueil!$AZ$15=\"Français\"),\"souple\",IF(AND(AR37>=0.1,Accueil!$AZ$15=\"Deutsch\"),\"steif\",IF(AND(AR37<0.1,Accueil!$AZ$15=\"Deutsch\"),\"weich\"))))","v":"rigide"},{"$f":"2/3*(AS33/(Données!$AE$38*0.6))*(Calculs!$AT$31/(2*Calculs!$AU$31))^3","v":110.69397191899354},{"$f":"IF(AND(AT37>=0.1,Accueil!$AZ$15=\"Français\"),\"rigide\",IF(AND(AT37<0.1,Accueil!$AZ$15=\"Français\"),\"souple\",IF(AND(AT37>=0.1,Accueil!$AZ$15=\"Deutsch\"),\"steif\",IF(AND(AT37<0.1,Accueil!$AZ$15=\"Deutsch\"),\"weich\"))))","v":"rigide"},null,null,null,null,null,null,null,null,null,null,null,null,null,null,null,{"$f":"2/3*($B$12/(Données!$AE$38*0.6))*(Calculs!BN32/(2*Calculs!BO32))^3","v":1.2390392847863333E-2},{"$f":"IF(AND(BK37>=0.1,Accueil!$AZ$15=\"Français\"),\"rigide\",IF(AND(BK37<0.1,Accueil!$AZ$15=\"Français\"),\"souple\",IF(AND(BK37>=0.1,Accueil!$AZ$15=\"Deutsch\"),\"steif\",IF(AND(BK37<0.1,Accueil!$AZ$15=\"Deutsch\"),\"weich\"))))","v":"souple"},{"$f":"2/3*($C$12/(Données!$AE$38*0.6))*(BN32/(2*BO32))^3","v":2.9736942834871997E-3},{"$f":"IF(AND(BM37>=0.1,Accueil!$AZ$15=\"Français\"),\"rigide\",IF(AND(BM37<0.1,Accueil!$AZ$15=\"Français\"),\"souple\",IF(AND(BM37>=0.1,Accueil!$AZ$15=\"Deutsch\"),\"steif\",IF(AND(BM37<0.1,Accueil!$AZ$15=\"Deutsch\"),\"weich\"))))","v":"souple"},null,null,null,{"$f":"2/3*(BS33/(Données!$AE$38*0.6))*(Calculs!BT31/(2*Calculs!BU31))^3","v":110.69397191899354},{"$f":"IF(AND(BR37>=0.1,Accueil!$AZ$15=\"Français\"),\"rigide\",IF(AND(BR37<0.1,Accueil!$AZ$15=\"Français\"),\"souple\",IF(AND(BR37>=0.1,Accueil!$AZ$15=\"Deutsch\"),\"steif\",IF(AND(BR37<0.1,Accueil!$AZ$15=\"Deutsch\"),\"weich\"))))","v":"rigide"},{"$f":"2/3*(BS33/(Données!$AE$38*0.6))*(Calculs!$BT$31/(2*Calculs!$BU$31))^3","v":110.69397191899354},{"$f":"IF(AND(BT37>=0.1,Accueil!$AZ$15=\"Français\"),\"rigide\",IF(AND(BT37<0.1,Accueil!$AZ$15=\"Français\"),\"souple\",IF(AND(BT37>=0.1,Accueil!$AZ$15=\"Deutsch\"),\"steif\",IF(AND(BT37<0.1,Accueil!$AZ$15=\"Deutsch\"),\"weich\"))))","v":"rigide"},null,null,null,null,null,null,null,null,null,null,null,null,null,null,null,{"$f":"2/3*($B$12/(Données!$AE$38*0.6))*(Calculs!CN32/(2*Calculs!CO32))^3","v":1.7474519099907819E-2},{"$f":"IF(AND(CK37>=0.1,Accueil!$AZ$15=\"Français\"),\"rigide\",IF(AND(CK37<0.1,Accueil!$AZ$15=\"Français\"),\"souple\",IF(AND(CK37>=0.1,Accueil!$AZ$15=\"Deutsch\"),\"steif\",IF(AND(CK37<0.1,Accueil!$AZ$15=\"Deutsch\"),\"weich\"))))","v":"souple"},{"$f":"2/3*($C$12/(Données!$AE$38*0.6))*(CN32/(2*CO32))^3","v":4.1938845839778766E-3},{"$f":"IF(AND(CM37>=0.1,Accueil!$AZ$15=\"Français\"),\"rigide\",IF(AND(CM37<0.1,Accueil!$AZ$15=\"Français\"),\"souple\",IF(AND(CM37>=0.1,Accueil!$AZ$15=\"Deutsch\"),\"steif\",IF(AND(CM37<0.1,Accueil!$AZ$15=\"Deutsch\"),\"weich\"))))","v":"souple"},null,null,null,{"$f":"2/3*(CS33/(Données!$AE$38*0.6))*(Calculs!CT31/(2*Calculs!CU31))^3","v":110.69397191899354},{"$f":"IF(AND(CR37>=0.1,Accueil!$AZ$15=\"Français\"),\"rigide\",IF(AND(CR37<0.1,Accueil!$AZ$15=\"Français\"),\"souple\",IF(AND(CR37>=0.1,Accueil!$AZ$15=\"Deutsch\"),\"steif\",IF(AND(CR37<0.1,Accueil!$AZ$15=\"Deutsch\"),\"weich\"))))","v":"rigide"},{"$f":"2/3*(CS33/(Données!$AE$38*0.6))*(Calculs!$CT$31/(2*Calculs!$CU$31))^3","v":110.69397191899354},{"$f":"IF(AND(CT37>=0.1,Accueil!$AZ$15=\"Français\"),\"rigide\",IF(AND(CT37<0.1,Accueil!$AZ$15=\"Français\"),\"souple\",IF(AND(CT37>=0.1,Accueil!$AZ$15=\"Deutsch\"),\"steif\",IF(AND(CT37<0.1,Accueil!$AZ$15=\"Deutsch\"),\"weich\"))))","v":"rigide"},null,null,null,null,null,null,null,null,null,null,null,null,null,null,null,{"$f":"2/3*($B$12/(Données!$AE$38*0.6))*(Calculs!DN32/(2*Calculs!DO32))^3","v":3.0088732342031167E-2},{"$f":"IF(AND(DK37>=0.1,Accueil!$AZ$15=\"Français\"),\"rigide\",IF(AND(DK37<0.1,Accueil!$AZ$15=\"Français\"),\"souple\",IF(AND(DK37>=0.1,Accueil!$AZ$15=\"Deutsch\"),\"steif\",IF(AND(DK37<0.1,Accueil!$AZ$15=\"Deutsch\"),\"weich\"))))","v":"souple"},{"$f":"2/3*($C$12/(Données!$AE$38*0.6))*(DN32/(2*DO32))^3","v":7.2212957620874799E-3},{"$f":"IF(AND(DM37>=0.1,Accueil!$AZ$15=\"Français\"),\"rigide\",IF(AND(DM37<0.1,Accueil!$AZ$15=\"Français\"),\"souple\",IF(AND(DM37>=0.1,Accueil!$AZ$15=\"Deutsch\"),\"steif\",IF(AND(DM37<0.1,Accueil!$AZ$15=\"Deutsch\"),\"weich\"))))","v":"souple"},null,null,null,{"$f":"2/3*(DS33/(Données!$AE$38*0.6))*(Calculs!DT31/(2*Calculs!DU31))^3","v":110.69397191899354},{"$f":"IF(AND(DR37>=0.1,Accueil!$AZ$15=\"Français\"),\"rigide\",IF(AND(DR37<0.1,Accueil!$AZ$15=\"Français\"),\"souple\",IF(AND(DR37>=0.1,Accueil!$AZ$15=\"Deutsch\"),\"steif\",IF(AND(DR37<0.1,Accueil!$AZ$15=\"Deutsch\"),\"weich\"))))","v":"rigide"},{"$f":"2/3*(DS33/(Données!$AE$38*0.6))*(Calculs!$DT$31/(2*Calculs!$DU$31))^3","v":110.69397191899354},{"$f":"IF(AND(DT37>=0.1,Accueil!$AZ$15=\"Français\"),\"rigide\",IF(AND(DT37<0.1,Accueil!$AZ$15=\"Français\"),\"souple\",IF(AND(DT37>=0.1,Accueil!$AZ$15=\"Deutsch\"),\"steif\",IF(AND(DT37<0.1,Accueil!$AZ$15=\"Deutsch\"),\"weich\"))))","v":"rigide"},null,null,null,null,null,null,null,null,null,null,null,null,null,null,null,{"$f":"2/3*($B$10/(Données!$AE$38*0.6))*(Calculs!EN32/(2*Calculs!EO32))^3","v":5.3957514293367431E-3},{"$f":"IF(AND(EK37>=0.1,Accueil!$AZ$15=\"Français\"),\"rigide\",IF(AND(EK37<0.1,Accueil!$AZ$15=\"Français\"),\"souple\",IF(AND(EK37>=0.1,Accueil!$AZ$15=\"Deutsch\"),\"steif\",IF(AND(EK37<0.1,Accueil!$AZ$15=\"Deutsch\"),\"weich\"))))","v":"souple"},{"$f":"2/3*($C$10/(Données!$AE$38*0.6))*(EN32/(2*EO32))^3","v":2.6978757146683715E-3},{"$f":"IF(AND(EM37>=0.1,Accueil!$AZ$15=\"Français\"),\"rigide\",IF(AND(EM37<0.1,Accueil!$AZ$15=\"Français\"),\"souple\",IF(AND(EM37>=0.1,Accueil!$AZ$15=\"Deutsch\"),\"steif\",IF(AND(EM37<0.1,Accueil!$AZ$15=\"Deutsch\"),\"weich\"))))","v":"souple"},null,null,null,{"$f":"2/3*(ES33/(Données!$AE$38*0.6))*(Calculs!ET31/(2*Calculs!EU31))^3","v":149.18748764541115},{"$f":"IF(AND(ER37>=0.1,Accueil!$AZ$15=\"Français\"),\"rigide\",IF(AND(ER37<0.1,Accueil!$AZ$15=\"Français\"),\"souple\",IF(AND(ER37>=0.1,Accueil!$AZ$15=\"Deutsch\"),\"steif\",IF(AND(ER37<0.1,Accueil!$AZ$15=\"Deutsch\"),\"weich\"))))","v":"rigide"},{"$f":"2/3*(ES33/(Données!$AE$38*0.6))*(Calculs!$ET$31/(2*Calculs!$EU$31))^3","v":149.18748764541115},{"$f":"IF(AND(ET37>=0.1,Accueil!$AZ$15=\"Français\"),\"rigide\",IF(AND(ET37<0.1,Accueil!$AZ$15=\"Français\"),\"souple\",IF(AND(ET37>=0.1,Accueil!$AZ$15=\"Deutsch\"),\"steif\",IF(AND(ET37<0.1,Accueil!$AZ$15=\"Deutsch\"),\"weich\"))))","v":"rigide"},null,null,null,null,null,null,null,null,null,null,null,null,null,null,null,{"$f":"2/3*($B$10/(Données!$AE$38*0.6))*(Calculs!FN32/(2*Calculs!FO32))^3","v":1.0570828432223662E-2},{"$f":"IF(AND(FK37>=0.1,Accueil!$AZ$15=\"Français\"),\"rigide\",IF(AND(FK37<0.1,Accueil!$AZ$15=\"Français\"),\"souple\",IF(AND(FK37>=0.1,Accueil!$AZ$15=\"Deutsch\"),\"steif\",IF(AND(FK37<0.1,Accueil!$AZ$15=\"Deutsch\"),\"weich\"))))","v":"souple"},{"$f":"2/3*($C$10/(Données!$AE$38*0.6))*(FN32/(2*FO32))^3","v":5.2854142161118311E-3},{"$f":"IF(AND(FM37>=0.1,Accueil!$AZ$15=\"Français\"),\"rigide\",IF(AND(FM37<0.1,Accueil!$AZ$15=\"Français\"),\"souple\",IF(AND(FM37>=0.1,Accueil!$AZ$15=\"Deutsch\"),\"steif\",IF(AND(FM37<0.1,Accueil!$AZ$15=\"Deutsch\"),\"weich\"))))","v":"souple"},null,null,null,{"$f":"2/3*(FS33/(Données!$AE$38*0.6))*(Calculs!FT31/(2*Calculs!FU31))^3","v":116.47081775131731},{"$f":"IF(AND(FR37>=0.1,Accueil!$AZ$15=\"Français\"),\"rigide\",IF(AND(FR37<0.1,Accueil!$AZ$15=\"Français\"),\"souple\",IF(AND(FR37>=0.1,Accueil!$AZ$15=\"Deutsch\"),\"steif\",IF(AND(FR37<0.1,Accueil!$AZ$15=\"Deutsch\"),\"weich\"))))","v":"rigide"},{"$f":"2/3*(FS33/(Données!$AE$38*0.6))*(Calculs!$FT$31/(2*Calculs!$FU$31))^3","v":116.47081775131731},{"$f":"IF(AND(FT37>=0.1,Accueil!$AZ$15=\"Français\"),\"rigide\",IF(AND(FT37<0.1,Accueil!$AZ$15=\"Français\"),\"souple\",IF(AND(FT37>=0.1,Accueil!$AZ$15=\"Deutsch\"),\"steif\",IF(AND(FT37<0.1,Accueil!$AZ$15=\"Deutsch\"),\"weich\"))))","v":"rigide"},null,null,null,null,null,null,null,null,null,null,null,null,null,null,null,{"$f":"2/3*($B$10/(Données!$AE$38*0.6))*(Calculs!GN32/(2*Calculs!GO32))^3","v":1.8325799871525609E-2},{"$f":"IF(AND(GK37>=0.1,Accueil!$AZ$15=\"Français\"),\"rigide\",IF(AND(GK37<0.1,Accueil!$AZ$15=\"Français\"),\"souple\",IF(AND(GK37>=0.1,Accueil!$AZ$15=\"Deutsch\"),\"steif\",IF(AND(GK37<0.1,Accueil!$AZ$15=\"Deutsch\"),\"weich\"))))","v":"souple"},{"$f":"2/3*($C$10/(Données!$AE$38*0.6))*(GN32/(2*GO32))^3","v":9.1628999357628044E-3},{"$f":"IF(AND(GM37>=0.1,Accueil!$AZ$15=\"Français\"),\"rigide\",IF(AND(GM37<0.1,Accueil!$AZ$15=\"Français\"),\"souple\",IF(AND(GM37>=0.1,Accueil!$AZ$15=\"Deutsch\"),\"steif\",IF(AND(GM37<0.1,Accueil!$AZ$15=\"Deutsch\"),\"weich\"))))","v":"souple"},null,null,null,{"$f":"2/3*(GS33/(Données!$AE$38*0.6))*(Calculs!GT31/(2*Calculs!GU31))^3","v":116.47081775131731},{"$f":"IF(AND(GR37>=0.1,Accueil!$AZ$15=\"Français\"),\"rigide\",IF(AND(GR37<0.1,Accueil!$AZ$15=\"Français\"),\"souple\",IF(AND(GR37>=0.1,Accueil!$AZ$15=\"Deutsch\"),\"steif\",IF(AND(GR37<0.1,Accueil!$AZ$15=\"Deutsch\"),\"weich\"))))","v":"rigide"},{"$f":"2/3*(GS33/(Données!$AE$38*0.6))*(Calculs!$GT$31/(2*Calculs!$GU$31))^3","v":116.47081775131731},{"$f":"IF(AND(GT37>=0.1,Accueil!$AZ$15=\"Français\"),\"rigide\",IF(AND(GT37<0.1,Accueil!$AZ$15=\"Français\"),\"souple\",IF(AND(GT37>=0.1,Accueil!$AZ$15=\"Deutsch\"),\"steif\",IF(AND(GT37<0.1,Accueil!$AZ$15=\"Deutsch\"),\"weich\"))))","v":"rigide"},null,null,null,null,null,null,null,null,null,null,null,null,null,null,null,{"$f":"2/3*($B$11/(Données!$AE$38*0.6))*(Calculs!HN32/(2*Calculs!HO32))^3","v":7.0633863570637558E-3},{"$f":"IF(AND(HK37>=0.1,Accueil!$AZ$15=\"Français\"),\"rigide\",IF(AND(HK37<0.1,Accueil!$AZ$15=\"Français\"),\"souple\",IF(AND(HK37>=0.1,Accueil!$AZ$15=\"Deutsch\"),\"steif\",IF(AND(HK37<0.1,Accueil!$AZ$15=\"Deutsch\"),\"weich\"))))","v":"souple"},{"$f":"2/3*($C$11/(Données!$AE$38*0.6))*(HN32/(2*HO32))^3","v":1.7658465892659389E-3},{"$f":"IF(AND(HM37>=0.1,Accueil!$AZ$15=\"Français\"),\"rigide\",IF(AND(HM37<0.1,Accueil!$AZ$15=\"Français\"),\"souple\",IF(AND(HM37>=0.1,Accueil!$AZ$15=\"Deutsch\"),\"steif\",IF(AND(HM37<0.1,Accueil!$AZ$15=\"Deutsch\"),\"weich\"))))","v":"souple"},null,null,null,{"$f":"2/3*(HS33/(Données!$AE$38*0.6))*(Calculs!HT31/(2*Calculs!HU31))^3","v":116.47081775131731},{"$f":"IF(AND(HR37>=0.1,Accueil!$AZ$15=\"Français\"),\"rigide\",IF(AND(HR37<0.1,Accueil!$AZ$15=\"Français\"),\"souple\",IF(AND(HR37>=0.1,Accueil!$AZ$15=\"Deutsch\"),\"steif\",IF(AND(HR37<0.1,Accueil!$AZ$15=\"Deutsch\"),\"weich\"))))","v":"rigide"},{"$f":"2/3*(HS33/(Données!$AE$38*0.6))*(Calculs!$HT$31/(2*Calculs!$HU$31))^3","v":116.47081775131731},{"$f":"IF(AND(HT37>=0.1,Accueil!$AZ$15=\"Français\"),\"rigide\",IF(AND(HT37<0.1,Accueil!$AZ$15=\"Français\"),\"souple\",IF(AND(HT37>=0.1,Accueil!$AZ$15=\"Deutsch\"),\"steif\",IF(AND(HT37<0.1,Accueil!$AZ$15=\"Deutsch\"),\"weich\"))))","v":"rigide"},null,null,null,null,null,null,null,null,null,null,null,null,null,null,null,{"$f":"2/3*($B$11/(Données!$AE$38*0.6))*(Calculs!IN32/(2*Calculs!IO32))^3","v":1.4047972907618582E-2},{"$f":"IF(AND(IK37>=0.1,Accueil!$AZ$15=\"Français\"),\"rigide\",IF(AND(IK37<0.1,Accueil!$AZ$15=\"Français\"),\"souple\",IF(AND(IK37>=0.1,Accueil!$AZ$15=\"Deutsch\"),\"steif\",IF(AND(IK37<0.1,Accueil!$AZ$15=\"Deutsch\"),\"weich\"))))","v":"souple"},{"$f":"2/3*($C$11/(Données!$AE$38*0.6))*(IN32/(2*IO32))^3","v":3.5119932269046454E-3},{"$f":"IF(AND(IM37>=0.1,Accueil!$AZ$15=\"Français\"),\"rigide\",IF(AND(IM37<0.1,Accueil!$AZ$15=\"Français\"),\"souple\",IF(AND(IM37>=0.1,Accueil!$AZ$15=\"Deutsch\"),\"steif\",IF(AND(IM37<0.1,Accueil!$AZ$15=\"Deutsch\"),\"weich\"))))","v":"souple"},null,null,null,{"$f":"2/3*(IS33/(Données!$AE$38*0.6))*(Calculs!IT31/(2*Calculs!IU31))^3","v":116.47081775131731},{"$f":"IF(AND(IR37>=0.1,Accueil!$AZ$15=\"Français\"),\"rigide\",IF(AND(IR37<0.1,Accueil!$AZ$15=\"Français\"),\"souple\",IF(AND(IR37>=0.1,Accueil!$AZ$15=\"Deutsch\"),\"steif\",IF(AND(IR37<0.1,Accueil!$AZ$15=\"Deutsch\"),\"weich\"))))","v":"rigide"},{"$f":"2/3*(IS33/(Données!$AE$38*0.6))*(Calculs!$IT$31/(2*Calculs!$IU$31))^3","v":116.47081775131731},{"$f":"IF(AND(IT37>=0.1,Accueil!$AZ$15=\"Français\"),\"rigide\",IF(AND(IT37<0.1,Accueil!$AZ$15=\"Français\"),\"souple\",IF(AND(IT37>=0.1,Accueil!$AZ$15=\"Deutsch\"),\"steif\",IF(AND(IT37<0.1,Accueil!$AZ$15=\"Deutsch\"),\"weich\"))))","v":"rigide"},null,null,null,null,null,null,null,null,null,null,null,null,null,null,null,{"$f":"2/3*($B$11/(Données!$AE$38*0.6))*(Calculs!JN32/(2*Calculs!JO32))^3","v":2.775313752689839E-2},{"$f":"IF(AND(JK37>=0.1,Accueil!$AZ$15=\"Français\"),\"rigide\",IF(AND(JK37<0.1,Accueil!$AZ$15=\"Français\"),\"souple\",IF(AND(JK37>=0.1,Accueil!$AZ$15=\"Deutsch\"),\"steif\",IF(AND(JK37<0.1,Accueil!$AZ$15=\"Deutsch\"),\"weich\"))))","v":"souple"},{"$f":"2/3*($C$11/(Données!$AE$38*0.6))*(JN32/(2*JO32))^3","v":6.9382843817245975E-3},{"$f":"IF(AND(JM37>=0.1,Accueil!$AZ$15=\"Français\"),\"rigide\",IF(AND(JM37<0.1,Accueil!$AZ$15=\"Français\"),\"souple\",IF(AND(JM37>=0.1,Accueil!$AZ$15=\"Deutsch\"),\"steif\",IF(AND(JM37<0.1,Accueil!$AZ$15=\"Deutsch\"),\"weich\"))))","v":"souple"},null,null,null,{"$f":"2/3*(JS33/(Données!$AE$38*0.6))*(Calculs!JT31/(2*Calculs!JU31))^3","v":116.47081775131731},{"$f":"IF(AND(JR37>=0.1,Accueil!$AZ$15=\"Français\"),\"rigide\",IF(AND(JR37<0.1,Accueil!$AZ$15=\"Français\"),\"souple\",IF(AND(JR37>=0.1,Accueil!$AZ$15=\"Deutsch\"),\"steif\",IF(AND(JR37<0.1,Accueil!$AZ$15=\"Deutsch\"),\"weich\"))))","v":"rigide"},{"$f":"2/3*(JS33/(Données!$AE$38*0.6))*(Calculs!JT31/(2*Calculs!JU31))^3","v":116.47081775131731},{"$f":"IF(AND(JT37>=0.1,Accueil!$AZ$15=\"Français\"),\"rigide\",IF(AND(JT37<0.1,Accueil!$AZ$15=\"Français\"),\"souple\",IF(AND(JT37>=0.1,Accueil!$AZ$15=\"Deutsch\"),\"steif\",IF(AND(JT37<0.1,Accueil!$AZ$15=\"Deutsch\"),\"weich\"))))","v":"rigide"},null,null,null,null,null,null,null,null,null,null,null,null,null,null,null,null,null,{"$f":"2/3*($B$8/(Données!$AE$38*0.6))*(Calculs!KP32/(2*Calculs!KQ32))^3","v":6.5784209308648505},{"$f":"IF(AND(KM37>=0.1,Accueil!$AZ$15=\"Français\"),\"rigide\",IF(AND(KM37<0.1,Accueil!$AZ$15=\"Français\"),\"souple\",IF(AND(KM37>=0.1,Accueil!$AZ$15=\"Deutsch\"),\"steif\",IF(AND(KM37<0.1,Accueil!$AZ$15=\"Deutsch\"),\"weich\"))))","v":"rigide"},{"$f":"2/3*($C$8/(Données!$AE$38*0.6))*(Calculs!$KP$32/(2*Calculs!$KQ$32))^3","v":6.5784209308648505},{"$f":"IF(AND(KO37>=0.1,Accueil!$AZ$15=\"Français\"),\"rigide\",IF(AND(KO37<0.1,Accueil!$AZ$15=\"Français\"),\"souple\",IF(AND(KO37>=0.1,Accueil!$AZ$15=\"Deutsch\"),\"steif\",IF(AND(KO37<0.1,Accueil!$AZ$15=\"Deutsch\"),\"weich\"))))","v":"rigide"},null,null,null,null,null,null,null,null,null,null,null,null,null,null,null,null,null,null,null,null,null,null,{"$f":"2/3*($B$8/(Données!$AE$38*0.6))*(Calculs!LP32/(2*Calculs!LQ32))^3","v":15.789129238615228},{"$f":"IF(AND(LM37>=0.1,Accueil!$AZ$15=\"Français\"),\"rigide\",IF(AND(LM37<0.1,Accueil!$AZ$15=\"Français\"),\"souple\",IF(AND(LM37>=0.1,Accueil!$AZ$15=\"Deutsch\"),\"steif\",IF(AND(LM37<0.1,Accueil!$AZ$15=\"Deutsch\"),\"weich\"))))","v":"rigide"},{"$f":"2/3*($C$8/(Données!$AE$38*0.6))*(Calculs!$KP$32/(2*Calculs!$KQ$32))^3","v":6.5784209308648505},{"$f":"IF(AND(LO37>=0.1,Accueil!$AZ$15=\"Français\"),\"rigide\",IF(AND(LO37<0.1,Accueil!$AZ$15=\"Français\"),\"souple\",IF(AND(LO37>=0.1,Accueil!$AZ$15=\"Deutsch\"),\"steif\",IF(AND(LO37<0.1,Accueil!$AZ$15=\"Deutsch\"),\"weich\"))))","v":"rigide"},null,null,null,null,null,null,null,null,null,null,null,null,null,null,null,null,null,null,null,null,null,null,null,null,null,null,null,null,null,null,null,null,null,null,null,null,null,null,null,null,null,null,null,null,null,null,null,null,null,null,null,null,null,null,null,null,null,null,null,null,null,null,null,null,null,null,null,null,null,null,null,null,null,null,null,null,null,null,null,null,null,null,null,null,null,null,null,null,null,null,null,null,null,null,null,null,null,null,null,null,null,null,null,null,null,null,null,null,null,null,null,null,null,null,null,null,null,null,null,null,null,null,null,null,null,null,null,null,null,null,null,null,null,null,null,null,null,null,null,null,null,null,null,null,null,null,null,null,null,null,null,null,null,null,null,null,null,null,null,null,null,null,null,null,null,null,null,null,null,null,null,null,null,null,null,null,{"$f":"2/3*($B$9/(Données!$AE$38*0.6))*(Calculs!SN32/(2*Calculs!SO32))^3","v":0.20170792715109187},{"$f":"IF(AND(SK37>=0.1,Accueil!$AZ$15=\"Français\"),\"rigide\",IF(AND(SK37<0.1,Accueil!$AZ$15=\"Français\"),\"souple\",IF(AND(SK37>=0.1,Accueil!$AZ$15=\"Deutsch\"),\"steif\",IF(AND(SK37<0.1,Accueil!$AZ$15=\"Deutsch\"),\"weich\"))))","v":"rigide"},{"$f":"2/3*($C$9/(Données!$AE$38*0.6))*(SN32/(2*SO32))^3","v":0.20170792715109187},{"$f":"IF(AND(SM37>=0.1,Accueil!$AZ$15=\"Français\"),\"rigide\",IF(AND(SM37<0.1,Accueil!$AZ$15=\"Français\"),\"souple\",IF(AND(SM37>=0.1,Accueil!$AZ$15=\"Deutsch\"),\"steif\",IF(AND(SM37<0.1,Accueil!$AZ$15=\"Deutsch\"),\"weich\"))))","v":"rigide"}]
[0.75,124.9966,78.344200000000001,46.6524,0.75,94.674499999999995,78.344200000000001,16.330299999999994]
[0.875,103.2701,58.691600000000001,44.578499999999998,0.875,76.224000000000004,58.691600000000001,17.532400000000003,null,null,null,null,null,null,null,null,null,null,null,null,null,null,null,null,null,null,null,null,null,null,null,null,null,null,null,null,null,null,null,null,null,null,null,null,null,null,null,null,null,null,null,null,null,null,null,null,null,null,null,null,null,null,null,null,null,null,null,null,null,null,null,null,null,null,null,null,null,null,null,null,null,null,null,null,null,null,null,null,null,null,null,null,null,null,null,null,null,null,null,null,null,null,null,null,null,null,null,null,null,null,null,null,null,null,null,null,null,null,null,null,null,null,null,null,null,null,null,null,null,null,null,null,null,null,null,null,null,null,null,null,null,null,null,null,null,null,null,null,null,null,null,null,null,null,null,null,null,null,null,null,null,null,null,null,null,null,null,null,null,null,null,null,null,null,null,null,null,null,null,null,null,null,null,null,null,null,null,null,null,null,null,null,null,null,null,null,null,null,null,null,null,null,null,null,null,null,null,null,null,null,null,null,null,null,null,null,null,null,null,null,null,null,null,null,null,null,null,null,null,null,null,null,null,null,null,null,null,null,null,null,null,null,null,null,null,null,null,null,null,null,null,null,null,null,null,null,null,null,null,null,null,null,null,null,null,null,null,null,null,null,null,null,null,null,null,null,null,null,null,null,null,null,null,null,null,null,null,null,null,null,null,null,null,null,null,null,null,null,null,null,null,null,null,null,null,null,null,null,null,null,null,null,null,null,null,null,null,null,null,null,null,null,null,null,null,null,null,null,null,null,null,null,null,null,null,null,null,null,null,null,null,null,null,null,null,null,null,null,"3. Module d'élasticité U1/V1",null,null,null,null,null,null,null,null,null,null,null,null,null,null,null,null,null,null,null,null,null,null,null,null,null,"3. Module d'élasticité U1/V1",null,null,null,null,null,null,null,null,null,null,null,null,null,null,null,null,null,null,null,null,null,null,null,null,null,"3. Module d'élasticité U1/V1",null,null,null,null,null,null,null,null,null,null,null,null,null,null,null,null,null,null,null,null,null,null,null,null,null,"3. Module d'élasticité U1/V1",null,null,null,null,null,null,null,null,null,null,null,null,null,null,null,null,null,null,null,null,null,null,null,null,null,"3. Module d'élasticité U1/V1",null,null,null,null,null,null,null,null,null,null,null,null,null,null,null,null,null,null,null,null,null,null,null,null,null,"3. Module d'élasticité U1/V1"]
[1,87.798000000000002,45.337400000000002,{"$f":"B40-C40","v":42.460599999999999},1,63.735300000000002,45.337400000000002,{"$f":"F40-G40","v":18.3979},null,null,null,null,null,null,"4. Facteur de majoration de charges f",null,null,null,null,null,null,null,null,null,null,null,null,null,null,null,null,null,null,null,null,null,"4. Facteur de majoration de charges f",null,null,null,null,null,null,"4. Facteur de majoration de charges f",null,null,null,null,null,null,null,null,null,null,null,null,null,null,null,null,null,null,"4. Facteur de majoration de charges f",null,null,null,null,null,null,"4. Facteur de majoration de charges f",null,null,null,null,null,null,null,null,null,null,null,null,null,null,null,null,null,null,"4. Facteur de majoration de charges f",null,null,null,null,null,null,"4. Facteur de majoration de charges f",null,null,null,null,null,null,null,null,null,null,null,null,null,null,null,null,null,null,"4. Facteur de majoration de charges f",null,null,null,null,null,null,"4. Facteur de majoration de charges f",null,null,null,null,null,null,null,null,null,null,null,null,null,null,null,null,null,null,"4. Facteur de majoration de charges f",null,null,null,null,null,null,"4. Facteur de majoration de charges f",null,null,null,null,null,null,null,null,null,null,null,null,null,null,null,null,null,null,"4. Facteur de majoration de charges f",null,null,null,null,null,null,"4. Facteur de majoration de charges f",null,null,null,null,null,null,null,null,null,null,null,null,null,null,null,null,null,null,"4. Facteur de majoration de charges f",null,null,null,null,null,null,"4. Facteur de majoration de charges f",null,null,null,null,null,null,null,null,null,null,null,null,null,null,null,null,null,null,"4. Facteur de majoration de charges f",null,null,null,null,null,null,"4. Facteur de majoration de charges f",null,null,null,null,null,null,null,null,null,null,null,null,null,null,null,null,null,null,"4. Facteur de majoration de charges f",null,null,null,null,null,null,"4. Facteur de majoration de charges f",null,null,null,null,null,null,null,null,null,null,null,null,null,null,null,null,null,null,"4. Facteur de majoration de charges f",null,null,null,null,null,null,"4. Facteur de majoration de charges f",null,null,null,null,null,null,null,null,null,null,null,null,null,null,null,null,null,null,null,null,"4. Facteur de majoration de charges f",null,null,null,null,null,null,null,null,null,null,null,null,null,null,null,null,null,null,null,null,null,null,null,null,null,"4. Facteur de majoration de charges f",null,null,null,null,null,null,null,null,null,null,null,null,null,null,null,null,null,null,null,null,null,null,null,"ERcourt [N/mm2]",null,"Erlong [N/mm2]",null,null,null,null,null,null,null,null,null,null,null,null,null,null,null,null,null,null,null,null,null,null,null,"ERcourt [N/mm2]",null,"Erlong [N/mm2]",null,null,null,null,null,null,null,null,null,null,null,null,null,null,null,null,null,null,null,null,null,null,null,"ERcourt [N/mm2]",null,"Erlong [N/mm2]",null,null,null,null,null,null,null,null,null,null,null,null,null,null,null,null,null,null,null,null,null,null,null,"ERcourt [N/mm2]",null,"Erlong [N/mm2]",null,null,null,null,null,null,null,null,null,null,null,null,null,null,null,null,null,null,null,null,null,null,null,"ERcourt [N/mm2]",null,"Erlong [N/mm2]",null,null,null,null,null,null,null,null,null,null,null,null,null,null,null,null,null,null,null,null,null,null,null,"ERcourt [N/mm2]",null,"Erlong [N/mm2]",null,null,null,null,null,null,null,null,null,null,null,null,null,null,null,null,null,null,null,null,null,null,null,"4. Facteur de majoration de charges f"]
[1.125,76.347399999999993,35.9435,40.403899999999993,1.125,54.898899999999998,35.9435,18.955399999999997,null,null,null,null,null,null,"f",{"$f":"Q32/(2*S32)","v":1.1176470588235294},{"$f":"IF(P41>=1.025,P41,1)","v":1.1176470588235294},"[-]",null,null,null,null,null,null,null,null,null,null,null,null,null,null,null,null,null,null,"f",{"$f":"AM32/(2*AO32)","v":1.0317255610007738},{"$f":"IF(AL41>=1.025,AL41,1)","v":1.0317255610007738},"[-]",null,null,null,"f",{"$f":"AS31/(2*AU31)","v":1.2920353982300885},{"$f":"IF(AS41>=1.025,AS41,1)","v":1.2920353982300885},"[-]",null,null,null,null,null,null,null,null,null,null,null,null,null,null,null,"f",{"$f":"BM32/(2*BO32)","v":1.0354646647683148},{"$f":"IF(BL41>=1.025,BL41,1)","v":1.0354646647683148},"[-]",null,null,null,"f",{"$f":"BS31/(2*BU31)","v":1.2920353982300885},{"$f":"IF(BS41>=1.025,BS41,1)","v":1.2920353982300885},"[-]",null,null,null,null,null,null,null,null,null,null,null,null,null,null,null,"f",{"$f":"CM32/(2*CO32)","v":1.0397712503249286},{"$f":"IF(CL41>=1.025,CL41,1)","v":1.0397712503249286},"[-]",null,null,null,"f",{"$f":"CS31/(2*CU31)","v":1.2920353982300885},{"$f":"IF(CS41>=1.025,CS41,1)","v":1.2920353982300885},"[-]",null,null,null,null,null,null,null,null,null,null,null,null,null,null,null,"f",{"$f":"DM32/(2*DO32)","v":1.0476689366160292},{"$f":"IF(DL41>=1.025,DL41,1)","v":1.0476689366160292},"[-]",null,null,null,"f",{"$f":"DS31/(2*DU31)","v":1.2920353982300885},{"$f":"IF(DS41>=1.025,DS41,1)","v":1.2920353982300885},"[-]",null,null,null,null,null,null,null,null,null,null,null,null,null,null,null,"f",{"$f":"EM32/(2*EO32)","v":1.020077720207254},{"$f":"IF(EL41>=1.025,EL41,1)","v":1},"[-]",null,null,null,"f",{"$f":"ES31/(2*EU31)","v":1.3225806451612903},{"$f":"IF(ES41>=1.025,ES41,1)","v":1.3225806451612903},"[-]",null,null,null,null,null,null,null,null,null,null,null,null,null,null,null,"f",{"$f":"FM32/(2*FO32)","v":1.0251227259601501},{"$f":"IF(FL41>=1.025,FL41,1)","v":1.0251227259601501},"[-]",null,null,null,"f",{"$f":"FS31/(2*FU31)","v":1.2970297029702971},{"$f":"IF(FS41>=1.025,FS41,1)","v":1.2970297029702971},"[-]",null,null,null,null,null,null,null,null,null,null,null,null,null,null,null,"f",{"$f":"GM32/(2*GO32)","v":1.0301799187463725},{"$f":"IF(GL41>=1.025,GL41,1)","v":1.0301799187463725},"[-]",null,null,null,"f",{"$f":"GS31/(2*GU31)","v":1.2970297029702971},{"$f":"IF(GS41>=1.025,GS41,1)","v":1.2970297029702971},"[-]",null,null,null,null,null,null,null,null,null,null,null,null,null,null,null,"f",{"$f":"HM32/(2*HO32)","v":1.0316768381284509},{"$f":"IF(HL41>=1.025,HL41,1)","v":1.0316768381284509},"[-]",null,null,null,"f",{"$f":"HS31/(2*HU31)","v":1.2970297029702971},{"$f":"IF(HS41>=1.025,HS41,1)","v":1.2970297029702971},"[-]",null,null,null,null,null,null,null,null,null,null,null,null,null,null,null,"f",{"$f":"IM32/(2*IO32)","v":1.0398359695371999},{"$f":"IF(IL41>=1.025,IL41,1)","v":1.0398359695371999},"[-]",null,null,null,"f",{"$f":"IS31/(2*IU31)","v":1.2970297029702971},{"$f":"IF(IS41>=1.025,IS41,1)","v":1.2970297029702971},"[-]",null,null,null,null,null,null,null,null,null,null,null,null,null,null,null,"f",{"$f":"JM32/(2*JO32)","v":1.0499852114758947},{"$f":"IF(JL41>=1.025,JL41,1)","v":1.0499852114758947},"[-]",null,null,null,"f",{"$f":"JS31/(2*JU31)","v":1.2970297029702971},{"$f":"IF(JS41>=1.025,JS41,1)","v":1.2970297029702971},"[-]",null,null,null,null,null,null,null,null,null,null,null,null,null,null,null,null,null,"f",{"$f":"KO32/(2*KQ32)","v":1.083969465648855},{"$f":"IF(KN41>=1.025,KN41,1)","v":1.083969465648855},"[-]",null,null,null,null,null,null,null,null,null,null,null,null,null,null,null,null,null,null,null,null,null,null,"f",{"$f":"LO32/(2*LQ32)","v":1.1124260355029585},{"$f":"IF(LN41>=1.025,LN41,1)","v":1.1124260355029585},"[-]",null,null,null,null,null,null,null,null,null,null,null,null,null,null,null,null,null,null,null,null,{"$f":"MO35/(1000)^2*12*(2*MN35/MM35)^3","v":4394.4672594752183},null,{"$f":"MP35/(1000)^2*12*(2*MN35/MM35)^3","v":2197.2336297376091},null,null,null,null,null,null,null,null,null,null,null,null,null,null,null,null,null,null,null,null,null,null,null,{"$f":"NO35/(1000)^2*12*(2*NN35/NM35)^3","v":5840.16},null,{"$f":"NP35/(1000)^2*12*(2*NN35/NM35)^3","v":2920.08},null,null,null,null,null,null,null,null,null,null,null,null,null,null,null,null,null,null,null,null,null,null,null,{"$f":"OO35/(1000)^2*12*(2*ON35/OM35)^3","v":5145},null,{"$f":"OP35/(1000)^2*12*(2*ON35/OM35)^3","v":2572.5},null,null,null,null,null,null,null,null,null,null,null,null,null,null,null,null,null,null,null,null,null,null,null,{"$f":"PO35/(1000)^2*12*(2*PN35/PM35)^3","v":5572.645919999999},null,{"$f":"PP35/(1000)^2*12*(2*PN35/PM35)^3","v":2786.3229599999995},null,null,null,null,null,null,null,null,null,null,null,null,null,null,null,null,null,null,null,null,null,null,null,{"$f":"QO35/(1000)^2*12*(2*QN35/QM35)^3","v":5944.155647999999},null,{"$f":"QP35/(1000)^2*12*(2*QN35/QM35)^3","v":2972.0778239999995},null,null,null,null,null,null,null,null,null,null,null,null,null,null,null,null,null,null,null,null,null,null,null,{"$f":"RO35/(1000)^2*12*(2*RN35/RM35)^3","v":5529.2496468820427},null,{"$f":"RP35/(1000)^2*12*(2*RN35/RM35)^3","v":2764.6248234410214},null,null,null,null,null,null,null,null,null,null,null,null,null,null,null,null,null,null,null,null,null,null,null,"f",{"$f":"SM32/(2*SO32)","v":1.017478152309613},{"$f":"IF(SL41>=1.025,SL41,1)","v":1},"[-]"]
[1.25,67.563900000000004,29.126777777777775,38.437122222222229,1.25,48.379199999999997,29.126777777777775,19.252422222222222]
[1.375,60.609400000000001,24.043700000000001,36.5657,1.375,43.383499999999998,24.043700000000001,19.339799999999997]
[1.5,54.951500000000003,20.162666666666667,34.788833333333336,1.5,39.426699999999997,20.162666666666667,19.26403333333333,null,null,null,null,null,null,"5. Profil d'enrobage (seulement rigide)",null,null,null,null,null,null,null,null,null,null,null,null,null,null,null,null,null,null,null,null,null,null,null,null,null,"5. Profil d'enrobages",null,null,null,null,null,null,null,null,null,null,null,null,null,null,null,null,null,null,null,null,null,null,null,null,null,"5. Profil d'enrobages",null,null,null,null,null,null,null,null,null,null,null,null,null,null,null,null,null,null,null,null,null,null,null,null,null,"5. Profil d'enrobages",null,null,null,null,null,null,null,null,null,null,null,null,null,null,null,null,null,null,null,null,null,null,null,null,null,"5. Profil d'enrobages",null,null,null,null,null,null,null,null,null,null,null,null,null,null,null,null,null,null,null,null,null,null,null,null,null,"5. Profil d'enrobages",null,null,null,null,null,null,null,null,null,null,null,null,null,null,null,null,null,null,null,null,null,null,null,null,null,"5. Profil d'enrobages",null,null,null,null,null,null,null,null,null,null,null,null,null,null,null,null,null,null,null,null,null,null,null,null,null,"5. Profil d'enrobages",null,null,null,null,null,null,null,null,null,null,null,null,null,null,null,null,null,null,null,null,null,null,null,null,null,"5. Profil d'enrobages",null,null,null,null,null,null,null,null,null,null,null,null,null,null,null,null,null,null,null,null,null,null,null,null,null,"5. Profil d'enrobages",null,null,null,null,null,null,null,null,null,null,null,null,null,null,null,null,null,null,null,null,null,null,null,null,null,"5. Profil d'enrobages",null,null,null,null,null,null,null,null,null,null,null,null,null,null,null,null,null,null,null,null,null,null,null,"5. Profil d'enrobage (seulement rigide)",null,null,null,null,null,null,null,null,null,null,null,null,null,null,null,null,null,null,null,null,null,null,null,null,null,"5. Profil d'enrobage (seulement rigide)",null,null,null,null,null,null,null,null,null,null,null,null,null,null,null,null,null,null,null,null,null,null,null,"3. Rigidité du système U1/V1",null,null,null,null,null,null,"3. Rigidité U4/V4",null,null,null,null,null,null,null,null,null,null,null,null,null,null,null,null,null,null,"3. Rigidité du système U1/V1",null,null,null,null,null,null,"3. Rigidité U4/V4",null,null,null,null,null,null,null,null,null,null,null,null,null,null,null,null,null,null,"3. Rigidité du système U1/V1",null,null,null,null,null,null,"3. Rigidité U4/V4",null,null,null,null,null,null,null,null,null,null,null,null,null,null,null,null,null,null,"3. Rigidité du système U1/V1",null,null,null,null,null,null,"3. Rigidité U4/V4",null,null,null,null,null,null,null,null,null,null,null,null,null,null,null,null,null,null,"3. Rigidité du système U1/V1",null,null,null,null,null,null,"3. Rigidité U4/V4",null,null,null,null,null,null,null,null,null,null,null,null,null,null,null,null,null,null,"3. Rigidité du système U1/V1",null,null,null,null,null,null,"3. Rigidité U4/V4",null,null,null,null,null,null,null,null,null,null,null,null,null,null,null,null,null,null,null,null,null,null,"5. Profil d'enrobages"]
[1.625,50.241799999999998,17.138000000000002,33.103799999999993,1.625,36.202300000000001,17.138000000000002,19.064299999999999,null,null,null,null,null,null,null,1,2,"2A",3,4,null,null,null,null,null,null,null,null,null,null,null,null,null,null,null,null,null,null,null,null,null,1,null,4,null,null,null,null,null,null,null,null,null,null,null,null,null,null,null,null,null,null,null,null,null,null,null,1,null,4,null,null,null,null,null,null,null,null,null,null,null,null,null,null,null,null,null,null,null,null,null,null,null,1,null,4,null,null,null,null,null,null,null,null,null,null,null,null,null,null,null,null,null,null,null,null,null,null,null,1,null,4,null,null,null,null,null,null,null,null,null,null,null,null,null,null,null,null,null,null,null,null,null,null,null,1,null,4,null,null,null,null,null,null,null,null,null,null,null,null,null,null,null,null,null,null,null,null,null,null,null,1,null,4,null,null,null,null,null,null,null,null,null,null,null,null,null,null,null,null,null,null,null,null,null,null,null,1,null,4,null,null,null,null,null,null,null,null,null,null,null,null,null,null,null,null,null,null,null,null,null,null,null,1,null,4,null,null,null,null,null,null,null,null,null,null,null,null,null,null,null,null,null,null,null,null,null,null,null,1,null,4,null,null,null,null,null,null,null,null,null,null,null,null,null,null,null,null,null,null,null,null,null,null,null,1,null,4,null,null,null,null,null,null,null,null,null,null,null,null,null,null,null,null,null,null,null,null,null,1,2,"2A",3,4,null,null,null,null,null,null,null,null,null,null,null,null,null,null,null,null,null,null,null,null,null,1,2,"2A",3,4,null,null,null,null,null,null,null,null,null,null,null,null,null,null,null,null,null,null,"SFcourt ",null,"SFlong",null,null,null,null,"SFcourt ",null,"SFlong",null,null,null,null,null,null,null,null,null,null,null,null,null,null,null,null,"SFcourt ",null,"SFlong",null,null,null,null,"SFcourt ",null,"SFlong",null,null,null,null,null,null,null,null,null,null,null,null,null,null,null,null,"SFcourt ",null,"SFlong",null,null,null,null,"SFcourt ",null,"SFlong",null,null,null,null,null,null,null,null,null,null,null,null,null,null,null,null,"SFcourt ",null,"SFlong",null,null,null,null,"SFcourt ",null,"SFlong",null,null,null,null,null,null,null,null,null,null,null,null,null,null,null,null,"SFcourt ",null,"SFlong",null,null,null,null,"SFcourt ",null,"SFlong",null,null,null,null,null,null,null,null,null,null,null,null,null,null,null,null,"SFcourt ",null,"SFlong",null,null,null,null,"SFcourt ",null,"SFlong",null,null,null,null,null,null,null,null,null,null,null,null,null,null,null,null,null,null,null,null,null,"1a",null,1]
[1.75,46.245800000000003,14.738200000000001,31.507600000000004,1.75,33.510599999999997,14.738200000000001,18.772399999999998,null,null,null,null,null,null,"ZE",1.5,2.5,3,6,7,null,null,null,null,null,null,null,null,null,null,null,null,null,null,null,null,null,null,null,null,"K1",{"$f":"Données!$AE$48","v":0.5},"ZE",7,null,null,null,null,null,null,null,null,null,null,null,null,null,null,null,null,null,null,null,null,null,null,"K1",{"$f":"Données!$AE$48","v":0.5},"ZE",7,null,null,null,null,null,null,null,null,null,null,null,null,null,null,null,null,null,null,null,null,null,null,"K1",{"$f":"Données!$AE$48","v":0.5},"ZE",7,null,null,null,null,null,null,null,null,null,null,null,null,null,null,null,null,null,null,null,null,null,null,"K1",{"$f":"Données!$AE$48","v":0.5},"ZE",7,null,null,null,null,null,null,null,null,null,null,null,null,null,null,null,null,null,null,null,null,null,null,"K1",{"$f":"Données!$AE$48","v":0.5},"ZE",7,null,null,null,null,null,null,null,null,null,null,null,null,null,null,null,null,null,null,null,null,null,null,"K1",{"$f":"Données!$AE$48","v":0.5},"ZE",7,null,null,null,null,null,null,null,null,null,null,null,null,null,null,null,null,null,null,null,null,null,null,"K1",{"$f":"Données!$AE$48","v":0.5},"ZE",7,null,null,null,null,null,null,null,null,null,null,null,null,null,null,null,null,null,null,null,null,null,null,"K1",{"$f":"Données!$AE$48","v":0.5},"ZE",7,null,null,null,null,null,null,null,null,null,null,null,null,null,null,null,null,null,null,null,null,null,null,"K1",{"$f":"Données!$AE$48","v":0.5},"ZE",7,null,null,null,null,null,null,null,null,null,null,null,null,null,null,null,null,null,null,null,null,null,null,"K1",{"$f":"Données!$AE$48","v":0.5},"ZE",7,null,null,null,null,null,null,null,null,null,null,null,null,null,null,null,null,null,null,null,null,"ZE",1.5,2.5,3,6,7,null,null,null,null,null,null,null,null,null,null,null,null,null,null,null,null,null,null,null,null,"ZE",1.5,2.5,3,6,7,null,null,null,null,null,null,null,null,null,null,null,null,null,null,null,null,null,null,{"$f":"2/3*(MK41/(Données!$AE$38*0.6))*(Calculs!MM35/(2*Calculs!MN35))^3","v":6.6666666666666654E-3},{"$f":"IF(AND(MK46>=0.1,Accueil!$AZ$15=\"Français\"),\"rigide\",IF(AND(MK46<0.1,Accueil!$AZ$15=\"Français\"),\"souple\",IF(AND(MK46>=0.1,Accueil!$AZ$15=\"Deutsch\"),\"steif\",IF(AND(MK46<0.1,Accueil!$AZ$15=\"Deutsch\"),\"weich\"))))","v":"souple"},{"$f":"2/3*(MM41/(Données!$AE$38*0.6))*(MM35/(2*MN35))^3","v":3.3333333333333327E-3},{"$f":"IF(AND(MM46>=0.1,Accueil!$AZ$15=\"Français\"),\"rigide\",IF(AND(MM46<0.1,Accueil!$AZ$15=\"Français\"),\"souple\",IF(AND(MM46>=0.1,Accueil!$AZ$15=\"Deutsch\"),\"steif\",IF(AND(MM46<0.1,Accueil!$AZ$15=\"Deutsch\"),\"weich\"))))","v":"souple"},null,null,null,{"$f":"2/3*(MS36/(Données!$AE$38*0.6))*(Calculs!MT34/(2*Calculs!MU34))^3","v":110.54243150732353},{"$f":"IF(AND(MR46>=0.1,Accueil!$AZ$15=\"Français\"),\"rigide\",IF(AND(MR46<0.1,Accueil!$AZ$15=\"Français\"),\"souple\",IF(AND(MR46>=0.1,Accueil!$AZ$15=\"Deutsch\"),\"steif\",IF(AND(MR46<0.1,Accueil!$AZ$15=\"Deutsch\"),\"weich\"))))","v":"rigide"},{"$f":"2/3*(MS36/(Données!$AE$38*0.6))*(Calculs!MT34/(2*Calculs!MU34))^3","v":110.54243150732353},{"$f":"IF(AND(MT46>=0.1,Accueil!$AZ$15=\"Français\"),\"rigide\",IF(AND(MT46<0.1,Accueil!$AZ$15=\"Français\"),\"souple\",IF(AND(MT46>=0.1,Accueil!$AZ$15=\"Deutsch\"),\"steif\",IF(AND(MT46<0.1,Accueil!$AZ$15=\"Deutsch\"),\"weich\"))))","v":"rigide"},null,null,null,null,null,null,null,null,null,null,null,null,null,null,null,{"$f":"2/3*(NK41/(Données!$AE$38*0.6))*(Calculs!NM35/(2*Calculs!NN35))^3","v":1.3333333333333331E-2},{"$f":"IF(AND(NK46>=0.1,Accueil!$AZ$15=\"Français\"),\"rigide\",IF(AND(NK46<0.1,Accueil!$AZ$15=\"Français\"),\"souple\",IF(AND(NK46>=0.1,Accueil!$AZ$15=\"Deutsch\"),\"steif\",IF(AND(NK46<0.1,Accueil!$AZ$15=\"Deutsch\"),\"weich\"))))","v":"souple"},{"$f":"2/3*(NM41/(Données!$AE$38*0.6))*(NM35/(2*NN35))^3","v":6.6666666666666654E-3},{"$f":"IF(AND(NM46>=0.1,Accueil!$AZ$15=\"Français\"),\"rigide\",IF(AND(NM46<0.1,Accueil!$AZ$15=\"Français\"),\"souple\",IF(AND(NM46>=0.1,Accueil!$AZ$15=\"Deutsch\"),\"steif\",IF(AND(NM46<0.1,Accueil!$AZ$15=\"Deutsch\"),\"weich\"))))","v":"souple"},null,null,null,{"$f":"2/3*(NS36/(Données!$AE$38*0.6))*(Calculs!NT34/(2*Calculs!NU34))^3","v":110.54243150732353},{"$f":"IF(AND(NR46>=0.1,Accueil!$AZ$15=\"Français\"),\"rigide\",IF(AND(NR46<0.1,Accueil!$AZ$15=\"Français\"),\"souple\",IF(AND(NR46>=0.1,Accueil!$AZ$15=\"Deutsch\"),\"steif\",IF(AND(NR46<0.1,Accueil!$AZ$15=\"Deutsch\"),\"weich\"))))","v":"rigide"},{"$f":"2/3*(NS36/(Données!$AE$38*0.6))*(Calculs!NT34/(2*Calculs!NU34))^3","v":110.54243150732353},{"$f":"IF(AND(NT46>=0.1,Accueil!$AZ$15=\"Français\"),\"rigide\",IF(AND(NT46<0.1,Accueil!$AZ$15=\"Français\"),\"souple\",IF(AND(NT46>=0.1,Accueil!$AZ$15=\"Deutsch\"),\"steif\",IF(AND(NT46<0.1,Accueil!$AZ$15=\"Deutsch\"),\"weich\"))))","v":"rigide"},null,null,null,null,null,null,null,null,null,null,null,null,null,null,null,{"$f":"2/3*(OK41/(Données!$AE$38*0.6))*(Calculs!OM35/(2*Calculs!ON35))^3","v":2.6666666666666661E-2},{"$f":"IF(AND(OK46>=0.1,Accueil!$AZ$15=\"Français\"),\"rigide\",IF(AND(OK46<0.1,Accueil!$AZ$15=\"Français\"),\"souple\",IF(AND(OK46>=0.1,Accueil!$AZ$15=\"Deutsch\"),\"steif\",IF(AND(OK46<0.1,Accueil!$AZ$15=\"Deutsch\"),\"weich\"))))","v":"souple"},{"$f":"2/3*(OM41/(Données!$AE$38*0.6))*(OM35/(2*ON35))^3","v":1.3333333333333331E-2},{"$f":"IF(AND(OM46>=0.1,Accueil!$AZ$15=\"Français\"),\"rigide\",IF(AND(OM46<0.1,Accueil!$AZ$15=\"Français\"),\"souple\",IF(AND(OM46>=0.1,Accueil!$AZ$15=\"Deutsch\"),\"steif\",IF(AND(OM46<0.1,Accueil!$AZ$15=\"Deutsch\"),\"weich\"))))","v":"souple"},null,null,null,{"$f":"2/3*(OS36/(Données!$AE$38*0.6))*(Calculs!OT34/(2*Calculs!OU34))^3","v":140.84979980172858},{"$f":"IF(AND(OR46>=0.1,Accueil!$AZ$15=\"Français\"),\"rigide\",IF(AND(OR46<0.1,Accueil!$AZ$15=\"Français\"),\"souple\",IF(AND(OR46>=0.1,Accueil!$AZ$15=\"Deutsch\"),\"steif\",IF(AND(OR46<0.1,Accueil!$AZ$15=\"Deutsch\"),\"weich\"))))","v":"rigide"},{"$f":"2/3*(OS36/(Données!$AE$38*0.6))*(Calculs!OT34/(2*Calculs!OU34))^3","v":140.84979980172858},{"$f":"IF(AND(OT46>=0.1,Accueil!$AZ$15=\"Français\"),\"rigide\",IF(AND(OT46<0.1,Accueil!$AZ$15=\"Français\"),\"souple\",IF(AND(OT46>=0.1,Accueil!$AZ$15=\"Deutsch\"),\"steif\",IF(AND(OT46<0.1,Accueil!$AZ$15=\"Deutsch\"),\"weich\"))))","v":"rigide"},null,null,null,null,null,null,null,null,null,null,null,null,null,null,null,{"$f":"2/3*(PK41/(Données!$AE$38*0.6))*(Calculs!PM35/(2*Calculs!PN35))^3","v":3.9999999999999994E-2},{"$f":"IF(AND(PK46>=0.1,Accueil!$AZ$15=\"Français\"),\"rigide\",IF(AND(PK46<0.1,Accueil!$AZ$15=\"Français\"),\"souple\",IF(AND(PK46>=0.1,Accueil!$AZ$15=\"Deutsch\"),\"steif\",IF(AND(PK46<0.1,Accueil!$AZ$15=\"Deutsch\"),\"weich\"))))","v":"souple"},{"$f":"2/3*(PM41/(Données!$AE$38*0.6))*(PM35/(2*PN35))^3","v":1.9999999999999997E-2},{"$f":"IF(AND(PM46>=0.1,Accueil!$AZ$15=\"Français\"),\"rigide\",IF(AND(PM46<0.1,Accueil!$AZ$15=\"Français\"),\"souple\",IF(AND(PM46>=0.1,Accueil!$AZ$15=\"Deutsch\"),\"steif\",IF(AND(PM46<0.1,Accueil!$AZ$15=\"Deutsch\"),\"weich\"))))","v":"souple"},null,null,null,{"$f":"2/3*(PS36/(Données!$AE$38*0.6))*(Calculs!PT34/(2*Calculs!PU34))^3","v":140.84979980172858},{"$f":"IF(AND(PR46>=0.1,Accueil!$AZ$15=\"Français\"),\"rigide\",IF(AND(PR46<0.1,Accueil!$AZ$15=\"Français\"),\"souple\",IF(AND(PR46>=0.1,Accueil!$AZ$15=\"Deutsch\"),\"steif\",IF(AND(PR46<0.1,Accueil!$AZ$15=\"Deutsch\"),\"weich\"))))","v":"rigide"},{"$f":"2/3*(PS36/(Données!$AE$38*0.6))*(Calculs!PT34/(2*Calculs!PU34))^3","v":140.84979980172858},{"$f":"IF(AND(PT46>=0.1,Accueil!$AZ$15=\"Français\"),\"rigide\",IF(AND(PT46<0.1,Accueil!$AZ$15=\"Français\"),\"souple\",IF(AND(PT46>=0.1,Accueil!$AZ$15=\"Deutsch\"),\"steif\",IF(AND(PT46<0.1,Accueil!$AZ$15=\"Deutsch\"),\"weich\"))))","v":"rigide"},null,null,null,null,null,null,null,null,null,null,null,null,null,null,null,{"$f":"2/3*(QK41/(Données!$AE$38*0.6))*(Calculs!QM35/(2*Calculs!QN35))^3","v":4.2666666666666665E-2},{"$f":"IF(AND(QK46>=0.1,Accueil!$AZ$15=\"Français\"),\"rigide\",IF(AND(QK46<0.1,Accueil!$AZ$15=\"Français\"),\"souple\",IF(AND(QK46>=0.1,Accueil!$AZ$15=\"Deutsch\"),\"steif\",IF(AND(QK46<0.1,Accueil!$AZ$15=\"Deutsch\"),\"weich\"))))","v":"souple"},{"$f":"2/3*(QM41/(Données!$AE$38*0.6))*(QM35/(2*QN35))^3","v":2.1333333333333333E-2},{"$f":"IF(AND(QM46>=0.1,Accueil!$AZ$15=\"Français\"),\"rigide\",IF(AND(QM46<0.1,Accueil!$AZ$15=\"Français\"),\"souple\",IF(AND(QM46>=0.1,Accueil!$AZ$15=\"Deutsch\"),\"steif\",IF(AND(QM46<0.1,Accueil!$AZ$15=\"Deutsch\"),\"weich\"))))","v":"souple"},null,null,null,{"$f":"2/3*(QS36/(Données!$AE$38*0.6))*(Calculs!QT34/(2*Calculs!QU34))^3","v":140.84979980172858},{"$f":"IF(AND(QR46>=0.1,Accueil!$AZ$15=\"Français\"),\"rigide\",IF(AND(QR46<0.1,Accueil!$AZ$15=\"Français\"),\"souple\",IF(AND(QR46>=0.1,Accueil!$AZ$15=\"Deutsch\"),\"steif\",IF(AND(QR46<0.1,Accueil!$AZ$15=\"Deutsch\"),\"weich\"))))","v":"rigide"},{"$f":"2/3*(QS36/(Données!$AE$38*0.6))*(Calculs!QT34/(2*Calculs!QU34))^3","v":140.84979980172858},{"$f":"IF(AND(QT46>=0.1,Accueil!$AZ$15=\"Français\"),\"rigide\",IF(AND(QT46<0.1,Accueil!$AZ$15=\"Français\"),\"souple\",IF(AND(QT46>=0.1,Accueil!$AZ$15=\"Deutsch\"),\"steif\",IF(AND(QT46<0.1,Accueil!$AZ$15=\"Deutsch\"),\"weich\"))))","v":"rigide"},null,null,null,null,null,null,null,null,null,null,null,null,null,null,null,{"$f":"2/3*(RK41/(Données!$AE$38*0.6))*(Calculs!RM35/(2*Calculs!RN35))^3","v":5.3333333333333309E-2},{"$f":"IF(AND(RK46>=0.1,Accueil!$AZ$15=\"Français\"),\"rigide\",IF(AND(RK46<0.1,Accueil!$AZ$15=\"Français\"),\"souple\",IF(AND(RK46>=0.1,Accueil!$AZ$15=\"Deutsch\"),\"steif\",IF(AND(RK46<0.1,Accueil!$AZ$15=\"Deutsch\"),\"weich\"))))","v":"souple"},{"$f":"2/3*(RM41/(Données!$AE$38*0.6))*(RM35/(2*RN35))^3","v":2.6666666666666655E-2},{"$f":"IF(AND(RM46>=0.1,Accueil!$AZ$15=\"Français\"),\"rigide\",IF(AND(RM46<0.1,Accueil!$AZ$15=\"Français\"),\"souple\",IF(AND(RM46>=0.1,Accueil!$AZ$15=\"Deutsch\"),\"steif\",IF(AND(RM46<0.1,Accueil!$AZ$15=\"Deutsch\"),\"weich\"))))","v":"souple"},null,null,null,{"$f":"2/3*(RS36/(Données!$AE$38*0.6))*(Calculs!RT34/(2*Calculs!RU34))^3","v":140.84979980172858},{"$f":"IF(AND(RR46>=0.1,Accueil!$AZ$15=\"Français\"),\"rigide\",IF(AND(RR46<0.1,Accueil!$AZ$15=\"Français\"),\"souple\",IF(AND(RR46>=0.1,Accueil!$AZ$15=\"Deutsch\"),\"steif\",IF(AND(RR46<0.1,Accueil!$AZ$15=\"Deutsch\"),\"weich\"))))","v":"rigide"},{"$f":"2/3*(RS36/(Données!$AE$38*0.6))*(Calculs!RT34/(2*Calculs!RU34))^3","v":140.84979980172858},{"$f":"IF(AND(RT46>=0.1,Accueil!$AZ$15=\"Français\"),\"rigide\",IF(AND(RT46<0.1,Accueil!$AZ$15=\"Français\"),\"souple\",IF(AND(RT46>=0.1,Accueil!$AZ$15=\"Deutsch\"),\"steif\",IF(AND(RT46<0.1,Accueil!$AZ$15=\"Deutsch\"),\"weich\"))))","v":"rigide"},null,null,null,null,null,null,null,null,null,null,null,null,null,null,null,null,null,null,null,"K1",{"$f":"Données!$AE$48","v":0.5},"ZE",1.5]
[1.875,42.800899999999999,12.8042,29.996699999999997,1.875,31.217700000000001,12.8042,18.413499999999999,null,null,null,null,null,null,"KSt",{"$f":"Données!AE40/2","v":0.25},0.3,0.5,0.75,0.8,null,null,null,null,null,null,null,null,null,null,null,null,null,null,null,null,null,null,null,null,"B",{"$f":"Données!$AE$54","v":1.5},"KSt",0,null,null,null,null,null,null,null,null,null,null,null,null,null,null,null,null,null,null,null,null,null,null,"B",{"$f":"Données!$AE$54","v":1.5},"KSt",0,null,null,null,null,null,null,null,null,null,null,null,null,null,null,null,null,null,null,null,null,null,null,"B",{"$f":"Données!$AE$54","v":1.5},"KSt",0,null,null,null,null,null,null,null,null,null,null,null,null,null,null,null,null,null,null,null,null,null,null,"B",{"$f":"Données!$AE$54","v":1.5},"KSt",0,null,null,null,null,null,null,null,null,null,null,null,null,null,null,null,null,null,null,null,null,null,null,"B",{"$f":"Données!$AE$54","v":1.5},"KSt",0,null,null,null,null,null,null,null,null,null,null,null,null,null,null,null,null,null,null,null,null,null,null,"B",{"$f":"Données!$AE$54","v":1.5},"KSt",0,null,null,null,null,null,null,null,null,null,null,null,null,null,null,null,null,null,null,null,null,null,null,"B",{"$f":"Données!$AE$54","v":1.5},"KSt",0,null,null,null,null,null,null,null,null,null,null,null,null,null,null,null,null,null,null,null,null,null,null,"B",{"$f":"Données!$AE$54","v":1.5},"KSt",0,null,null,null,null,null,null,null,null,null,null,null,null,null,null,null,null,null,null,null,null,null,null,"B",{"$f":"Données!$AE$54","v":1.5},"KSt",0,null,null,null,null,null,null,null,null,null,null,null,null,null,null,null,null,null,null,null,null,null,null,"B",{"$f":"Données!$AE$54","v":1.5},"KSt",0,null,null,null,null,null,null,null,null,null,null,null,null,null,null,null,null,null,null,null,null,"KSt",{"$f":"Données!AE40/2","v":0.25},0.3,0.5,0.75,0.8,null,null,null,null,null,null,null,null,null,null,null,null,null,null,null,null,null,null,null,null,"KSt",{"$f":"Données!AE40/2","v":0.25},0.3,0.5,0.75,0.8,null,null,null,null,null,null,null,null,null,null,null,null,null,null,null,null,null,null,null,null,null,null,null,null,null,null,null,null,null,null,null,null,null,null,null,null,null,null,null,null,null,null,null,null,null,null,null,null,null,null,null,null,null,null,null,null,null,null,null,null,null,null,null,null,null,null,null,null,null,null,null,null,null,null,null,null,null,null,null,null,null,null,null,null,null,null,null,null,null,null,null,null,null,null,null,null,null,null,null,null,null,null,null,null,null,null,null,null,null,null,null,null,null,null,null,null,null,null,null,null,null,null,null,null,null,null,null,null,null,null,null,null,null,null,null,null,null,null,null,null,null,null,null,null,null,null,null,null,null,null,null,null,null,null,null,null,null,null,null,null,null,null,null,null,null,null,null,null,null,null,null,null,null,null,null,null,null,null,"B",{"$f":"Données!$AE$54","v":1.5},"KSt",0]
[2,39.791600000000003,11.2239,28.567700000000002,2,29.231000000000002,11.2239,18.007100000000001,null,null,null,null,null,null,"C3",1,0.75,0.5,0.25,0.25,null,null,null,null,null,null,null,null,null,null,null,null,null,null,null,null,null,null,null,null,"δ",{"$f":"IF(OR(Données!$AE$46=\"Compactage par couches sans vérifications\",Données!$AE$46=\"Verdichtung gegen Boden ohne Nachweis\"),2/3*Données!$AE$36*PI()/180,IF(OR(Données!$AE$46=\"Bon compactage par couches avec vérifications\",Données!$AE$46=\"Verdichtung gegen Boden mit Nachweis\"),Données!$AE$36*PI()/180,IF(OR(Données!$AE$46=\"Compactage faible ou inexistant\",Données!$AE$46=\"Geringe bis keine Verdichtung\"),0)))","v":0.3490658503988659},"C3",1,null,null,null,null,null,null,null,null,null,null,null,null,null,null,null,null,null,null,null,null,null,null,"δ",{"$f":"IF(OR(Données!$AE$46=\"Compactage par couches sans vérifications\",Données!$AE$46=\"Verdichtung gegen Boden ohne Nachweis\"),2/3*Données!$AE$36*PI()/180,IF(OR(Données!$AE$46=\"Bon compactage par couches avec vérifications\",Données!$AE$46=\"Verdichtung gegen Boden mit Nachweis\"),Données!$AE$36*PI()/180,IF(OR(Données!$AE$46=\"Compactage faible ou inexistant\",Données!$AE$46=\"Geringe bis keine Verdichtung\"),0)))","v":0.3490658503988659},"C3",1,null,null,null,null,null,null,null,null,null,null,null,null,null,null,null,null,null,null,null,null,null,null,"δ",{"$f":"IF(OR(Données!$AE$46=\"Compactage par couches sans vérifications\",Données!$AE$46=\"Verdichtung gegen Boden ohne Nachweis\"),2/3*Données!$AE$36*PI()/180,IF(OR(Données!$AE$46=\"Bon compactage par couches avec vérifications\",Données!$AE$46=\"Verdichtung gegen Boden mit Nachweis\"),Données!$AE$36*PI()/180,IF(OR(Données!$AE$46=\"Compactage faible ou inexistant\",Données!$AE$46=\"Geringe bis keine Verdichtung\"),0)))","v":0.3490658503988659},"C3",1,null,null,null,null,null,null,null,null,null,null,null,null,null,null,null,null,null,null,null,null,null,null,"δ",{"$f":"IF(OR(Données!$AE$46=\"Compactage par couches sans vérifications\",Données!$AE$46=\"Verdichtung gegen Boden ohne Nachweis\"),2/3*Données!$AE$36*PI()/180,IF(OR(Données!$AE$46=\"Bon compactage par couches avec vérifications\",Données!$AE$46=\"Verdichtung gegen Boden mit Nachweis\"),Données!$AE$36*PI()/180,IF(OR(Données!$AE$46=\"Compactage faible ou inexistant\",Données!$AE$46=\"Geringe bis keine Verdichtung\"),0)))","v":0.3490658503988659},"C3",1,null,null,null,null,null,null,null,null,null,null,null,null,null,null,null,null,null,null,null,null,null,null,"δ",{"$f":"IF(OR(Données!$AE$46=\"Compactage par couches sans vérifications\",Données!$AE$46=\"Verdichtung gegen Boden ohne Nachweis\"),2/3*Données!$AE$36*PI()/180,IF(OR(Données!$AE$46=\"Bon compactage par couches avec vérifications\",Données!$AE$46=\"Verdichtung gegen Boden mit Nachweis\"),Données!$AE$36*PI()/180,IF(OR(Données!$AE$46=\"Compactage faible ou inexistant\",Données!$AE$46=\"Geringe bis keine Verdichtung\"),0)))","v":0.3490658503988659},"C3",1,null,null,null,null,null,null,null,null,null,null,null,null,null,null,null,null,null,null,null,null,null,null,"δ",{"$f":"IF(OR(Données!$AE$46=\"Compactage par couches sans vérifications\",Données!$AE$46=\"Verdichtung gegen Boden ohne Nachweis\"),2/3*Données!$AE$36*PI()/180,IF(OR(Données!$AE$46=\"Bon compactage par couches avec vérifications\",Données!$AE$46=\"Verdichtung gegen Boden mit Nachweis\"),Données!$AE$36*PI()/180,IF(OR(Données!$AE$46=\"Compactage faible ou inexistant\",Données!$AE$46=\"Geringe bis keine Verdichtung\"),0)))","v":0.3490658503988659},"C3",1,null,null,null,null,null,null,null,null,null,null,null,null,null,null,null,null,null,null,null,null,null,null,"δ",{"$f":"IF(OR(Données!$AE$46=\"Compactage par couches sans vérifications\",Données!$AE$46=\"Verdichtung gegen Boden ohne Nachweis\"),2/3*Données!$AE$36*PI()/180,IF(OR(Données!$AE$46=\"Bon compactage par couches avec vérifications\",Données!$AE$46=\"Verdichtung gegen Boden mit Nachweis\"),Données!$AE$36*PI()/180,IF(OR(Données!$AE$46=\"Compactage faible ou inexistant\",Données!$AE$46=\"Geringe bis keine Verdichtung\"),0)))","v":0.3490658503988659},"C3",1,null,null,null,null,null,null,null,null,null,null,null,null,null,null,null,null,null,null,null,null,null,null,"δ",{"$f":"IF(OR(Données!$AE$46=\"Compactage par couches sans vérifications\",Données!$AE$46=\"Verdichtung gegen Boden ohne Nachweis\"),2/3*Données!$AE$36*PI()/180,IF(OR(Données!$AE$46=\"Bon compactage par couches avec vérifications\",Données!$AE$46=\"Verdichtung gegen Boden mit Nachweis\"),Données!$AE$36*PI()/180,IF(OR(Données!$AE$46=\"Compactage faible ou inexistant\",Données!$AE$46=\"Geringe bis keine Verdichtung\"),0)))","v":0.3490658503988659},"C3",1,null,null,null,null,null,null,null,null,null,null,null,null,null,null,null,null,null,null,null,null,null,null,"δ",{"$f":"IF(OR(Données!$AE$46=\"Compactage par couches sans vérifications\",Données!$AE$46=\"Verdichtung gegen Boden ohne Nachweis\"),2/3*Données!$AE$36*PI()/180,IF(OR(Données!$AE$46=\"Bon compactage par couches avec vérifications\",Données!$AE$46=\"Verdichtung gegen Boden mit Nachweis\"),Données!$AE$36*PI()/180,IF(OR(Données!$AE$46=\"Compactage faible ou inexistant\",Données!$AE$46=\"Geringe bis keine Verdichtung\"),0)))","v":0.3490658503988659},"C3",1,null,null,null,null,null,null,null,null,null,null,null,null,null,null,null,null,null,null,null,null,null,null,"δ",{"$f":"IF(OR(Données!$AE$46=\"Compactage par couches sans vérifications\",Données!$AE$46=\"Verdichtung gegen Boden ohne Nachweis\"),2/3*Données!$AE$36*PI()/180,IF(OR(Données!$AE$46=\"Bon compactage par couches avec vérifications\",Données!$AE$46=\"Verdichtung gegen Boden mit Nachweis\"),Données!$AE$36*PI()/180,IF(OR(Données!$AE$46=\"Compactage faible ou inexistant\",Données!$AE$46=\"Geringe bis keine Verdichtung\"),0)))","v":0.3490658503988659},"C3",1,null,null,null,null,null,null,null,null,null,null,null,null,null,null,null,null,null,null,null,null,"C3",1,0.75,0.5,0.25,0.25,null,null,null,null,null,null,null,null,null,null,null,null,null,null,null,null,null,null,null,null,"C3",1,0.75,0.5,0.25,0.25,null,null,null,null,null,null,null,null,null,null,null,null,null,null,null,null,null,null,null,null,null,null,null,null,null,null,null,null,null,null,null,null,null,null,null,null,null,null,null,null,null,null,null,null,null,null,null,null,null,null,null,null,null,null,null,null,null,null,null,null,null,null,null,null,null,null,null,null,null,null,null,null,null,null,null,null,null,null,null,null,null,null,null,null,null,null,null,null,null,null,null,null,null,null,null,null,null,null,null,null,null,null,null,null,null,null,null,null,null,null,null,null,null,null,null,null,null,null,null,null,null,null,null,null,null,null,null,null,null,null,null,null,null,null,null,null,null,null,null,null,null,null,null,null,null,null,null,null,null,null,null,null,null,null,null,null,null,null,null,null,null,null,null,null,null,null,null,null,null,null,null,null,null,null,null,null,null,null,"δ",{"$f":"IF(OR(Données!$AE$46=\"Compactage par couches sans vérifications\",Données!$AE$46=\"Verdichtung gegen Boden ohne Nachweis\"),2/3*Données!$AE$36*PI()/180,IF(OR(Données!$AE$46=\"Bon compactage par couches avec vérifications\",Données!$AE$46=\"Verdichtung gegen Boden mit Nachweis\"),Données!$AE$36*PI()/180,IF(OR(Données!$AE$46=\"Compactage faible ou inexistant\",Données!$AE$46=\"Geringe bis keine Verdichtung\"),0)))","v":0.3490658503988659},"C3",1]
[2.125,37.133899999999997,9.9167000000000005,27.217199999999998,2.125,27.485299999999999,9.9167000000000005,17.568599999999996,null,null,null,null,null,null,"C1",{"$f":"Données!$AE$42*Calculs!P48","v":0.5},{"$f":"Données!$AE$42*Calculs!Q48","v":0.375},{"$f":"Données!$AE$42*Calculs!R48","v":0.25},{"$f":"Données!$AE$42*Calculs!S48","v":0.125},{"$f":"Données!$AE$42*Calculs!T48","v":0.125},null,null,null,null,null,null,null,null,null,null,null,null,null,null,null,null,null,null,null,null,"λmax",{"$f":"AR50","v":1.5547601510726108},"C1",{"$f":"Données!$AE$42*Calculs!AR48","v":0.5},null,null,null,null,null,null,null,null,null,null,null,null,null,null,null,null,null,null,null,null,null,null,"λmax",{"$f":"BR50","v":1.5547601510726108},"C1",{"$f":"Données!$AE$42*Calculs!BR48","v":0.5},null,null,null,null,null,null,null,null,null,null,null,null,null,null,null,null,null,null,null,null,null,null,"λmax",{"$f":"CR50","v":1.5547601510726108},"C1",{"$f":"Données!$AE$42*Calculs!CR48","v":0.5},null,null,null,null,null,null,null,null,null,null,null,null,null,null,null,null,null,null,null,null,null,null,"λmax",{"$f":"DR50","v":1.5547601510726108},"C1",{"$f":"Données!$AE$42*Calculs!DR48","v":0.5},null,null,null,null,null,null,null,null,null,null,null,null,null,null,null,null,null,null,null,null,null,null,"λmax",{"$f":"ER50","v":1.5547601510726108},"C1",{"$f":"Données!$AE$42*Calculs!ER48","v":0.5},null,null,null,null,null,null,null,null,null,null,null,null,null,null,null,null,null,null,null,null,null,null,"λmax",{"$f":"FR50","v":1.5547601510726108},"C1",{"$f":"Données!$AE$42*Calculs!FR48","v":0.5},null,null,null,null,null,null,null,null,null,null,null,null,null,null,null,null,null,null,null,null,null,null,"λmax",{"$f":"GR50","v":1.5547601510726108},"C1",{"$f":"Données!$AE$42*Calculs!GR48","v":0.5},null,null,null,null,null,null,null,null,null,null,null,null,null,null,null,null,null,null,null,null,null,null,"λmax",{"$f":"HR50","v":1.5547601510726108},"C1",{"$f":"Données!$AE$42*Calculs!HR48","v":0.5},null,null,null,null,null,null,null,null,null,null,null,null,null,null,null,null,null,null,null,null,null,null,"λmax",{"$f":"IR50","v":1.5547601510726108},"C1",{"$f":"Données!$AE$42*Calculs!IR48","v":0.5},null,null,null,null,null,null,null,null,null,null,null,null,null,null,null,null,null,null,null,null,null,null,"λmax",{"$f":"JR50","v":1.5547601510726108},"C1",{"$f":"Données!$AE$42*Calculs!JR48","v":0.5},null,null,null,null,null,null,null,null,null,null,null,null,null,null,null,null,null,null,null,null,"C1",{"$f":"Données!$AE$42*Calculs!KN48","v":0.5},{"$f":"Données!$AE$42*Calculs!KO48","v":0.375},{"$f":"Données!$AE$42*Calculs!KP48","v":0.25},{"$f":"Données!$AE$42*Calculs!KQ48","v":0.125},{"$f":"Données!$AE$42*Calculs!KR48","v":0.125},null,null,null,null,null,null,null,null,null,null,null,null,null,null,null,null,null,null,null,null,"C1",{"$f":"Données!$AE$42*Calculs!LN48","v":0.5},{"$f":"Données!$AE$42*Calculs!LO48","v":0.375},{"$f":"Données!$AE$42*Calculs!LP48","v":0.25},{"$f":"Données!$AE$42*Calculs!LQ48","v":0.125},{"$f":"Données!$AE$42*Calculs!LR48","v":0.125},null,null,null,null,null,null,null,null,null,null,null,null,null,null,null,null,null,null,"4. Facteur de majoration de charges f",null,null,null,null,null,null,"4. Facteur de majoration de charges f",null,null,null,null,null,null,null,null,null,null,null,null,null,null,null,null,null,null,"4. Facteur de majoration de charges f",null,null,null,null,null,null,"4. Facteur de majoration de charges f",null,null,null,null,null,null,null,null,null,null,null,null,null,null,null,null,null,null,"4. Facteur de majoration de charges f",null,null,null,null,null,null,"4. Facteur de majoration de charges f",null,null,null,null,null,null,null,null,null,null,null,null,null,null,null,null,null,null,"4. Facteur de majoration de charges f",null,null,null,null,null,null,"4. Facteur de majoration de charges f",null,null,null,null,null,null,null,null,null,null,null,null,null,null,null,null,null,null,"4. Facteur de majoration de charges f",null,null,null,null,null,null,"4. Facteur de majoration de charges f",null,null,null,null,null,null,null,null,null,null,null,null,null,null,null,null,null,null,"4. Facteur de majoration de charges f",null,null,null,null,null,null,"4. Facteur de majoration de charges f",null,null,null,null,null,null,null,null,null,null,null,null,null,null,null,null,null,null,null,null,null,null,"λmax",{"$f":"SR50","v":1.5547601510726108},"C1",{"$f":"Données!$AE$42*Calculs!SR48","v":0.5}]
[2.25,34.765099999999997,8.8236000000000008,25.941499999999998,2.25,25.933299999999999,8.8236000000000008,17.109699999999997,null,null,null,null,null,null,"λmax",{"$f":"IF(0.4025*P49^3-1.0202*P49^2+0.8401*P49+0.4809*(P49)^(1/2)+0.9994>=1.025,0.4025*P49^3-1.0202*P49^2+0.8401*P49+0.4809*(P49)^(1/2)+0.9994,1)","v":1.5547601510726108},{"$f":"IF(0.4025*Q49^3-1.0202*Q49^2+0.8401*Q49+0.4809*(Q49)^(1/2)+0.9994>=1.025,0.4025*Q49^3-1.0202*Q49^2+0.8401*Q49+0.4809*(Q49)^(1/2)+0.9994,1)","v":1.4866873652636075},{"$f":"IF(0.4025*R49^3-1.0202*R49^2+0.8401*R49+0.4809*(R49)^(1/2)+0.9994>=1.025,0.4025*R49^3-1.0202*R49^2+0.8401*R49+0.4809*(R49)^(1/2)+0.9994,1)","v":1.3924015624999999},{"$f":"IF(0.4025*S49^3-1.0202*S49^2+0.8401*S49+0.4809*(S49)^(1/2)+0.9994>=1.025,0.4025*S49^3-1.0202*S49^2+0.8401*S49+0.4809*(S49)^(1/2)+0.9994,1)","v":1.2592818333488052},{"$f":"IF(0.4025*T49^3-1.0202*T49^2+0.8401*T49+0.4809*(T49)^(1/2)+0.9994>=1.025,0.4025*T49^3-1.0202*T49^2+0.8401*T49+0.4809*(T49)^(1/2)+0.9994,1)","v":1.2592818333488052},null,null,null,null,null,null,null,null,null,null,null,null,null,null,null,null,null,null,null,null,"λmin",{"$f":"IF(OR(Données!$AE$44=\"NON\",Données!$AE$44=\"NEIN\"),1,IF(AP48=0,1,IF(OR(Données!$AE$56=\"Verticale (U)\",Données!$AE$56=\"Vertikal (U)\"),(1-EXP(-2*Données!$AE$52/Calculs!AP47*Calculs!AP46*TAN(Calculs!AP48)))/(2*Données!$AE$52/Calculs!AP47*Calculs!AP46*TAN(Calculs!AP48)),IF(OR(Données!$AE$56=\"Talutée (V)\",Données!$AE$56=\"Abgeböscht (V)\"),1-Données!$AE$58/90+Données!$AE$58/90*(1-EXP(-2*Données!$AE$52/Calculs!AP47*Calculs!AP46*TAN(Calculs!AP48)))/(2*Données!$AE$52/Calculs!AP47*Calculs!AP46*TAN(Calculs!AP48))))))","v":1},"λmax",{"$f":"IF(0.4025*AR49^3-1.0202*AR49^2+0.8401*AR49+0.4809*(AR49)^(1/2)+0.9994>=1.025,0.4025*AR49^3-1.0202*AR49^2+0.8401*AR49+0.4809*(AR49)^(1/2)+0.9994,1)","v":1.5547601510726108},null,null,null,null,null,null,null,null,null,null,null,null,null,null,null,null,null,null,null,null,null,null,"λmin",{"$f":"IF(OR(Données!$AE$44=\"NON\",Données!$AE$44=\"NEIN\"),1,IF(BP48=0,1,IF(OR(Données!$AE$56=\"Verticale (U)\",Données!$AE$56=\"Vertikal (U)\"),(1-EXP(-2*Données!$AE$52/Calculs!BP47*Calculs!BP46*TAN(Calculs!BP48)))/(2*Données!$AE$52/Calculs!BP47*Calculs!BP46*TAN(Calculs!BP48)),IF(OR(Données!$AE$56=\"Talutée (V)\",Données!$AE$56=\"Abgeböscht (V)\"),1-Données!$AE$58/90+Données!$AE$58/90*(1-EXP(-2*Données!$AE$52/Calculs!BP47*Calculs!BP46*TAN(Calculs!BP48)))/(2*Données!$AE$52/Calculs!BP47*Calculs!BP46*TAN(Calculs!BP48))))))","v":1},"λmax",{"$f":"IF(0.4025*BR49^3-1.0202*BR49^2+0.8401*BR49+0.4809*(BR49)^(1/2)+0.9994>=1.025,0.4025*BR49^3-1.0202*BR49^2+0.8401*BR49+0.4809*(BR49)^(1/2)+0.9994,1)","v":1.5547601510726108},null,null,null,null,null,null,null,null,null,null,null,null,null,null,null,null,null,null,null,null,null,null,"λmin",{"$f":"IF(OR(Données!$AE$44=\"NON\",Données!$AE$44=\"NEIN\"),1,IF(CP48=0,1,IF(OR(Données!$AE$56=\"Verticale (U)\",Données!$AE$56=\"Vertikal (U)\"),(1-EXP(-2*Données!$AE$52/Calculs!CP47*Calculs!CP46*TAN(Calculs!CP48)))/(2*Données!$AE$52/Calculs!CP47*Calculs!CP46*TAN(Calculs!CP48)),IF(OR(Données!$AE$56=\"Talutée (V)\",Données!$AE$56=\"Abgeböscht (V)\"),1-Données!$AE$58/90+Données!$AE$58/90*(1-EXP(-2*Données!$AE$52/Calculs!CP47*Calculs!CP46*TAN(Calculs!CP48)))/(2*Données!$AE$52/Calculs!CP47*Calculs!CP46*TAN(Calculs!CP48))))))","v":1},"λmax",{"$f":"IF(0.4025*$CR$49^3-1.0202*$CR$49^2+0.8401*$CR$49+0.4809*($CR$49)^(1/2)+0.9994>=1.025,0.4025*$CR$49^3-1.0202*$CR$49^2+0.8401*$CR$49+0.4809*($CR$49)^(1/2)+0.9994,1)","v":1.5547601510726108},null,null,null,null,null,null,null,null,null,null,null,null,null,null,null,null,null,null,null,null,null,null,"λmin",{"$f":"IF(OR(Données!$AE$44=\"NON\",Données!$AE$44=\"NEIN\"),1,IF(DP48=0,1,IF(OR(Données!$AE$56=\"Verticale (U)\",Données!$AE$56=\"Vertikal (U)\"),(1-EXP(-2*Données!$AE$52/Calculs!DP47*Calculs!DP46*TAN(Calculs!DP48)))/(2*Données!$AE$52/Calculs!DP47*Calculs!DP46*TAN(Calculs!DP48)),IF(OR(Données!$AE$56=\"Talutée (V)\",Données!$AE$56=\"Abgeböscht (V)\"),1-Données!$AE$58/90+Données!$AE$58/90*(1-EXP(-2*Données!$AE$52/Calculs!DP47*Calculs!DP46*TAN(Calculs!DP48)))/(2*Données!$AE$52/Calculs!DP47*Calculs!DP46*TAN(Calculs!DP48))))))","v":1},"λmax",{"$f":"IF(0.4025*DR49^3-1.0202*DR49^2+0.8401*DR49+0.4809*(DR49)^(1/2)+0.9994>=1.025,0.4025*DR49^3-1.0202*DR49^2+0.8401*DR49+0.4809*(DR49)^(1/2)+0.9994,1)","v":1.5547601510726108},null,null,null,null,null,null,null,null,null,null,null,null,null,null,null,null,null,null,null,null,null,null,"λmin",{"$f":"IF(OR(Données!$AE$44=\"NON\",Données!$AE$44=\"NEIN\"),1,IF(EP48=0,1,IF(OR(Données!$AE$56=\"Verticale (U)\",Données!$AE$56=\"Vertikal (U)\"),(1-EXP(-2*Données!$AE$52/Calculs!EP47*Calculs!EP46*TAN(Calculs!EP48)))/(2*Données!$AE$52/Calculs!EP47*Calculs!EP46*TAN(Calculs!EP48)),IF(OR(Données!$AE$56=\"Talutée (V)\",Données!$AE$56=\"Abgeböscht (V)\"),1-Données!$AE$58/90+Données!$AE$58/90*(1-EXP(-2*Données!$AE$52/Calculs!EP47*Calculs!EP46*TAN(Calculs!EP48)))/(2*Données!$AE$52/Calculs!EP47*Calculs!EP46*TAN(Calculs!EP48))))))","v":1},"λmax",{"$f":"IF(0.4025*ER49^3-1.0202*ER49^2+0.8401*ER49+0.4809*(ER49)^(1/2)+0.9994>=1.025,0.4025*ER49^3-1.0202*ER49^2+0.8401*ER49+0.4809*(ER49)^(1/2)+0.9994,1)","v":1.5547601510726108},null,null,null,null,null,null,null,null,null,null,null,null,null,null,null,null,null,null,null,null,null,null,"λmin",{"$f":"IF(OR(Données!$AE$44=\"NON\",Données!$AE$44=\"NEIN\"),1,IF(FP48=0,1,IF(OR(Données!$AE$56=\"Verticale (U)\",Données!$AE$56=\"Vertikal (U)\"),(1-EXP(-2*Données!$AE$52/Calculs!FP47*Calculs!FP46*TAN(Calculs!FP48)))/(2*Données!$AE$52/Calculs!FP47*Calculs!FP46*TAN(Calculs!FP48)),IF(OR(Données!$AE$56=\"Talutée (V)\",Données!$AE$56=\"Abgeböscht (V)\"),1-Données!$AE$58/90+Données!$AE$58/90*(1-EXP(-2*Données!$AE$52/Calculs!FP47*Calculs!FP46*TAN(Calculs!FP48)))/(2*Données!$AE$52/Calculs!FP47*Calculs!FP46*TAN(Calculs!FP48))))))","v":1},"λmax",{"$f":"IF(0.4025*FR49^3-1.0202*FR49^2+0.8401*FR49+0.4809*(FR49)^(1/2)+0.9994>=1.025,0.4025*FR49^3-1.0202*FR49^2+0.8401*FR49+0.4809*(FR49)^(1/2)+0.9994,1)","v":1.5547601510726108},null,null,null,null,null,null,null,null,null,null,null,null,null,null,null,null,null,null,null,null,null,null,"λmin",{"$f":"IF(OR(Données!$AE$44=\"NON\",Données!$AE$44=\"NEIN\"),1,IF(GP48=0,1,IF(OR(Données!$AE$56=\"Verticale (U)\",Données!$AE$56=\"Vertikal (U)\"),(1-EXP(-2*Données!$AE$52/Calculs!GP47*Calculs!GP46*TAN(Calculs!GP48)))/(2*Données!$AE$52/Calculs!GP47*Calculs!GP46*TAN(Calculs!GP48)),IF(OR(Données!$AE$56=\"Talutée (V)\",Données!$AE$56=\"Abgeböscht (V)\"),1-Données!$AE$58/90+Données!$AE$58/90*(1-EXP(-2*Données!$AE$52/Calculs!GP47*Calculs!GP46*TAN(Calculs!GP48)))/(2*Données!$AE$52/Calculs!GP47*Calculs!GP46*TAN(Calculs!GP48))))))","v":1},"λmax",{"$f":"IF(0.4025*GR49^3-1.0202*GR49^2+0.8401*GR49+0.4809*(GR49)^(1/2)+0.9994>=1.025,0.4025*GR49^3-1.0202*GR49^2+0.8401*GR49+0.4809*(GR49)^(1/2)+0.9994,1)","v":1.5547601510726108},null,null,null,null,null,null,null,null,null,null,null,null,null,null,null,null,null,null,null,null,null,null,"λmin",{"$f":"IF(OR(Données!$AE$44=\"NON\",Données!$AE$44=\"NEIN\"),1,IF(HP48=0,1,IF(OR(Données!$AE$56=\"Verticale (U)\",Données!$AE$56=\"Vertikal (U)\"),(1-EXP(-2*Données!$AE$52/Calculs!HP47*Calculs!HP46*TAN(Calculs!HP48)))/(2*Données!$AE$52/Calculs!HP47*Calculs!HP46*TAN(Calculs!HP48)),IF(OR(Données!$AE$56=\"Talutée (V)\",Données!$AE$56=\"Abgeböscht (V)\"),1-Données!$AE$58/90+Données!$AE$58/90*(1-EXP(-2*Données!$AE$52/Calculs!HP47*Calculs!HP46*TAN(Calculs!HP48)))/(2*Données!$AE$52/Calculs!HP47*Calculs!HP46*TAN(Calculs!HP48))))))","v":1},"λmax",{"$f":"IF(0.4025*HR49^3-1.0202*HR49^2+0.8401*HR49+0.4809*(HR49)^(1/2)+0.9994>=1.025,0.4025*HR49^3-1.0202*HR49^2+0.8401*HR49+0.4809*(HR49)^(1/2)+0.9994,1)","v":1.5547601510726108},null,null,null,null,null,null,null,null,null,null,null,null,null,null,null,null,null,null,null,null,null,null,"λmin",{"$f":"IF(OR(Données!$AE$44=\"NON\",Données!$AE$44=\"NEIN\"),1,IF(IP48=0,1,IF(OR(Données!$AE$56=\"Verticale (U)\",Données!$AE$56=\"Vertikal (U)\"),(1-EXP(-2*Données!$AE$52/Calculs!IP47*Calculs!IP46*TAN(Calculs!IP48)))/(2*Données!$AE$52/Calculs!IP47*Calculs!IP46*TAN(Calculs!IP48)),IF(OR(Données!$AE$56=\"Talutée (V)\",Données!$AE$56=\"Abgeböscht (V)\"),1-Données!$AE$58/90+Données!$AE$58/90*(1-EXP(-2*Données!$AE$52/Calculs!IP47*Calculs!IP46*TAN(Calculs!IP48)))/(2*Données!$AE$52/Calculs!IP47*Calculs!IP46*TAN(Calculs!IP48))))))","v":1},"λmax",{"$f":"IF(0.4025*IR49^3-1.0202*IR49^2+0.8401*IR49+0.4809*(IR49)^(1/2)+0.9994>=1.025,0.4025*IR49^3-1.0202*IR49^2+0.8401*IR49+0.4809*(IR49)^(1/2)+0.9994,1)","v":1.5547601510726108},null,null,null,null,null,null,null,null,null,null,null,null,null,null,null,null,null,null,null,null,null,null,"λmin",{"$f":"IF(OR(Données!$AE$44=\"NON\",Données!$AE$44=\"NEIN\"),1,IF(JP48=0,1,IF(OR(Données!$AE$56=\"Verticale (U)\",Données!$AE$56=\"Vertikal (U)\"),(1-EXP(-2*Données!$AE$52/Calculs!JP47*Calculs!JP46*TAN(Calculs!JP48)))/(2*Données!$AE$52/Calculs!JP47*Calculs!JP46*TAN(Calculs!JP48)),IF(OR(Données!$AE$56=\"Talutée (V)\",Données!$AE$56=\"Abgeböscht (V)\"),1-Données!$AE$58/90+Données!$AE$58/90*(1-EXP(-2*Données!$AE$52/Calculs!JP47*Calculs!JP46*TAN(Calculs!JP48)))/(2*Données!$AE$52/Calculs!JP47*Calculs!JP46*TAN(Calculs!JP48))))))","v":1},"λmax",{"$f":"IF(0.4025*JR49^3-1.0202*JR49^2+0.8401*JR49+0.4809*(JR49)^(1/2)+0.9994>=1.025,0.4025*JR49^3-1.0202*JR49^2+0.8401*JR49+0.4809*(JR49)^(1/2)+0.9994,1)","v":1.5547601510726108},null,null,null,null,null,null,null,null,null,null,null,null,null,null,null,null,null,null,null,null,"λmax",{"$f":"IF(0.4025*KN49^3-1.0202*KN49^2+0.8401*KN49+0.4809*(KN49)^(1/2)+0.9994>=1.025,0.4025*KN49^3-1.0202*KN49^2+0.8401*KN49+0.4809*(KN49)^(1/2)+0.9994,1)","v":1.5547601510726108},{"$f":"IF(0.4025*KO49^3-1.0202*KO49^2+0.8401*KO49+0.4809*(KO49)^(1/2)+0.9994>=1.025,0.4025*KO49^3-1.0202*KO49^2+0.8401*KO49+0.4809*(KO49)^(1/2)+0.9994,1)","v":1.4866873652636075},{"$f":"IF(0.4025*KP49^3-1.0202*KP49^2+0.8401*KP49+0.4809*(KP49)^(1/2)+0.9994>=1.025,0.4025*KP49^3-1.0202*KP49^2+0.8401*KP49+0.4809*(KP49)^(1/2)+0.9994,1)","v":1.3924015624999999},{"$f":"IF(0.4025*KQ49^3-1.0202*KQ49^2+0.8401*KQ49+0.4809*(KQ49)^(1/2)+0.9994>=1.025,0.4025*KQ49^3-1.0202*KQ49^2+0.8401*KQ49+0.4809*(KQ49)^(1/2)+0.9994,1)","v":1.2592818333488052},{"$f":"IF(0.4025*KR49^3-1.0202*KR49^2+0.8401*KR49+0.4809*(KR49)^(1/2)+0.9994>=1.025,0.4025*KR49^3-1.0202*KR49^2+0.8401*KR49+0.4809*(KR49)^(1/2)+0.9994,1)","v":1.2592818333488052},null,null,null,null,null,null,null,null,null,null,null,null,null,null,null,null,null,null,null,null,"λmax",{"$f":"IF(0.4025*LN49^3-1.0202*LN49^2+0.8401*LN49+0.4809*(LN49)^(1/2)+0.9994>=1.025,0.4025*LN49^3-1.0202*LN49^2+0.8401*LN49+0.4809*(LN49)^(1/2)+0.9994,1)","v":1.5547601510726108},{"$f":"IF(0.4025*LO49^3-1.0202*LO49^2+0.8401*LO49+0.4809*(LO49)^(1/2)+0.9994>=1.025,0.4025*LO49^3-1.0202*LO49^2+0.8401*LO49+0.4809*(LO49)^(1/2)+0.9994,1)","v":1.4866873652636075},{"$f":"IF(0.4025*LP49^3-1.0202*LP49^2+0.8401*LP49+0.4809*(LP49)^(1/2)+0.9994>=1.025,0.4025*LP49^3-1.0202*LP49^2+0.8401*LP49+0.4809*(LP49)^(1/2)+0.9994,1)","v":1.3924015624999999},{"$f":"IF(0.4025*LQ49^3-1.0202*LQ49^2+0.8401*LQ49+0.4809*(LQ49)^(1/2)+0.9994>=1.025,0.4025*LQ49^3-1.0202*LQ49^2+0.8401*LQ49+0.4809*(LQ49)^(1/2)+0.9994,1)","v":1.2592818333488052},{"$f":"IF(0.4025*LR49^3-1.0202*LR49^2+0.8401*LR49+0.4809*(LR49)^(1/2)+0.9994>=1.025,0.4025*LR49^3-1.0202*LR49^2+0.8401*LR49+0.4809*(LR49)^(1/2)+0.9994,1)","v":1.2592818333488052},null,null,null,null,null,null,null,null,null,null,null,null,null,null,null,null,null,null,"f",{"$f":"ML35/(2*MN35)","v":1.018970189701897},{"$f":"IF(ML50>=1.025,ML50,1)","v":1},"[-]",null,null,null,"f",{"$f":"MS34/(2*MU34)","v":1.2919020715630884},{"$f":"IF(MS50>=1.025,MS50,1)","v":1.2919020715630884},"[-]",null,null,null,null,null,null,null,null,null,null,null,null,null,null,null,"f",{"$f":"NL35/(2*NN35)","v":1.0217391304347827},{"$f":"IF(NL50>=1.025,NL50,1)","v":1},"[-]",null,null,null,"f",{"$f":"NS34/(2*NU34)","v":1.2919020715630884},{"$f":"IF(NS50>=1.025,NS50,1)","v":1.2919020715630884},"[-]",null,null,null,null,null,null,null,null,null,null,null,null,null,null,null,"f",{"$f":"OL35/(2*ON35)","v":1.0285714285714285},{"$f":"IF(OL50>=1.025,OL50,1)","v":1.0285714285714285},"[-]",null,null,null,"f",{"$f":"OS34/(2*OU34)","v":1.3164556962025316},{"$f":"IF(OS50>=1.025,OS50,1)","v":1.3164556962025316},"[-]",null,null,null,null,null,null,null,null,null,null,null,null,null,null,null,"f",{"$f":"PL35/(2*PN35)","v":1.0318471337579618},{"$f":"IF(PL50>=1.025,PL50,1)","v":1.0318471337579618},"[-]",null,null,null,"f",{"$f":"PS34/(2*PU34)","v":1.3164556962025316},{"$f":"IF(PS50>=1.025,PS50,1)","v":1.3164556962025316},"[-]",null,null,null,null,null,null,null,null,null,null,null,null,null,null,null,"f",{"$f":"QL35/(2*QN35)","v":1.0318471337579618},{"$f":"IF(QL50>=1.025,QL50,1)","v":1.0318471337579618},"[-]",null,null,null,"f",{"$f":"QS34/(2*QU34)","v":1.3164556962025316},{"$f":"IF(QS50>=1.025,QS50,1)","v":1.3164556962025316},"[-]",null,null,null,null,null,null,null,null,null,null,null,null,null,null,null,"f",{"$f":"RL35/(2*RN35)","v":1.035143769968051},{"$f":"IF(RL50>=1.025,RL50,1)","v":1.035143769968051},"[-]",null,null,null,"f",{"$f":"RS34/(2*RU34)","v":1.3164556962025316},{"$f":"IF(RS50>=1.025,RS50,1)","v":1.3164556962025316},"[-]",null,null,null,null,null,null,null,null,null,null,null,null,null,null,null,null,null,null,null,"λmin",{"$f":"IF(OR(Données!$AE$44=\"NON\",Données!$AE$44=\"NEIN\"),1,IF(SP48=0,1,IF(OR(Données!$AE$56=\"Verticale (U)\",Données!$AE$56=\"Vertikal (U)\"),(1-EXP(-2*Données!$AE$52/Calculs!SP47*Calculs!SP46*TAN(Calculs!SP48)))/(2*Données!$AE$52/Calculs!SP47*Calculs!SP46*TAN(Calculs!SP48)),IF(OR(Données!$AE$56=\"Talutée (V)\",Données!$AE$56=\"Abgeböscht (V)\"),1-Données!$AE$58/90+Données!$AE$58/90*(1-EXP(-2*Données!$AE$52/Calculs!SP47*Calculs!SP46*TAN(Calculs!SP48)))/(2*Données!$AE$52/Calculs!SP47*Calculs!SP46*TAN(Calculs!SP48))))))","v":1},"λmax",{"$f":"IF(0.4025*SR49^3-1.0202*SR49^2+0.8401*SR49+0.4809*(SR49)^(1/2)+0.9994>=1.025,0.4025*SR49^3-1.0202*SR49^2+0.8401*SR49+0.4809*(SR49)^(1/2)+0.9994,1)","v":1.5547601510726108}]
[2.375,32.637599999999999,7.9005999999999998,24.736999999999998,2.375,24.540099999999999,7.9005999999999998,16.639499999999998,null,null,null,null,null,null,"αo [rad]",{"$f":"90*2*PI()/360","v":1.5707963267948966},{"$f":"90*2*PI()/360","v":1.5707963267948966},{"$f":"90*2*PI()/360","v":1.5707963267948966},{"$f":"60*2*PI()/360","v":1.0471975511965976},{"$f":"90*2*PI()/360","v":1.5707963267948966},null,null,null,null,null,null,null,null,null,null,null,null,null,null,null,null,null,null,null,null,"λmin,0",{"$f":"IF(OR(Données!$AE$44=\"NON\",Données!$AE$44=\"NEIN\"),1,IF(AP48=0,1,IF(OR(Données!$AE$56=\"Verticale (U)\",Données!$AE$56=\"Vertikal (U)\"),EXP(-2*Données!$AE$52/Calculs!AP47*Calculs!AP46*TAN(Calculs!AP48)),IF(OR(Données!$AE$56=\"Talutée (V)\",Données!$AE$56=\"Abgeböscht (V)\"),1-Données!$AE$58/90+Données!$AE$58/90*EXP(-2*Données!$AE$52/Calculs!AP47*Calculs!AP46*TAN(Calculs!AP48))))))","v":1},"αo [rad]",{"$f":"90*2*PI()/360","v":1.5707963267948966},null,null,null,null,null,null,null,null,null,null,null,null,null,null,null,null,null,null,null,null,null,null,"λmin,0",{"$f":"IF(OR(Données!$AE$44=\"NON\",Données!$AE$44=\"NEIN\"),1,IF(BP48=0,1,IF(OR(Données!$AE$56=\"Verticale (U)\",Données!$AE$56=\"Vertikal (U)\"),EXP(-2*Données!$AE$52/Calculs!BP47*Calculs!BP46*TAN(Calculs!BP48)),IF(OR(Données!$AE$56=\"Talutée (V)\",Données!$AE$56=\"Abgeböscht (V)\"),1-Données!$AE$58/90+Données!$AE$58/90*EXP(-2*Données!$AE$52/Calculs!BP47*Calculs!BP46*TAN(Calculs!BP48))))))","v":1},"αo [rad]",{"$f":"90*2*PI()/360","v":1.5707963267948966},null,null,null,null,null,null,null,null,null,null,null,null,null,null,null,null,null,null,null,null,null,null,"λmin,0",{"$f":"IF(OR(Données!$AE$44=\"NON\",Données!$AE$44=\"NEIN\"),1,IF(CP48=0,1,IF(OR(Données!$AE$56=\"Verticale (U)\",Données!$AE$56=\"Vertikal (U)\"),EXP(-2*Données!$AE$52/Calculs!CP47*Calculs!CP46*TAN(Calculs!CP48)),IF(OR(Données!$AE$56=\"Talutée (V)\",Données!$AE$56=\"Abgeböscht (V)\"),1-Données!$AE$58/90+Données!$AE$58/90*EXP(-2*Données!$AE$52/Calculs!CP47*Calculs!CP46*TAN(Calculs!CP48))))))","v":1},"αo [rad]",{"$f":"90*2*PI()/360","v":1.5707963267948966},null,null,null,null,null,null,null,null,null,null,null,null,null,null,null,null,null,null,null,null,null,null,"λmin,0",{"$f":"IF(OR(Données!$AE$44=\"NON\",Données!$AE$44=\"NEIN\"),1,IF(DP48=0,1,IF(OR(Données!$AE$56=\"Verticale (U)\",Données!$AE$56=\"Vertikal (U)\"),EXP(-2*Données!$AE$52/Calculs!DP47*Calculs!DP46*TAN(Calculs!DP48)),IF(OR(Données!$AE$56=\"Talutée (V)\",Données!$AE$56=\"Abgeböscht (V)\"),1-Données!$AE$58/90+Données!$AE$58/90*EXP(-2*Données!$AE$52/Calculs!DP47*Calculs!DP46*TAN(Calculs!DP48))))))","v":1},"αo [rad]",{"$f":"90*2*PI()/360","v":1.5707963267948966},null,null,null,null,null,null,null,null,null,null,null,null,null,null,null,null,null,null,null,null,null,null,"λmin,0",{"$f":"IF(OR(Données!$AE$44=\"NON\",Données!$AE$44=\"NEIN\"),1,IF(EP48=0,1,IF(OR(Données!$AE$56=\"Verticale (U)\",Données!$AE$56=\"Vertikal (U)\"),EXP(-2*Données!$AE$52/Calculs!EP47*Calculs!EP46*TAN(Calculs!EP48)),IF(OR(Données!$AE$56=\"Talutée (V)\",Données!$AE$56=\"Abgeböscht (V)\"),1-Données!$AE$58/90+Données!$AE$58/90*EXP(-2*Données!$AE$52/Calculs!EP47*Calculs!EP46*TAN(Calculs!EP48))))))","v":1},"αo [rad]",{"$f":"90*2*PI()/360","v":1.5707963267948966},null,null,null,null,null,null,null,null,null,null,null,null,null,null,null,null,null,null,null,null,null,null,"λmin,0",{"$f":"IF(OR(Données!$AE$44=\"NON\",Données!$AE$44=\"NEIN\"),1,IF(FP48=0,1,IF(OR(Données!$AE$56=\"Verticale (U)\",Données!$AE$56=\"Vertikal (U)\"),EXP(-2*Données!$AE$52/Calculs!FP47*Calculs!FP46*TAN(Calculs!FP48)),IF(OR(Données!$AE$56=\"Talutée (V)\",Données!$AE$56=\"Abgeböscht (V)\"),1-Données!$AE$58/90+Données!$AE$58/90*EXP(-2*Données!$AE$52/Calculs!FP47*Calculs!FP46*TAN(Calculs!FP48))))))","v":1},"αo [rad]",{"$f":"90*2*PI()/360","v":1.5707963267948966},null,null,null,null,null,null,null,null,null,null,null,null,null,null,null,null,null,null,null,null,null,null,"λmin,0",{"$f":"IF(OR(Données!$AE$44=\"NON\",Données!$AE$44=\"NEIN\"),1,IF(GP48=0,1,IF(OR(Données!$AE$56=\"Verticale (U)\",Données!$AE$56=\"Vertikal (U)\"),EXP(-2*Données!$AE$52/Calculs!GP47*Calculs!GP46*TAN(Calculs!GP48)),IF(OR(Données!$AE$56=\"Talutée (V)\",Données!$AE$56=\"Abgeböscht (V)\"),1-Données!$AE$58/90+Données!$AE$58/90*EXP(-2*Données!$AE$52/Calculs!GP47*Calculs!GP46*TAN(Calculs!GP48))))))","v":1},"αo [rad]",{"$f":"90*2*PI()/360","v":1.5707963267948966},null,null,null,null,null,null,null,null,null,null,null,null,null,null,null,null,null,null,null,null,null,null,"λmin,0",{"$f":"IF(OR(Données!$AE$44=\"NON\",Données!$AE$44=\"NEIN\"),1,IF(HP48=0,1,IF(OR(Données!$AE$56=\"Verticale (U)\",Données!$AE$56=\"Vertikal (U)\"),EXP(-2*Données!$AE$52/Calculs!HP47*Calculs!HP46*TAN(Calculs!HP48)),IF(OR(Données!$AE$56=\"Talutée (V)\",Données!$AE$56=\"Abgeböscht (V)\"),1-Données!$AE$58/90+Données!$AE$58/90*EXP(-2*Données!$AE$52/Calculs!HP47*Calculs!HP46*TAN(Calculs!HP48))))))","v":1},"αo [rad]",{"$f":"90*2*PI()/360","v":1.5707963267948966},null,null,null,null,null,null,null,null,null,null,null,null,null,null,null,null,null,null,null,null,null,null,"λmin,0",{"$f":"IF(OR(Données!$AE$44=\"NON\",Données!$AE$44=\"NEIN\"),1,IF(IP48=0,1,IF(OR(Données!$AE$56=\"Verticale (U)\",Données!$AE$56=\"Vertikal (U)\"),EXP(-2*Données!$AE$52/Calculs!IP47*Calculs!IP46*TAN(Calculs!IP48)),IF(OR(Données!$AE$56=\"Talutée (V)\",Données!$AE$56=\"Abgeböscht (V)\"),1-Données!$AE$58/90+Données!$AE$58/90*EXP(-2*Données!$AE$52/Calculs!IP47*Calculs!IP46*TAN(Calculs!IP48))))))","v":1},"αo [rad]",{"$f":"90*2*PI()/360","v":1.5707963267948966},null,null,null,null,null,null,null,null,null,null,null,null,null,null,null,null,null,null,null,null,null,null,"λmin,0",{"$f":"IF(OR(Données!$AE$44=\"NON\",Données!$AE$44=\"NEIN\"),1,IF(JP48=0,1,IF(OR(Données!$AE$56=\"Verticale (U)\",Données!$AE$56=\"Vertikal (U)\"),EXP(-2*Données!$AE$52/Calculs!JP47*Calculs!JP46*TAN(Calculs!JP48)),IF(OR(Données!$AE$56=\"Talutée (V)\",Données!$AE$56=\"Abgeböscht (V)\"),1-Données!$AE$58/90+Données!$AE$58/90*EXP(-2*Données!$AE$52/Calculs!JP47*Calculs!JP46*TAN(Calculs!JP48))))))","v":1},"αo [rad]",{"$f":"90*2*PI()/360","v":1.5707963267948966},null,null,null,null,null,null,null,null,null,null,null,null,null,null,null,null,null,null,null,null,"αo [rad]",{"$f":"90*2*PI()/360","v":1.5707963267948966},{"$f":"90*2*PI()/360","v":1.5707963267948966},{"$f":"90*2*PI()/360","v":1.5707963267948966},{"$f":"60*2*PI()/360","v":1.0471975511965976},{"$f":"90*2*PI()/360","v":1.5707963267948966},null,null,null,null,null,null,null,null,null,null,null,null,null,null,null,null,null,null,null,null,"αo [rad]",{"$f":"90*2*PI()/360","v":1.5707963267948966},{"$f":"90*2*PI()/360","v":1.5707963267948966},{"$f":"90*2*PI()/360","v":1.5707963267948966},{"$f":"60*2*PI()/360","v":1.0471975511965976},{"$f":"90*2*PI()/360","v":1.5707963267948966},null,null,null,null,null,null,null,null,null,null,null,null,null,null,null,null,null,null,null,null,null,null,"5. Profil d'enrobages",null,null,null,null,null,null,null,null,null,null,null,null,null,null,null,null,null,null,null,null,null,null,null,null,null,"5. Profil d'enrobages",null,null,null,null,null,null,null,null,null,null,null,null,null,null,null,null,null,null,null,null,null,null,null,null,null,"5. Profil d'enrobages",null,null,null,null,null,null,null,null,null,null,null,null,null,null,null,null,null,null,null,null,null,null,null,null,null,"5. Profil d'enrobages",null,null,null,null,null,null,null,null,null,null,null,null,null,null,null,null,null,null,null,null,null,null,null,null,null,"5. Profil d'enrobages",null,null,null,null,null,null,null,null,null,null,null,null,null,null,null,null,null,null,null,null,null,null,null,null,null,"5. Profil d'enrobages",null,null,null,null,null,null,null,null,null,null,null,null,null,null,null,null,null,null,null,null,null,null,null,null,null,"λmin,0",{"$f":"IF(OR(Données!$AE$44=\"NON\",Données!$AE$44=\"NEIN\"),1,IF(SP48=0,1,IF(OR(Données!$AE$56=\"Verticale (U)\",Données!$AE$56=\"Vertikal (U)\"),EXP(-2*Données!$AE$52/Calculs!SP47*Calculs!SP46*TAN(Calculs!SP48)),IF(OR(Données!$AE$56=\"Talutée (V)\",Données!$AE$56=\"Abgeböscht (V)\"),1-Données!$AE$58/90+Données!$AE$58/90*EXP(-2*Données!$AE$52/Calculs!SP47*Calculs!SP46*TAN(Calculs!SP48))))))","v":1},"αo [rad]",{"$f":"90*2*PI()/360","v":1.5707963267948966}]
[2.5,30.714400000000001,7.1144444444444437,23.599955555555557,2.5,23.279199999999999,7.1144444444444437,16.164755555555555,null,null,null,null,null,null,"δ [rad]",{"$f":"150*2*PI()/360","v":2.6179938779914944},{"$f":"120*2*PI()/360","v":2.0943951023931953},{"$f":"90*2*PI()/360","v":1.5707963267948966},{"$f":"60*2*PI()/360","v":1.0471975511965976},0,null,null,null,null,null,null,null,null,null,null,null,null,null,null,null,null,null,null,null,null,"λmin,F",{"$f":"IF(OR(Données!$AE$44=\"NON\",Données!$AE$44=\"NEIN\"),1,IF(AP50=0,1,IF(OR(Données!$AE$56=\"Verticale (U)\",Données!$AE$56=\"Vertikal (U)\"),EXP(-2*(Données!$AE$52-Données!$AE$20)/Calculs!AP47*Calculs!AP46*TAN(Calculs!AP48)),IF(OR(Données!$AE$56=\"Talutée (V)\",Données!$AE$56=\"Abgeböscht (V)\"),1-Données!$AE$58/90+Données!$AE$58/90*EXP(-2*(Données!$AE$52-Données!$AE$20)/Calculs!AP47*Calculs!AP46*TAN(Calculs!AP48))))))","v":1},"δ [rad]",{"$f":"180*2*PI()/360","v":3.1415926535897931},null,null,null,null,null,null,null,null,null,null,null,null,null,null,null,null,null,null,null,null,null,null,"λmin,F",{"$f":"IF(OR(Données!$AE$44=\"NON\",Données!$AE$44=\"NEIN\"),1,IF(BP50=0,1,IF(OR(Données!$AE$56=\"Verticale (U)\",Données!$AE$56=\"Vertikal (U)\"),EXP(-2*(Données!$AE$52-Données!$AE$20)/Calculs!BP47*Calculs!BP46*TAN(Calculs!BP48)),IF(OR(Données!$AE$56=\"Talutée (V)\",Données!$AE$56=\"Abgeböscht (V)\"),1-Données!$AE$58/90+Données!$AE$58/90*EXP(-2*(Données!$AE$52-Données!$AE$20)/Calculs!BP47*Calculs!BP46*TAN(Calculs!BP48))))))","v":1},"δ [rad]",{"$f":"180*2*PI()/360","v":3.1415926535897931},null,null,null,null,null,null,null,null,null,null,null,null,null,null,null,null,null,null,null,null,null,null,"λmin,F",{"$f":"IF(OR(Données!$AE$44=\"NON\",Données!$AE$44=\"NEIN\"),1,IF(CP50=0,1,IF(OR(Données!$AE$56=\"Verticale (U)\",Données!$AE$56=\"Vertikal (U)\"),EXP(-2*(Données!$AE$52-Données!$AE$20)/Calculs!CP47*Calculs!CP46*TAN(Calculs!CP48)),IF(OR(Données!$AE$56=\"Talutée (V)\",Données!$AE$56=\"Abgeböscht (V)\"),1-Données!$AE$58/90+Données!$AE$58/90*EXP(-2*(Données!$AE$52-Données!$AE$20)/Calculs!CP47*Calculs!CP46*TAN(Calculs!CP48))))))","v":1},"δ [rad]",{"$f":"180*2*PI()/360","v":3.1415926535897931},null,null,null,null,null,null,null,null,null,null,null,null,null,null,null,null,null,null,null,null,null,null,"λmin,F",{"$f":"IF(OR(Données!$AE$44=\"NON\",Données!$AE$44=\"NEIN\"),1,IF(DP50=0,1,IF(OR(Données!$AE$56=\"Verticale (U)\",Données!$AE$56=\"Vertikal (U)\"),EXP(-2*(Données!$AE$52-Données!$AE$20)/Calculs!DP47*Calculs!DP46*TAN(Calculs!DP48)),IF(OR(Données!$AE$56=\"Talutée (V)\",Données!$AE$56=\"Abgeböscht (V)\"),1-Données!$AE$58/90+Données!$AE$58/90*EXP(-2*(Données!$AE$52-Données!$AE$20)/Calculs!DP47*Calculs!DP46*TAN(Calculs!DP48))))))","v":1},"δ [rad]",{"$f":"180*2*PI()/360","v":3.1415926535897931},null,null,null,null,null,null,null,null,null,null,null,null,null,null,null,null,null,null,null,null,null,null,"λmin,F",{"$f":"IF(OR(Données!$AE$44=\"NON\",Données!$AE$44=\"NEIN\"),1,IF(EP50=0,1,IF(OR(Données!$AE$56=\"Verticale (U)\",Données!$AE$56=\"Vertikal (U)\"),EXP(-2*(Données!$AE$52-Données!$AE$20)/Calculs!EP47*Calculs!EP46*TAN(Calculs!EP48)),IF(OR(Données!$AE$56=\"Talutée (V)\",Données!$AE$56=\"Abgeböscht (V)\"),1-Données!$AE$58/90+Données!$AE$58/90*EXP(-2*(Données!$AE$52-Données!$AE$20)/Calculs!EP47*Calculs!EP46*TAN(Calculs!EP48))))))","v":1},"δ [rad]",{"$f":"180*2*PI()/360","v":3.1415926535897931},null,null,null,null,null,null,null,null,null,null,null,null,null,null,null,null,null,null,null,null,null,null,"λmin,F",{"$f":"IF(OR(Données!$AE$44=\"NON\",Données!$AE$44=\"NEIN\"),1,IF(FP50=0,1,IF(OR(Données!$AE$56=\"Verticale (U)\",Données!$AE$56=\"Vertikal (U)\"),EXP(-2*(Données!$AE$52-Données!$AE$20)/Calculs!FP47*Calculs!FP46*TAN(Calculs!FP48)),IF(OR(Données!$AE$56=\"Talutée (V)\",Données!$AE$56=\"Abgeböscht (V)\"),1-Données!$AE$58/90+Données!$AE$58/90*EXP(-2*(Données!$AE$52-Données!$AE$20)/Calculs!FP47*Calculs!FP46*TAN(Calculs!FP48))))))","v":1},"δ [rad]",{"$f":"180*2*PI()/360","v":3.1415926535897931},null,null,null,null,null,null,null,null,null,null,null,null,null,null,null,null,null,null,null,null,null,null,"λmin,F",{"$f":"IF(OR(Données!$AE$44=\"NON\",Données!$AE$44=\"NEIN\"),1,IF(GP50=0,1,IF(OR(Données!$AE$56=\"Verticale (U)\",Données!$AE$56=\"Vertikal (U)\"),EXP(-2*(Données!$AE$52-Données!$AE$20)/Calculs!GP47*Calculs!GP46*TAN(Calculs!GP48)),IF(OR(Données!$AE$56=\"Talutée (V)\",Données!$AE$56=\"Abgeböscht (V)\"),1-Données!$AE$58/90+Données!$AE$58/90*EXP(-2*(Données!$AE$52-Données!$AE$20)/Calculs!GP47*Calculs!GP46*TAN(Calculs!GP48))))))","v":1},"δ [rad]",{"$f":"180*2*PI()/360","v":3.1415926535897931},null,null,null,null,null,null,null,null,null,null,null,null,null,null,null,null,null,null,null,null,null,null,"λmin,F",{"$f":"IF(OR(Données!$AE$44=\"NON\",Données!$AE$44=\"NEIN\"),1,IF(HP50=0,1,IF(OR(Données!$AE$56=\"Verticale (U)\",Données!$AE$56=\"Vertikal (U)\"),EXP(-2*(Données!$AE$52-Données!$AE$20)/Calculs!HP47*Calculs!HP46*TAN(Calculs!HP48)),IF(OR(Données!$AE$56=\"Talutée (V)\",Données!$AE$56=\"Abgeböscht (V)\"),1-Données!$AE$58/90+Données!$AE$58/90*EXP(-2*(Données!$AE$52-Données!$AE$20)/Calculs!HP47*Calculs!HP46*TAN(Calculs!HP48))))))","v":1},"δ [rad]",{"$f":"180*2*PI()/360","v":3.1415926535897931},null,null,null,null,null,null,null,null,null,null,null,null,null,null,null,null,null,null,null,null,null,null,"λmin,F",{"$f":"IF(OR(Données!$AE$44=\"NON\",Données!$AE$44=\"NEIN\"),1,IF(IP50=0,1,IF(OR(Données!$AE$56=\"Verticale (U)\",Données!$AE$56=\"Vertikal (U)\"),EXP(-2*(Données!$AE$52-Données!$AE$20)/Calculs!IP47*Calculs!IP46*TAN(Calculs!IP48)),IF(OR(Données!$AE$56=\"Talutée (V)\",Données!$AE$56=\"Abgeböscht (V)\"),1-Données!$AE$58/90+Données!$AE$58/90*EXP(-2*(Données!$AE$52-Données!$AE$20)/Calculs!IP47*Calculs!IP46*TAN(Calculs!IP48))))))","v":1},"δ [rad]",{"$f":"180*2*PI()/360","v":3.1415926535897931},null,null,null,null,null,null,null,null,null,null,null,null,null,null,null,null,null,null,null,null,null,null,"λmin,F",{"$f":"IF(OR(Données!$AE$44=\"NON\",Données!$AE$44=\"NEIN\"),1,IF(JP50=0,1,IF(OR(Données!$AE$56=\"Verticale (U)\",Données!$AE$56=\"Vertikal (U)\"),EXP(-2*(Données!$AE$52-Données!$AE$20)/Calculs!JP47*Calculs!JP46*TAN(Calculs!JP48)),IF(OR(Données!$AE$56=\"Talutée (V)\",Données!$AE$56=\"Abgeböscht (V)\"),1-Données!$AE$58/90+Données!$AE$58/90*EXP(-2*(Données!$AE$52-Données!$AE$20)/Calculs!JP47*Calculs!JP46*TAN(Calculs!JP48))))))","v":1},"δ [rad]",{"$f":"180*2*PI()/360","v":3.1415926535897931},null,null,null,null,null,null,null,null,null,null,null,null,null,null,null,null,null,null,null,null,"δ [rad]",{"$f":"150*2*PI()/360","v":2.6179938779914944},{"$f":"120*2*PI()/360","v":2.0943951023931953},{"$f":"90*2*PI()/360","v":1.5707963267948966},{"$f":"60*2*PI()/360","v":1.0471975511965976},0,null,null,null,null,null,null,null,null,null,null,null,null,null,null,null,null,null,null,null,null,"δ [rad]",{"$f":"150*2*PI()/360","v":2.6179938779914944},{"$f":"120*2*PI()/360","v":2.0943951023931953},{"$f":"90*2*PI()/360","v":1.5707963267948966},{"$f":"60*2*PI()/360","v":1.0471975511965976},0,null,null,null,null,null,null,null,null,null,null,null,null,null,null,null,null,null,null,null,null,null,null,null,1,null,4,null,null,null,null,null,null,null,null,null,null,null,null,null,null,null,null,null,null,null,null,null,null,null,1,null,4,null,null,null,null,null,null,null,null,null,null,null,null,null,null,null,null,null,null,null,null,null,null,null,1,null,4,null,null,null,null,null,null,null,null,null,null,null,null,null,null,null,null,null,null,null,null,null,null,null,1,null,4,null,null,null,null,null,null,null,null,null,null,null,null,null,null,null,null,null,null,null,null,null,null,null,1,null,4,null,null,null,null,null,null,null,null,null,null,null,null,null,null,null,null,null,null,null,null,null,null,null,1,null,4,null,null,null,null,null,null,null,null,null,null,null,null,null,null,null,null,null,null,null,null,null,null,"λmin,F",{"$f":"IF(OR(Données!$AE$44=\"NON\",Données!$AE$44=\"NEIN\"),1,IF(SP50=0,1,IF(OR(Données!$AE$56=\"Verticale (U)\",Données!$AE$56=\"Vertikal (U)\"),EXP(-2*(Données!$AE$52-Données!$AE$20)/Calculs!SP47*Calculs!SP46*TAN(Calculs!SP48)),IF(OR(Données!$AE$56=\"Talutée (V)\",Données!$AE$56=\"Abgeböscht (V)\"),1-Données!$AE$58/90+Données!$AE$58/90*EXP(-2*(Données!$AE$52-Données!$AE$20)/Calculs!SP47*Calculs!SP46*TAN(Calculs!SP48))))))","v":1},"δ [rad]",{"$f":"180*2*PI()/360","v":3.1415926535897931}]
[2.625,28.9666,6.4393000000000002,22.5273,2.625,22.130299999999998,6.4393000000000002,15.690999999999999,null,null,null,null,null,null,"π-δ [rad]",{"$f":"30*2*PI()/360","v":0.52359877559829882},{"$f":"60*2*PI()/360","v":1.0471975511965976},{"$f":"90*2*PI()/360","v":1.5707963267948966},{"$f":"120*2*PI()/360","v":2.0943951023931953},{"$f":"180*2*PI()/360","v":3.1415926535897931},null,null,null,null,null,null,null,null,null,null,null,null,null,null,null,null,null,null,null,null,"αo [rad]",{"$f":"90*2*PI()/360","v":1.5707963267948966},"αu [rad]",{"$f":"90*2*PI()/360","v":1.5707963267948966},null,null,null,null,null,null,null,null,null,null,null,null,null,null,null,null,null,null,null,null,null,null,"αo [rad]",{"$f":"90*2*PI()/360","v":1.5707963267948966},"αu [rad]",{"$f":"90*2*PI()/360","v":1.5707963267948966},null,null,null,null,null,null,null,null,null,null,null,null,null,null,null,null,null,null,null,null,null,null,"αo [rad]",{"$f":"90*2*PI()/360","v":1.5707963267948966},"αu [rad]",{"$f":"90*2*PI()/360","v":1.5707963267948966},null,null,null,null,null,null,null,null,null,null,null,null,null,null,null,null,null,null,null,null,null,null,"αo [rad]",{"$f":"90*2*PI()/360","v":1.5707963267948966},"αu [rad]",{"$f":"90*2*PI()/360","v":1.5707963267948966},null,null,null,null,null,null,null,null,null,null,null,null,null,null,null,null,null,null,null,null,null,null,"αo [rad]",{"$f":"90*2*PI()/360","v":1.5707963267948966},"αu [rad]",{"$f":"90*2*PI()/360","v":1.5707963267948966},null,null,null,null,null,null,null,null,null,null,null,null,null,null,null,null,null,null,null,null,null,null,"αo [rad]",{"$f":"90*2*PI()/360","v":1.5707963267948966},"αu [rad]",{"$f":"90*2*PI()/360","v":1.5707963267948966},null,null,null,null,null,null,null,null,null,null,null,null,null,null,null,null,null,null,null,null,null,null,"αo [rad]",{"$f":"90*2*PI()/360","v":1.5707963267948966},"αu [rad]",{"$f":"90*2*PI()/360","v":1.5707963267948966},null,null,null,null,null,null,null,null,null,null,null,null,null,null,null,null,null,null,null,null,null,null,"αo [rad]",{"$f":"90*2*PI()/360","v":1.5707963267948966},"αu [rad]",{"$f":"90*2*PI()/360","v":1.5707963267948966},null,null,null,null,null,null,null,null,null,null,null,null,null,null,null,null,null,null,null,null,null,null,"αo [rad]",{"$f":"90*2*PI()/360","v":1.5707963267948966},"αu [rad]",{"$f":"90*2*PI()/360","v":1.5707963267948966},null,null,null,null,null,null,null,null,null,null,null,null,null,null,null,null,null,null,null,null,null,null,"αo [rad]",{"$f":"90*2*PI()/360","v":1.5707963267948966},"αu [rad]",{"$f":"90*2*PI()/360","v":1.5707963267948966},null,null,null,null,null,null,null,null,null,null,null,null,null,null,null,null,null,null,null,null,"π-δ [rad]",{"$f":"30*2*PI()/360","v":0.52359877559829882},{"$f":"60*2*PI()/360","v":1.0471975511965976},{"$f":"90*2*PI()/360","v":1.5707963267948966},{"$f":"120*2*PI()/360","v":2.0943951023931953},{"$f":"180*2*PI()/360","v":3.1415926535897931},null,null,null,null,null,null,null,null,null,null,null,null,null,null,null,null,null,null,null,null,"π-δ [rad]",{"$f":"30*2*PI()/360","v":0.52359877559829882},{"$f":"60*2*PI()/360","v":1.0471975511965976},{"$f":"90*2*PI()/360","v":1.5707963267948966},{"$f":"120*2*PI()/360","v":2.0943951023931953},{"$f":"180*2*PI()/360","v":3.1415926535897931},null,null,null,null,null,null,null,null,null,null,null,null,null,null,null,null,null,null,null,null,null,null,"K1",{"$f":"Données!$AE$48","v":0.5},"ZE",7,null,null,null,null,null,null,null,null,null,null,null,null,null,null,null,null,null,null,null,null,null,null,"K1",{"$f":"Données!$AE$48","v":0.5},"ZE",7,null,null,null,null,null,null,null,null,null,null,null,null,null,null,null,null,null,null,null,null,null,null,"K1",{"$f":"Données!$AE$48","v":0.5},"ZE",7,null,null,null,null,null,null,null,null,null,null,null,null,null,null,null,null,null,null,null,null,null,null,"K1",{"$f":"Données!$AE$48","v":0.5},"ZE",7,null,null,null,null,null,null,null,null,null,null,null,null,null,null,null,null,null,null,null,null,null,null,"K1",{"$f":"Données!$AE$48","v":0.5},"ZE",7,null,null,null,null,null,null,null,null,null,null,null,null,null,null,null,null,null,null,null,null,null,null,"K1",{"$f":"Données!$AE$48","v":0.5},"ZE",7,null,null,null,null,null,null,null,null,null,null,null,null,null,null,null,null,null,null,null,null,null,null,"αo [rad]",{"$f":"90*2*PI()/360","v":1.5707963267948966},"αu [rad]",{"$f":"30*2*PI()/360","v":0.52359877559829882}]
[2.75,27.370699999999999,5.8555000000000001,21.5152,2.75,21.0776,5.8555000000000001,15.222100000000001,null,null,null,null,null,null,"αu [rad]",{"$f":"30*2*PI()/360","v":0.52359877559829882},{"$f":"60*2*PI()/360","v":1.0471975511965976},{"$f":"90*2*PI()/360","v":1.5707963267948966},{"$f":"90*2*PI()/360","v":1.5707963267948966},{"$f":"90*2*PI()/360","v":1.5707963267948966},null,null,null,null,null,null,null,null,null,null,null,null,null,null,null,null,null,null,null,null,"δ [rad]",{"$f":"180*2*PI()/360","v":3.1415926535897931},null,null,null,null,null,null,null,null,null,null,null,null,null,null,null,null,null,null,null,null,null,null,null,null,"δ [rad]",{"$f":"180*2*PI()/360","v":3.1415926535897931},null,null,null,null,null,null,null,null,null,null,null,null,null,null,null,null,null,null,null,null,null,null,null,null,"δ [rad]",{"$f":"180*2*PI()/360","v":3.1415926535897931},null,null,null,null,null,null,null,null,null,null,null,null,null,null,null,null,null,null,null,null,null,null,null,null,"δ [rad]",{"$f":"180*2*PI()/360","v":3.1415926535897931},null,null,null,null,null,null,null,null,null,null,null,null,null,null,null,null,null,null,null,null,null,null,null,null,"δ [rad]",{"$f":"180*2*PI()/360","v":3.1415926535897931},null,null,null,null,null,null,null,null,null,null,null,null,null,null,null,null,null,null,null,null,null,null,null,null,"δ [rad]",{"$f":"180*2*PI()/360","v":3.1415926535897931},null,null,null,null,null,null,null,null,null,null,null,null,null,null,null,null,null,null,null,null,null,null,null,null,"δ [rad]",{"$f":"180*2*PI()/360","v":3.1415926535897931},null,null,null,null,null,null,null,null,null,null,null,null,null,null,null,null,null,null,null,null,null,null,null,null,"δ [rad]",{"$f":"180*2*PI()/360","v":3.1415926535897931},null,null,null,null,null,null,null,null,null,null,null,null,null,null,null,null,null,null,null,null,null,null,null,null,"δ [rad]",{"$f":"180*2*PI()/360","v":3.1415926535897931},null,null,null,null,null,null,null,null,null,null,null,null,null,null,null,null,null,null,null,null,null,null,null,null,"δ [rad]",{"$f":"180*2*PI()/360","v":3.1415926535897931},null,null,null,null,null,null,null,null,null,null,null,null,null,null,null,null,null,null,null,null,null,null,"αu [rad]",{"$f":"30*2*PI()/360","v":0.52359877559829882},{"$f":"60*2*PI()/360","v":1.0471975511965976},{"$f":"90*2*PI()/360","v":1.5707963267948966},{"$f":"90*2*PI()/360","v":1.5707963267948966},{"$f":"90*2*PI()/360","v":1.5707963267948966},null,null,null,null,null,null,null,null,null,null,null,null,null,null,null,null,null,null,null,null,"αu [rad]",{"$f":"30*2*PI()/360","v":0.52359877559829882},{"$f":"60*2*PI()/360","v":1.0471975511965976},{"$f":"90*2*PI()/360","v":1.5707963267948966},{"$f":"90*2*PI()/360","v":1.5707963267948966},{"$f":"90*2*PI()/360","v":1.5707963267948966},null,null,null,null,null,null,null,null,null,null,null,null,null,null,null,null,null,null,null,null,null,null,"B",{"$f":"Données!$AE$54","v":1.5},"KSt",0,null,null,null,null,null,null,null,null,null,null,null,null,null,null,null,null,null,null,null,null,null,null,"B",{"$f":"Données!$AE$54","v":1.5},"KSt",0,null,null,null,null,null,null,null,null,null,null,null,null,null,null,null,null,null,null,null,null,null,null,"B",{"$f":"Données!$AE$54","v":1.5},"KSt",0,null,null,null,null,null,null,null,null,null,null,null,null,null,null,null,null,null,null,null,null,null,null,"B",{"$f":"Données!$AE$54","v":1.5},"KSt",0,null,null,null,null,null,null,null,null,null,null,null,null,null,null,null,null,null,null,null,null,null,null,"B",{"$f":"Données!$AE$54","v":1.5},"KSt",0,null,null,null,null,null,null,null,null,null,null,null,null,null,null,null,null,null,null,null,null,null,null,"B",{"$f":"Données!$AE$54","v":1.5},"KSt",0,null,null,null,null,null,null,null,null,null,null,null,null,null,null,null,null,null,null,null,null,null,null,"δ [rad]",{"$f":"180*2*PI()/360","v":3.1415926535897931}]
[2.875,25.907699999999998,5.3472999999999997,20.560399999999998,2.875,20.1082,5.3472999999999997,14.760899999999999,null,null,null,null,null,null,null,null,null,null,null,null,null,null,null,null,null,null,null,null,null,null,null,null,null,null,null,null,null,null,null,null,"αu [rad]",{"$f":"AH31","v":0},null,null,null,null,null,null,null,null,null,null,null,null,null,null,null,null,null,null,null,null,null,null,null,null,"αu [rad]",{"$f":"90*2*PI()/360","v":1.5707963267948966},null,null,null,null,null,null,null,null,null,null,null,null,null,null,null,null,null,null,null,null,null,null,null,null,"αu [rad]",{"$f":"90*2*PI()/360","v":1.5707963267948966},null,null,null,null,null,null,null,null,null,null,null,null,null,null,null,null,null,null,null,null,null,null,null,null,"αu [rad]",{"$f":"90*2*PI()/360","v":1.5707963267948966},null,null,null,null,null,null,null,null,null,null,null,null,null,null,null,null,null,null,null,null,null,null,null,null,"αu [rad]",{"$f":"90*2*PI()/360","v":1.5707963267948966},null,null,null,null,null,null,null,null,null,null,null,null,null,null,null,null,null,null,null,null,null,null,null,null,"αu [rad]",{"$f":"90*2*PI()/360","v":1.5707963267948966},null,null,null,null,null,null,null,null,null,null,null,null,null,null,null,null,null,null,null,null,null,null,null,null,"αu [rad]",{"$f":"90*2*PI()/360","v":1.5707963267948966},null,null,null,null,null,null,null,null,null,null,null,null,null,null,null,null,null,null,null,null,null,null,null,null,"αu [rad]",{"$f":"90*2*PI()/360","v":1.5707963267948966},null,null,null,null,null,null,null,null,null,null,null,null,null,null,null,null,null,null,null,null,null,null,null,null,"αu [rad]",{"$f":"90*2*PI()/360","v":1.5707963267948966},null,null,null,null,null,null,null,null,null,null,null,null,null,null,null,null,null,null,null,null,null,null,null,null,"αu [rad]",{"$f":"90*2*PI()/360","v":1.5707963267948966},null,null,null,null,null,null,null,null,null,null,null,null,null,null,null,null,null,null,null,null,null,null,null,null,null,null,null,null,null,null,null,null,null,null,null,null,null,null,null,null,null,null,null,null,null,null,null,null,null,null,null,null,null,null,null,null,null,null,null,null,null,null,null,null,null,null,null,null,null,null,null,null,null,null,null,null,"δ",{"$f":"IF(OR(Données!$AE$46=\"Compactage par couches sans vérifications\",Données!$AE$46=\"Verdichtung gegen Boden ohne Nachweis\"),2/3*Données!$AE$36*PI()/180,IF(OR(Données!$AE$46=\"Bon compactage par couches avec vérifications\",Données!$AE$46=\"Verdichtung gegen Boden mit Nachweis\"),Données!$AE$36*PI()/180,IF(OR(Données!$AE$46=\"Compactage faible ou inexistant\",Données!$AE$46=\"Geringe bis keine Verdichtung\"),0)))","v":0.3490658503988659},"C3",1,null,null,null,null,null,null,null,null,null,null,null,null,null,null,null,null,null,null,null,null,null,null,"δ",{"$f":"IF(OR(Données!$AE$46=\"Compactage par couches sans vérifications\",Données!$AE$46=\"Verdichtung gegen Boden ohne Nachweis\"),2/3*Données!$AE$36*PI()/180,IF(OR(Données!$AE$46=\"Bon compactage par couches avec vérifications\",Données!$AE$46=\"Verdichtung gegen Boden mit Nachweis\"),Données!$AE$36*PI()/180,IF(OR(Données!$AE$46=\"Compactage faible ou inexistant\",Données!$AE$46=\"Geringe bis keine Verdichtung\"),0)))","v":0.3490658503988659},"C3",1,null,null,null,null,null,null,null,null,null,null,null,null,null,null,null,null,null,null,null,null,null,null,"δ",{"$f":"IF(OR(Données!$AE$46=\"Compactage par couches sans vérifications\",Données!$AE$46=\"Verdichtung gegen Boden ohne Nachweis\"),2/3*Données!$AE$36*PI()/180,IF(OR(Données!$AE$46=\"Bon compactage par couches avec vérifications\",Données!$AE$46=\"Verdichtung gegen Boden mit Nachweis\"),Données!$AE$36*PI()/180,IF(OR(Données!$AE$46=\"Compactage faible ou inexistant\",Données!$AE$46=\"Geringe bis keine Verdichtung\"),0)))","v":0.3490658503988659},"C3",1,null,null,null,null,null,null,null,null,null,null,null,null,null,null,null,null,null,null,null,null,null,null,"δ",{"$f":"IF(OR(Données!$AE$46=\"Compactage par couches sans vérifications\",Données!$AE$46=\"Verdichtung gegen Boden ohne Nachweis\"),2/3*Données!$AE$36*PI()/180,IF(OR(Données!$AE$46=\"Bon compactage par couches avec vérifications\",Données!$AE$46=\"Verdichtung gegen Boden mit Nachweis\"),Données!$AE$36*PI()/180,IF(OR(Données!$AE$46=\"Compactage faible ou inexistant\",Données!$AE$46=\"Geringe bis keine Verdichtung\"),0)))","v":0.3490658503988659},"C3",1,null,null,null,null,null,null,null,null,null,null,null,null,null,null,null,null,null,null,null,null,null,null,"δ",{"$f":"IF(OR(Données!$AE$46=\"Compactage par couches sans vérifications\",Données!$AE$46=\"Verdichtung gegen Boden ohne Nachweis\"),2/3*Données!$AE$36*PI()/180,IF(OR(Données!$AE$46=\"Bon compactage par couches avec vérifications\",Données!$AE$46=\"Verdichtung gegen Boden mit Nachweis\"),Données!$AE$36*PI()/180,IF(OR(Données!$AE$46=\"Compactage faible ou inexistant\",Données!$AE$46=\"Geringe bis keine Verdichtung\"),0)))","v":0.3490658503988659},"C3",1,null,null,null,null,null,null,null,null,null,null,null,null,null,null,null,null,null,null,null,null,null,null,"δ",{"$f":"IF(OR(Données!$AE$46=\"Compactage par couches sans vérifications\",Données!$AE$46=\"Verdichtung gegen Boden ohne Nachweis\"),2/3*Données!$AE$36*PI()/180,IF(OR(Données!$AE$46=\"Bon compactage par couches avec vérifications\",Données!$AE$46=\"Verdichtung gegen Boden mit Nachweis\"),Données!$AE$36*PI()/180,IF(OR(Données!$AE$46=\"Compactage faible ou inexistant\",Données!$AE$46=\"Geringe bis keine Verdichtung\"),0)))","v":0.3490658503988659},"C3",1,null,null,null,null,null,null,null,null,null,null,null,null,null,null,null,null,null,null,null,null,null,null,"αu [rad]",{"$f":"30*2*PI()/360","v":0.52359877559829882}]
[3,24.562000000000001,4.9021999999999997,19.659800000000001,3,19.212,4.9021999999999997,14.309799999999999,null,null,null,null,null,null,null,null,null,null,null,null,null,null,null,null,null,null,null,null,null,null,null,null,null,null,null,null,"6. Coefficient de pression de recouvrement (μ)",null,null,null,null,null,null,null,null,null,null,null,null,null,null,null,null,null,null,null,null,null,null,null,null,null,"6. Coefficient de pression de recouvrement (μ)",null,null,null,null,null,null,null,null,null,null,null,null,null,null,null,null,null,null,null,null,null,null,null,null,null,"6. Coefficient de pression de recouvrement (μ)",null,null,null,null,null,null,null,null,null,null,null,null,null,null,null,null,null,null,null,null,null,null,null,null,null,"6. Coefficient de pression de recouvrement (μ)",null,null,null,null,null,null,null,null,null,null,null,null,null,null,null,null,null,null,null,null,null,null,null,null,null,"6. Coefficient de pression de recouvrement (μ)",null,null,null,null,null,null,null,null,null,null,null,null,null,null,null,null,null,null,null,null,null,null,null,null,null,"6. Coefficient de pression de recouvrement (μ)",null,null,null,null,null,null,null,null,null,null,null,null,null,null,null,null,null,null,null,null,null,null,null,null,null,"6. Coefficient de pression de recouvrement (μ)",null,null,null,null,null,null,null,null,null,null,null,null,null,null,null,null,null,null,null,null,null,null,null,null,null,"6. Coefficient de pression de recouvrement (μ)",null,null,null,null,null,null,null,null,null,null,null,null,null,null,null,null,null,null,null,null,null,null,null,null,null,"6. Coefficient de pression de recouvrement (μ)",null,null,null,null,null,null,null,null,null,null,null,null,null,null,null,null,null,null,null,null,null,null,null,null,null,"6. Coefficient de pression de recouvrement (μ)",null,null,null,null,null,null,null,null,null,null,null,null,null,null,null,null,null,null,null,null,null,null,null,null,null,null,null,null,null,null,null,null,null,null,null,null,null,null,null,null,null,null,null,null,null,null,null,null,null,null,null,null,null,null,null,null,null,null,null,null,null,null,null,null,null,null,null,null,null,null,null,null,null,null,null,null,null,null,null,null,null,"λmax",{"$f":"MR57","v":1.5547601510726108},"C1",{"$f":"Données!$AE$42*Calculs!MR55","v":0.5},null,null,null,null,null,null,null,null,null,null,null,null,null,null,null,null,null,null,null,null,null,null,"λmax",{"$f":"NR57","v":1.5547601510726108},"C1",{"$f":"Données!$AE$42*Calculs!NR55","v":0.5},null,null,null,null,null,null,null,null,null,null,null,null,null,null,null,null,null,null,null,null,null,null,"λmax",{"$f":"OR57","v":1.5547601510726108},"C1",{"$f":"Données!$AE$42*Calculs!OR55","v":0.5},null,null,null,null,null,null,null,null,null,null,null,null,null,null,null,null,null,null,null,null,null,null,"λmax",{"$f":"PR57","v":1.5547601510726108},"C1",{"$f":"Données!$AE$42*Calculs!PR55","v":0.5},null,null,null,null,null,null,null,null,null,null,null,null,null,null,null,null,null,null,null,null,null,null,"λmax",{"$f":"QR57","v":1.5547601510726108},"C1",{"$f":"Données!$AE$42*Calculs!QR55","v":0.5},null,null,null,null,null,null,null,null,null,null,null,null,null,null,null,null,null,null,null,null,null,null,"λmax",{"$f":"RR57","v":1.5547601510726108},"C1",{"$f":"Données!$AE$42*Calculs!RR55","v":0.5},null,null,null,null,null,null,null,null,null,null,null,null,null,null,null,null,null,null,"6. Coefficient de pression de recouvrement (μ)"]
[3.125,23.320499999999999,4.5102000000000002,18.810299999999998,3.125,18.380600000000001,4.5102000000000002,13.8704,null,null,null,null,null,null,"6. Coeff. de pression de terrain (seulement trafic routier: Krad)",null,null,null,null,null,null,null,null,null,null,null,null,null,null,null,null,null,null,null,null,null,"μcourt",{"$f":"0.074/(AK37+0.06)","v":1.0744875891344612},"[-]",null,null,null,"6. Coeff. de pression de terrain (seulement trafic routier: Krad)",null,null,null,null,null,null,null,null,null,null,null,null,null,null,null,null,null,null,null,"μcourt",{"$f":"0.074/(BK37+0.06)","v":1.0222350934815265},"[-]",null,null,null,"6. Coeff. de pression de terrain (seulement trafic routier: Krad)",null,null,null,null,null,null,null,null,null,null,null,null,null,null,null,null,null,null,null,"μcourt",{"$f":"0.074/(CK37+0.06)","v":0.95515275034586233},"[-]",null,null,null,"6. Coeff. de pression de terrain (seulement trafic routier: Krad)",null,null,null,null,null,null,null,null,null,null,null,null,null,null,null,null,null,null,null,"μcourt",{"$f":"0.074/(DK37+0.06)","v":0.82141237950880885},"[-]",null,null,null,"6. Coeff. de pression de terrain (seulement trafic routier: Krad)",null,null,null,null,null,null,null,null,null,null,null,null,null,null,null,null,null,null,null,"μcourt",{"$f":"0.074/(EK37+0.06)","v":1.1315719810936122},"[-]",null,null,null,"6. Coeff. de pression de terrain (seulement trafic routier: Krad)",null,null,null,null,null,null,null,null,null,null,null,null,null,null,null,null,null,null,null,"μcourt",{"$f":"0.074/(FK37+0.06)","v":1.0485919131737234},"[-]",null,null,null,"6. Coeff. de pression de terrain (seulement trafic routier: Krad)",null,null,null,null,null,null,null,null,null,null,null,null,null,null,null,null,null,null,null,"μcourt",{"$f":"0.074/(GK37+0.06)","v":0.94477171150985972},"[-]",null,null,null,"6. Coeff. de pression de terrain (seulement trafic routier: Krad)",null,null,null,null,null,null,null,null,null,null,null,null,null,null,null,null,null,null,null,"μcourt",{"$f":"0.074/(HK37+0.06)","v":1.1034336919105727},"[-]",null,null,null,"6. Coeff. de pression de terrain (seulement trafic routier: Krad)",null,null,null,null,null,null,null,null,null,null,null,null,null,null,null,null,null,null,null,"μcourt",{"$f":"0.074/(IK37+0.06)","v":0.99935213746258211},"[-]",null,null,null,"6. Coeff. de pression de terrain (seulement trafic routier: Krad)",null,null,null,null,null,null,null,null,null,null,null,null,null,null,null,null,null,null,null,"μcourt",{"$f":"0.074/(JK37+0.06)","v":0.84327469177175873},"[-]",null,null,null,"6. Coeff. de pression de terrain (seulement trafic routier: Krad)",null,null,null,null,null,null,null,null,null,null,null,null,null,null,null,null,null,null,null,null,null,"6. Coeff. de pression de terrain (seulement trafic routier: Krad)",null,null,null,null,null,null,null,null,null,null,null,null,null,null,null,null,null,null,null,null,null,null,null,null,null,"6. Coeff. de pression de terrain (seulement trafic routier: Krad)",null,null,null,null,null,null,null,null,null,null,null,null,null,null,null,null,null,null,null,null,null,null,null,null,null,null,null,"λmin",{"$f":"IF(OR(Données!$AE$44=\"NON\",Données!$AE$44=\"NEIN\"),1,IF(MP55=0,1,IF(OR(Données!$AE$56=\"Verticale (U)\",Données!$AE$56=\"Vertikal (U)\"),(1-EXP(-2*Données!$AE$52/Calculs!MP54*Calculs!MP53*TAN(Calculs!MP55)))/(2*Données!$AE$52/Calculs!MP54*Calculs!MP53*TAN(Calculs!MP55)),IF(OR(Données!$AE$56=\"Talutée (V)\",Données!$AE$56=\"Abgeböscht (V)\"),1-Données!$AE$58/90+Données!$AE$58/90*(1-EXP(-2*Données!$AE$52/Calculs!MP54*Calculs!MP53*TAN(Calculs!MP55)))/(2*Données!$AE$52/Calculs!MP54*Calculs!MP53*TAN(Calculs!MP55))))))","v":1},"λmax",{"$f":"IF(0.4025*MR56^3-1.0202*MR56^2+0.8401*MR56+0.4809*(MR56)^(1/2)+0.9994>=1.025,0.4025*MR56^3-1.0202*MR56^2+0.8401*MR56+0.4809*(MR56)^(1/2)+0.9994,1)","v":1.5547601510726108},null,null,null,null,null,null,null,null,null,null,null,null,null,null,null,null,null,null,null,null,null,null,"λmin",{"$f":"IF(OR(Données!$AE$44=\"NON\",Données!$AE$44=\"NEIN\"),1,IF(NP55=0,1,IF(OR(Données!$AE$56=\"Verticale (U)\",Données!$AE$56=\"Vertikal (U)\"),(1-EXP(-2*Données!$AE$52/Calculs!NP54*Calculs!NP53*TAN(Calculs!NP55)))/(2*Données!$AE$52/Calculs!NP54*Calculs!NP53*TAN(Calculs!NP55)),IF(OR(Données!$AE$56=\"Talutée (V)\",Données!$AE$56=\"Abgeböscht (V)\"),1-Données!$AE$58/90+Données!$AE$58/90*(1-EXP(-2*Données!$AE$52/Calculs!NP54*Calculs!NP53*TAN(Calculs!NP55)))/(2*Données!$AE$52/Calculs!NP54*Calculs!NP53*TAN(Calculs!NP55))))))","v":1},"λmax",{"$f":"IF(0.4025*NR56^3-1.0202*NR56^2+0.8401*NR56+0.4809*(NR56)^(1/2)+0.9994>=1.025,0.4025*NR56^3-1.0202*NR56^2+0.8401*NR56+0.4809*(NR56)^(1/2)+0.9994,1)","v":1.5547601510726108},null,null,null,null,null,null,null,null,null,null,null,null,null,null,null,null,null,null,null,null,null,null,"λmin",{"$f":"IF(OR(Données!$AE$44=\"NON\",Données!$AE$44=\"NEIN\"),1,IF(OP55=0,1,IF(OR(Données!$AE$56=\"Verticale (U)\",Données!$AE$56=\"Vertikal (U)\"),(1-EXP(-2*Données!$AE$52/Calculs!OP54*Calculs!OP53*TAN(Calculs!OP55)))/(2*Données!$AE$52/Calculs!OP54*Calculs!OP53*TAN(Calculs!OP55)),IF(OR(Données!$AE$56=\"Talutée (V)\",Données!$AE$56=\"Abgeböscht (V)\"),1-Données!$AE$58/90+Données!$AE$58/90*(1-EXP(-2*Données!$AE$52/Calculs!OP54*Calculs!OP53*TAN(Calculs!OP55)))/(2*Données!$AE$52/Calculs!OP54*Calculs!OP53*TAN(Calculs!OP55))))))","v":1},"λmax",{"$f":"IF(0.4025*OR56^3-1.0202*OR56^2+0.8401*OR56+0.4809*(OR56)^(1/2)+0.9994>=1.025,0.4025*OR56^3-1.0202*OR56^2+0.8401*OR56+0.4809*(OR56)^(1/2)+0.9994,1)","v":1.5547601510726108},null,null,null,null,null,null,null,null,null,null,null,null,null,null,null,null,null,null,null,null,null,null,"λmin",{"$f":"IF(OR(Données!$AE$44=\"NON\",Données!$AE$44=\"NEIN\"),1,IF(PP55=0,1,IF(OR(Données!$AE$56=\"Verticale (U)\",Données!$AE$56=\"Vertikal (U)\"),(1-EXP(-2*Données!$AE$52/Calculs!PP54*Calculs!PP53*TAN(Calculs!PP55)))/(2*Données!$AE$52/Calculs!PP54*Calculs!PP53*TAN(Calculs!PP55)),IF(OR(Données!$AE$56=\"Talutée (V)\",Données!$AE$56=\"Abgeböscht (V)\"),1-Données!$AE$58/90+Données!$AE$58/90*(1-EXP(-2*Données!$AE$52/Calculs!PP54*Calculs!PP53*TAN(Calculs!PP55)))/(2*Données!$AE$52/Calculs!PP54*Calculs!PP53*TAN(Calculs!PP55))))))","v":1},"λmax",{"$f":"IF(0.4025*PR56^3-1.0202*PR56^2+0.8401*PR56+0.4809*(PR56)^(1/2)+0.9994>=1.025,0.4025*PR56^3-1.0202*PR56^2+0.8401*PR56+0.4809*(PR56)^(1/2)+0.9994,1)","v":1.5547601510726108},null,null,null,null,null,null,null,null,null,null,null,null,null,null,null,null,null,null,null,null,null,null,"λmin",{"$f":"IF(OR(Données!$AE$44=\"NON\",Données!$AE$44=\"NEIN\"),1,IF(QP55=0,1,IF(OR(Données!$AE$56=\"Verticale (U)\",Données!$AE$56=\"Vertikal (U)\"),(1-EXP(-2*Données!$AE$52/Calculs!QP54*Calculs!QP53*TAN(Calculs!QP55)))/(2*Données!$AE$52/Calculs!QP54*Calculs!QP53*TAN(Calculs!QP55)),IF(OR(Données!$AE$56=\"Talutée (V)\",Données!$AE$56=\"Abgeböscht (V)\"),1-Données!$AE$58/90+Données!$AE$58/90*(1-EXP(-2*Données!$AE$52/Calculs!QP54*Calculs!QP53*TAN(Calculs!QP55)))/(2*Données!$AE$52/Calculs!QP54*Calculs!QP53*TAN(Calculs!QP55))))))","v":1},"λmax",{"$f":"IF(0.4025*QR56^3-1.0202*QR56^2+0.8401*QR56+0.4809*(QR56)^(1/2)+0.9994>=1.025,0.4025*QR56^3-1.0202*QR56^2+0.8401*QR56+0.4809*(QR56)^(1/2)+0.9994,1)","v":1.5547601510726108},null,null,null,null,null,null,null,null,null,null,null,null,null,null,null,null,null,null,null,null,null,null,"λmin",{"$f":"IF(OR(Données!$AE$44=\"NON\",Données!$AE$44=\"NEIN\"),1,IF(RP55=0,1,IF(OR(Données!$AE$56=\"Verticale (U)\",Données!$AE$56=\"Vertikal (U)\"),(1-EXP(-2*Données!$AE$52/Calculs!RP54*Calculs!RP53*TAN(Calculs!RP55)))/(2*Données!$AE$52/Calculs!RP54*Calculs!RP53*TAN(Calculs!RP55)),IF(OR(Données!$AE$56=\"Talutée (V)\",Données!$AE$56=\"Abgeböscht (V)\"),1-Données!$AE$58/90+Données!$AE$58/90*(1-EXP(-2*Données!$AE$52/Calculs!RP54*Calculs!RP53*TAN(Calculs!RP55)))/(2*Données!$AE$52/Calculs!RP54*Calculs!RP53*TAN(Calculs!RP55))))))","v":1},"λmax",{"$f":"IF(0.4025*RR56^3-1.0202*RR56^2+0.8401*RR56+0.4809*(RR56)^(1/2)+0.9994>=1.025,0.4025*RR56^3-1.0202*RR56^2+0.8401*RR56+0.4809*(RR56)^(1/2)+0.9994,1)","v":1.5547601510726108},null,null,null,null,null,null,null,null,null,null,null,null,null,null,null,null,null,null,"μcourt",{"$f":"0.074/(SK37+0.06)","v":0.28275796153961191},"[-]"]
[3.25,22.172000000000001,4.1633333333333304,18.00866666666667,3.25,17.6068,4.1633333333333304,13.443466666666669,null,null,null,null,null,null,"K","H+a/da","Krad (≤1)","Krad (>2)","Krad (1<x≤2)",null,null,null,null,null,null,null,null,null,null,null,null,null,null,null,null,null,"μlong",{"$f":"0.074/(AM37+0.06)","v":1.1910738567059631},"[-]",null,null,null,"K","H+a/da","Krad (≤1)","Krad (>2)","Krad (1<x≤2)","Krad (utilisé)",null,null,null,null,null,null,null,null,null,null,null,null,null,null,"μlong",{"$f":"0.074/(BM37+0.06)","v":1.1750938362751266},"[-]",null,null,null,"K","H+a/da","Krad (≤1)","Krad (>2)","Krad (1<x≤2)","Krad (utilisé)",null,null,null,null,null,null,null,null,null,null,null,null,null,null,"μlong",{"$f":"0.074/(CM37+0.06)","v":1.1527577818287948},"[-]",null,null,null,"K","H+a/da","Krad (≤1)","Krad (>2)","Krad (1<x≤2)","Krad (utilisé)",null,null,null,null,null,null,null,null,null,null,null,null,null,null,"μlong",{"$f":"0.074/(DM37+0.06)","v":1.1008416181369667},"[-]",null,null,null,"K","H+a/da","Krad (≤1)","Krad (>2)","Krad (1<x≤2)","Krad (utilisé)",null,null,null,null,null,null,null,null,null,null,null,null,null,null,"μlong",{"$f":"0.074/(EM37+0.06)","v":1.1802632729817903},"[-]",null,null,null,"K","H+a/da","Krad (≤1)","Krad (>2)","Krad (1<x≤2)","Krad (utilisé)",null,null,null,null,null,null,null,null,null,null,null,null,null,null,"μlong",{"$f":"0.074/(FM37+0.06)","v":1.133484422034003},"[-]",null,null,null,"K","H+a/da","Krad (≤1)","Krad (>2)","Krad (1<x≤2)","Krad (utilisé)",null,null,null,null,null,null,null,null,null,null,null,null,null,null,"μlong",{"$f":"0.074/(GM37+0.06)","v":1.0699377855574275},"[-]",null,null,null,"K","H+a/da","Krad (≤1)","Krad (>2)","Krad (1<x≤2)","Krad (utilisé)",null,null,null,null,null,null,null,null,null,null,null,null,null,null,"μlong",{"$f":"0.074/(HM37+0.06)","v":1.1980731113764123},"[-]",null,null,null,"K","H+a/da","Krad (≤1)","Krad (>2)","Krad (1<x≤2)","Krad (utilisé)",null,null,null,null,null,null,null,null,null,null,null,null,null,null,"μlong",{"$f":"0.074/(IM37+0.06)","v":1.1651342721307081},"[-]",null,null,null,"K","H+a/da","Krad (≤1)","Krad (>2)","Krad (1<x≤2)","Krad (utilisé)",null,null,null,null,null,null,null,null,null,null,null,null,null,null,"μlong",{"$f":"0.074/(JM37+0.06)","v":1.1054959158798425},"[-]",null,null,null,"K","H+a/da","Krad (≤1)","Krad (>2)","Krad (1<x≤2)","Krad (utilisé)",null,null,null,null,null,null,null,null,null,null,null,null,null,null,null,null,"K","H+a/da","Krad (≤1)","Krad (>2)","Krad (1<x≤2)",null,null,null,null,null,null,null,null,null,null,null,null,null,null,null,null,null,null,null,null,null,"K","H+a/da","Krad (≤1)","Krad (>2)","Krad (1<x≤2)",null,null,null,null,null,null,null,null,null,null,null,null,null,null,null,null,null,null,null,null,null,null,null,"λmin,0",{"$f":"IF(OR(Données!$AE$44=\"NON\",Données!$AE$44=\"NEIN\"),1,IF(MP55=0,1,IF(OR(Données!$AE$56=\"Verticale (U)\",Données!$AE$56=\"Vertikal (U)\"),EXP(-2*Données!$AE$52/Calculs!MP54*Calculs!MP53*TAN(Calculs!MP55)),IF(OR(Données!$AE$56=\"Talutée (V)\",Données!$AE$56=\"Abgeböscht (V)\"),1-Données!$AE$58/90+Données!$AE$58/90*EXP(-2*Données!$AE$52/Calculs!MP54*Calculs!MP53*TAN(Calculs!MP55))))))","v":1},"αo [rad]",{"$f":"90*2*PI()/360","v":1.5707963267948966},null,null,null,null,null,null,null,null,null,null,null,null,null,null,null,null,null,null,null,null,null,null,"λmin,0",{"$f":"IF(OR(Données!$AE$44=\"NON\",Données!$AE$44=\"NEIN\"),1,IF(NP55=0,1,IF(OR(Données!$AE$56=\"Verticale (U)\",Données!$AE$56=\"Vertikal (U)\"),EXP(-2*Données!$AE$52/Calculs!NP54*Calculs!NP53*TAN(Calculs!NP55)),IF(OR(Données!$AE$56=\"Talutée (V)\",Données!$AE$56=\"Abgeböscht (V)\"),1-Données!$AE$58/90+Données!$AE$58/90*EXP(-2*Données!$AE$52/Calculs!NP54*Calculs!NP53*TAN(Calculs!NP55))))))","v":1},"αo [rad]",{"$f":"90*2*PI()/360","v":1.5707963267948966},null,null,null,null,null,null,null,null,null,null,null,null,null,null,null,null,null,null,null,null,null,null,"λmin,0",{"$f":"IF(OR(Données!$AE$44=\"NON\",Données!$AE$44=\"NEIN\"),1,IF(OP55=0,1,IF(OR(Données!$AE$56=\"Verticale (U)\",Données!$AE$56=\"Vertikal (U)\"),EXP(-2*Données!$AE$52/Calculs!OP54*Calculs!OP53*TAN(Calculs!OP55)),IF(OR(Données!$AE$56=\"Talutée (V)\",Données!$AE$56=\"Abgeböscht (V)\"),1-Données!$AE$58/90+Données!$AE$58/90*EXP(-2*Données!$AE$52/Calculs!OP54*Calculs!OP53*TAN(Calculs!OP55))))))","v":1},"αo [rad]",{"$f":"90*2*PI()/360","v":1.5707963267948966},null,null,null,null,null,null,null,null,null,null,null,null,null,null,null,null,null,null,null,null,null,null,"λmin,0",{"$f":"IF(OR(Données!$AE$44=\"NON\",Données!$AE$44=\"NEIN\"),1,IF(PP55=0,1,IF(OR(Données!$AE$56=\"Verticale (U)\",Données!$AE$56=\"Vertikal (U)\"),EXP(-2*Données!$AE$52/Calculs!PP54*Calculs!PP53*TAN(Calculs!PP55)),IF(OR(Données!$AE$56=\"Talutée (V)\",Données!$AE$56=\"Abgeböscht (V)\"),1-Données!$AE$58/90+Données!$AE$58/90*EXP(-2*Données!$AE$52/Calculs!PP54*Calculs!PP53*TAN(Calculs!PP55))))))","v":1},"αo [rad]",{"$f":"90*2*PI()/360","v":1.5707963267948966},null,null,null,null,null,null,null,null,null,null,null,null,null,null,null,null,null,null,null,null,null,null,"λmin,0",{"$f":"IF(OR(Données!$AE$44=\"NON\",Données!$AE$44=\"NEIN\"),1,IF(QP55=0,1,IF(OR(Données!$AE$56=\"Verticale (U)\",Données!$AE$56=\"Vertikal (U)\"),EXP(-2*Données!$AE$52/Calculs!QP54*Calculs!QP53*TAN(Calculs!QP55)),IF(OR(Données!$AE$56=\"Talutée (V)\",Données!$AE$56=\"Abgeböscht (V)\"),1-Données!$AE$58/90+Données!$AE$58/90*EXP(-2*Données!$AE$52/Calculs!QP54*Calculs!QP53*TAN(Calculs!QP55))))))","v":1},"αo [rad]",{"$f":"90*2*PI()/360","v":1.5707963267948966},null,null,null,null,null,null,null,null,null,null,null,null,null,null,null,null,null,null,null,null,null,null,"λmin,0",{"$f":"IF(OR(Données!$AE$44=\"NON\",Données!$AE$44=\"NEIN\"),1,IF(RP55=0,1,IF(OR(Données!$AE$56=\"Verticale (U)\",Données!$AE$56=\"Vertikal (U)\"),EXP(-2*Données!$AE$52/Calculs!RP54*Calculs!RP53*TAN(Calculs!RP55)),IF(OR(Données!$AE$56=\"Talutée (V)\",Données!$AE$56=\"Abgeböscht (V)\"),1-Données!$AE$58/90+Données!$AE$58/90*EXP(-2*Données!$AE$52/Calculs!RP54*Calculs!RP53*TAN(Calculs!RP55))))))","v":1},"αo [rad]",{"$f":"90*2*PI()/360","v":1.5707963267948966},null,null,null,null,null,null,null,null,null,null,null,null,null,null,null,null,null,null,"μlong",{"$f":"0.074/(SM37+0.06)","v":0.28275796153961191},"[-]"]
[3.375,21.107099999999999,3.8548,17.252299999999998,3.375,16.884899999999998,3.8548,13.030099999999997,null,null,null,null,null,null,{"$f":"Données!AE40","v":0.5},{"$f":"(Données!AE52+0.4)*1000/Calculs!Q32","v":8.9473684210526319},{"$f":"0","v":0},{"$f":"O59","v":0.5},{"$f":"IF(AND(P59>1,P59<=2),(P59-1)*O59,0)","v":0},null,null,null,null,null,null,null,null,null,null,null,null,null,null,null,null,null,null,null,null,null,null,null,{"$f":"Données!$AE$40","v":0.5},{"$f":"(Données!$AE$52-AT31/1000+0.4)*1000/Calculs!AS31","v":4.4315068493150687},{"$f":"0","v":0},{"$f":"IF(AR59>2,AQ59,0)","v":0.5},{"$f":"IF(AND(AR59>1,AR59<=2),(AR59-1)*AQ59,0)","v":0},{"$f":"SUM(AS59:AU59)","v":0.5},null,null,null,null,null,null,null,null,null,null,null,null,null,null,null,null,null,null,null,null,{"$f":"Données!$AE$40","v":0.5},{"$f":"(Données!$AE$52-BT31/1000+0.4)*1000/Calculs!BS31","v":4.4315068493150687},{"$f":"0","v":0},{"$f":"IF(BR59>2,BQ59,0)","v":0.5},{"$f":"IF(AND(BR59>1,BR59<=2),(BR59-1)*BQ59,0)","v":0},{"$f":"SUM(BS59:BU59)","v":0.5},null,null,null,null,null,null,null,null,null,null,null,null,null,null,null,null,null,null,null,null,{"$f":"Données!$AE$40","v":0.5},{"$f":"(Données!$AE$52-CT31/1000+0.4)*1000/Calculs!CS31","v":4.4315068493150687},{"$f":"0","v":0},{"$f":"IF(CR59>2,CQ59,0)","v":0.5},{"$f":"IF(AND(CR59>1,CR59<=2),(CR59-1)*CQ59,0)","v":0},{"$f":"SUM(CS59:CU59)","v":0.5},null,null,null,null,null,null,null,null,null,null,null,null,null,null,null,null,null,null,null,null,{"$f":"Données!$AE$40","v":0.5},{"$f":"(Données!$AE$52-DT31/1000+0.4)*1000/Calculs!DS31","v":4.4315068493150687},{"$f":"0","v":0},{"$f":"IF(DR59>2,DQ59,0)","v":0.5},{"$f":"IF(AND(DR59>1,DR59<=2),(DR59-1)*DQ59,0)","v":0},{"$f":"SUM(DS59:DU59)","v":0.5},null,null,null,null,null,null,null,null,null,null,null,null,null,null,null,null,null,null,null,null,{"$f":"Données!$AE$40","v":0.5},{"$f":"(Données!$AE$52-ET31/1000+0.4)*1000/Calculs!ES31","v":5.2845528455284549},{"$f":"0","v":0},{"$f":"IF(ER59>2,EQ59,0)","v":0.5},{"$f":"IF(AND(ER59>1,ER59<=2),(ER59-1)*EQ59,0)","v":0},{"$f":"SUM(ES59:EU59)","v":0.5},null,null,null,null,null,null,null,null,null,null,null,null,null,null,null,null,null,null,null,null,{"$f":"Données!$AE$40","v":0.5},{"$f":"(Données!$AE$52-FT31/1000+0.4)*1000/Calculs!FS31","v":4.9618320610687023},{"$f":"0","v":0},{"$f":"IF(FR59>2,FQ59,0)","v":0.5},{"$f":"IF(AND(FR59>1,FR59<=2),(FR59-1)*FQ59,0)","v":0},{"$f":"SUM(FS59:FU59)","v":0.5},null,null,null,null,null,null,null,null,null,null,null,null,null,null,null,null,null,null,null,null,{"$f":"Données!$AE$40","v":0.5},{"$f":"(Données!$AE$52-GT31/1000+0.4)*1000/Calculs!GS31","v":4.9618320610687023},{"$f":"0","v":0},{"$f":"IF(GR59>2,GQ59,0)","v":0.5},{"$f":"IF(AND(GR59>1,GR59<=2),(GR59-1)*GQ59,0)","v":0},{"$f":"SUM(GS59:GU59)","v":0.5},null,null,null,null,null,null,null,null,null,null,null,null,null,null,null,null,null,null,null,null,{"$f":"Données!$AE$40","v":0.5},{"$f":"(Données!$AE$52-HT31/1000+0.4)*1000/Calculs!HS31","v":4.9618320610687023},{"$f":"0","v":0},{"$f":"IF(HR59>2,HQ59,0)","v":0.5},{"$f":"IF(AND(HR59>1,HR59<=2),(HR59-1)*HQ59,0)","v":0},{"$f":"SUM(HS59:HU59)","v":0.5},null,null,null,null,null,null,null,null,null,null,null,null,null,null,null,null,null,null,null,null,{"$f":"Données!$AE$40","v":0.5},{"$f":"(Données!$AE$52-IT31/1000+0.4)*1000/Calculs!IS31","v":4.9618320610687023},{"$f":"0","v":0},{"$f":"IF(IR59>2,IQ59,0)","v":0.5},{"$f":"IF(AND(IR59>1,IR59<=2),(IR59-1)*IQ59,0)","v":0},{"$f":"SUM(IS59:IU59)","v":0.5},null,null,null,null,null,null,null,null,null,null,null,null,null,null,null,null,null,null,null,null,{"$f":"Données!$AE$40","v":0.5},{"$f":"(Données!$AE$52-JT31/1000+0.4)*1000/Calculs!JS31","v":4.9618320610687023},{"$f":"0","v":0},{"$f":"IF(JR59>2,JQ59,0)","v":0.5},{"$f":"IF(AND(JR59>1,JR59<=2),(JR59-1)*JQ59,0)","v":0},{"$f":"SUM(JS59:JU59)","v":0.5},null,null,null,null,null,null,null,null,null,null,null,null,null,null,null,null,{"$f":"Données!$AE$40","v":0.5},{"$f":"(Données!$AE$52+0.4)*1000/Calculs!KO32","v":9.577464788732394},{"$f":"0","v":0},{"$f":"KM59","v":0.5},{"$f":"IF(AND(KN59>1,KN59<=2),(KN59-1)*KM59,0)","v":0},null,null,null,null,null,null,null,null,null,null,null,null,null,null,null,null,null,null,null,null,null,{"$f":"Données!$AE$40","v":0.5},{"$f":"(Données!$AE$52+0.4)*1000/Calculs!LO32","v":9.0425531914893611},{"$f":"0","v":0},{"$f":"LM59","v":0.5},{"$f":"IF(AND(LN59>1,LN59<=2),(LN59-1)*LM59,0)","v":0},null,null,null,null,null,null,null,null,null,null,null,null,null,null,null,null,null,null,null,null,null,null,null,"λmin,F",{"$f":"IF(OR(Données!$AE$44=\"NON\",Données!$AE$44=\"NEIN\"),1,IF(MP57=0,1,IF(OR(Données!$AE$56=\"Verticale (U)\",Données!$AE$56=\"Vertikal (U)\"),EXP(-2*(Données!$AE$52-Données!$AE$20)/Calculs!MP54*Calculs!MP53*TAN(Calculs!MP55)),IF(OR(Données!$AE$56=\"Talutée (V)\",Données!$AE$56=\"Abgeböscht (V)\"),1-Données!$AE$58/90+Données!$AE$58/90*EXP(-2*(Données!$AE$52-Données!$AE$20)/Calculs!MP54*Calculs!MP53*TAN(Calculs!MP55))))))","v":1},"δ [rad]",{"$f":"180*2*PI()/360","v":3.1415926535897931},null,null,null,null,null,null,null,null,null,null,null,null,null,null,null,null,null,null,null,null,null,null,"λmin,F",{"$f":"IF(OR(Données!$AE$44=\"NON\",Données!$AE$44=\"NEIN\"),1,IF(NP57=0,1,IF(OR(Données!$AE$56=\"Verticale (U)\",Données!$AE$56=\"Vertikal (U)\"),EXP(-2*(Données!$AE$52-Données!$AE$20)/Calculs!NP54*Calculs!NP53*TAN(Calculs!NP55)),IF(OR(Données!$AE$56=\"Talutée (V)\",Données!$AE$56=\"Abgeböscht (V)\"),1-Données!$AE$58/90+Données!$AE$58/90*EXP(-2*(Données!$AE$52-Données!$AE$20)/Calculs!NP54*Calculs!NP53*TAN(Calculs!NP55))))))","v":1},"δ [rad]",{"$f":"180*2*PI()/360","v":3.1415926535897931},null,null,null,null,null,null,null,null,null,null,null,null,null,null,null,null,null,null,null,null,null,null,"λmin,F",{"$f":"IF(OR(Données!$AE$44=\"NON\",Données!$AE$44=\"NEIN\"),1,IF(OP57=0,1,IF(OR(Données!$AE$56=\"Verticale (U)\",Données!$AE$56=\"Vertikal (U)\"),EXP(-2*(Données!$AE$52-Données!$AE$20)/Calculs!OP54*Calculs!OP53*TAN(Calculs!OP55)),IF(OR(Données!$AE$56=\"Talutée (V)\",Données!$AE$56=\"Abgeböscht (V)\"),1-Données!$AE$58/90+Données!$AE$58/90*EXP(-2*(Données!$AE$52-Données!$AE$20)/Calculs!OP54*Calculs!OP53*TAN(Calculs!OP55))))))","v":1},"δ [rad]",{"$f":"180*2*PI()/360","v":3.1415926535897931},null,null,null,null,null,null,null,null,null,null,null,null,null,null,null,null,null,null,null,null,null,null,"λmin,F",{"$f":"IF(OR(Données!$AE$44=\"NON\",Données!$AE$44=\"NEIN\"),1,IF(PP57=0,1,IF(OR(Données!$AE$56=\"Verticale (U)\",Données!$AE$56=\"Vertikal (U)\"),EXP(-2*(Données!$AE$52-Données!$AE$20)/Calculs!PP54*Calculs!PP53*TAN(Calculs!PP55)),IF(OR(Données!$AE$56=\"Talutée (V)\",Données!$AE$56=\"Abgeböscht (V)\"),1-Données!$AE$58/90+Données!$AE$58/90*EXP(-2*(Données!$AE$52-Données!$AE$20)/Calculs!PP54*Calculs!PP53*TAN(Calculs!PP55))))))","v":1},"δ [rad]",{"$f":"180*2*PI()/360","v":3.1415926535897931},null,null,null,null,null,null,null,null,null,null,null,null,null,null,null,null,null,null,null,null,null,null,"λmin,F",{"$f":"IF(OR(Données!$AE$44=\"NON\",Données!$AE$44=\"NEIN\"),1,IF(QP57=0,1,IF(OR(Données!$AE$56=\"Verticale (U)\",Données!$AE$56=\"Vertikal (U)\"),EXP(-2*(Données!$AE$52-Données!$AE$20)/Calculs!QP54*Calculs!QP53*TAN(Calculs!QP55)),IF(OR(Données!$AE$56=\"Talutée (V)\",Données!$AE$56=\"Abgeböscht (V)\"),1-Données!$AE$58/90+Données!$AE$58/90*EXP(-2*(Données!$AE$52-Données!$AE$20)/Calculs!QP54*Calculs!QP53*TAN(Calculs!QP55))))))","v":1},"δ [rad]",{"$f":"180*2*PI()/360","v":3.1415926535897931},null,null,null,null,null,null,null,null,null,null,null,null,null,null,null,null,null,null,null,null,null,null,"λmin,F",{"$f":"IF(OR(Données!$AE$44=\"NON\",Données!$AE$44=\"NEIN\"),1,IF(RP57=0,1,IF(OR(Données!$AE$56=\"Verticale (U)\",Données!$AE$56=\"Vertikal (U)\"),EXP(-2*(Données!$AE$52-Données!$AE$20)/Calculs!RP54*Calculs!RP53*TAN(Calculs!RP55)),IF(OR(Données!$AE$56=\"Talutée (V)\",Données!$AE$56=\"Abgeböscht (V)\"),1-Données!$AE$58/90+Données!$AE$58/90*EXP(-2*(Données!$AE$52-Données!$AE$20)/Calculs!RP54*Calculs!RP53*TAN(Calculs!RP55))))))","v":1},"δ [rad]",{"$f":"180*2*PI()/360","v":3.1415926535897931}]
[3.5,20.117599999999999,3.5792222222222221,16.538377777777779,3.5,16.209599999999998,3.5792222222222221,12.630377777777776,null,null,null,null,null,null,null,null,null,null,null,null,null,null,null,null,null,null,null,null,null,null,null,null,null,null,null,null,null,null,null,null,null,null,null,null,null,null,null,null,null,null,null,null,null,null,null,null,null,null,null,null,null,null,null,null,null,null,null,null,null,null,null,null,null,null,null,null,null,null,null,null,null,null,null,null,null,null,null,null,null,null,null,null,null,null,null,null,null,null,null,null,null,null,null,null,null,null,null,null,null,null,null,null,null,null,null,null,null,null,null,null,null,null,null,null,null,null,null,null,null,null,null,null,null,null,null,null,null,null,null,null,null,null,null,null,null,null,null,null,null,null,null,null,null,null,null,null,null,null,null,null,null,null,null,null,null,null,null,null,null,null,null,null,null,null,null,null,null,null,null,null,null,null,null,null,null,null,null,null,null,null,null,null,null,null,null,null,null,null,null,null,null,null,null,null,null,null,null,null,null,null,null,null,null,null,null,null,null,null,null,null,null,null,null,null,null,null,null,null,null,null,null,null,null,null,null,null,null,null,null,null,null,null,null,null,null,null,null,null,null,null,null,null,null,null,null,null,null,null,null,null,null,null,null,null,null,null,null,null,null,null,null,null,null,null,null,null,null,null,null,null,null,null,null,null,null,null,null,null,null,null,null,null,null,null,null,null,null,null,null,null,null,null,null,null,null,null,null,null,null,null,null,null,null,null,null,null,null,null,null,null,null,null,null,null,null,null,null,null,null,null,null,null,null,null,null,null,null,null,null,null,null,null,null,null,null,null,null,null,null,null,null,null,"αo [rad]",{"$f":"90*2*PI()/360","v":1.5707963267948966},"αu [rad]",{"$f":"90*2*PI()/360","v":1.5707963267948966},null,null,null,null,null,null,null,null,null,null,null,null,null,null,null,null,null,null,null,null,null,null,"αo [rad]",{"$f":"90*2*PI()/360","v":1.5707963267948966},"αu [rad]",{"$f":"90*2*PI()/360","v":1.5707963267948966},null,null,null,null,null,null,null,null,null,null,null,null,null,null,null,null,null,null,null,null,null,null,"αo [rad]",{"$f":"90*2*PI()/360","v":1.5707963267948966},"αu [rad]",{"$f":"90*2*PI()/360","v":1.5707963267948966},null,null,null,null,null,null,null,null,null,null,null,null,null,null,null,null,null,null,null,null,null,null,"αo [rad]",{"$f":"90*2*PI()/360","v":1.5707963267948966},"αu [rad]",{"$f":"90*2*PI()/360","v":1.5707963267948966},null,null,null,null,null,null,null,null,null,null,null,null,null,null,null,null,null,null,null,null,null,null,"αo [rad]",{"$f":"90*2*PI()/360","v":1.5707963267948966},"αu [rad]",{"$f":"90*2*PI()/360","v":1.5707963267948966},null,null,null,null,null,null,null,null,null,null,null,null,null,null,null,null,null,null,null,null,null,null,"αo [rad]",{"$f":"90*2*PI()/360","v":1.5707963267948966},"αu [rad]",{"$f":"90*2*PI()/360","v":1.5707963267948966}]
[3.625,19.1965,3.3321000000000001,15.8644,3.625,15.5768,3.3321000000000001,12.2447,null,null,null,null,null,null,null,null,null,null,null,null,null,null,null,null,null,null,null,null,null,null,null,null,null,null,"7. Coeff. de pression de terrain (seulement trafic routier: Krad)",null,null,null,null,null,null,null,null,null,null,null,null,null,null,null,null,null,null,null,null,null,null,null,null,null,"7. Coeff. de pression de terrain (seulement trafic routier: Krad)",null,null,null,null,null,null,null,null,null,null,null,null,null,null,null,null,null,null,null,null,null,null,null,null,null,"7. Coeff. de pression de terrain (seulement trafic routier: Krad)",null,null,null,null,null,null,null,null,null,null,null,null,null,null,null,null,null,null,null,null,null,null,null,null,null,"7. Coeff. de pression de terrain (seulement trafic routier: Krad)",null,null,null,null,null,null,null,null,null,null,null,null,null,null,null,null,null,null,null,null,null,null,null,null,null,"7. Coeff. de pression de terrain (seulement trafic routier: Krad)",null,null,null,null,null,null,null,null,null,null,null,null,null,null,null,null,null,null,null,null,null,null,null,null,null,"7. Coeff. de pression de terrain (seulement trafic routier: Krad)",null,null,null,null,null,null,null,null,null,null,null,null,null,null,null,null,null,null,null,null,null,null,null,null,null,"7. Coeff. de pression de terrain (seulement trafic routier: Krad)",null,null,null,null,null,null,null,null,null,null,null,null,null,null,null,null,null,null,null,null,null,null,null,null,null,"7. Coeff. de pression de terrain (seulement trafic routier: Krad)",null,null,null,null,null,null,null,null,null,null,null,null,null,null,null,null,null,null,null,null,null,null,null,null,null,"7. Coeff. de pression de terrain (seulement trafic routier: Krad)",null,null,null,null,null,null,null,null,null,null,null,null,null,null,null,null,null,null,null,null,null,null,null,null,null,"7. Coeff. de pression de terrain (seulement trafic routier: Krad)",null,null,null,null,null,null,null,null,null,null,null,null,null,null,null,null,null,null,null,null,null,null,null,null,null,null,null,null,null,null,null,null,null,null,null,null,null,null,null,null,null,null,null,null,null,null,null,null,null,null,null,null,null,null,null,null,null,null,null,null,null,null,null,null,null,null,null,null,null,null,null,null,null,null,null,null,null,null,null,null,null,null,null,"δ [rad]",{"$f":"180*2*PI()/360","v":3.1415926535897931},null,null,null,null,null,null,null,null,null,null,null,null,null,null,null,null,null,null,null,null,null,null,null,null,"δ [rad]",{"$f":"180*2*PI()/360","v":3.1415926535897931},null,null,null,null,null,null,null,null,null,null,null,null,null,null,null,null,null,null,null,null,null,null,null,null,"δ [rad]",{"$f":"180*2*PI()/360","v":3.1415926535897931},null,null,null,null,null,null,null,null,null,null,null,null,null,null,null,null,null,null,null,null,null,null,null,null,"δ [rad]",{"$f":"180*2*PI()/360","v":3.1415926535897931},null,null,null,null,null,null,null,null,null,null,null,null,null,null,null,null,null,null,null,null,null,null,null,null,"δ [rad]",{"$f":"180*2*PI()/360","v":3.1415926535897931},null,null,null,null,null,null,null,null,null,null,null,null,null,null,null,null,null,null,null,null,null,null,null,null,"δ [rad]",{"$f":"180*2*PI()/360","v":3.1415926535897931},null,null,null,null,null,null,null,null,null,null,null,null,null,null,null,null,null,null,"7. Coeff. de pression de terrain (seulement trafic routier: Krad)"]
[3.75,18.337499999999999,3.1097000000000001,15.227799999999998,3.75,14.9825,3.1097000000000001,11.8728,null,null,null,null,null,null,"7. Eau souterraine",null,null,null,null,null,null,null,null,null,null,null,null,null,null,null,null,null,null,null,"K","H+a/da","Krad (≤1)","Krad (>2)","Krad (1<x≤2)","Krad utilisé",null,null,null,null,null,null,null,null,null,null,null,null,null,null,null,null,null,null,null,null,"K","H+a/da","Krad (≤1)","Krad (>2)","Krad (1<x≤2)","Krad utilisé",null,null,null,null,null,null,null,null,null,null,null,null,null,null,null,null,null,null,null,null,"K","H+a/da","Krad (≤1)","Krad (>2)","Krad (1<x≤2)","Krad utilisé",null,null,null,null,null,null,null,null,null,null,null,null,null,null,null,null,null,null,null,null,"K","H+a/da","Krad (≤1)","Krad (>2)","Krad (1<x≤2)","Krad utilisé",null,null,null,null,null,null,null,null,null,null,null,null,null,null,null,null,null,null,null,null,"K","H+a/da","Krad (≤1)","Krad (>2)","Krad (1<x≤2)","Krad utilisé",null,null,null,null,null,null,null,null,null,null,null,null,null,null,null,null,null,null,null,null,"K","H+a/da","Krad (≤1)","Krad (>2)","Krad (1<x≤2)","Krad utilisé",null,null,null,null,null,null,null,null,null,null,null,null,null,null,null,null,null,null,null,null,"K","H+a/da","Krad (≤1)","Krad (>2)","Krad (1<x≤2)","Krad utilisé",null,null,null,null,null,null,null,null,null,null,null,null,null,null,null,null,null,null,null,null,"K","H+a/da","Krad (≤1)","Krad (>2)","Krad (1<x≤2)","Krad utilisé",null,null,null,null,null,null,null,null,null,null,null,null,null,null,null,null,null,null,null,null,"K","H+a/da","Krad (≤1)","Krad (>2)","Krad (1<x≤2)","Krad utilisé",null,null,null,null,null,null,null,null,null,null,null,null,null,null,null,null,null,null,null,null,"K","H+a/da","Krad (≤1)","Krad (>2)","Krad (1<x≤2)","Krad utilisé",null,null,null,null,null,null,null,null,null,null,null,null,null,null,null,null,null,null,null,null,null,null,null,null,"7. Eau souterraine",null,null,null,null,null,null,null,null,null,null,null,null,null,null,null,null,null,null,null,null,null,null,null,null,null,"7. Eau souterraine",null,null,null,null,null,null,null,null,null,null,null,null,null,null,null,null,null,null,null,null,null,null,null,null,null,null,null,"αu [rad]",{"$f":"90*2*PI()/360","v":1.5707963267948966},null,null,null,null,null,null,null,null,null,null,null,null,null,null,null,null,null,null,null,null,null,null,null,null,"αu [rad]",{"$f":"90*2*PI()/360","v":1.5707963267948966},null,null,null,null,null,null,null,null,null,null,null,null,null,null,null,null,null,null,null,null,null,null,null,null,"αu [rad]",{"$f":"90*2*PI()/360","v":1.5707963267948966},null,null,null,null,null,null,null,null,null,null,null,null,null,null,null,null,null,null,null,null,null,null,null,null,"αu [rad]",{"$f":"90*2*PI()/360","v":1.5707963267948966},null,null,null,null,null,null,null,null,null,null,null,null,null,null,null,null,null,null,null,null,null,null,null,null,"αu [rad]",{"$f":"90*2*PI()/360","v":1.5707963267948966},null,null,null,null,null,null,null,null,null,null,null,null,null,null,null,null,null,null,null,null,null,null,null,null,"αu [rad]",{"$f":"90*2*PI()/360","v":1.5707963267948966},null,null,null,null,null,null,null,null,null,null,null,null,null,null,null,null,null,null,"K","H+a/da","Krad (≤1)","Krad (>2)","Krad (1<x≤2)","Krad utilisé"]
[4.375,14.802099999999999,2.2719999999999998,12.530099999999999,4.375,12.487,2.2719999999999998,10.215,null,null,null,null,null,null,"Eau depuis milieu paroi sommet",null,null,null,null,{"$f":"IF(T63=\"Oui\",Données!AE52-Données!AE62+Calculs!R32/2000,0)","v":0},null,null,null,null,null,null,null,null,null,null,null,null,null,null,"8. Eau souterraine",null,null,null,null,null,null,null,"7. Eau souterraine",null,null,null,null,null,null,null,null,null,null,null,null,null,null,null,null,null,"8. Eau souterraine",null,null,null,null,null,null,null,"7. Eau souterraine",null,null,null,null,null,null,null,null,null,null,null,null,null,null,null,null,null,"8. Eau souterraine",null,null,null,null,null,null,null,"7. Eau souterraine",null,null,null,null,null,null,null,null,null,null,null,null,null,null,null,null,null,"8. Eau souterraine",null,null,null,null,null,null,null,"7. Eau souterraine",null,null,null,null,null,null,null,null,null,null,null,null,null,null,null,null,null,"8. Eau souterraine",null,null,null,null,null,null,null,"7. Eau souterraine",null,null,null,null,null,null,null,null,null,null,null,null,null,null,null,null,null,"8. Eau souterraine",null,null,null,null,null,null,null,"7. Eau souterraine",null,null,null,null,null,null,null,null,null,null,null,null,null,null,null,null,null,"8. Eau souterraine",null,null,null,null,null,null,null,"7. Eau souterraine",null,null,null,null,null,null,null,null,null,null,null,null,null,null,null,null,null,"8. Eau souterraine",null,null,null,null,null,null,null,"7. Eau souterraine",null,null,null,null,null,null,null,null,null,null,null,null,null,null,null,null,null,"8. Eau souterraine",null,null,null,null,null,null,null,"7. Eau souterraine",null,null,null,null,null,null,null,null,null,null,null,null,null,null,null,null,null,"8. Eau souterraine",null,null,null,null,null,null,null,"7. Eau souterraine",null,null,null,null,null,null,null,null,null,null,null,null,null,null,null,null,null,null,null,null,null,"Eau depuis milieu paroi sommet",null,null,null,null,{"$f":"IF(KR63=\"Oui\",Données!$AE$52-Données!$AE$62+Calculs!KP32/2000,0)","v":0},null,null,null,null,null,null,null,null,null,null,null,null,null,null,null,null,null,null,null,null,"Eau depuis milieu paroi sommet",null,null,null,null,{"$f":"IF(LR63=\"Oui\",Données!$AE$52-Données!$AE$62+Calculs!LP32/2000,0)","v":0},null,null,null,null,null,null,null,null,null,null,null,null,null,null,null,null,"7. Coeff. de pression de terrain (seulement trafic routier: Krad)",null,null,null,null,null,null,null,null,null,null,null,null,null,null,null,null,null,null,null,null,null,null,null,null,null,"7. Coeff. de pression de terrain (seulement trafic routier: Krad)",null,null,null,null,null,null,null,null,null,null,null,null,null,null,null,null,null,null,null,null,null,null,null,null,null,"7. Coeff. de pression de terrain (seulement trafic routier: Krad)",null,null,null,null,null,null,null,null,null,null,null,null,null,null,null,null,null,null,null,null,null,null,null,null,null,"7. Coeff. de pression de terrain (seulement trafic routier: Krad)",null,null,null,null,null,null,null,null,null,null,null,null,null,null,null,null,null,null,null,null,null,null,null,null,null,"7. Coeff. de pression de terrain (seulement trafic routier: Krad)",null,null,null,null,null,null,null,null,null,null,null,null,null,null,null,null,null,null,null,null,null,null,null,null,null,"7. Coeff. de pression de terrain (seulement trafic routier: Krad)",null,null,null,null,null,null,null,null,null,null,null,null,null,null,null,null,null,null,null,null,null,null,null,null,null,"8. Eau souterraine"]
[5,12.2064,1.7318888888888888,10.474511111111111,5,10.5892,1.7318888888888888,8.8573111111111107,null,null,null,null,null,null,null,null,null,null,"peau",{"$f":"IF(T67>0,T67*10*T66,0)","v":0},null,null,null,null,null,null,null,null,null,null,null,null,null,null,"Eau depuis milieu paroi sommet",null,null,null,null,{"$f":"IF(AN68=\"Oui\",Données!$AE$52-Données!$AE$62+Calculs!AN32/2000,0)","v":0},null,null,"Eau depuis milieu paroi sommet",null,null,null,null,{"$f":"IF(AV68=\"Oui\",AV70-(2*AU31+AT31/2)/1000,0)","v":0},null,null,null,null,null,null,null,null,null,null,null,null,"Eau depuis milieu paroi sommet",null,null,null,null,{"$f":"IF(BN68=\"Oui\",Données!$AE$52-Données!$AE$62+Calculs!BN32/2000,0)","v":0},null,null,"Eau depuis milieu paroi sommet",null,null,null,null,{"$f":"IF(BV68=\"Oui\",BV70-(2*BU31+BT31/2)/1000,0)","v":0},null,null,null,null,null,null,null,null,null,null,null,null,"Eau depuis milieu paroi sommet",null,null,null,null,{"$f":"IF(CN68=\"Oui\",Données!$AE$52-Données!$AE$62+Calculs!CN32/2000,0)","v":0},null,null,"Eau depuis milieu paroi sommet",null,null,null,null,{"$f":"IF(CV68=\"Oui\",CV70-(2*CU31+CT31/2)/1000,0)","v":0},null,null,null,null,null,null,null,null,null,null,null,null,"Eau depuis milieu paroi sommet",null,null,null,null,{"$f":"IF(DN68=\"Oui\",Données!$AE$52-Données!$AE$62+Calculs!DN32/2000,0)","v":0},null,null,"Eau depuis milieu paroi sommet",null,null,null,null,{"$f":"IF(DV68=\"Oui\",DV70-(2*DU31+DT31/2)/1000,0)","v":0},null,null,null,null,null,null,null,null,null,null,null,null,"Eau depuis milieu paroi sommet",null,null,null,null,{"$f":"IF(EN68=\"Oui\",Données!$AE$52-Données!$AE$62+Calculs!EN32/2000,0)","v":0},null,null,"Eau depuis milieu paroi sommet",null,null,null,null,{"$f":"IF(EV68=\"Oui\",EV70-(2*EU31+ET31/2)/1000,0)","v":0},null,null,null,null,null,null,null,null,null,null,null,null,"Eau depuis milieu paroi sommet",null,null,null,null,{"$f":"IF(FN68=\"Oui\",Données!$AE$52-Données!$AE$62+Calculs!FN32/2000,0)","v":0},null,null,"Eau depuis milieu paroi sommet",null,null,null,null,{"$f":"IF(FV68=\"Oui\",FV70-(2*FU31+FT31/2)/1000,0)","v":0},null,null,null,null,null,null,null,null,null,null,null,null,"Eau depuis milieu paroi sommet",null,null,null,null,{"$f":"IF(GN68=\"Oui\",Données!$AE$52-Données!$AE$62+Calculs!GN32/2000,0)","v":0},null,null,"Eau depuis milieu paroi sommet",null,null,null,null,{"$f":"IF(GV68=\"Oui\",GV70-(2*GU31+GT31/2)/1000,0)","v":0},null,null,null,null,null,null,null,null,null,null,null,null,"Eau depuis milieu paroi sommet",null,null,null,null,{"$f":"IF(HN68=\"Oui\",Données!$AE$52-Données!$AE$62+Calculs!HN32/2000,0)","v":0},null,null,"Eau depuis milieu paroi sommet",null,null,null,null,{"$f":"IF(HV68=\"Oui\",HV70-(2*HU31+HT31/2)/1000,0)","v":0},null,null,null,null,null,null,null,null,null,null,null,null,"Eau depuis milieu paroi sommet",null,null,null,null,{"$f":"IF(IN68=\"Oui\",Données!$AE$52-Données!$AE$62+Calculs!IN32/2000,0)","v":0},null,null,"Eau depuis milieu paroi sommet",null,null,null,null,{"$f":"IF(IV68=\"Oui\",IV70-(2*IU31+IT31/2)/1000,0)","v":0},null,null,null,null,null,null,null,null,null,null,null,null,"Eau depuis milieu paroi sommet",null,null,null,null,{"$f":"IF(JN68=\"Oui\",Données!$AE$52-Données!$AE$62+Calculs!JN32/2000,0)","v":0},null,null,"Eau depuis milieu paroi sommet",null,null,null,null,{"$f":"IF(JV68=\"Oui\",JV70-(2*JU31+JT31/2)/1000,0)","v":0},null,null,null,null,null,null,null,null,null,null,null,null,null,null,null,null,null,null,null,null,"peau",{"$f":"IF(KR67>0,KR67*10*KR66,0)","v":0},null,null,null,null,null,null,null,null,null,null,null,null,null,null,null,null,null,null,null,null,null,null,null,null,"peau",{"$f":"IF(LR67>0,LR67*10*LR66,0)","v":0},null,null,null,null,null,null,null,null,null,null,null,null,null,null,null,null,null,null,null,null,null,null,null,null,null,null,null,null,null,null,null,null,null,null,null,null,null,null,null,null,null,null,null,null,null,null,null,null,null,null,null,null,null,null,null,null,null,null,null,null,null,null,null,null,null,null,null,null,null,null,null,null,null,null,null,null,null,null,null,null,null,null,null,null,null,null,null,null,null,null,null,null,null,null,null,null,null,null,null,null,null,null,null,null,null,null,null,null,null,null,null,null,null,null,null,null,null,null,null,null,null,null,null,null,null,null,null,null,null,null,null,null,null,null,null,null,null,null,null,null,null,null,null,null,null,null,null,null,null,null,null,null,null,null,null,null,null,null,null,null,null,null,null,null,null,null,null,null,null,null,null,null,"Eau depuis milieu paroi sommet",null,null,null,null,{"$f":"IF(SN68=\"Oui\",Données!$AE$52-Données!$AE$62+Calculs!SN32/2000,0)","v":0}]
[6.125,9.0124999999999993,1.1473,7.8651999999999997,6.125,8.1469000000000005,1.1473,6.9996000000000009,null,null,null,null,null,null,null,null,"γ",{"$f":"Données!$AE$32","v":20},"[kN/m3]",null,null,null,null,null,null,null,null,null,null,null,null,null,null,null,null,"Poids propre tuyau",null,"g",{"$f":"E12*AN32/1000","v":0.11070000000000001},"[kN/m2]",null,null,null,"Poids propre tuyau",null,"g",{"$f":"E7*AT31/1000+AM82/(2*PI()*AU31/1000)","v":4.0359617522123896},"[kN/m2]","(poids des 2 ensemble)",null,null,null,null,null,null,null,null,null,null,null,null,"Poids propre tuyau",null,"g",{"$f":"$E$12*BN32/1000","v":0.12329999999999999},"[kN/m2]",null,null,null,"Poids propre tuyau",null,"g",{"$f":"$E$7*BT31/1000+BM82/(2*PI()*BU31/1000)","v":4.0443022831858411},"[kN/m2]","(poids des 2 ensemble)",null,null,null,null,null,null,null,null,null,null,null,null,"Poids propre tuyau",null,"g",{"$f":"$E$12*CN32/1000","v":0.13770000000000002},"[kN/m2]",null,null,null,"Poids propre tuyau",null,"g",{"$f":"$E$7*CT31/1000+CM82/(2*PI()*CU31/1000)","v":4.0537578584070797},"[kN/m2]","(poids des 2 ensemble)",null,null,null,null,null,null,null,null,null,null,null,null,"Poids propre tuyau",null,"g",{"$f":"$E$12*DN32/1000","v":0.16379999999999997},"[kN/m2]",null,null,null,"Poids propre tuyau",null,"g",{"$f":"$E$7*DT31/1000+DM82/(2*PI()*DU31/1000)","v":4.0706882123893804},"[kN/m2]","(poids des 2 ensemble)",null,null,null,null,null,null,null,null,null,null,null,null,"Poids propre tuyau",null,"g",{"$f":"$E$10*EN32/1000","v":8.6800000000000002E-2},"[kN/m2]",null,null,null,"Poids propre tuyau",null,"g",{"$f":"$E$7*ET31/1000+EM82/(2*PI()*EU31/1000)","v":3.6576426666666668},"[kN/m2]","(poids des 2 ensemble)",null,null,null,null,null,null,null,null,null,null,null,null,"Poids propre tuyau",null,"g",{"$f":"$E$10*FN32/1000","v":0.12179999999999998},"[kN/m2]",null,null,null,"Poids propre tuyau",null,"g",{"$f":"$E$7*FT31/1000+FM82/(2*PI()*FU31/1000)","v":3.6835234455445547},"[kN/m2]","(poids des 2 ensemble)",null,null,null,null,null,null,null,null,null,null,null,null,"Poids propre tuyau",null,"g",{"$f":"$E$10*GN32/1000","v":0.14560000000000001},"[kN/m2]",null,null,null,"Poids propre tuyau",null,"g",{"$f":"$E$7*GT31/1000+GM82/(2*PI()*GU31/1000)","v":3.69935398019802},"[kN/m2]","(poids des 2 ensemble)",null,null,null,null,null,null,null,null,null,null,null,null,"Poids propre tuyau",null,"g",{"$f":"$E$11*HN32/1000","v":0.10355},"[kN/m2]",null,null,null,"Poids propre tuyau",null,"g",{"$f":"$E$7*HT31/1000+HM82/(2*PI()*HU31/1000)","v":3.6705575346534656},"[kN/m2]","(poids des 2 ensemble)",null,null,null,null,null,null,null,null,null,null,null,null,"Poids propre tuyau",null,"g",{"$f":"$E$11*IN32/1000","v":0.12919999999999998},"[kN/m2]",null,null,null,"Poids propre tuyau",null,"g",{"$f":"$E$7*IT31/1000+IM82/(2*PI()*IU31/1000)","v":3.6873443168316831},"[kN/m2]","(poids des 2 ensemble)",null,null,null,null,null,null,null,null,null,null,null,null,"Poids propre tuyau",null,"g",{"$f":"$E$11*JN32/1000","v":0.16054999999999997},"[kN/m2]",null,null,null,"Poids propre tuyau",null,"g",{"$f":"$E$7*JT31/1000+JM82/(2*PI()*JU31/1000)","v":3.7074890198019803},"[kN/m2]","(poids des 2 ensemble)",null,null,null,null,null,null,null,null,null,null,null,null,null,null,null,null,null,"γ",{"$f":"Données!$AE$32","v":20},"[kN/m3]",null,null,null,null,null,null,null,null,null,null,null,null,null,null,null,null,null,null,null,null,null,null,null,"γ",{"$f":"Données!$AE$32","v":20},"[kN/m3]",null,null,null,null,null,null,null,null,null,null,null,null,null,null,null,null,null,null,null,null,null,"∆h2",{"$f":"IF(MN80>0,MN80*MN77,0)","v":0},null,null,null,null,null,null,"∆h2",{"$f":"IF(MV80>0,MV80*MV77,0)","v":0},null,null,null,null,null,null,null,null,null,null,null,null,null,null,null,null,"∆h2",{"$f":"IF(NN80>0,NN80*NN77,0)","v":0},null,null,null,null,null,null,"∆h2",{"$f":"IF(NV80>0,NV80*NV77,0)","v":0},null,null,null,null,null,null,null,null,null,null,null,null,null,null,null,null,"∆h2",{"$f":"IF(ON80>0,ON80*ON77,0)","v":0},null,null,null,null,null,null,"∆h2",{"$f":"IF(OV80>0,OV80*OV77,0)","v":0},null,null,null,null,null,null,null,null,null,null,null,null,null,null,null,null,"∆h2",{"$f":"IF(PN80>0,PN80*PN77,0)","v":0},null,null,null,null,null,null,"∆h2",{"$f":"IF(PV80>0,PV80*PV77,0)","v":0},null,null,null,null,null,null,null,null,null,null,null,null,null,null,null,null,"∆h2",{"$f":"IF(QN80>0,QN80*QN77,0)","v":0},null,null,null,null,null,null,"∆h2",{"$f":"IF(QV80>0,QV80*QV77,0)","v":0},null,null,null,null,null,null,null,null,null,null,null,null,null,null,null,null,"∆h2",{"$f":"IF(RN80>0,RN80*RN77,0)","v":0},null,null,null,null,null,null,"∆h2",{"$f":"IF(RV80>0,RV80*RV77,0)","v":0},null,null,null,null,null,null,null,null,null,null,null,null,null,"Poids propre tuyau",null,"g",{"$f":"$E$9*SN32/1000","v":0.39479999999999993},"[kN/m2]"]
[7.25,6.9591000000000003,0.81544444444444442,6.1436555555555561,7.25,6.492,0.81544444444444442,5.6765555555555558,null,null,null,null,"Voie unique (ferroviaire)","Eingleisig (Bahnverkehr)",{"$f":"IF(OR(Données!$AE$22=\"Voie unique (ferroviaire)\",Données!$AE$22=\"Eingleisig (Bahnverkehr)\"),1,0)","v":0},{"$f":"IF(OR(Données!$AE$22=\"Pas de trafic\",Données!$AE$22=\"Kein Verkehr\"),0,Données!$AE$28)","v":1.33},{"$f":"IF($A$117>1,$A$117,1)","v":1.1499999999999999},"Non",2,{"$f":"IF(Données!$AE$52<Calculs!S90,\"Attention!\",\"\")","v":""},{"$f":"IF(Données!$AE$52<Calculs!S90,\"Achtung!\",\"\")","v":""},{"$f":"IF(OR(T90=\"Attention!\",U90=\"Achtung!\"),\"[2.4.3]\",\"\")","v":""},null,null,null,null,null,null,null,null,{"$f":"IF(OR(AE89=AE91,AE89=AE92,AE89=AE93,AE89=AE94,AE89=AE95,AE89=AE96,AE89=AE97),1,0)","v":1},{"$f":"IF(OR(AF89=AF91,AF89=AF92,AF89=AF93,AF89=AF94,AF89=AF95,AF89=AF96,AF89=AF97),1,0)","v":0},"1=Oui; 0=Non","α","Ψ","Charge de roue","Hnéc.","Remarque","Bemerkung","SIA ",null,null,{"$f":"IF(OR(AQ89=AQ91,AQ89=AQ92,AQ89=AQ93,AQ89=AQ94,AQ89=AQ95,AQ89=AQ96,AQ89=AQ97),1,0)","v":1},{"$f":"IF(OR(AR89=AR91,AR89=AR92,AR89=AR93,AR89=AR94,AR89=AR95,AR89=AR96,AR89=AR97),1,0)","v":0},"1=Oui; 0=Non","α","Ψ","Charge de roue","Hnéc.","Remarque","Bemerkung","SIA ",null,null,null,null,{"$f":"IF(OR(BE89=BE91,BE89=BE92,BE89=BE93,BE89=BE94,BE89=BE95,BE89=BE96,BE89=BE97),1,0)","v":1},{"$f":"IF(OR(BF89=BF91,BF89=BF92,BF89=BF93,BF89=BF94,BF89=BF95,BF89=BF96,BF89=BF97),1,0)","v":0},"1=Oui; 0=Non","α","Ψ","Charge de roue","Hnéc.","Remarque","Bemerkung","SIA ",null,null,{"$f":"IF(OR(BQ89=BQ91,BQ89=BQ92,BQ89=BQ93,BQ89=BQ94,BQ89=BQ95,BQ89=BQ96,BQ89=BQ97),1,0)","v":1},{"$f":"IF(OR(BR89=BR91,BR89=BR92,BR89=BR93,BR89=BR94,BR89=BR95,BR89=BR96,BR89=BR97),1,0)","v":0},"1=Oui; 0=Non","α","Ψ","Charge de roue","Hnéc.","Remarque","Bemerkung","SIA ",null,null,null,null,{"$f":"IF(OR(CE89=CE91,CE89=CE92,CE89=CE93,CE89=CE94,CE89=CE95,CE89=CE96,CE89=CE97),1,0)","v":1},{"$f":"IF(OR(CF89=CF91,CF89=CF92,CF89=CF93,CF89=CF94,CF89=CF95,CF89=CF96,CF89=CF97),1,0)","v":0},"1=Oui; 0=Non","α","Ψ","Charge de roue","Hnéc.","Remarque","Bemerkung","SIA ",null,null,{"$f":"IF(OR(CQ89=CQ91,CQ89=CQ92,CQ89=CQ93,CQ89=CQ94,CQ89=CQ95,CQ89=CQ96,CQ89=CQ97),1,0)","v":1},{"$f":"IF(OR(CR89=CR91,CR89=CR92,CR89=CR93,CR89=CR94,CR89=CR95,CR89=CR96,CR89=CR97),1,0)","v":0},"1=Oui; 0=Non","α","Ψ","Charge de roue","Hnéc.","Remarque","Bemerkung","SIA ",null,null,null,null,{"$f":"IF(OR(DE89=DE91,DE89=DE92,DE89=DE93,DE89=DE94,DE89=DE95,DE89=DE96,DE89=DE97),1,0)","v":1},{"$f":"IF(OR(DF89=DF91,DF89=DF92,DF89=DF93,DF89=DF94,DF89=DF95,DF89=DF96,DF89=DF97),1,0)","v":0},"1=Oui; 0=Non","α","Ψ","Charge de roue","Hnéc.","Remarque","Bemerkung","SIA ",null,null,{"$f":"IF(OR(DQ89=DQ91,DQ89=DQ92,DQ89=DQ93,DQ89=DQ94,DQ89=DQ95,DQ89=DQ96,DQ89=DQ97),1,0)","v":1},{"$f":"IF(OR(DR89=DR91,DR89=DR92,DR89=DR93,DR89=DR94,DR89=DR95,DR89=DR96,DR89=DR97),1,0)","v":0},"1=Oui; 0=Non","α","Ψ","Charge de roue","Hnéc.","Remarque","Bemerkung","SIA ",null,null,null,null,{"$f":"IF(OR(EE89=EE91,EE89=EE92,EE89=EE93,EE89=EE94,EE89=EE95,EE89=EE96,EE89=EE97),1,0)","v":1},{"$f":"IF(OR(EF89=EF91,EF89=EF92,EF89=EF93,EF89=EF94,EF89=EF95,EF89=EF96,EF89=EF97),1,0)","v":0},"1=Oui; 0=Non","α","Ψ","Charge de roue","Hnéc.","Remarque","Bemerkung","SIA ",null,null,{"$f":"IF(OR(EQ89=EQ91,EQ89=EQ92,EQ89=EQ93,EQ89=EQ94,EQ89=EQ95,EQ89=EQ96,EQ89=EQ97),1,0)","v":1},{"$f":"IF(OR(ER89=ER91,ER89=ER92,ER89=ER93,ER89=ER94,ER89=ER95,ER89=ER96,ER89=ER97),1,0)","v":0},"1=Oui; 0=Non","α","Ψ","Charge de roue","Hnéc.","Remarque","Bemerkung","SIA ",null,null,null,null,{"$f":"IF(OR(FE89=FE91,FE89=FE92,FE89=FE93,FE89=FE94,FE89=FE95,FE89=FE96,FE89=FE97),1,0)","v":1},{"$f":"IF(OR(FF89=FF91,FF89=FF92,FF89=FF93,FF89=FF94,FF89=FF95,FF89=FF96,FF89=FF97),1,0)","v":0},"1=Oui; 0=Non","α","Ψ","Charge de roue","Hnéc.","Remarque","Bemerkung","SIA ",null,null,{"$f":"IF(OR(FQ89=FQ91,FQ89=FQ92,FQ89=FQ93,FQ89=FQ94,FQ89=FQ95,FQ89=FQ96,FQ89=FQ97),1,0)","v":1},{"$f":"IF(OR(FR89=FR91,FR89=FR92,FR89=FR93,FR89=FR94,FR89=FR95,FR89=FR96,FR89=FR97),1,0)","v":0},"1=Oui; 0=Non","α","Ψ","Charge de roue","Hnéc.","Remarque","Bemerkung","SIA ",null,null,null,null,{"$f":"IF(OR(GE89=GE91,GE89=GE92,GE89=GE93,GE89=GE94,GE89=GE95,GE89=GE96,GE89=GE97),1,0)","v":1},{"$f":"IF(OR(GF89=GF91,GF89=GF92,GF89=GF93,GF89=GF94,GF89=GF95,GF89=GF96,GF89=GF97),1,0)","v":0},"1=Oui; 0=Non","α","Ψ","Charge de roue","Hnéc.","Remarque","Bemerkung","SIA ",null,null,{"$f":"IF(OR(GQ89=GQ91,GQ89=GQ92,GQ89=GQ93,GQ89=GQ94,GQ89=GQ95,GQ89=GQ96,GQ89=GQ97),1,0)","v":1},{"$f":"IF(OR(GR89=GR91,GR89=GR92,GR89=GR93,GR89=GR94,GR89=GR95,GR89=GR96,GR89=GR97),1,0)","v":0},"1=Oui; 0=Non","α","Ψ","Charge de roue","Hnéc.","Remarque","Bemerkung","SIA ",null,null,null,null,{"$f":"IF(OR(HE89=HE91,HE89=HE92,HE89=HE93,HE89=HE94,HE89=HE95,HE89=HE96,HE89=HE97),1,0)","v":1},{"$f":"IF(OR(HF89=HF91,HF89=HF92,HF89=HF93,HF89=HF94,HF89=HF95,HF89=HF96,HF89=HF97),1,0)","v":0},"1=Oui; 0=Non","α","Ψ","Charge de roue","Hnéc.","Remarque","Bemerkung","SIA ",null,null,{"$f":"IF(OR(HQ89=HQ91,HQ89=HQ92,HQ89=HQ93,HQ89=HQ94,HQ89=HQ95,HQ89=HQ96,HQ89=HQ97),1,0)","v":1},{"$f":"IF(OR(HR89=HR91,HR89=HR92,HR89=HR93,HR89=HR94,HR89=HR95,HR89=HR96,HR89=HR97),1,0)","v":0},"1=Oui; 0=Non","α","Ψ","Charge de roue","Hnéc.","Remarque","Bemerkung","SIA ",null,null,null,null,{"$f":"IF(OR(IE89=IE91,IE89=IE92,IE89=IE93,IE89=IE94,IE89=IE95,IE89=IE96,IE89=IE97),1,0)","v":1},{"$f":"IF(OR(IF89=IF91,IF89=IF92,IF89=IF93,IF89=IF94,IF89=IF95,IF89=IF96,IF89=IF97),1,0)","v":0},"1=Oui; 0=Non","α","Ψ","Charge de roue","Hnéc.","Remarque","Bemerkung","SIA ",null,null,{"$f":"IF(OR(IQ89=IQ91,IQ89=IQ92,IQ89=IQ93,IQ89=IQ94,IQ89=IQ95,IQ89=IQ96,IQ89=IQ97),1,0)","v":1},{"$f":"IF(OR(IR89=IR91,IR89=IR92,IR89=IR93,IR89=IR94,IR89=IR95,IR89=IR96,IR89=IR97),1,0)","v":0},"1=Oui; 0=Non","α","Ψ","Charge de roue","Hnéc.","Remarque","Bemerkung","SIA ",null,null,null,null,{"$f":"IF(OR(JE89=JE91,JE89=JE92,JE89=JE93,JE89=JE94,JE89=JE95,JE89=JE96,JE89=JE97),1,0)","v":1},{"$f":"IF(OR(JF89=JF91,JF89=JF92,JF89=JF93,JF89=JF94,JF89=JF95,JF89=JF96,JF89=JF97),1,0)","v":0},"1=Oui; 0=Non","α","Ψ","Charge de roue","Hnéc.","Remarque","Bemerkung","SIA ",null,null,{"$f":"IF(OR(JQ89=JQ91,JQ89=JQ92,JQ89=JQ93,JQ89=JQ94,JQ89=JQ95,JQ89=JQ96,JQ89=JQ97),1,0)","v":1},{"$f":"IF(OR(JR89=JR91,JR89=JR92,JR89=JR93,JR89=JR94,JR89=JR95,JR89=JR96,JR89=JR97),1,0)","v":0},"1=Oui; 0=Non","α","Ψ","Charge de roue","Hnéc.","Remarque","Bemerkung","SIA ",null,null,null,null,null,null,null,null,null,null,"Voie unique (ferroviaire)","Eingleisig (Bahnverkehr)",{"$f":"IF(OR(Données!$AE$22=\"Voie unique (ferroviaire)\",Données!$AE$22=\"Eingleisig (Bahnverkehr)\"),1,0)","v":0},{"$f":"IF(OR(Données!$AE$22=\"Pas de trafic\",Données!$AE$22=\"Kein Verkehr\"),0,Données!$AE$28)","v":1.33},{"$f":"IF($A$117>1,$A$117,1)","v":1.1499999999999999},"Non",2,{"$f":"IF(Données!$AE$52<Calculs!KQ90,\"Attention!\",\"\")","v":""},{"$f":"IF(Données!$AE$52<Calculs!KQ90,\"Achtung!\",\"\")","v":""},{"$f":"IF(OR(KR90=\"Attention!\",KS90=\"Achtung!\"),\"[2.4.3]\",\"\")","v":""},null,null,null,null,null,null,null,null,null,null,null,null,null,null,null,null,"Voie unique (ferroviaire)","Eingleisig (Bahnverkehr)",{"$f":"IF(OR(Données!$AE$22=\"Voie unique (ferroviaire)\",Données!$AE$22=\"Eingleisig (Bahnverkehr)\"),1,0)","v":0},{"$f":"IF(OR(Données!$AE$22=\"Pas de trafic\",Données!$AE$22=\"Kein Verkehr\"),0,Données!$AE$28)","v":1.33},{"$f":"IF($A$117>1,$A$117,1)","v":1.1499999999999999},"Non",2,{"$f":"IF(Données!$AE$52<Calculs!LQ90,\"Attention!\",\"\")","v":""},{"$f":"IF(Données!$AE$52<Calculs!LQ90,\"Achtung!\",\"\")","v":""},{"$f":"IF(OR(LR90=\"Attention!\",LS90=\"Achtung!\"),\"[2.4.3]\",\"\")","v":""},null,null,null,null,null,null,null,null,null,null,null,null,null,null,null,null,null,"∆∆h",{"$f":"IF(MN76-ML35/1000>0,MN76-ML35/1000,0)","v":0},"[m]",null,null,null,null,null,"∆∆h",{"$f":"IF(MV76-MS34/1000>0,MV76-MS34/1000,0)","v":0},"[m]",null,null,null,null,null,null,null,null,null,null,null,null,null,null,null,"∆∆h",{"$f":"IF(NN76-NL35/1000>0,NN76-NL35/1000,0)","v":0},"[m]",null,null,null,null,null,"∆∆h",{"$f":"IF(NV76-NS34/1000>0,NV76-NS34/1000,0)","v":0},"[m]",null,null,null,null,null,null,null,null,null,null,null,null,null,null,null,"∆∆h",{"$f":"IF(ON76-OL35/1000>0,ON76-OL35/1000,0)","v":0},"[m]",null,null,null,null,null,"∆∆h",{"$f":"IF(OV76-OS34/1000>0,OV76-OS34/1000,0)","v":0},"[m]",null,null,null,null,null,null,null,null,null,null,null,null,null,null,null,"∆∆h",{"$f":"IF(PN76-PL35/1000>0,PN76-PL35/1000,0)","v":0},"[m]",null,null,null,null,null,"∆∆h",{"$f":"IF(PV76-PS34/1000>0,PV76-PS34/1000,0)","v":0},"[m]",null,null,null,null,null,null,null,null,null,null,null,null,null,null,null,"∆∆h",{"$f":"IF(QN76-QL35/1000>0,QN76-QL35/1000,0)","v":0},"[m]",null,null,null,null,null,"∆∆h",{"$f":"IF(QV76-QS34/1000>0,QV76-QS34/1000,0)","v":0},"[m]",null,null,null,null,null,null,null,null,null,null,null,null,null,null,null,"∆∆h",{"$f":"IF(RN76-RL35/1000>0,RN76-RL35/1000,0)","v":0},"[m]",null,null,null,null,null,"∆∆h",{"$f":"IF(RV76-RS34/1000>0,RV76-RS34/1000,0)","v":0},"[m]",null,null,null,null,null,null,null,null,{"$f":"IF(OR(SE89=SE91,SE89=SE92,SE89=SE93,SE89=SE94,SE89=SE95,SE89=SE96,SE89=SE97),1,0)","v":1},{"$f":"IF(OR(SF89=SF91,SF89=SF92,SF89=SF93,SF89=SF94,SF89=SF95,SF89=SF96,SF89=SF97),1,0)","v":0},"1=Oui; 0=Non","α","Ψ","Charge de roue","Hnéc.","Remarque","Bemerkung","SIA "]
[8.375,5.5644,0.60909999999999997,4.9553000000000003,8.375,5.3173000000000004,0.60909999999999997,4.7082000000000006,null,null,null,"Hauteur [m]","1.Trafic routier","2.Charge de roue","1.-2.","1.Trafic routier","2.Charge de roue","1.-2.","Hauteur [m]","Voien unique","Voies multiples","Voie étroite",null,null,null,null,null,null,null,null,null,null,null,null,null,null,null,null,null,null,null,null,null,null,null,null,null,null,null,null,null,null,null,null,null,null,null,null,null,null,null,null,null,null,null,null,null,null,null,null,null,null,null,null,null,null,null,null,null,null,null,null,null,null,null,null,null,null,null,null,null,null,null,null,null,null,null,null,null,null,null,null,null,null,null,null,null,null,null,null,null,null,null,null,null,null,null,null,null,null,null,null,null,null,null,null,null,null,null,null,null,null,null,null,null,null,null,null,null,null,null,null,null,null,null,null,null,null,null,null,null,null,null,null,null,null,null,null,null,null,null,null,null,null,null,null,null,null,null,null,null,null,null,null,null,null,null,null,null,null,null,null,null,null,null,null,null,null,null,null,null,null,null,null,null,null,null,null,null,null,null,null,null,null,null,null,null,null,null,null,null,null,null,null,null,null,null,null,null,null,null,null,null,null,null,null,null,null,null,null,null,null,null,null,null,null,null,null,null,null,null,null,null,null,null,null,null,null,null,null,null,null,null,null,null,null,null,null,null,null,null,null,null,null,null,null,null,null,null,null,null,null,null,null,null,null,null,null,null,null,null,null,null,null,null,null,null,null,null,null,null,null,null,null,null,"Hauteur [m]","1.Trafic routier","2.Charge de roue","1.-2.","1.Trafic routier","2.Charge de roue","1.-2.","Hauteur [m]","Voien unique","Voies multiples","Voie étroite",null,null,null,null,null,null,null,null,null,null,null,null,null,null,null,"Hauteur [m]","1.Trafic routier","2.Charge de roue","1.-2.","1.Trafic routier","2.Charge de roue","1.-2.","Hauteur [m]","Voien unique","Voies multiples","Voie étroite",null,null,null,null,null,null,null,null,null,null,"Bord de route","Strassenrand",{"$f":"IF(OR(Données!$AE$22=\"Bord de route\",Données!$AE$22=\"Strassenrand\"),1,0)","v":0},{"$f":"IF(OR(Données!$AE$22=\"Pas de trafic\",Données!$AE$22=\"Kein Verkehr\"),0,Données!$AE$24)","v":0.9},{"$f":"IF($A$33>1,$A$33,1)","v":1},"Oui",1,{"$f":"IF(Données!$AE$52<Calculs!MK99,\"Attention!\",\"\")","v":""},{"$f":"IF(Données!$AE$52<Calculs!MK99,\"Attention!\",\"\")","v":""},"",null,null,"Bord de route","Strassenrand",{"$f":"IF(OR(Données!$AE$22=\"Bord de route\",Données!$AE$22=\"Strassenrand\"),1,0)","v":0},{"$f":"IF(OR(Données!$AE$22=\"Pas de trafic\",Données!$AE$22=\"Kein Verkehr\"),0,Données!$AE$24)","v":0.9},{"$f":"IF(OR(Données!$AE$26=\"Sans\",Données!$AE$26=\"Ohne\"),1,IF(1.25-0.1*(MU107-0.5)>1,1.25-0.1*(MU107-0.5),1))","v":1},"Oui",1,{"$f":"IF(Données!$AE$52<Calculs!MW99,\"Attention!\",\"\")","v":""},{"$f":"IF(Données!$AE$52<Calculs!MW99,\"Attention!\",\"\")","v":""},"",null,null,null,null,"Bord de route","Strassenrand",{"$f":"IF(OR(Données!$AE$22=\"Bord de route\",Données!$AE$22=\"Strassenrand\"),1,0)","v":0},{"$f":"IF(OR(Données!$AE$22=\"Pas de trafic\",Données!$AE$22=\"Kein Verkehr\"),0,Données!$AE$24)","v":0.9},{"$f":"IF($A$33>1,$A$33,1)","v":1},"Oui",1,{"$f":"IF(Données!$AE$52<Calculs!NK99,\"Attention!\",\"\")","v":""},{"$f":"IF(Données!$AE$52<Calculs!NK99,\"Attention!\",\"\")","v":""},"",null,null,"Bord de route","Strassenrand",{"$f":"IF(OR(Données!$AE$22=\"Bord de route\",Données!$AE$22=\"Strassenrand\"),1,0)","v":0},{"$f":"IF(OR(Données!$AE$22=\"Pas de trafic\",Données!$AE$22=\"Kein Verkehr\"),0,Données!$AE$24)","v":0.9},{"$f":"IF(OR(Données!$AE$26=\"Sans\",Données!$AE$26=\"Ohne\"),1,IF(1.25-0.1*(NU107-0.5)>1,1.25-0.1*(NU107-0.5),1))","v":1},"Oui",1,{"$f":"IF(Données!$AE$52<Calculs!NW99,\"Attention!\",\"\")","v":""},{"$f":"IF(Données!$AE$52<Calculs!NW99,\"Attention!\",\"\")","v":""},"",null,null,null,null,"Bord de route","Strassenrand",{"$f":"IF(OR(Données!$AE$22=\"Bord de route\",Données!$AE$22=\"Strassenrand\"),1,0)","v":0},{"$f":"IF(OR(Données!$AE$22=\"Pas de trafic\",Données!$AE$22=\"Kein Verkehr\"),0,Données!$AE$24)","v":0.9},{"$f":"IF($A$33>1,$A$33,1)","v":1},"Oui",1,{"$f":"IF(Données!$AE$52<Calculs!OK99,\"Attention!\",\"\")","v":""},{"$f":"IF(Données!$AE$52<Calculs!OK99,\"Attention!\",\"\")","v":""},"",null,null,"Bord de route","Strassenrand",{"$f":"IF(OR(Données!$AE$22=\"Bord de route\",Données!$AE$22=\"Strassenrand\"),1,0)","v":0},{"$f":"IF(OR(Données!$AE$22=\"Pas de trafic\",Données!$AE$22=\"Kein Verkehr\"),0,Données!$AE$24)","v":0.9},{"$f":"IF(OR(Données!$AE$26=\"Sans\",Données!$AE$26=\"Ohne\"),1,IF(1.25-0.1*(OU107-0.5)>1,1.25-0.1*(OU107-0.5),1))","v":1},"Oui",1,{"$f":"IF(Données!$AE$52<Calculs!OW99,\"Attention!\",\"\")","v":""},{"$f":"IF(Données!$AE$52<Calculs!OW99,\"Attention!\",\"\")","v":""},"",null,null,null,null,"Bord de route","Strassenrand",{"$f":"IF(OR(Données!$AE$22=\"Bord de route\",Données!$AE$22=\"Strassenrand\"),1,0)","v":0},{"$f":"IF(OR(Données!$AE$22=\"Pas de trafic\",Données!$AE$22=\"Kein Verkehr\"),0,Données!$AE$24)","v":0.9},{"$f":"IF($A$33>1,$A$33,1)","v":1},"Oui",1,{"$f":"IF(Données!$AE$52<Calculs!PK99,\"Attention!\",\"\")","v":""},{"$f":"IF(Données!$AE$52<Calculs!PK99,\"Attention!\",\"\")","v":""},"",null,null,"Bord de route","Strassenrand",{"$f":"IF(OR(Données!$AE$22=\"Bord de route\",Données!$AE$22=\"Strassenrand\"),1,0)","v":0},{"$f":"IF(OR(Données!$AE$22=\"Pas de trafic\",Données!$AE$22=\"Kein Verkehr\"),0,Données!$AE$24)","v":0.9},{"$f":"IF(OR(Données!$AE$26=\"Sans\",Données!$AE$26=\"Ohne\"),1,IF(1.25-0.1*(PU107-0.5)>1,1.25-0.1*(PU107-0.5),1))","v":1},"Oui",1,{"$f":"IF(Données!$AE$52<Calculs!PW99,\"Attention!\",\"\")","v":""},{"$f":"IF(Données!$AE$52<Calculs!PW99,\"Attention!\",\"\")","v":""},"",null,null,null,null,"Bord de route","Strassenrand",{"$f":"IF(OR(Données!$AE$22=\"Bord de route\",Données!$AE$22=\"Strassenrand\"),1,0)","v":0},{"$f":"IF(OR(Données!$AE$22=\"Pas de trafic\",Données!$AE$22=\"Kein Verkehr\"),0,Données!$AE$24)","v":0.9},{"$f":"IF($A$33>1,$A$33,1)","v":1},"Oui",1,{"$f":"IF(Données!$AE$52<Calculs!QK99,\"Attention!\",\"\")","v":""},{"$f":"IF(Données!$AE$52<Calculs!QK99,\"Attention!\",\"\")","v":""},"",null,null,"Bord de route","Strassenrand",{"$f":"IF(OR(Données!$AE$22=\"Bord de route\",Données!$AE$22=\"Strassenrand\"),1,0)","v":0},{"$f":"IF(OR(Données!$AE$22=\"Pas de trafic\",Données!$AE$22=\"Kein Verkehr\"),0,Données!$AE$24)","v":0.9},{"$f":"IF(OR(Données!$AE$26=\"Sans\",Données!$AE$26=\"Ohne\"),1,IF(1.25-0.1*(QU107-0.5)>1,1.25-0.1*(QU107-0.5),1))","v":1},"Oui",1,{"$f":"IF(Données!$AE$52<Calculs!QW99,\"Attention!\",\"\")","v":""},{"$f":"IF(Données!$AE$52<Calculs!QW99,\"Attention!\",\"\")","v":""},"",null,null,null,null,"Bord de route","Strassenrand",{"$f":"IF(OR(Données!$AE$22=\"Bord de route\",Données!$AE$22=\"Strassenrand\"),1,0)","v":0},{"$f":"IF(OR(Données!$AE$22=\"Pas de trafic\",Données!$AE$22=\"Kein Verkehr\"),0,Données!$AE$24)","v":0.9},{"$f":"IF($A$33>1,$A$33,1)","v":1},"Oui",1,{"$f":"IF(Données!$AE$52<Calculs!RK99,\"Attention!\",\"\")","v":""},{"$f":"IF(Données!$AE$52<Calculs!RK99,\"Attention!\",\"\")","v":""},"",null,null,"Bord de route","Strassenrand",{"$f":"IF(OR(Données!$AE$22=\"Bord de route\",Données!$AE$22=\"Strassenrand\"),1,0)","v":0},{"$f":"IF(OR(Données!$AE$22=\"Pas de trafic\",Données!$AE$22=\"Kein Verkehr\"),0,Données!$AE$24)","v":0.9},{"$f":"IF(OR(Données!$AE$26=\"Sans\",Données!$AE$26=\"Ohne\"),1,IF(1.25-0.1*(RU107-0.5)>1,1.25-0.1*(RU107-0.5),1))","v":1},"Oui",1,{"$f":"IF(Données!$AE$52<Calculs!RW99,\"Attention!\",\"\")","v":""},{"$f":"IF(Données!$AE$52<Calculs!RW99,\"Attention!\",\"\")","v":""},""]
[9.125,4.8695000000000004,0.51219999999999999,4.3573000000000004,9.125,4.7135999999999996,0.51219999999999999,4.2013999999999996,null,null,null,"∆hu/∆h",{"$f":"M104/M103","v":0},0,0,0,0,0,"∆hu/∆h",{"$f":"$T$104/$T$103","v":0},{"$f":"$T$104/$T$103","v":0},{"$f":"$T$104/$T$103","v":0},null,null,null,null,null,null,null,null,null,{"$f":"VLOOKUP(AK101,$A$36:$H$112,1)","v":3},{"$f":"VLOOKUP(AK101,$A$36:$H$112,2)","v":24.562000000000001},{"$f":"VLOOKUP(AK101,$A$36:$H$112,3)","v":4.9021999999999997},{"$f":"VLOOKUP(AK101,$A$36:$H$112,4)","v":19.659800000000001},{"$f":"VLOOKUP(AK101,$A$36:$H$112,6)","v":19.212},{"$f":"VLOOKUP(AK101,$A$36:$H$112,7)","v":4.9021999999999997},{"$f":"VLOOKUP(AK101,$A$36:$H$112,8)","v":14.309799999999999},{"$f":"VLOOKUP(AK101,$A$120:$D$158,1)","v":3},{"$f":"VLOOKUP(AK101,$A$120:$D$158,2)","v":35.832999999999998},{"$f":"VLOOKUP(AK101,$A$120:$D$158,3)","v":36.832999999999998},{"$f":"VLOOKUP(AK101,$A$120:$D$158,4)","v":17.916499999999999},null,{"$f":"VLOOKUP(AU101,$A$36:$H$112,1)","v":2.75},{"$f":"VLOOKUP(AU101,$A$36:$H$112,2)","v":27.370699999999999},{"$f":"VLOOKUP(AU101,$A$36:$H$112,3)","v":5.8555000000000001},{"$f":"VLOOKUP(AU101,$A$36:$H$112,4)","v":21.5152},{"$f":"VLOOKUP(AU101,$A$36:$H$112,6)","v":21.0776},{"$f":"VLOOKUP(AU101,$A$36:$H$112,7)","v":5.8555000000000001},{"$f":"VLOOKUP(AU101,$A$36:$H$112,8)","v":15.222100000000001},{"$f":"VLOOKUP(AU101,$A$120:$D$158,1)","v":2.75},{"$f":"VLOOKUP(AU101,$A$120:$D$158,2)","v":37.417000000000002},{"$f":"VLOOKUP(AU101,$A$120:$D$158,3)","v":37.917000000000002},{"$f":"VLOOKUP(AU101,$A$120:$D$158,4)","v":18.708500000000001},null,null,null,{"$f":"VLOOKUP(BK101,$A$36:$H$112,1)","v":3},{"$f":"VLOOKUP(BK101,$A$36:$H$112,2)","v":24.562000000000001},{"$f":"VLOOKUP(BK101,$A$36:$H$112,3)","v":4.9021999999999997},{"$f":"VLOOKUP(BK101,$A$36:$H$112,4)","v":19.659800000000001},{"$f":"VLOOKUP(BK101,$A$36:$H$112,6)","v":19.212},{"$f":"VLOOKUP(BK101,$A$36:$H$112,7)","v":4.9021999999999997},{"$f":"VLOOKUP(BK101,$A$36:$H$112,8)","v":14.309799999999999},{"$f":"VLOOKUP(BK101,$A$120:$D$158,1)","v":3},{"$f":"VLOOKUP(BK101,$A$120:$D$158,2)","v":35.832999999999998},{"$f":"VLOOKUP(BK101,$A$120:$D$158,3)","v":36.832999999999998},{"$f":"VLOOKUP(BK101,$A$120:$D$158,4)","v":17.916499999999999},null,{"$f":"VLOOKUP(BU101,$A$36:$H$112,1)","v":2.75},{"$f":"VLOOKUP(BU101,$A$36:$H$112,2)","v":27.370699999999999},{"$f":"VLOOKUP(BU101,$A$36:$H$112,3)","v":5.8555000000000001},{"$f":"VLOOKUP(BU101,$A$36:$H$112,4)","v":21.5152},{"$f":"VLOOKUP(BU101,$A$36:$H$112,6)","v":21.0776},{"$f":"VLOOKUP(BU101,$A$36:$H$112,7)","v":5.8555000000000001},{"$f":"VLOOKUP(BU101,$A$36:$H$112,8)","v":15.222100000000001},{"$f":"VLOOKUP(BU101,$A$120:$D$158,1)","v":2.75},{"$f":"VLOOKUP(BU101,$A$120:$D$158,2)","v":37.417000000000002},{"$f":"VLOOKUP(BU101,$A$120:$D$158,3)","v":37.917000000000002},{"$f":"VLOOKUP(BU101,$A$120:$D$158,4)","v":18.708500000000001},null,null,null,{"$f":"VLOOKUP(CK101,$A$36:$H$112,1)","v":3},{"$f":"VLOOKUP(CK101,$A$36:$H$112,2)","v":24.562000000000001},{"$f":"VLOOKUP(CK101,$A$36:$H$112,3)","v":4.9021999999999997},{"$f":"VLOOKUP(CK101,$A$36:$H$112,4)","v":19.659800000000001},{"$f":"VLOOKUP(CK101,$A$36:$H$112,6)","v":19.212},{"$f":"VLOOKUP(CK101,$A$36:$H$112,7)","v":4.9021999999999997},{"$f":"VLOOKUP(CK101,$A$36:$H$112,8)","v":14.309799999999999},{"$f":"VLOOKUP(CK101,$A$120:$D$158,1)","v":3},{"$f":"VLOOKUP(CK101,$A$120:$D$158,2)","v":35.832999999999998},{"$f":"VLOOKUP(CK101,$A$120:$D$158,3)","v":36.832999999999998},{"$f":"VLOOKUP(CK101,$A$120:$D$158,4)","v":17.916499999999999},null,{"$f":"VLOOKUP(CU101,$A$36:$H$112,1)","v":2.75},{"$f":"VLOOKUP(CU101,$A$36:$H$112,2)","v":27.370699999999999},{"$f":"VLOOKUP(CU101,$A$36:$H$112,3)","v":5.8555000000000001},{"$f":"VLOOKUP(CU101,$A$36:$H$112,4)","v":21.5152},{"$f":"VLOOKUP(CU101,$A$36:$H$112,6)","v":21.0776},{"$f":"VLOOKUP(CU101,$A$36:$H$112,7)","v":5.8555000000000001},{"$f":"VLOOKUP(CU101,$A$36:$H$112,8)","v":15.222100000000001},{"$f":"VLOOKUP(CU101,$A$120:$D$158,1)","v":2.75},{"$f":"VLOOKUP(CU101,$A$120:$D$158,2)","v":37.417000000000002},{"$f":"VLOOKUP(CU101,$A$120:$D$158,3)","v":37.917000000000002},{"$f":"VLOOKUP(CU101,$A$120:$D$158,4)","v":18.708500000000001},null,null,null,{"$f":"VLOOKUP(DK101,$A$36:$H$112,1)","v":3},{"$f":"VLOOKUP(DK101,$A$36:$H$112,2)","v":24.562000000000001},{"$f":"VLOOKUP(DK101,$A$36:$H$112,3)","v":4.9021999999999997},{"$f":"VLOOKUP(DK101,$A$36:$H$112,4)","v":19.659800000000001},{"$f":"VLOOKUP(DK101,$A$36:$H$112,6)","v":19.212},{"$f":"VLOOKUP(DK101,$A$36:$H$112,7)","v":4.9021999999999997},{"$f":"VLOOKUP(DK101,$A$36:$H$112,8)","v":14.309799999999999},{"$f":"VLOOKUP(DK101,$A$120:$D$158,1)","v":3},{"$f":"VLOOKUP(DK101,$A$120:$D$158,2)","v":35.832999999999998},{"$f":"VLOOKUP(DK101,$A$120:$D$158,3)","v":36.832999999999998},{"$f":"VLOOKUP(DK101,$A$120:$D$158,4)","v":17.916499999999999},null,{"$f":"VLOOKUP(DU101,$A$36:$H$112,1)","v":2.75},{"$f":"VLOOKUP(DU101,$A$36:$H$112,2)","v":27.370699999999999},{"$f":"VLOOKUP(DU101,$A$36:$H$112,3)","v":5.8555000000000001},{"$f":"VLOOKUP(DU101,$A$36:$H$112,4)","v":21.5152},{"$f":"VLOOKUP(DU101,$A$36:$H$112,6)","v":21.0776},{"$f":"VLOOKUP(DU101,$A$36:$H$112,7)","v":5.8555000000000001},{"$f":"VLOOKUP(DU101,$A$36:$H$112,8)","v":15.222100000000001},{"$f":"VLOOKUP(DU101,$A$120:$D$158,1)","v":2.75},{"$f":"VLOOKUP(DU101,$A$120:$D$158,2)","v":37.417000000000002},{"$f":"VLOOKUP(DU101,$A$120:$D$158,3)","v":37.917000000000002},{"$f":"VLOOKUP(DU101,$A$120:$D$158,4)","v":18.708500000000001},null,null,null,{"$f":"VLOOKUP(EK101,$A$36:$H$112,1)","v":3},{"$f":"VLOOKUP(EK101,$A$36:$H$112,2)","v":24.562000000000001},{"$f":"VLOOKUP(EK101,$A$36:$H$112,3)","v":4.9021999999999997},{"$f":"VLOOKUP(EK101,$A$36:$H$112,4)","v":19.659800000000001},{"$f":"VLOOKUP(EK101,$A$36:$H$112,6)","v":19.212},{"$f":"VLOOKUP(EK101,$A$36:$H$112,7)","v":4.9021999999999997},{"$f":"VLOOKUP(EK101,$A$36:$H$112,8)","v":14.309799999999999},{"$f":"VLOOKUP(EK101,$A$120:$D$158,1)","v":3},{"$f":"VLOOKUP(EK101,$A$120:$D$158,2)","v":35.832999999999998},{"$f":"VLOOKUP(EK101,$A$120:$D$158,3)","v":36.832999999999998},{"$f":"VLOOKUP(EK101,$A$120:$D$158,4)","v":17.916499999999999},null,{"$f":"VLOOKUP(EU101,$A$36:$H$112,1)","v":2.75},{"$f":"VLOOKUP(EU101,$A$36:$H$112,2)","v":27.370699999999999},{"$f":"VLOOKUP(EU101,$A$36:$H$112,3)","v":5.8555000000000001},{"$f":"VLOOKUP(EU101,$A$36:$H$112,4)","v":21.5152},{"$f":"VLOOKUP(EU101,$A$36:$H$112,6)","v":21.0776},{"$f":"VLOOKUP(EU101,$A$36:$H$112,7)","v":5.8555000000000001},{"$f":"VLOOKUP(EU101,$A$36:$H$112,8)","v":15.222100000000001},{"$f":"VLOOKUP(EU101,$A$120:$D$158,1)","v":2.75},{"$f":"VLOOKUP(EU101,$A$120:$D$158,2)","v":37.417000000000002},{"$f":"VLOOKUP(EU101,$A$120:$D$158,3)","v":37.917000000000002},{"$f":"VLOOKUP(EU101,$A$120:$D$158,4)","v":18.708500000000001},null,null,null,{"$f":"VLOOKUP(FK101,$A$36:$H$112,1)","v":3},{"$f":"VLOOKUP(FK101,$A$36:$H$112,2)","v":24.562000000000001},{"$f":"VLOOKUP(FK101,$A$36:$H$112,3)","v":4.9021999999999997},{"$f":"VLOOKUP(FK101,$A$36:$H$112,4)","v":19.659800000000001},{"$f":"VLOOKUP(FK101,$A$36:$H$112,6)","v":19.212},{"$f":"VLOOKUP(FK101,$A$36:$H$112,7)","v":4.9021999999999997},{"$f":"VLOOKUP(FK101,$A$36:$H$112,8)","v":14.309799999999999},{"$f":"VLOOKUP(FK101,$A$120:$D$158,1)","v":3},{"$f":"VLOOKUP(FK101,$A$120:$D$158,2)","v":35.832999999999998},{"$f":"VLOOKUP(FK101,$A$120:$D$158,3)","v":36.832999999999998},{"$f":"VLOOKUP(FK101,$A$120:$D$158,4)","v":17.916499999999999},null,{"$f":"VLOOKUP(FU101,$A$36:$H$112,1)","v":2.75},{"$f":"VLOOKUP(FU101,$A$36:$H$112,2)","v":27.370699999999999},{"$f":"VLOOKUP(FU101,$A$36:$H$112,3)","v":5.8555000000000001},{"$f":"VLOOKUP(FU101,$A$36:$H$112,4)","v":21.5152},{"$f":"VLOOKUP(FU101,$A$36:$H$112,6)","v":21.0776},{"$f":"VLOOKUP(FU101,$A$36:$H$112,7)","v":5.8555000000000001},{"$f":"VLOOKUP(FU101,$A$36:$H$112,8)","v":15.222100000000001},{"$f":"VLOOKUP(FU101,$A$120:$D$158,1)","v":2.75},{"$f":"VLOOKUP(FU101,$A$120:$D$158,2)","v":37.417000000000002},{"$f":"VLOOKUP(FU101,$A$120:$D$158,3)","v":37.917000000000002},{"$f":"VLOOKUP(FU101,$A$120:$D$158,4)","v":18.708500000000001},null,null,null,{"$f":"VLOOKUP(GK101,$A$36:$H$112,1)","v":3},{"$f":"VLOOKUP(GK101,$A$36:$H$112,2)","v":24.562000000000001},{"$f":"VLOOKUP(GK101,$A$36:$H$112,3)","v":4.9021999999999997},{"$f":"VLOOKUP(GK101,$A$36:$H$112,4)","v":19.659800000000001},{"$f":"VLOOKUP(GK101,$A$36:$H$112,6)","v":19.212},{"$f":"VLOOKUP(GK101,$A$36:$H$112,7)","v":4.9021999999999997},{"$f":"VLOOKUP(GK101,$A$36:$H$112,8)","v":14.309799999999999},{"$f":"VLOOKUP(GK101,$A$120:$D$158,1)","v":3},{"$f":"VLOOKUP(GK101,$A$120:$D$158,2)","v":35.832999999999998},{"$f":"VLOOKUP(GK101,$A$120:$D$158,3)","v":36.832999999999998},{"$f":"VLOOKUP(GK101,$A$120:$D$158,4)","v":17.916499999999999},null,{"$f":"VLOOKUP(GU101,$A$36:$H$112,1)","v":2.75},{"$f":"VLOOKUP(GU101,$A$36:$H$112,2)","v":27.370699999999999},{"$f":"VLOOKUP(GU101,$A$36:$H$112,3)","v":5.8555000000000001},{"$f":"VLOOKUP(GU101,$A$36:$H$112,4)","v":21.5152},{"$f":"VLOOKUP(GU101,$A$36:$H$112,6)","v":21.0776},{"$f":"VLOOKUP(GU101,$A$36:$H$112,7)","v":5.8555000000000001},{"$f":"VLOOKUP(GU101,$A$36:$H$112,8)","v":15.222100000000001},{"$f":"VLOOKUP(GU101,$A$120:$D$158,1)","v":2.75},{"$f":"VLOOKUP(GU101,$A$120:$D$158,2)","v":37.417000000000002},{"$f":"VLOOKUP(GU101,$A$120:$D$158,3)","v":37.917000000000002},{"$f":"VLOOKUP(GU101,$A$120:$D$158,4)","v":18.708500000000001},null,null,null,{"$f":"VLOOKUP(HK101,$A$36:$H$112,1)","v":3},{"$f":"VLOOKUP(HK101,$A$36:$H$112,2)","v":24.562000000000001},{"$f":"VLOOKUP(HK101,$A$36:$H$112,3)","v":4.9021999999999997},{"$f":"VLOOKUP(HK101,$A$36:$H$112,4)","v":19.659800000000001},{"$f":"VLOOKUP(HK101,$A$36:$H$112,6)","v":19.212},{"$f":"VLOOKUP(HK101,$A$36:$H$112,7)","v":4.9021999999999997},{"$f":"VLOOKUP(HK101,$A$36:$H$112,8)","v":14.309799999999999},{"$f":"VLOOKUP(HK101,$A$120:$D$158,1)","v":3},{"$f":"VLOOKUP(HK101,$A$120:$D$158,2)","v":35.832999999999998},{"$f":"VLOOKUP(HK101,$A$120:$D$158,3)","v":36.832999999999998},{"$f":"VLOOKUP(HK101,$A$120:$D$158,4)","v":17.916499999999999},null,{"$f":"VLOOKUP(HU101,$A$36:$H$112,1)","v":2.75},{"$f":"VLOOKUP(HU101,$A$36:$H$112,2)","v":27.370699999999999},{"$f":"VLOOKUP(HU101,$A$36:$H$112,3)","v":5.8555000000000001},{"$f":"VLOOKUP(HU101,$A$36:$H$112,4)","v":21.5152},{"$f":"VLOOKUP(HU101,$A$36:$H$112,6)","v":21.0776},{"$f":"VLOOKUP(HU101,$A$36:$H$112,7)","v":5.8555000000000001},{"$f":"VLOOKUP(HU101,$A$36:$H$112,8)","v":15.222100000000001},{"$f":"VLOOKUP(HU101,$A$120:$D$158,1)","v":2.75},{"$f":"VLOOKUP(HU101,$A$120:$D$158,2)","v":37.417000000000002},{"$f":"VLOOKUP(HU101,$A$120:$D$158,3)","v":37.917000000000002},{"$f":"VLOOKUP(HU101,$A$120:$D$158,4)","v":18.708500000000001},null,null,null,{"$f":"VLOOKUP(IK101,$A$36:$H$112,1)","v":3},{"$f":"VLOOKUP(IK101,$A$36:$H$112,2)","v":24.562000000000001},{"$f":"VLOOKUP(IK101,$A$36:$H$112,3)","v":4.9021999999999997},{"$f":"VLOOKUP(IK101,$A$36:$H$112,4)","v":19.659800000000001},{"$f":"VLOOKUP(IK101,$A$36:$H$112,6)","v":19.212},{"$f":"VLOOKUP(IK101,$A$36:$H$112,7)","v":4.9021999999999997},{"$f":"VLOOKUP(IK101,$A$36:$H$112,8)","v":14.309799999999999},{"$f":"VLOOKUP(IK101,$A$120:$D$158,1)","v":3},{"$f":"VLOOKUP(IK101,$A$120:$D$158,2)","v":35.832999999999998},{"$f":"VLOOKUP(IK101,$A$120:$D$158,3)","v":36.832999999999998},{"$f":"VLOOKUP(IK101,$A$120:$D$158,4)","v":17.916499999999999},null,{"$f":"VLOOKUP(IU101,$A$36:$H$112,1)","v":2.75},{"$f":"VLOOKUP(IU101,$A$36:$H$112,2)","v":27.370699999999999},{"$f":"VLOOKUP(IU101,$A$36:$H$112,3)","v":5.8555000000000001},{"$f":"VLOOKUP(IU101,$A$36:$H$112,4)","v":21.5152},{"$f":"VLOOKUP(IU101,$A$36:$H$112,6)","v":21.0776},{"$f":"VLOOKUP(IU101,$A$36:$H$112,7)","v":5.8555000000000001},{"$f":"VLOOKUP(IU101,$A$36:$H$112,8)","v":15.222100000000001},{"$f":"VLOOKUP(IU101,$A$120:$D$158,1)","v":2.75},{"$f":"VLOOKUP(IU101,$A$120:$D$158,2)","v":37.417000000000002},{"$f":"VLOOKUP(IU101,$A$120:$D$158,3)","v":37.917000000000002},{"$f":"VLOOKUP(IU101,$A$120:$D$158,4)","v":18.708500000000001},null,null,null,{"$f":"VLOOKUP(JK101,$A$36:$H$112,1)","v":3},{"$f":"VLOOKUP(JK101,$A$36:$H$112,2)","v":24.562000000000001},{"$f":"VLOOKUP(JK101,$A$36:$H$112,3)","v":4.9021999999999997},{"$f":"VLOOKUP(JK101,$A$36:$H$112,4)","v":19.659800000000001},{"$f":"VLOOKUP(JK101,$A$36:$H$112,6)","v":19.212},{"$f":"VLOOKUP(JK101,$A$36:$H$112,7)","v":4.9021999999999997},{"$f":"VLOOKUP(JK101,$A$36:$H$112,8)","v":14.309799999999999},{"$f":"VLOOKUP(JK101,$A$120:$D$158,1)","v":3},{"$f":"VLOOKUP(JK101,$A$120:$D$158,2)","v":35.832999999999998},{"$f":"VLOOKUP(JK101,$A$120:$D$158,3)","v":36.832999999999998},{"$f":"VLOOKUP(JK101,$A$120:$D$158,4)","v":17.916499999999999},null,{"$f":"VLOOKUP(JU101,$A$36:$H$112,1)","v":2.75},{"$f":"VLOOKUP(JU101,$A$36:$H$112,2)","v":27.370699999999999},{"$f":"VLOOKUP(JU101,$A$36:$H$112,3)","v":5.8555000000000001},{"$f":"VLOOKUP(JU101,$A$36:$H$112,4)","v":21.5152},{"$f":"VLOOKUP(JU101,$A$36:$H$112,6)","v":21.0776},{"$f":"VLOOKUP(JU101,$A$36:$H$112,7)","v":5.8555000000000001},{"$f":"VLOOKUP(JU101,$A$36:$H$112,8)","v":15.222100000000001},{"$f":"VLOOKUP(JU101,$A$120:$D$158,1)","v":2.75},{"$f":"VLOOKUP(JU101,$A$120:$D$158,2)","v":37.417000000000002},{"$f":"VLOOKUP(JU101,$A$120:$D$158,3)","v":37.917000000000002},{"$f":"VLOOKUP(JU101,$A$120:$D$158,4)","v":18.708500000000001},null,null,null,null,null,null,null,"∆hu/∆h",{"$f":"KK104/KK103","v":0},0,0,0,0,0,"∆hu/∆h",{"$f":"$T$104/$T$103","v":0},{"$f":"$T$104/$T$103","v":0},{"$f":"$T$104/$T$103","v":0},null,null,null,null,null,null,null,null,null,null,null,null,null,null,null,"∆hu/∆h",{"$f":"LK104/LK103","v":0},0,0,0,0,0,"∆hu/∆h",{"$f":"$T$104/$T$103","v":0},{"$f":"$T$104/$T$103","v":0},{"$f":"$T$104/$T$103","v":0},null,null,null,null,null,null,null,null,null,null,null,null,null,null,null,null,null,null,null,null,null,null,null,null,null,null,null,null,null,null,null,null,null,null,null,null,null,null,null,null,null,null,null,null,null,null,null,null,null,null,null,null,null,null,null,null,null,null,null,null,null,null,null,null,null,null,null,null,null,null,null,null,null,null,null,null,null,null,null,null,null,null,null,null,null,null,null,null,null,null,null,null,null,null,null,null,null,null,null,null,null,null,null,null,null,null,null,null,null,null,null,null,null,null,null,null,null,null,null,null,null,null,null,null,null,null,null,null,null,null,null,null,null,null,null,null,null,null,null,null,null,null,null,null,null,null,null,null,null,null,null,null,null,null,null,null,null,null,null,null,null,null,null,null,null,null,null,{"$f":"VLOOKUP(SK101,$A$36:$H$112,1)","v":3},{"$f":"VLOOKUP(SK101,$A$36:$H$112,2)","v":24.562000000000001},{"$f":"VLOOKUP(SK101,$A$36:$H$112,3)","v":4.9021999999999997},{"$f":"VLOOKUP(SK101,$A$36:$H$112,4)","v":19.659800000000001},{"$f":"VLOOKUP(SK101,$A$36:$H$112,6)","v":19.212},{"$f":"VLOOKUP(SK101,$A$36:$H$112,7)","v":4.9021999999999997},{"$f":"VLOOKUP(SK101,$A$36:$H$112,8)","v":14.309799999999999},{"$f":"VLOOKUP(SK101,$A$120:$D$158,1)","v":3},{"$f":"VLOOKUP(SK101,$A$120:$D$158,2)","v":35.832999999999998},{"$f":"VLOOKUP(SK101,$A$120:$D$158,3)","v":36.832999999999998},{"$f":"VLOOKUP(SK101,$A$120:$D$158,4)","v":17.916499999999999}]
[null,null,null,null,null,null,null,null,null,null,null,null,null,"L",{"$f":"Données!$AE$14","v":20},"[m]","Ri=(Bi2 +Li2 +tcorrection2)",{"$f":"SQRT(R114^2+R115^2+$O$120^2)","v":22.449944320643649},{"$f":"SQRT(S114^2+S115^2+$O$120^2)","v":22.449944320643649},{"$f":"SQRT(T114^2+T115^2+$O$120^2)","v":22.449944320643649},{"$f":"SQRT(U114^2+U115^2+$O$120^2)","v":22.449944320643649},null,null,null,null,null,null,null,null,null,null,null,null,null,null,null,null,null,null,null,null,null,null,null,null,null,null,null,null,null,null,null,null,null,null,null,null,null,null,null,null,null,null,null,null,null,null,null,null,null,null,null,null,null,null,null,null,null,null,null,null,null,null,null,null,null,null,null,null,null,null,null,null,null,null,null,null,null,null,null,null,null,null,null,null,null,null,null,null,null,null,null,null,null,null,null,null,null,null,null,null,null,null,null,null,null,null,null,null,null,null,null,null,null,null,null,null,null,null,null,null,null,null,null,null,null,null,null,null,null,null,null,null,null,null,null,null,null,null,null,null,null,null,null,null,null,null,null,null,null,null,null,null,null,null,null,null,null,null,null,null,null,null,null,null,null,null,null,null,null,null,null,null,null,null,null,null,null,null,null,null,null,null,null,null,null,null,null,null,null,null,null,null,null,null,null,null,null,null,null,null,null,null,null,null,null,null,null,null,null,null,null,null,null,null,null,null,null,null,null,null,null,null,null,null,null,null,null,null,null,null,null,null,null,null,null,null,null,null,null,null,null,null,null,null,null,null,null,null,null,null,null,null,null,null,null,null,null,null,null,null,null,null,null,null,null,null,null,null,null,null,null,null,null,null,null,null,"L",{"$f":"Données!$AE$14","v":20},"[m]","Ri=(Bi2 +Li2 +tcorrection2)",{"$f":"SQRT(KP114^2+KP115^2+$O$120^2)","v":22.449944320643649},{"$f":"SQRT(KQ114^2+KQ115^2+$O$120^2)","v":22.449944320643649},{"$f":"SQRT(KR114^2+KR115^2+$O$120^2)","v":22.449944320643649},{"$f":"SQRT(KS114^2+KS115^2+$O$120^2)","v":22.449944320643649},null,null,null,null,null,null,null,null,null,null,null,null,null,null,null,null,null,null,"L",{"$f":"Données!$AE$14","v":20},"[m]","Ri=(Bi2 +Li2 +tcorrection2)",{"$f":"SQRT(LP114^2+LP115^2+$O$120^2)","v":22.449944320643649},{"$f":"SQRT(LQ114^2+LQ115^2+$O$120^2)","v":22.449944320643649},{"$f":"SQRT(LR114^2+LR115^2+$O$120^2)","v":22.449944320643649},{"$f":"SQRT(LS114^2+LS115^2+$O$120^2)","v":22.449944320643649},null,null,null,null,null,null,null,null,null,null,null,null,"∆hu/∆h",{"$f":"MG115/MG114","v":0},0,{"$f":"MI115/MI114","v":0},{"$f":"MJ115/MJ114","v":0},0,0,"∆hu/∆h",{"$f":"MN115/MN114","v":0},{"$f":"MO115/MO114","v":0},0,null,"∆hu/∆h",{"$f":"MS115/MS114","v":0.76000000000000156},0.76000000000000156,{"$f":"MU115/MU114","v":0.76000000000000156},{"$f":"MV115/MV114","v":0.76000000000000156},{"$f":"MW115/MW114","v":0.76000000000000156},{"$f":"MX115/MX114","v":0.76000000000000156},"∆hu/∆h",{"$f":"MZ115/MZ114","v":0.38000000000000078},{"$f":"NA115/NA114","v":0.38000000000000078},0.38000000000000078,null,null,null,"∆hu/∆h",{"$f":"NG115/NG114","v":0},0,{"$f":"NI115/NI114","v":0},{"$f":"NJ115/NJ114","v":0},0,0,"∆hu/∆h",{"$f":"NN115/NN114","v":0},{"$f":"NO115/NO114","v":0},0,null,"∆hu/∆h",{"$f":"NS115/NS114","v":0.76000000000000156},0.76000000000000156,{"$f":"NU115/NU114","v":0.76000000000000156},{"$f":"NV115/NV114","v":0.76000000000000156},{"$f":"NW115/NW114","v":0.76000000000000156},{"$f":"NX115/NX114","v":0.76000000000000156},"∆hu/∆h",{"$f":"NZ115/NZ114","v":0.38000000000000078},{"$f":"OA115/OA114","v":0.38000000000000078},0.38000000000000078,null,null,null,"∆hu/∆h",{"$f":"OG115/OG114","v":0},0,{"$f":"OI115/OI114","v":0},{"$f":"OJ115/OJ114","v":0},0,0,"∆hu/∆h",{"$f":"ON115/ON114","v":0},{"$f":"OO115/OO114","v":0},0,null,"∆hu/∆h",{"$f":"OS115/OS114","v":0.80000000000000071},0.80000000000000071,{"$f":"OU115/OU114","v":0.80000000000000071},{"$f":"OV115/OV114","v":0.80000000000000071},{"$f":"OW115/OW114","v":0.80000000000000071},{"$f":"OX115/OX114","v":0.80000000000000071},"∆hu/∆h",{"$f":"OZ115/OZ114","v":0.40000000000000036},{"$f":"PA115/PA114","v":0.40000000000000036},0.40000000000000036,null,null,null,"∆hu/∆h",{"$f":"PG115/PG114","v":0},0,{"$f":"PI115/PI114","v":0},{"$f":"PJ115/PJ114","v":0},0,0,"∆hu/∆h",{"$f":"PN115/PN114","v":0},{"$f":"PO115/PO114","v":0},0,null,"∆hu/∆h",{"$f":"PS115/PS114","v":0.80000000000000071},0.80000000000000071,{"$f":"PU115/PU114","v":0.80000000000000071},{"$f":"PV115/PV114","v":0.80000000000000071},{"$f":"PW115/PW114","v":0.80000000000000071},{"$f":"PX115/PX114","v":0.80000000000000071},"∆hu/∆h",{"$f":"PZ115/PZ114","v":0.40000000000000036},{"$f":"QA115/QA114","v":0.40000000000000036},0.40000000000000036,null,null,null,"∆hu/∆h",{"$f":"QG115/QG114","v":0},0,{"$f":"QI115/QI114","v":0},{"$f":"QJ115/QJ114","v":0},0,0,"∆hu/∆h",{"$f":"QN115/QN114","v":0},{"$f":"QO115/QO114","v":0},0,null,"∆hu/∆h",{"$f":"QS115/QS114","v":0.80000000000000071},0.80000000000000071,{"$f":"QU115/QU114","v":0.80000000000000071},{"$f":"QV115/QV114","v":0.80000000000000071},{"$f":"QW115/QW114","v":0.80000000000000071},{"$f":"QX115/QX114","v":0.80000000000000071},"∆hu/∆h",{"$f":"QZ115/QZ114","v":0.40000000000000036},{"$f":"RA115/RA114","v":0.40000000000000036},0.40000000000000036,null,null,null,"∆hu/∆h",{"$f":"RG115/RG114","v":0},0,{"$f":"RI115/RI114","v":0},{"$f":"RJ115/RJ114","v":0},0,0,"∆hu/∆h",{"$f":"RN115/RN114","v":0},{"$f":"RO115/RO114","v":0},0,null,"∆hu/∆h",{"$f":"RS115/RS114","v":0.80000000000000071},0.80000000000000071,{"$f":"RU115/RU114","v":0.80000000000000071},{"$f":"RV115/RV114","v":0.80000000000000071},{"$f":"RW115/RW114","v":0.80000000000000071},{"$f":"RX115/RX114","v":0.80000000000000071},"∆hu/∆h",{"$f":"RZ115/RZ114","v":0.40000000000000036},{"$f":"SA115/SA114","v":0.40000000000000036},0.40000000000000036]
[{"$f":"1.4-0.1*(Données!AE52-0.5)","v":1.1499999999999999},"Voie unique","Voies multiples","Voie étroite",null,null,null,null,null,null,null,null,null,"x",{"$f":"Données!$AE$16","v":0},"[m]","atan(Bi*Li/Ri*tcorr.)",{"$f":"ATAN((R114*R115/(R116*$O$120)))","v":1.349958372652029},{"$f":"ATAN((S114*S115/(S116*$O$120)))","v":1.349958372652029},{"$f":"ATAN((T114*T115/(T116*$O$120)))","v":-1.349958372652029},{"$f":"ATAN((U114*U115/(U116*$O$120)))","v":-1.349958372652029},null,null,null,null,null,null,null,null,null,null,null,null,"9.2 Charges surfacique (fondations)",null,null,null,null,null,null,null,null,null,null,"8.2 Charges surfacique (fondations)",null,null,null,null,null,null,null,null,null,null,null,null,null,null,"9.2 Charges surfacique (fondations)",null,null,null,null,null,null,null,null,null,null,"8.2 Charges surfacique (fondations)",null,null,null,null,null,null,null,null,null,null,null,null,null,null,"9.2 Charges surfacique (fondations)",null,null,null,null,null,null,null,null,null,null,"8.2 Charges surfacique (fondations)",null,null,null,null,null,null,null,null,null,null,null,null,null,null,"9.2 Charges surfacique (fondations)",null,null,null,null,null,null,null,null,null,null,"8.2 Charges surfacique (fondations)",null,null,null,null,null,null,null,null,null,null,null,null,null,null,"9.2 Charges surfacique (fondations)",null,null,null,null,null,null,null,null,null,null,"8.2 Charges surfacique (fondations)",null,null,null,null,null,null,null,null,null,null,null,null,null,null,"9.2 Charges surfacique (fondations)",null,null,null,null,null,null,null,null,null,null,"8.2 Charges surfacique (fondations)",null,null,null,null,null,null,null,null,null,null,null,null,null,null,"9.2 Charges surfacique (fondations)",null,null,null,null,null,null,null,null,null,null,"8.2 Charges surfacique (fondations)",null,null,null,null,null,null,null,null,null,null,null,null,null,null,"9.2 Charges surfacique (fondations)",null,null,null,null,null,null,null,null,null,null,"8.2 Charges surfacique (fondations)",null,null,null,null,null,null,null,null,null,null,null,null,null,null,"9.2 Charges surfacique (fondations)",null,null,null,null,null,null,null,null,null,null,"8.2 Charges surfacique (fondations)",null,null,null,null,null,null,null,null,null,null,null,null,null,null,"9.2 Charges surfacique (fondations)",null,null,null,null,null,null,null,null,null,null,"8.2 Charges surfacique (fondations)",null,null,null,null,null,null,null,null,null,null,null,null,null,null,null,null,null,null,"x",{"$f":"Données!$AE$16","v":0},"[m]","atan(Bi*Li/Ri*tcorr.)",{"$f":"ATAN((KP114*KP115/(KP116*$O$120)))","v":1.349958372652029},{"$f":"ATAN((KQ114*KQ115/(KQ116*$O$120)))","v":1.349958372652029},{"$f":"ATAN((KR114*KR115/(KR116*$O$120)))","v":-1.349958372652029},{"$f":"ATAN((KS114*KS115/(KS116*$O$120)))","v":-1.349958372652029},null,null,null,null,null,null,null,null,null,null,null,null,null,null,null,null,null,null,"x",{"$f":"Données!$AE$16","v":0},"[m]","atan(Bi*Li/Ri*tcorr.)",{"$f":"ATAN((LP114*LP115/(LP116*$O$120)))","v":1.349958372652029},{"$f":"ATAN((LQ114*LQ115/(LQ116*$O$120)))","v":1.349958372652029},{"$f":"ATAN((LR114*LR115/(LR116*$O$120)))","v":-1.349958372652029},{"$f":"ATAN((LS114*LS115/(LS116*$O$120)))","v":-1.349958372652029},null,null,null,null,null,null,null,null,null,null,null,null,"∆p",{"$f":"MG111-MG112","v":1.241500000000002},{"$f":"MH111-MH112","v":0.39199999999999946},{"$f":"MI111-MI112","v":0.84950000000000259},{"$f":"MJ111-MJ112","v":0.83139999999999858},0.39199999999999946,0.43939999999999912,"∆p",{"$f":"MN111-MN112","v":1.5829999999999984},{"$f":"MO111-MO112","v":1.0829999999999984},{"$f":"MP111-MP112","v":0.7914999999999992},null,"∆p",{"$f":"MS111-MS112","v":1.463000000000001},0.50820000000000043,0.95480000000000231,0.96940000000000026,0.50820000000000043,0.46120000000000161,"∆p",{"$f":"MZ111-MZ112","v":1.5840000000000032},{"$f":"NA111-NA112","v":1.0840000000000032},{"$f":"NB111-NB112","v":0.79200000000000159},null,null,null,"∆p",{"$f":"NG111-NG112","v":1.241500000000002},{"$f":"NH111-NH112","v":0.39199999999999946},{"$f":"NI111-NI112","v":0.84950000000000259},{"$f":"NJ111-NJ112","v":0.83139999999999858},0.39199999999999946,0.43939999999999912,"∆p",{"$f":"NN111-NN112","v":1.5829999999999984},{"$f":"NO111-NO112","v":1.0829999999999984},{"$f":"NP111-NP112","v":0.7914999999999992},null,"∆p",{"$f":"NS111-NS112","v":1.463000000000001},0.50820000000000043,0.95480000000000231,0.96940000000000026,0.50820000000000043,0.46120000000000161,"∆p",{"$f":"NZ111-NZ112","v":1.5840000000000032},{"$f":"OA111-OA112","v":1.0840000000000032},{"$f":"OB111-OB112","v":0.79200000000000159},null,null,null,"∆p",{"$f":"OG111-OG112","v":1.241500000000002},{"$f":"OH111-OH112","v":0.39199999999999946},{"$f":"OI111-OI112","v":0.84950000000000259},{"$f":"OJ111-OJ112","v":0.83139999999999858},0.39199999999999946,0.43939999999999912,"∆p",{"$f":"ON111-ON112","v":1.5829999999999984},{"$f":"OO111-OO112","v":1.0829999999999984},{"$f":"OP111-OP112","v":0.7914999999999992},null,"∆p",{"$f":"OS111-OS112","v":1.463000000000001},0.50820000000000043,0.95480000000000231,0.96940000000000026,0.50820000000000043,0.46120000000000161,"∆p",{"$f":"OZ111-OZ112","v":1.5840000000000032},{"$f":"PA111-PA112","v":1.0840000000000032},{"$f":"PB111-PB112","v":0.79200000000000159},null,null,null,"∆p",{"$f":"PG111-PG112","v":1.241500000000002},{"$f":"PH111-PH112","v":0.39199999999999946},{"$f":"PI111-PI112","v":0.84950000000000259},{"$f":"PJ111-PJ112","v":0.83139999999999858},0.39199999999999946,0.43939999999999912,"∆p",{"$f":"PN111-PN112","v":1.5829999999999984},{"$f":"PO111-PO112","v":1.0829999999999984},{"$f":"PP111-PP112","v":0.7914999999999992},null,"∆p",{"$f":"PS111-PS112","v":1.463000000000001},0.50820000000000043,0.95480000000000231,0.96940000000000026,0.50820000000000043,0.46120000000000161,"∆p",{"$f":"PZ111-PZ112","v":1.5840000000000032},{"$f":"QA111-QA112","v":1.0840000000000032},{"$f":"QB111-QB112","v":0.79200000000000159},null,null,null,"∆p",{"$f":"QG111-QG112","v":1.241500000000002},{"$f":"QH111-QH112","v":0.39199999999999946},{"$f":"QI111-QI112","v":0.84950000000000259},{"$f":"QJ111-QJ112","v":0.83139999999999858},0.39199999999999946,0.43939999999999912,"∆p",{"$f":"QN111-QN112","v":1.5829999999999984},{"$f":"QO111-QO112","v":1.0829999999999984},{"$f":"QP111-QP112","v":0.7914999999999992},null,"∆p",{"$f":"QS111-QS112","v":1.463000000000001},0.50820000000000043,0.95480000000000231,0.96940000000000026,0.50820000000000043,0.46120000000000161,"∆p",{"$f":"QZ111-QZ112","v":1.5840000000000032},{"$f":"RA111-RA112","v":1.0840000000000032},{"$f":"RB111-RB112","v":0.79200000000000159},null,null,null,"∆p",{"$f":"RG111-RG112","v":1.241500000000002},{"$f":"RH111-RH112","v":0.39199999999999946},{"$f":"RI111-RI112","v":0.84950000000000259},{"$f":"RJ111-RJ112","v":0.83139999999999858},0.39199999999999946,0.43939999999999912,"∆p",{"$f":"RN111-RN112","v":1.5829999999999984},{"$f":"RO111-RO112","v":1.0829999999999984},{"$f":"RP111-RP112","v":0.7914999999999992},null,"∆p",{"$f":"RS111-RS112","v":1.463000000000001},0.50820000000000043,0.95480000000000231,0.96940000000000026,0.50820000000000043,0.46120000000000161,"∆p",{"$f":"RZ111-RZ112","v":1.5840000000000032},{"$f":"SA111-SA112","v":1.0840000000000032},{"$f":"SB111-SB112","v":0.79200000000000159},null,null,null,null,null,"9.2 Charges surfacique (fondations)"]
[2,43.5,43.5,21.75,null,null,null,null,null,null,null,null,null,"9. Calcul de la stabilité (poussée d'Archimède)",null,null,null,null,null,null,null,null,null,null,null,null,null,null,null,null,null,null,null,null,null,null,"atani + Bi*Li*tcorr./Ri",{"$f":"AL122+AL123*(AL124+AL125)","v":1.5653821967373165},{"$f":"AM122+AM123*(AM124+AM125)","v":1.5653821967373165},{"$f":"AN122+AN123*(AN124+AN125)","v":-1.5653821967373165},{"$f":"AO122+AO123*(AO124+AO125)","v":-1.5653821967373165},null,null,null,null,null,null,"atani + Bi*Li*tcorr./Ri",{"$f":"AW122+AW123*(AW124+AW125)","v":1.5665851217514919},{"$f":"AX122+AX123*(AX124+AX125)","v":1.5665851217514919},{"$f":"AY122+AY123*(AY124+AY125)","v":-1.5665851217514919},{"$f":"AZ122+AZ123*(AZ124+AZ125)","v":-1.5665851217514919},null,null,null,null,null,null,null,null,null,null,"atani + Bi*Li*tcorr./Ri",{"$f":"BL122+BL123*(BL124+BL125)","v":1.5653821967373165},{"$f":"BM122+BM123*(BM124+BM125)","v":1.5653821967373165},{"$f":"BN122+BN123*(BN124+BN125)","v":-1.5653821967373165},{"$f":"BO122+BO123*(BO124+BO125)","v":-1.5653821967373165},null,null,null,null,null,null,"atani + Bi*Li*tcorr./Ri",{"$f":"BW122+BW123*(BW124+BW125)","v":1.5665851217514919},{"$f":"BX122+BX123*(BX124+BX125)","v":1.5665851217514919},{"$f":"BY122+BY123*(BY124+BY125)","v":-1.5665851217514919},{"$f":"BZ122+BZ123*(BZ124+BZ125)","v":-1.5665851217514919},null,null,null,null,null,null,null,null,null,null,"atani + Bi*Li*tcorr./Ri",{"$f":"CL122+CL123*(CL124+CL125)","v":1.5653821967373165},{"$f":"CM122+CM123*(CM124+CM125)","v":1.5653821967373165},{"$f":"CN122+CN123*(CN124+CN125)","v":-1.5653821967373165},{"$f":"CO122+CO123*(CO124+CO125)","v":-1.5653821967373165},null,null,null,null,null,null,"atani + Bi*Li*tcorr./Ri",{"$f":"CW122+CW123*(CW124+CW125)","v":1.5665851217514919},{"$f":"CX122+CX123*(CX124+CX125)","v":1.5665851217514919},{"$f":"CY122+CY123*(CY124+CY125)","v":-1.5665851217514919},{"$f":"CZ122+CZ123*(CZ124+CZ125)","v":-1.5665851217514919},null,null,null,null,null,null,null,null,null,null,"atani + Bi*Li*tcorr./Ri",{"$f":"DL122+DL123*(DL124+DL125)","v":1.5653821967373165},{"$f":"DM122+DM123*(DM124+DM125)","v":1.5653821967373165},{"$f":"DN122+DN123*(DN124+DN125)","v":-1.5653821967373165},{"$f":"DO122+DO123*(DO124+DO125)","v":-1.5653821967373165},null,null,null,null,null,null,"atani + Bi*Li*tcorr./Ri",{"$f":"DW122+DW123*(DW124+DW125)","v":1.5665851217514919},{"$f":"DX122+DX123*(DX124+DX125)","v":1.5665851217514919},{"$f":"DY122+DY123*(DY124+DY125)","v":-1.5665851217514919},{"$f":"DZ122+DZ123*(DZ124+DZ125)","v":-1.5665851217514919},null,null,null,null,null,null,null,null,null,null,"atani + Bi*Li*tcorr./Ri",{"$f":"EL122+EL123*(EL124+EL125)","v":1.5653821967373165},{"$f":"EM122+EM123*(EM124+EM125)","v":1.5653821967373165},{"$f":"EN122+EN123*(EN124+EN125)","v":-1.5653821967373165},{"$f":"EO122+EO123*(EO124+EO125)","v":-1.5653821967373165},null,null,null,null,null,null,"atani + Bi*Li*tcorr./Ri",{"$f":"EW122+EW123*(EW124+EW125)","v":1.5664836650572453},{"$f":"EX122+EX123*(EX124+EX125)","v":1.5664836650572453},{"$f":"EY122+EY123*(EY124+EY125)","v":-1.5664836650572453},{"$f":"EZ122+EZ123*(EZ124+EZ125)","v":-1.5664836650572453},null,null,null,null,null,null,null,null,null,null,"atani + Bi*Li*tcorr./Ri",{"$f":"FL122+FL123*(FL124+FL125)","v":1.5653821967373165},{"$f":"FM122+FM123*(FM124+FM125)","v":1.5653821967373165},{"$f":"FN122+FN123*(FN124+FN125)","v":-1.5653821967373165},{"$f":"FO122+FO123*(FO124+FO125)","v":-1.5653821967373165},null,null,null,null,null,null,"atani + Bi*Li*tcorr./Ri",{"$f":"FW122+FW123*(FW124+FW125)","v":1.5664836650572453},{"$f":"FX122+FX123*(FX124+FX125)","v":1.5664836650572453},{"$f":"FY122+FY123*(FY124+FY125)","v":-1.5664836650572453},{"$f":"FZ122+FZ123*(FZ124+FZ125)","v":-1.5664836650572453},null,null,null,null,null,null,null,null,null,null,"atani + Bi*Li*tcorr./Ri",{"$f":"GL122+GL123*(GL124+GL125)","v":1.5653821967373165},{"$f":"GM122+GM123*(GM124+GM125)","v":1.5653821967373165},{"$f":"GN122+GN123*(GN124+GN125)","v":-1.5653821967373165},{"$f":"GO122+GO123*(GO124+GO125)","v":-1.5653821967373165},null,null,null,null,null,null,"atani + Bi*Li*tcorr./Ri",{"$f":"GW122+GW123*(GW124+GW125)","v":1.5664836650572453},{"$f":"GX122+GX123*(GX124+GX125)","v":1.5664836650572453},{"$f":"GY122+GY123*(GY124+GY125)","v":-1.5664836650572453},{"$f":"GZ122+GZ123*(GZ124+GZ125)","v":-1.5664836650572453},null,null,null,null,null,null,null,null,null,null,"atani + Bi*Li*tcorr./Ri",{"$f":"HL122+HL123*(HL124+HL125)","v":1.5653821967373165},{"$f":"HM122+HM123*(HM124+HM125)","v":1.5653821967373165},{"$f":"HN122+HN123*(HN124+HN125)","v":-1.5653821967373165},{"$f":"HO122+HO123*(HO124+HO125)","v":-1.5653821967373165},null,null,null,null,null,null,"atani + Bi*Li*tcorr./Ri",{"$f":"HW122+HW123*(HW124+HW125)","v":1.5664836650572453},{"$f":"HX122+HX123*(HX124+HX125)","v":1.5664836650572453},{"$f":"HY122+HY123*(HY124+HY125)","v":-1.5664836650572453},{"$f":"HZ122+HZ123*(HZ124+HZ125)","v":-1.5664836650572453},null,null,null,null,null,null,null,null,null,null,"atani + Bi*Li*tcorr./Ri",{"$f":"IL122+IL123*(IL124+IL125)","v":1.5653821967373165},{"$f":"IM122+IM123*(IM124+IM125)","v":1.5653821967373165},{"$f":"IN122+IN123*(IN124+IN125)","v":-1.5653821967373165},{"$f":"IO122+IO123*(IO124+IO125)","v":-1.5653821967373165},null,null,null,null,null,null,"atani + Bi*Li*tcorr./Ri",{"$f":"IW122+IW123*(IW124+IW125)","v":1.5664836650572453},{"$f":"IX122+IX123*(IX124+IX125)","v":1.5664836650572453},{"$f":"IY122+IY123*(IY124+IY125)","v":-1.5664836650572453},{"$f":"IZ122+IZ123*(IZ124+IZ125)","v":-1.5664836650572453},null,null,null,null,null,null,null,null,null,null,"atani + Bi*Li*tcorr./Ri",{"$f":"JL122+JL123*(JL124+JL125)","v":1.5653821967373165},{"$f":"JM122+JM123*(JM124+JM125)","v":1.5653821967373165},{"$f":"JN122+JN123*(JN124+JN125)","v":-1.5653821967373165},{"$f":"JO122+JO123*(JO124+JO125)","v":-1.5653821967373165},null,null,null,null,null,null,"atani + Bi*Li*tcorr./Ri",{"$f":"JW122+JW123*(JW124+JW125)","v":1.5664836650572453},{"$f":"JX122+JX123*(JX124+JX125)","v":1.5664836650572453},{"$f":"JY122+JY123*(JY124+JY125)","v":-1.5664836650572453},{"$f":"JZ122+JZ123*(JZ124+JZ125)","v":-1.5664836650572453},null,null,null,null,null,null,null,null,null,null,null,"9. Calcul de la stabilité (poussée d'Archimède)",null,null,null,null,null,null,null,null,null,null,null,null,null,null,null,null,null,null,null,null,null,null,null,null,null,"9. Calcul de la stabilité (poussée d'Archimède)",null,null,null,null,null,null,null,null,null,null,null,null,null,null,null,null,null,null,null,null,null,"B",{"$f":"Données!$AE$12","v":40},"[m]","Li",{"$f":"MI129+MI127/2","v":10},{"$f":"MI129-MI127/2","v":-10},{"$f":"MI129-MI127/2","v":-10},{"$f":"MI129+MI127/2","v":10},null,null,null,"B",{"$f":"Données!$AE$12","v":40},"[m]","Li",{"$f":"MT129+MT127/2","v":10},{"$f":"MT129-MT127/2","v":-10},{"$f":"MT129-MT127/2","v":-10},{"$f":"MT129+MT127/2","v":10},null,null,null,null,null,null,null,"B",{"$f":"Données!$AE$12","v":40},"[m]","Li",{"$f":"NI129+NI127/2","v":10},{"$f":"NI129-NI127/2","v":-10},{"$f":"NI129-NI127/2","v":-10},{"$f":"NI129+NI127/2","v":10},null,null,null,"B",{"$f":"Données!$AE$12","v":40},"[m]","Li",{"$f":"NT129+NT127/2","v":10},{"$f":"NT129-NT127/2","v":-10},{"$f":"NT129-NT127/2","v":-10},{"$f":"NT129+NT127/2","v":10},null,null,null,null,null,null,null,"B",{"$f":"Données!$AE$12","v":40},"[m]","Li",{"$f":"OI129+OI127/2","v":10},{"$f":"OI129-OI127/2","v":-10},{"$f":"OI129-OI127/2","v":-10},{"$f":"OI129+OI127/2","v":10},null,null,null,"B",{"$f":"Données!$AE$12","v":40},"[m]","Li",{"$f":"OT129+OT127/2","v":10},{"$f":"OT129-OT127/2","v":-10},{"$f":"OT129-OT127/2","v":-10},{"$f":"OT129+OT127/2","v":10},null,null,null,null,null,null,null,"B",{"$f":"Données!$AE$12","v":40},"[m]","Li",{"$f":"PI129+PI127/2","v":10},{"$f":"PI129-PI127/2","v":-10},{"$f":"PI129-PI127/2","v":-10},{"$f":"PI129+PI127/2","v":10},null,null,null,"B",{"$f":"Données!$AE$12","v":40},"[m]","Li",{"$f":"PT129+PT127/2","v":10},{"$f":"PT129-PT127/2","v":-10},{"$f":"PT129-PT127/2","v":-10},{"$f":"PT129+PT127/2","v":10},null,null,null,null,null,null,null,"B",{"$f":"Données!$AE$12","v":40},"[m]","Li",{"$f":"QI129+QI127/2","v":10},{"$f":"QI129-QI127/2","v":-10},{"$f":"QI129-QI127/2","v":-10},{"$f":"QI129+QI127/2","v":10},null,null,null,"B",{"$f":"Données!$AE$12","v":40},"[m]","Li",{"$f":"QT129+QT127/2","v":10},{"$f":"QT129-QT127/2","v":-10},{"$f":"QT129-QT127/2","v":-10},{"$f":"QT129+QT127/2","v":10},null,null,null,null,null,null,null,"B",{"$f":"Données!$AE$12","v":40},"[m]","Li",{"$f":"RI129+RI127/2","v":10},{"$f":"RI129-RI127/2","v":-10},{"$f":"RI129-RI127/2","v":-10},{"$f":"RI129+RI127/2","v":10},null,null,null,"B",{"$f":"Données!$AE$12","v":40},"[m]","Li",{"$f":"RT129+RT127/2","v":10},{"$f":"RT129-RT127/2","v":-10},{"$f":"RT129-RT127/2","v":-10},{"$f":"RT129+RT127/2","v":10},null,null,null,null,null,null,null,null,null,null,"atani + Bi*Li*tcorr./Ri",{"$f":"SL122+SL123*(SL124+SL125)","v":1.5653821967373165},{"$f":"SM122+SM123*(SM124+SM125)","v":1.5653821967373165},{"$f":"SN122+SN123*(SN124+SN125)","v":-1.5653821967373165},{"$f":"SO122+SO123*(SO124+SO125)","v":-1.5653821967373165}]
[4.25,27.917000000000002,31.417000000000002,13.958500000000001,null,null,null,null,null,null,null,null,null,null,null,null,null,"9.1 Calcul de la stabilité",null,null,null,null,null,null,null,null,null,null,null,null,null,null,null,null,null,null,null,"Surface poussée","Aarchimède",{"$f":"AN133-AN134","v":0},"[m2]",null,null,null,null,null,null,null,"Surface poussée","Aarchimède",{"$f":"AY133-AY134","v":0},"[m2]",null,null,null,null,null,null,null,null,null,null,null,"Surface poussée","Aarchimède",{"$f":"BN133-BN134","v":0},"[m2]",null,null,null,null,null,null,null,"Surface poussée","Aarchimède",{"$f":"BY133-BY134","v":0},"[m2]",null,null,null,null,null,null,null,null,null,null,null,"Surface poussée","Aarchimède",{"$f":"CN133-CN134","v":0},"[m2]",null,null,null,null,null,null,null,"Surface poussée","Aarchimède",{"$f":"CY133-CY134","v":0},"[m2]",null,null,null,null,null,null,null,null,null,null,null,"Surface poussée","Aarchimède",{"$f":"DN133-DN134","v":0},"[m2]",null,null,null,null,null,null,null,"Surface poussée","Aarchimède",{"$f":"DY133-DY134","v":0},"[m2]",null,null,null,null,null,null,null,null,null,null,null,"Surface poussée","Aarchimède",{"$f":"EN133-EN134","v":0},"[m2]",null,null,null,null,null,null,null,"Surface poussée","Aarchimède",{"$f":"EY133-EY134","v":0},"[m2]",null,null,null,null,null,null,null,null,null,null,null,"Surface poussée","Aarchimède",{"$f":"FN133-FN134","v":0},"[m2]",null,null,null,null,null,null,null,"Surface poussée","Aarchimède",{"$f":"FY133-FY134","v":0},"[m2]",null,null,null,null,null,null,null,null,null,null,null,"Surface poussée","Aarchimède",{"$f":"GN133-GN134","v":0},"[m2]",null,null,null,null,null,null,null,"Surface poussée","Aarchimède",{"$f":"GY133-GY134","v":0},"[m2]",null,null,null,null,null,null,null,null,null,null,null,"Surface poussée","Aarchimède",{"$f":"HN133-HN134","v":0},"[m2]",null,null,null,null,null,null,null,"Surface poussée","Aarchimède",{"$f":"HY133-HY134","v":0},"[m2]",null,null,null,null,null,null,null,null,null,null,null,"Surface poussée","Aarchimède",{"$f":"IN133-IN134","v":0},"[m2]",null,null,null,null,null,null,null,"Surface poussée","Aarchimède",{"$f":"IY133-IY134","v":0},"[m2]",null,null,null,null,null,null,null,null,null,null,null,"Surface poussée","Aarchimède",{"$f":"JN133-JN134","v":0},"[m2]",null,null,null,null,null,null,null,"Surface poussée","Aarchimède",{"$f":"JY133-JY134","v":0},"[m2]",null,null,null,null,null,null,null,null,null,null,null,null,null,null,null,"9.1 Calcul de la stabilité",null,null,null,null,null,null,null,null,null,null,null,null,null,null,null,null,null,null,null,null,null,null,null,null,null,"9.1 Calcul de la stabilité",null,null,null,null,null,null,null,null,null,null,null,null,null,null,null,null,null,null,null,null,null,null,null,null,null,null,null,null,null,null,null,null,null,null,null,null,null,null,null,null,null,null,null,null,null,null,null,null,null,null,null,null,null,null,null,null,null,null,null,null,null,null,null,null,null,null,null,null,null,null,null,null,null,null,null,null,null,null,null,null,null,null,null,null,null,null,null,null,null,null,null,null,null,null,null,null,null,null,null,null,null,null,null,null,null,null,null,null,null,null,null,null,null,null,null,null,null,null,null,null,null,null,null,null,null,null,null,null,null,null,null,null,null,null,null,null,null,null,null,null,null,null,null,null,null,null,null,null,null,null,null,null,null,null,null,null,null,null,null,null,null,null,null,null,null,null,null,null,null,null,null,null,null,null,null,null,null,"Surface poussée","Aarchimède",{"$f":"SN133-SN134","v":0},"[m2]"]
[6.25,18.332999999999998,24.167000000000002,9.1664999999999992,null,null,null,null,null,null,null,null,null,null,null,null,null,"2.ra < hwu > 2*ra (Eau entre sommet et mileu du tuyau)",null,null,null,null,null,null,null,null,null,null,null,null,null,null,null,null,null,null,null,null,null,null,null,null,null,null,null,null,null,null,null,null,null,null,null,null,null,null,null,null,null,null,null,null,null,null,null,null,null,null,null,null,null,null,null,null,null,null,null,null,null,null,null,null,null,null,null,null,null,null,null,null,null,null,null,null,null,null,null,null,null,null,null,null,null,null,null,null,null,null,null,null,null,null,null,null,null,null,null,null,null,null,null,null,null,null,null,null,null,null,null,null,null,null,null,null,null,null,null,null,null,null,null,null,null,null,null,null,null,null,null,null,null,null,null,null,null,null,null,null,null,null,null,null,null,null,null,null,null,null,null,null,null,null,null,null,null,null,null,null,null,null,null,null,null,null,null,null,null,null,null,null,null,null,null,null,null,null,null,null,null,null,null,null,null,null,null,null,null,null,null,null,null,null,null,null,null,null,null,null,null,null,null,null,null,null,null,null,null,null,null,null,null,null,null,null,null,null,null,null,null,null,null,null,null,null,null,null,null,null,null,null,null,null,null,null,null,null,null,null,null,null,null,null,null,null,null,null,null,null,null,null,null,null,null,null,null,null,null,null,null,null,null,null,null,null,null,null,null,null,null,null,null,null,null,null,null,null,null,null,null,null,null,"2.ra < hwu > 2*ra (Eau entre sommet et mileu du tuyau)",null,null,null,null,null,null,null,null,null,null,null,null,null,null,null,null,null,null,null,null,null,null,null,null,null,"2.ra < hwu > 2*ra (Eau entre sommet et mileu du tuyau)",null,null,null,null,null,null,null,null,null,null,null,null,null,null,null,null,null,null,null,null,null,"Poussée d'Archi.","FAtotale",{"$f":"-PI()*(ML35/1000)^2/4*10*MN77","v":0},"[kN/m]",null,null,null,null,null,null,null,"Poussée d'Archi.","FAtotale",{"$f":"-PI()*(MS34/1000)^2/4*10*MV77","v":0},"[kN/m]",null,null,null,null,null,null,null,null,null,null,null,"Poussée d'Archi.","FAtotale",{"$f":"-PI()*(NL35/1000)^2/4*10*NN77","v":0},"[kN/m]",null,null,null,null,null,null,null,"Poussée d'Archi.","FAtotale",{"$f":"-PI()*(NS34/1000)^2/4*10*NV77","v":0},"[kN/m]",null,null,null,null,null,null,null,null,null,null,null,"Poussée d'Archi.","FAtotale",{"$f":"-PI()*(OL35/1000)^2/4*10*ON77","v":0},"[kN/m]",null,null,null,null,null,null,null,"Poussée d'Archi.","FAtotale",{"$f":"-PI()*(OS34/1000)^2/4*10*OV77","v":0},"[kN/m]",null,null,null,null,null,null,null,null,null,null,null,"Poussée d'Archi.","FAtotale",{"$f":"-PI()*(PL35/1000)^2/4*10*PN77","v":0},"[kN/m]",null,null,null,null,null,null,null,"Poussée d'Archi.","FAtotale",{"$f":"-PI()*(PS34/1000)^2/4*10*PV77","v":0},"[kN/m]",null,null,null,null,null,null,null,null,null,null,null,"Poussée d'Archi.","FAtotale",{"$f":"-PI()*(QL35/1000)^2/4*10*QN77","v":0},"[kN/m]",null,null,null,null,null,null,null,"Poussée d'Archi.","FAtotale",{"$f":"-PI()*(QS34/1000)^2/4*10*QV77","v":0},"[kN/m]",null,null,null,null,null,null,null,null,null,null,null,"Poussée d'Archi.","FAtotale",{"$f":"-PI()*(RL35/1000)^2/4*10*RN77","v":0},"[kN/m]",null,null,null,null,null,null,null,"Poussée d'Archi.","FAtotale",{"$f":"-PI()*(RS34/1000)^2/4*10*RV77","v":0},"[kN/m]"]
[8.5,13.333,18.667000000000002,6.6665000000000001,null,null,null,null,null,null,null,null,null,null,null,null,null,"3. hwu < ra (Eau plus bas que le milieu du tuyau)",null,null,null,null,null,null,null,null,null,null,null,null,null,null,null,null,null,null,null,"Poids terrain hors eau","Gspo",{"$f":"ABS(AN151*Données!$AE$32)","v":0.68672587712816591},"[kN/m]",null,null,null,null,null,null,null,"Poids terrain hors eau","Gspo",{"$f":"ABS(AY151*Données!$AE$32)","v":2.2872263745099963},"[kN/m]",null,null,null,null,null,null,null,null,null,null,null,"Poids terrain hors eau","Gspo",{"$f":"ABS(BN151*Données!$AE$32)","v":0.68672587712816591},"[kN/m]",null,null,null,null,null,null,null,"Poids terrain hors eau","Gspo",{"$f":"ABS(BY151*Données!$AE$32)","v":2.2872263745099963},"[kN/m]",null,null,null,null,null,null,null,null,null,null,null,"Poids terrain hors eau","Gspo",{"$f":"ABS(CN151*Données!$AE$32)","v":0.68672587712816591},"[kN/m]",null,null,null,null,null,null,null,"Poids terrain hors eau","Gspo",{"$f":"ABS(CY151*Données!$AE$32)","v":2.2872263745099963},"[kN/m]",null,null,null,null,null,null,null,null,null,null,null,"Poids terrain hors eau","Gspo",{"$f":"ABS(DN151*Données!$AE$32)","v":0.68672587712816591},"[kN/m]",null,null,null,null,null,null,null,"Poids terrain hors eau","Gspo",{"$f":"ABS(DY151*Données!$AE$32)","v":2.2872263745099963},"[kN/m]",null,null,null,null,null,null,null,null,null,null,null,"Poids terrain hors eau","Gspo",{"$f":"ABS(EN151*Données!$AE$32)","v":0.42587734473776395},"[kN/m]",null,null,null,null,null,null,null,"Poids terrain hors eau","Gspo",{"$f":"ABS(EY151*Données!$AE$32)","v":1.6233555929800025},"[kN/m]",null,null,null,null,null,null,null,null,null,null,null,"Poids terrain hors eau","Gspo",{"$f":"ABS(FN151*Données!$AE$32)","v":0.54090392915673169},"[kN/m]",null,null,null,null,null,null,null,"Poids terrain hors eau","Gspo",{"$f":"ABS(FY151*Données!$AE$32)","v":1.8413910589681948},"[kN/m]",null,null,null,null,null,null,null,null,null,null,null,"Poids terrain hors eau","Gspo",{"$f":"ABS(GN151*Données!$AE$32)","v":0.54090392915673169},"[kN/m]",null,null,null,null,null,null,null,"Poids terrain hors eau","Gspo",{"$f":"ABS(GY151*Données!$AE$32)","v":1.8413910589681948},"[kN/m]",null,null,null,null,null,null,null,null,null,null,null,"Poids terrain hors eau","Gspo",{"$f":"ABS(HN151*Données!$AE$32)","v":0.54090392915673169},"[kN/m]",null,null,null,null,null,null,null,"Poids terrain hors eau","Gspo",{"$f":"ABS(HY151*Données!$AE$32)","v":1.8413910589681948},"[kN/m]",null,null,null,null,null,null,null,null,null,null,null,"Poids terrain hors eau","Gspo",{"$f":"ABS(IN151*Données!$AE$32)","v":0.54090392915673169},"[kN/m]",null,null,null,null,null,null,null,"Poids terrain hors eau","Gspo",{"$f":"ABS(IY151*Données!$AE$32)","v":1.8413910589681948},"[kN/m]",null,null,null,null,null,null,null,null,null,null,null,"Poids terrain hors eau","Gspo",{"$f":"ABS(JN151*Données!$AE$32)","v":0.54090392915673169},"[kN/m]",null,null,null,null,null,null,null,"Poids terrain hors eau","Gspo",{"$f":"ABS(JY151*Données!$AE$32)","v":1.8413910589681948},"[kN/m]",null,null,null,null,null,null,null,null,null,null,null,null,null,null,null,"3. hwu < ra (Eau plus bas que le milieu du tuyau)",null,null,null,null,null,null,null,null,null,null,null,null,null,null,null,null,null,null,null,null,null,null,null,null,null,"3. hwu < ra (Eau plus bas que le milieu du tuyau)",null,null,null,null,null,null,null,null,null,null,null,null,null,null,null,null,null,null,null,null,null,"Poids autour tuyau","Gsp",{"$f":"MN151*Données!$AE$34","v":0.16686752088337292},"[kN/m]",null,null,null,null,null,null,null,"Poids autour tuyau","Gsp",{"$f":"MY151*Données!$AE$34","v":0.55544921243797962},"[kN/m]",null,null,null,null,null,null,null,null,null,null,null,"Poids autour tuyau","Gsp",{"$f":"NN151*Données!$AE$34","v":0.16686752088337292},"[kN/m]",null,null,null,null,null,null,null,"Poids autour tuyau","Gsp",{"$f":"NY151*Données!$AE$34","v":0.55544921243797962},"[kN/m]",null,null,null,null,null,null,null,null,null,null,null,"Poids autour tuyau","Gsp",{"$f":"ON151*Données!$AE$34","v":0.12390423319554209},"[kN/m]",null,null,null,null,null,null,null,"Poids autour tuyau","Gsp",{"$f":"OY151*Données!$AE$34","v":0.45958442600925342},"[kN/m]",null,null,null,null,null,null,null,null,null,null,null,"Poids autour tuyau","Gsp",{"$f":"PN151*Données!$AE$34","v":0.12390423319554209},"[kN/m]",null,null,null,null,null,null,null,"Poids autour tuyau","Gsp",{"$f":"PY151*Données!$AE$34","v":0.45958442600925342},"[kN/m]",null,null,null,null,null,null,null,null,null,null,null,"Poids autour tuyau","Gsp",{"$f":"QN151*Données!$AE$34","v":0.12390423319554209},"[kN/m]",null,null,null,null,null,null,null,"Poids autour tuyau","Gsp",{"$f":"QY151*Données!$AE$34","v":0.45958442600925342},"[kN/m]",null,null,null,null,null,null,null,null,null,null,null,"Poids autour tuyau","Gsp",{"$f":"RN151*Données!$AE$34","v":0.12390423319554209},"[kN/m]",null,null,null,null,null,null,null,"Poids autour tuyau","Gsp",{"$f":"RY151*Données!$AE$34","v":0.45958442600925342},"[kN/m]",null,null,null,null,null,null,null,null,null,null,null,"Poids terrain hors eau","Gspo",{"$f":"ABS(SN151*Données!$AE$32)","v":0.4561404957354559},"[kN/m]"]
[null,null,null,null,null,null,null,null,null,null,null,null,null,null,"Poids \"Spickel\" avec poussée",null,"G'Sp",{"$f":"T141","v":0.17043677862974657},{"$f":"T149","v":-0.17043677862974657},0,null,null,null,null,null,null,null,null,null,null,null,null,"10.2 Vérification",null,null,null,null,null,null,null,null,null,null,null,null,null,null,"9.2 Vérification",null,null,null,null,null,null,null,null,null,null,"10.2 Vérification",null,null,null,null,null,null,null,null,null,null,null,null,null,null,"9.2 Vérification",null,null,null,null,null,null,null,null,null,null,"10.2 Vérification",null,null,null,null,null,null,null,null,null,null,null,null,null,null,"9.2 Vérification",null,null,null,null,null,null,null,null,null,null,"10.2 Vérification",null,null,null,null,null,null,null,null,null,null,null,null,null,null,"9.2 Vérification",null,null,null,null,null,null,null,null,null,null,"10.2 Vérification",null,null,null,null,null,null,null,null,null,null,null,null,null,null,"9.2 Vérification",null,null,null,null,null,null,null,null,null,null,"10.2 Vérification",null,null,null,null,null,null,null,null,null,null,null,null,null,null,"9.2 Vérification",null,null,null,null,null,null,null,null,null,null,"10.2 Vérification",null,null,null,null,null,null,null,null,null,null,null,null,null,null,"9.2 Vérification",null,null,null,null,null,null,null,null,null,null,"10.2 Vérification",null,null,null,null,null,null,null,null,null,null,null,null,null,null,"9.2 Vérification",null,null,null,null,null,null,null,null,null,null,"10.2 Vérification",null,null,null,null,null,null,null,null,null,null,null,null,null,null,"9.2 Vérification",null,null,null,null,null,null,null,null,null,null,"10.2 Vérification",null,null,null,null,null,null,null,null,null,null,null,null,null,null,"9.2 Vérification",null,null,null,null,null,null,null,null,null,null,null,null,null,null,null,null,"Poids \"Spickel\" avec poussée",null,"G'Sp",{"$f":"KR141","v":0.14874858051810119},{"$f":"KR149","v":-0.14874858051810119},0,null,null,null,null,null,null,null,null,null,null,null,null,null,null,null,null,null,null,null,null,"Poids \"Spickel\" avec poussée",null,"G'Sp",{"$f":"LR141","v":0.16686752088337292},{"$f":"LR149","v":-0.16686752088337292},0,null,null,null,null,null,null,null,null,null,null,null,null,null,null,null,null,null,null,null,"Contrôle",null,{"$f":"IF(MN159+MN157=MN151,\"Wahr\",\"Falsch\")","v":"Wahr"},null,null,null,null,null,null,null,null,"Contrôle",null,{"$f":"IF(MY159+MY157=MY151,\"Wahr\",\"Falsch\")","v":"Wahr"},null,null,null,null,null,null,null,null,null,null,null,null,"Contrôle",null,{"$f":"IF(NN159+NN157=NN151,\"Wahr\",\"Falsch\")","v":"Wahr"},null,null,null,null,null,null,null,null,"Contrôle",null,{"$f":"IF(NY159+NY157=NY151,\"Wahr\",\"Falsch\")","v":"Wahr"},null,null,null,null,null,null,null,null,null,null,null,null,"Contrôle",null,{"$f":"IF(ON159+ON157=ON151,\"Wahr\",\"Falsch\")","v":"Wahr"},null,null,null,null,null,null,null,null,"Contrôle",null,{"$f":"IF(OY159+OY157=OY151,\"Wahr\",\"Falsch\")","v":"Wahr"},null,null,null,null,null,null,null,null,null,null,null,null,"Contrôle",null,{"$f":"IF(PN159+PN157=PN151,\"Wahr\",\"Falsch\")","v":"Wahr"},null,null,null,null,null,null,null,null,"Contrôle",null,{"$f":"IF(PY159+PY157=PY151,\"Wahr\",\"Falsch\")","v":"Wahr"},null,null,null,null,null,null,null,null,null,null,null,null,"Contrôle",null,{"$f":"IF(QN159+QN157=QN151,\"Wahr\",\"Falsch\")","v":"Wahr"},null,null,null,null,null,null,null,null,"Contrôle",null,{"$f":"IF(QY159+QY157=QY151,\"Wahr\",\"Falsch\")","v":"Wahr"},null,null,null,null,null,null,null,null,null,null,null,null,"Contrôle",null,{"$f":"IF(RN159+RN157=RN151,\"Wahr\",\"Falsch\")","v":"Wahr"},null,null,null,null,null,null,null,null,"Contrôle",null,{"$f":"IF(RY159+RY157=RY151,\"Wahr\",\"Falsch\")","v":"Wahr"},null,null,null,null,null,null,null,"10.2 Vérification"]
["16 Charge verticale sur largeur complète",null,-0.1061,0.42499999999999999,1,0.78210000000000002,0.1061,"p*r",null,null,null,null,null,null,null,null,null,null,null,null,null,null,null,null,null,null,null,null,null,null,null,null,null,null,null,"G + G' + Gsp","GR","Somme G",null,null,null,null,null,null,null,null,null,null,null,null,"G + G' + Gsp","GR","Somme G",null,null,null,null,null,null,null,null,"G + G' + Gsp","GR","Somme G",null,null,null,null,null,null,null,null,null,null,null,null,"G + G' + Gsp","GR","Somme G",null,null,null,null,null,null,null,null,"G + G' + Gsp","GR","Somme G",null,null,null,null,null,null,null,null,null,null,null,null,"G + G' + Gsp","GR","Somme G",null,null,null,null,null,null,null,null,"G + G' + Gsp","GR","Somme G",null,null,null,null,null,null,null,null,null,null,null,null,"G + G' + Gsp","GR","Somme G",null,null,null,null,null,null,null,null,"G + G' + Gsp","GR","Somme G",null,null,null,null,null,null,null,null,null,null,null,null,"G + G' + Gsp","GR","Somme G",null,null,null,null,null,null,null,null,"G + G' + Gsp","GR","Somme G",null,null,null,null,null,null,null,null,null,null,null,null,"G + G' + Gsp","GR","Somme G",null,null,null,null,null,null,null,null,"G + G' + Gsp","GR","Somme G",null,null,null,null,null,null,null,null,null,null,null,null,"G + G' + Gsp","GR","Somme G",null,null,null,null,null,null,null,null,"G + G' + Gsp","GR","Somme G",null,null,null,null,null,null,null,null,null,null,null,null,"G + G' + Gsp","GR","Somme G",null,null,null,null,null,null,null,null,"G + G' + Gsp","GR","Somme G",null,null,null,null,null,null,null,null,null,null,null,null,"G + G' + Gsp","GR","Somme G",null,null,null,null,null,null,null,null,"G + G' + Gsp","GR","Somme G",null,null,null,null,null,null,null,null,null,null,null,null,"G + G' + Gsp","GR","Somme G",null,null,null,null,null,null,null,null,null,null,null,null,null,null,null,null,null,null,null,null,null,null,null,null,null,null,null,null,null,null,null,null,null,null,null,null,null,null,null,null,null,null,null,null,null,null,null,null,null,null,null,null,null,null,null,null,null,"Poids tuyau vide",null,"GR",{"$f":"MN148","v":0.1379504750117814},{"$f":"MN148","v":0.1379504750117814},{"$f":"MN148","v":0.1379504750117814},null,null,null,null,null,null,null,null,null,"Poids tuyau vide",null,"GR",{"$f":"MY148","v":6.3436012755007729},{"$f":"MY148","v":6.3436012755007729},{"$f":"MY148","v":6.3436012755007729},null,null,null,null,null,"Poids tuyau vide",null,"GR",{"$f":"NN148","v":0.15723042912686197},{"$f":"NN148","v":0.15723042912686197},{"$f":"NN148","v":0.15723042912686197},null,null,null,null,null,null,null,null,null,"Poids tuyau vide",null,"GR",{"$f":"NY148","v":6.3628812296158532},{"$f":"NY148","v":6.3628812296158532},{"$f":"NY148","v":6.3628812296158532},null,null,null,null,null,"Poids tuyau vide",null,"GR",{"$f":"ON148","v":0.15140905793976006},{"$f":"ON148","v":0.15140905793976006},{"$f":"ON148","v":0.15140905793976006},null,null,null,null,null,null,null,null,null,"Poids tuyau vide",null,"GR",{"$f":"OY148","v":5.5122227620253836},{"$f":"OY148","v":5.5122227620253836},{"$f":"OY148","v":5.5122227620253836},null,null,null,null,null,"Poids tuyau vide",null,"GR",{"$f":"PN148","v":0.16769821584862318},{"$f":"PN148","v":0.16769821584862318},{"$f":"PN148","v":0.16769821584862318},null,null,null,null,null,null,null,null,null,"Poids tuyau vide",null,"GR",{"$f":"PY148","v":5.5285119199342461},{"$f":"PY148","v":5.5285119199342461},{"$f":"PY148","v":5.5285119199342461},null,null,null,null,null,"Poids tuyau vide",null,"GR",{"$f":"QN148","v":0.16769821584862318},{"$f":"QN148","v":0.16769821584862318},{"$f":"QN148","v":0.16769821584862318},null,null,null,null,null,null,null,null,null,"Poids tuyau vide",null,"GR",{"$f":"QY148","v":5.5285119199342461},{"$f":"QY148","v":5.5285119199342461},{"$f":"QY148","v":5.5285119199342461},null,null,null,null,null,"Poids tuyau vide",null,"GR",{"$f":"RN148","v":0.18388055960726418},{"$f":"RN148","v":0.18388055960726418},{"$f":"RN148","v":0.18388055960726418},null,null,null,null,null,null,null,null,null,"Poids tuyau vide",null,"GR",{"$f":"RY148","v":5.5446942636928878},{"$f":"RY148","v":5.5446942636928878},{"$f":"RY148","v":5.5446942636928878},null,null,null,null,null,null,null,null,"G + G' + Gsp","GR","Somme G"]
["25 Charge horizontale sur δ =150",null,0.99839999999999995,0.49890000000000001,0,0.50109999999999999,0.86760000000000004,"p*r",null,null,null,null,null,null,null,null,null,null,null,null,null,null,null,null,null,null,null,null,null,null,null,null,null,"Somme",{"$f":"AL174","v":24.478195037291986},"[kN/m]","Facteur",0.9,null,null,null,null,null,null,null,null,null,null,"Somme",{"$f":"BA174","v":49.698444689124699},"[kN/m]","Facteur",0.9,null,null,null,null,null,null,"Somme",{"$f":"BL174","v":24.492999478512761},"[kN/m]","Facteur",0.9,null,null,null,null,null,null,null,null,null,null,"Somme",{"$f":"CA174","v":49.713249130345481},"[kN/m]","Facteur",0.9,null,null,null,null,null,null,"Somme",{"$f":"CL174","v":24.509783123105301},"[kN/m]","Facteur",0.9,null,null,null,null,null,null,null,null,null,null,"Somme",{"$f":"DA174","v":49.730032774938017},"[kN/m]","Facteur",0.9,null,null,null,null,null,null,"Somme",{"$f":"DL174","v":24.539834498872111},"[kN/m]","Facteur",0.9,null,null,null,null,null,null,null,null,null,null,"Somme",{"$f":"EA174","v":49.760084150704827},"[kN/m]","Facteur",0.9,null,null,null,null,null,null,"Somme",{"$f":"EL174","v":19.197145419200876},"[kN/m]","Facteur",0.9,null,null,null,null,null,null,null,null,null,null,"Somme",{"$f":"FA174","v":41.209910645431314},"[kN/m]","Facteur",0.9,null,null,null,null,null,null,"Somme",{"$f":"FL174","v":21.702962269255629},"[kN/m]","Facteur",0.9,null,null,null,null,null,null,null,null,null,null,"Somme",{"$f":"GA174","v":44.099621278387609},"[kN/m]","Facteur",0.9,null,null,null,null,null,null,"Somme",{"$f":"GL174","v":21.728077480397342},"[kN/m]","Facteur",0.9,null,null,null,null,null,null,null,null,null,null,"Somme",{"$f":"HA174","v":44.124736489529319},"[kN/m]","Facteur",0.9,null,null,null,null,null,null,"Somme",{"$f":"HL174","v":21.682391796002346},"[kN/m]","Facteur",0.9,null,null,null,null,null,null,null,null,null,null,"Somme",{"$f":"IA174","v":44.079050805134322},"[kN/m]","Facteur",0.9,null,null,null,null,null,null,"Somme",{"$f":"IL174","v":21.70902409794444},"[kN/m]","Facteur",0.9,null,null,null,null,null,null,null,null,null,null,"Somme",{"$f":"JA174","v":44.105683107076416},"[kN/m]","Facteur",0.9,null,null,null,null,null,null,"Somme",{"$f":"JL174","v":21.740983755628857},"[kN/m]","Facteur",0.9,null,null,null,null,null,null,null,null,null,null,"Somme",{"$f":"KA174","v":44.137642764760834},"[kN/m]","Facteur",0.9,null,null,null,null,null,null,null,null,null,null,null,null,null,null,null,null,null,null,null,null,null,null,null,null,null,null,null,null,null,null,null,null,null,null,null,null,null,null,null,null,null,null,null,null,null,null,null,null,null,null,null,null,null,null,null,null,null,"hwu > 2*ra",null,{"$f":"2*MJ140","v":0.376},{"$f":"MJ169+MJ172+MJ171","v":22.726867520883371},{"$f":"ML170","v":0.1379504750117814},{"$f":"MJ179+MK179","v":22.864817995895152},null,null,null,null,null,null,null,null,null,"hwu > 2*ra",null,{"$f":"2*MU140","v":0.68600000000000005},{"$f":"MY169+MY172+MY171","v":39.588849212437985},{"$f":"NA170","v":6.3436012755007729},{"$f":"MY179+MZ179","v":45.932450487938759},null,null,null,null,null,"hwu > 2*ra",null,{"$f":"2*NJ140","v":0.376},{"$f":"NJ169+NJ172+NJ171","v":22.726867520883371},{"$f":"NL170","v":0.15723042912686197},{"$f":"NJ179+NK179","v":22.884097950010233},null,null,null,null,null,null,null,null,null,"hwu > 2*ra",null,{"$f":"2*NU140","v":0.68600000000000005},{"$f":"NY169+NY172+NY171","v":39.588849212437985},{"$f":"OA170","v":6.3628812296158532},{"$f":"NY179+NZ179","v":45.951730442053837},null,null,null,null,null,"hwu > 2*ra",null,{"$f":"2*OJ140","v":0.32400000000000001},{"$f":"OJ169+OJ172+OJ171","v":19.563904233195544},{"$f":"OL170","v":0.15140905793976006},{"$f":"OJ179+OK179","v":19.715313291135303},null,null,null,null,null,null,null,null,null,"hwu > 2*ra",null,{"$f":"2*OU140","v":0.624},{"$f":"OY169+OY172+OY171","v":36.027584426009248},{"$f":"PA170","v":5.5122227620253836},{"$f":"OY179+OZ179","v":41.539807188034629},null,null,null,null,null,"hwu > 2*ra",null,{"$f":"2*PJ140","v":0.32400000000000001},{"$f":"PJ169+PJ172+PJ171","v":19.563904233195544},{"$f":"PL170","v":0.16769821584862318},{"$f":"PJ179+PK179","v":19.731602449044168},null,null,null,null,null,null,null,null,null,"hwu > 2*ra",null,{"$f":"2*PU140","v":0.624},{"$f":"PY169+PY172+PY171","v":36.027584426009248},{"$f":"QA170","v":5.5285119199342461},{"$f":"PY179+PZ179","v":41.556096345943494},null,null,null,null,null,"hwu > 2*ra",null,{"$f":"2*QJ140","v":0.32400000000000001},{"$f":"QJ169+QJ172+QJ171","v":19.563904233195544},{"$f":"QL170","v":0.16769821584862318},{"$f":"QJ179+QK179","v":19.731602449044168},null,null,null,null,null,null,null,null,null,"hwu > 2*ra",null,{"$f":"2*QU140","v":0.624},{"$f":"QY169+QY172+QY171","v":36.027584426009248},{"$f":"RA170","v":5.5285119199342461},{"$f":"QY179+QZ179","v":41.556096345943494},null,null,null,null,null,"hwu > 2*ra",null,{"$f":"2*RJ140","v":0.32400000000000001},{"$f":"RJ169+RJ172+RJ171","v":19.563904233195544},{"$f":"RL170","v":0.18388055960726418},{"$f":"RJ179+RK179","v":19.747784792802808},null,null,null,null,null,null,null,null,null,"hwu > 2*ra",null,{"$f":"2*RU140","v":0.624},{"$f":"RY169+RY172+RY171","v":36.027584426009248},{"$f":"SA170","v":5.5446942636928878},{"$f":"RY179+RZ179","v":41.572278689702138},null,null,null,null,null,null,"Somme",{"$f":"SL174","v":20.185462617663504},"[kN/m]","Facteur",0.9]
[null,null,null,null,null,null,null,null,null,null,null,null,null,null,"10. Pression à l'intérieur du tuyau",null,null,null,null,null,null,null,null,null,null,null,null,null,null,null,null,null,null,null,null,null,null,null,null,null,null,null,null,null,null,null,null,null,null,null,null,null,null,null,null,null,null,null,null,null,null,null,null,null,null,null,null,null,null,null,null,null,null,null,null,null,null,null,null,null,null,null,null,null,null,null,null,null,null,null,null,null,null,null,null,null,null,null,null,null,null,null,null,null,null,null,null,null,null,null,null,null,null,null,null,null,null,null,null,null,null,null,null,null,null,null,null,null,null,null,null,null,null,null,null,null,null,null,null,null,null,null,null,null,null,null,null,null,null,null,null,null,null,null,null,null,null,null,null,null,null,null,null,null,null,null,null,null,null,null,null,null,null,null,null,null,null,null,null,null,null,null,null,null,null,null,null,null,null,null,null,null,null,null,null,null,null,null,null,null,null,null,null,null,null,null,null,null,null,null,null,null,null,null,null,null,null,null,null,null,null,null,null,null,null,null,null,null,null,null,null,null,null,null,null,null,null,null,null,null,null,null,null,null,null,null,null,null,null,null,null,null,null,null,null,null,null,null,null,null,null,null,null,null,null,null,null,null,null,null,null,null,null,null,null,null,null,null,null,null,null,null,null,null,null,null,null,null,null,null,null,null,null,null,null,null,null,null,"10. Pression à l'intérieur du tuyau",null,null,null,null,null,null,null,null,null,null,null,null,null,null,null,null,null,null,null,null,null,null,null,null,null,"10. Pression à l'intérieur du tuyau"]
[null,null,null,null,null,null,null,null,null,null,null,null,null,null,"rayon extérieur","ra",{"$f":"(S32+R32/2)/1000","v":0.19},"[m]",null,null,null,null,null,null,null,null,null,null,null,null,null,null,null,null,null,null,null,null,null,null,null,null,null,null,null,null,null,null,null,null,null,null,null,null,null,null,null,null,null,null,null,null,null,null,null,null,null,null,null,null,null,null,null,null,null,null,null,null,null,null,null,null,null,null,null,null,null,null,null,null,null,null,null,null,null,null,null,null,null,null,null,null,null,null,null,null,null,null,null,null,null,null,null,null,null,null,null,null,null,null,null,null,null,null,null,null,null,null,null,null,null,null,null,null,null,null,null,null,null,null,null,null,null,null,null,null,null,null,null,null,null,null,null,null,null,null,null,null,null,null,null,null,null,null,null,null,null,null,null,null,null,null,null,null,null,null,null,null,null,null,null,null,null,null,null,null,null,null,null,null,null,null,null,null,null,null,null,null,null,null,null,null,null,null,null,null,null,null,null,null,null,null,null,null,null,null,null,null,null,null,null,null,null,null,null,null,null,null,null,null,null,null,null,null,null,null,null,null,null,null,null,null,null,null,null,null,null,null,null,null,null,null,null,null,null,null,null,null,null,null,null,null,null,null,null,null,null,null,null,null,null,null,null,null,null,null,null,null,null,null,null,null,null,null,null,null,null,null,null,null,null,null,null,null,null,null,null,null,"rayon extérieur","ra",{"$f":"(KQ32+KP32/2)/1000","v":0.17749999999999999},"[m]",null,null,null,null,null,null,null,null,null,null,null,null,null,null,null,null,null,null,null,null,null,null,"rayon extérieur","ra",{"$f":"(LQ32+LP32/2)/1000","v":0.188},"[m]",null,null,null,null,null,null,null,null,null,null,null,null,null,null,null,null,"Contôle:","1.05*FA",{"$f":"ABS(1.05*MI186)","v":0},"[kN/m]",{"$f":"IF(MI188<MI189,\"OK\",\"KO!\")","v":"OK"},null,null,null,null,null,null,null,null,null,null,"Contôle:","1.05*FA",{"$f":"ABS(1.05*MX186)","v":0},"[kN/m]",{"$f":"IF(MX188<MX189,\"OK\",\"KO!\")","v":"OK"},null,null,null,null,null,null,"Contôle:","1.05*FA",{"$f":"ABS(1.05*NI186)","v":0},"[kN/m]",{"$f":"IF(NI188<NI189,\"OK\",\"KO!\")","v":"OK"},null,null,null,null,null,null,null,null,null,null,"Contôle:","1.05*FA",{"$f":"ABS(1.05*NX186)","v":0},"[kN/m]",{"$f":"IF(NX188<NX189,\"OK\",\"KO!\")","v":"OK"},null,null,null,null,null,null,"Contôle:","1.05*FA",{"$f":"ABS(1.05*OI186)","v":0},"[kN/m]",{"$f":"IF(OI188<OI189,\"OK\",\"KO!\")","v":"OK"},null,null,null,null,null,null,null,null,null,null,"Contôle:","1.05*FA",{"$f":"ABS(1.05*OX186)","v":0},"[kN/m]",{"$f":"IF(OX188<OX189,\"OK\",\"KO!\")","v":"OK"},null,null,null,null,null,null,"Contôle:","1.05*FA",{"$f":"ABS(1.05*PI186)","v":0},"[kN/m]",{"$f":"IF(PI188<PI189,\"OK\",\"KO!\")","v":"OK"},null,null,null,null,null,null,null,null,null,null,"Contôle:","1.05*FA",{"$f":"ABS(1.05*PX186)","v":0},"[kN/m]",{"$f":"IF(PX188<PX189,\"OK\",\"KO!\")","v":"OK"},null,null,null,null,null,null,"Contôle:","1.05*FA",{"$f":"ABS(1.05*QI186)","v":0},"[kN/m]",{"$f":"IF(QI188<QI189,\"OK\",\"KO!\")","v":"OK"},null,null,null,null,null,null,null,null,null,null,"Contôle:","1.05*FA",{"$f":"ABS(1.05*QX186)","v":0},"[kN/m]",{"$f":"IF(QX188<QX189,\"OK\",\"KO!\")","v":"OK"},null,null,null,null,null,null,"Contôle:","1.05*FA",{"$f":"ABS(1.05*RI186)","v":0},"[kN/m]",{"$f":"IF(RI188<RI189,\"OK\",\"KO!\")","v":"OK"},null,null,null,null,null,null,null,null,null,null,"Contôle:","1.05*FA",{"$f":"ABS(1.05*RX186)","v":0},"[kN/m]",{"$f":"IF(RX188<RX189,\"OK\",\"KO!\")","v":"OK"}]
[null,null,null,null,null,null,null,"qstotale",{"$f":"$M$109*$O$87*$P$87*$Q$87*$Q$41","v":24.70648235294118},{"$f":"$M$109*$O$87*$P$87*$Q$87*$Q$41","v":24.70648235294118},{"$f":"$M$109*$O$87*$P$87*$Q$87*$Q$41","v":24.70648235294118},{"$f":"$M$109*$O$87*$P$87*$Q$87*$Q$41","v":24.70648235294118},{"$f":"$M$109*$O$87*$P$87*$Q$87*$Q$41","v":24.70648235294118},"[kN/m2]","qh",{"$f":"P195*(I194+I195+I198+I201+I204+I205+I206+I207)+(IF($R$93=\"Oui\",P196*(I196+I199+I202),0))","v":64.483434477140477},{"$f":"Q195*(J194+J195+J198+J201+J204+J205+J206+J207)+(IF($R$93=\"Oui\",Q196*(J196+J199+J202),0))","v":62.200994011779784},59.039646507352941,54.576220294636414,0,"[kN/m2]","Pression du terrain","qh",{"$f":"P197","v":64.483434477140477},{"$f":"Q197","v":62.200994011779784},59.039646507352941,54.576220294636414,0,null,null,null,null,1,null,"U1/V1",null,null,null,"Terrain","qT",{"$f":"AM88*AP50*AM41","v":61.903533660046428},"Rigide",{"$f":"AU88*AR50*AT41","v":113.89925205848927},"[kN/m2]",null,null,null,null,4,null,null,"U4/V4",null,null,null,null,null,null,1,null,"U1/V1",null,null,null,"Terrain","qT",{"$f":"BM88*BP50*BM41","v":62.127879886098889},"Rigide",{"$f":"BU88*BR50*BT41","v":113.89925205848927},"[kN/m2]",null,null,null,null,4,null,null,"U4/V4",null,null,null,null,null,null,1,null,"U1/V1",null,null,null,"Terrain","qT",{"$f":"CM88*CP50*CM41","v":62.386275019495713},"Rigide",{"$f":"CU88*CR50*CT41","v":113.89925205848927},"[kN/m2]",null,null,null,null,4,null,null,"U4/V4",null,null,null,null,null,null,1,null,"U1/V1",null,null,null,"Terrain","qT",{"$f":"DM88*DP50*DM41","v":62.860136196961754},"Rigide",{"$f":"DU88*DR50*DT41","v":113.89925205848927},"[kN/m2]",null,null,null,null,4,null,null,"U4/V4",null,null,null,null,null,null,1,null,"U1/V1",null,null,null,"Terrain","qT",{"$f":"EM88*EP50*EM41","v":60},"Rigide",{"$f":"EU88*ER50*ET41","v":117.2088539695707},"[kN/m2]",null,null,null,null,4,null,null,"U4/V4",null,null,null,null,null,null,1,null,"U1/V1",null,null,null,"Terrain","qT",{"$f":"FM88*FP50*FM41","v":61.507363557609004},"Rigide",{"$f":"FU88*FR50*FT41","v":114.94449552533848},"[kN/m2]",null,null,null,null,4,null,null,"U4/V4",null,null,null,null,null,null,1,null,"U1/V1",null,null,null,"Terrain","qT",{"$f":"GM88*GP50*GM41","v":61.810795124782352},"Rigide",{"$f":"GU88*GR50*GT41","v":114.94449552533848},"[kN/m2]",null,null,null,null,4,null,null,"U4/V4",null,null,null,null,null,null,1,null,"U1/V1",null,null,null,"Terrain","qT",{"$f":"HM88*HP50*HM41","v":61.900610287707053},"Rigide",{"$f":"HU88*HR50*HT41","v":114.94449552533848},"[kN/m2]",null,null,null,null,4,null,null,"U4/V4",null,null,null,null,null,null,1,null,"U1/V1",null,null,null,"Terrain","qT",{"$f":"IM88*IP50*IM41","v":62.390158172231992},"Rigide",{"$f":"IU88*IR50*IT41","v":114.94449552533848},"[kN/m2]",null,null,null,null,4,null,null,"U4/V4",null,null,null,null,null,null,1,null,"U1/V1",null,null,null,"Terrain","qT",{"$f":"JM88*JP50*JM41","v":62.999112688553687},"Rigide",{"$f":"JU88*JR50*JT41","v":114.94449552533848},"[kN/m2]",null,null,null,null,4,null,null,"U4/V4",null,null,null,null,null,"qstotale",{"$f":"KK109*KM87*KN87*KO87*KO41","v":23.962012213740461},{"$f":"$KK$109*$KM$87*$KN$87*$KO$87*$KO$41","v":23.962012213740461},23.962012213740461,23.962012213740461,23.962012213740461,"[kN/m2]","qh",{"$f":"KN195*(KG194+KG195+KG198+KG201+KG204+KG205+KG206+KG207)+(IF($KP$93=\"Oui\",KN196*(KG196+KG199+KG202),0))","v":62.54038201197956},{"$f":"KO195*(KH194+KH195+KH198+KH201+KH204+KH205+KH206+KH207)+(IF($KP$93=\"Oui\",KO196*(KH196+KH199+KH202),0))","v":60.326717374221133},{"$f":"KP195*(KI194+KI195+KI198+KI201+KI204+KI205+KI206+KI207)+(IF($KP$93=\"Oui\",KP196*(KI196+KI199+KI202),0))","v":57.260629437022899},{"$f":"KQ195*(KJ194+KJ195+KJ198+KJ201+KJ204+KJ205+KJ206+KJ207)+(IF($KP$93=\"Oui\",KQ196*(KJ196+KJ199+KJ202),0))","v":52.931697786762669},0,"[kN/m2]","Pression du terrain","qh",{"$f":"KN197","v":62.54038201197956},{"$f":"KO197","v":60.326717374221133},{"$f":"KP197","v":57.260629437022899},{"$f":"KQ197","v":52.931697786762669},{"$f":"KR197","v":0},null,null,null,null,null,"qstotale",{"$f":"$LK$109*$LM$87*$LN$87*$LO$87*$LO$41","v":24.591067455621303},{"$f":"$LK$109*$LM$87*$LN$87*$LO$87*$LO$41","v":24.591067455621303},24.591067455621303,24.591067455621303,24.591067455621303,"[kN/m2]","qh",{"$f":"LN195*(LG194+LG195+LG198+LG201+LG204+LG205+LG206+LG207)+(IF($KP$93=\"Oui\",LN196*(LG196+LG199+LG202),0))","v":64.182203858281213},{"$f":"LO195*(LH194+LH195+LH198+LH201+LH204+LH205+LH206+LH207)+(IF($KP$93=\"Oui\",LO196*(LH196+LH199+LH202),0))","v":61.910425680986656},{"$f":"LP195*(LI194+LI195+LI198+LI201+LI204+LI205+LI206+LI207)+(IF($KP$93=\"Oui\",LP196*(LI196+LI199+LI202),0))","v":58.763846227810639},{"$f":"LQ195*(LJ194+LJ195+LJ198+LJ201+LJ204+LJ205+LJ206+LJ207)+(IF($KP$93=\"Oui\",LQ196*(LJ196+LJ199+LJ202),0))","v":54.321270651403907},0,"[kN/m2]","Pression du terrain","qh",{"$f":"LN197","v":64.182203858281213},{"$f":"LO197","v":61.910425680986656},{"$f":"LP197","v":58.763846227810639},{"$f":"LQ197","v":54.321270651403907},{"$f":"LR197","v":0},null,null,null,null,null,null,"rayon moyen","rm",{"$f":"MJ139","v":0.1845},"[m]",null,null,null,null,null,null,null,null,null,null,null,"rayon moyen","rm",{"$f":"MU139","v":0.26550000000000001},"[m]",null,null,null,null,null,null,null,"rayon moyen","rm",{"$f":"NJ139","v":0.184},"[m]",null,null,null,null,null,null,null,null,null,null,null,"rayon moyen","rm",{"$f":"NU139","v":0.26550000000000001},"[m]",null,null,null,null,null,null,null,"rayon moyen","rm",{"$f":"OJ139","v":0.1575},"[m]",null,null,null,null,null,null,null,null,null,null,null,"rayon moyen","rm",{"$f":"OU139","v":0.23699999999999999},"[m]",null,null,null,null,null,null,null,"rayon moyen","rm",{"$f":"PJ139","v":0.157},"[m]",null,null,null,null,null,null,null,null,null,null,null,"rayon moyen","rm",{"$f":"PU139","v":0.23699999999999999},"[m]",null,null,null,null,null,null,null,"rayon moyen","rm",{"$f":"QJ139","v":0.157},"[m]",null,null,null,null,null,null,null,null,null,null,null,"rayon moyen","rm",{"$f":"QU139","v":0.23699999999999999},"[m]",null,null,null,null,null,null,null,"rayon moyen","rm",{"$f":"RJ139","v":0.1565},"[m]",null,null,null,null,null,null,null,null,null,null,null,"rayon moyen","rm",{"$f":"RU139","v":0.23699999999999999},"[m]",null,null,null,null,null,null,null,1,null,"U1/V1",null,null,null,"Terrain","qT",{"$f":"SM88*SP50*SM41","v":60},"Rigide",{"$f":"SU88*SR50*ST41","v":0},"[kN/m2]"]
[null,null,null,null,null,null,null,"qmultiples",{"$f":"$U$109*$O$91*$P$91*$Q$91*$Q$41","v":0},{"$f":"$U$109*$O$91*$P$91*$Q$91*$Q$41","v":0},{"$f":"$U$109*$O$91*$P$91*$Q$91*$Q$41","v":0},{"$f":"$U$109*$O$91*$P$91*$Q$91*$Q$41","v":0},{"$f":"$U$109*$O$91*$P$91*$Q$91*$Q$41","v":0},"[kN/m2]","ZE*qBr/1.2",{"$f":"P205*P204/1.2","v":33.75},{"$f":"Q205*Q204/1.2","v":56.25},67.5,135,157.5,"[kN/m]","ZE*qBr/1.2",33.75,56.25,67.5,135,157.5,"[kN/m]",null,null,null,null,1,null,null,1,null,null,null,"qstotale",{"$f":"IF(AK37<0.1,AM41*AP51*AG114*AG94*AH98*AI98,AG114*AH98*AI98*AG94*AM41)","v":0},null,{"$f":"AS114*AT98*AU98*AS94*AT41","v":0},"[kN/m2]",null,null,null,null,null,null,null,null,null,null,null,null,null,null,1,null,null,1,null,null,null,"qstotale",{"$f":"IF(BK37<0.1,BM41*BP51*BG114*BG94*BH98*BI98,BG114*BH98*BI98*BG94*BM41)","v":0},null,{"$f":"BS114*BT98*BU98*BS94*BT41","v":0},"[kN/m2]",null,null,null,null,null,null,null,null,null,null,null,null,null,null,1,null,null,1,null,null,null,"qstotale",{"$f":"IF(CK37<0.1,CM41*CP51*CG114*CG94*CH98*CI98,CG114*CH98*CI98*CG94*CM41)","v":0},null,{"$f":"CS114*CT98*CU98*CS94*CT41","v":0},"[kN/m2]",null,null,null,null,null,null,null,null,null,null,null,null,null,null,1,null,null,1,null,null,null,"qstotale",{"$f":"IF(DK37<0.1,DM41*DP51*DG114*DG94*DH98*DI98,DG114*DH98*DI98*DG94*DM41)","v":0},null,{"$f":"DS114*DT98*DU98*DS94*DT41","v":0},"[kN/m2]",null,null,null,null,null,null,null,null,null,null,null,null,null,null,1,null,null,1,null,null,null,"qstotale",{"$f":"IF(EK37<0.1,EM41*EP51*EG114*EG94*EH98*EI98,EG114*EH98*EI98*EG94*EM41)","v":0},null,{"$f":"ES114*ET98*EU98*ES94*ET41","v":0},"[kN/m2]",null,null,null,null,null,null,null,null,null,null,null,null,null,null,1,null,null,1,null,null,null,"qstotale",{"$f":"IF(FK37<0.1,FM41*FP51*FG114*FG94*FH98*FI98,FG114*FH98*FI98*FG94*FM41)","v":0},null,{"$f":"FS114*FT98*FU98*FS94*FT41","v":0},"[kN/m2]",null,null,null,null,null,null,null,null,null,null,null,null,null,null,1,null,null,1,null,null,null,"qstotale",{"$f":"IF(GK37<0.1,GM41*GP51*GG114*GG94*GH98*GI98,GG114*GH98*GI98*GG94*GM41)","v":0},null,{"$f":"GS114*GT98*GU98*GS94*GT41","v":0},"[kN/m2]",null,null,null,null,null,null,null,null,null,null,null,null,null,null,1,null,null,1,null,null,null,"qstotale",{"$f":"IF(HK37<0.1,HM41*HP51*HG114*HG94*HH98*HI98,HG114*HH98*HI98*HG94*HM41)","v":0},null,{"$f":"HS114*HT98*HU98*HS94*HT41","v":0},"[kN/m2]",null,null,null,null,null,null,null,null,null,null,null,null,null,null,1,null,null,1,null,null,null,"qstotale",{"$f":"IF(IK37<0.1,IM41*IP51*IG114*IG94*IH98*II98,IG114*IH98*II98*IG94*IM41)","v":0},null,{"$f":"IS114*IT98*IU98*IS94*IT41","v":0},"[kN/m2]",null,null,null,null,null,null,null,null,null,null,null,null,null,null,1,null,null,1,null,null,null,"qstotale",{"$f":"IF(JK37<0.1,JM41*JP51*JG114*JG94*JH98*JI98,JG114*JH98*JI98*JG94*JM41)","v":0},null,{"$f":"JS114*JT98*JU98*JS94*JT41","v":0},"[kN/m2]",null,null,null,null,null,null,null,null,null,null,null,null,null,"qmultiples",{"$f":"KS109*KM91*KN91*KO91*KO41","v":0},{"$f":"$KS$109*$KM$91*$KN$91*$KO$91*$KO$41","v":0},0,0,0,"[kN/m2]","ZE*qBr/1.2",{"$f":"KN205*KN204/1.2","v":60},{"$f":"KO205*KO204/1.2","v":100},120,240,280,"[kN/m]","ZE*qBr/1.2",60,100,120,240,280,"[kN/m]",null,null,null,null,null,"qmultiples",{"$f":"$LS$109*$LM$91*$LN$91*$LO$91*$LO$41","v":0},{"$f":"$LS$109*$LM$91*$LN$91*$LO$91*$LO$41","v":0},0,0,0,"[kN/m2]","ZE*qBr/1.2",{"$f":"LN205*LN204/1.2","v":90},{"$f":"LO205*LO204/1.2","v":150},180,360,420,"[kN/m]","ZE*qBr/1.2",90,150,180,360,420,"[kN/m]",null,null,null,null,null,"1. -2.",{"$f":"0","v":0},"[kN/m2]",null,"qser",{"$f":"MG211","v":82.105800000000002},"[kN/m2]",null,"qstotale",{"$f":"IF(MK46<0.1,MM50*MP58*MG120*MG98*MH104*MI104,MG120*MH104*MI104*MG98*MM50)","v":22.105800000000002},null,{"$f":"MS120*MT104*MU104*MS98*MT50","v":30.531441559322026},"[kN/m2]",null,null,null,"1. -2.",{"$f":"MQ65*(MQ207+MQ210+MQ213)","v":12.086129383050846},"[kN/m2]",null,null,"qser",{"$f":"MQ219","v":144.82065979073005},"[kN/m2]",null,null,"1. -2.",{"$f":"0","v":0},"[kN/m2]",null,"qser",{"$f":"NG211","v":82.105800000000002},"[kN/m2]",null,"qstotale",{"$f":"IF(NK46<0.1,NM50*NP58*NG120*NG98*NH104*NI104,NG120*NH104*NI104*NG98*NM50)","v":22.105800000000002},null,{"$f":"NS120*NT104*NU104*NS98*NT50","v":30.531441559322026},"[kN/m2]",null,null,null,"1. -2.",{"$f":"NQ65*(NQ207+NQ210+NQ213)","v":12.086129383050846},"[kN/m2]",null,null,"qser",{"$f":"NQ219","v":144.82065979073005},"[kN/m2]",null,null,"1. -2.",{"$f":"0","v":0},"[kN/m2]",null,"qser",{"$f":"OG211","v":84.451679999999996},"[kN/m2]",null,"qstotale",{"$f":"IF(OK46<0.1,OM50*OP58*OG120*OG98*OH104*OI104,OG120*OH104*OI104*OG98*OM50)","v":22.737394285714284},null,{"$f":"OS120*OT104*OU104*OS98*OT50","v":31.042380759493668},"[kN/m2]",null,null,null,"1. -2.",{"$f":"OQ65*(OQ207+OQ210+OQ213)","v":12.293210734177213},"[kN/m2]",null,null,"qser",{"$f":"OQ219","v":147.70843361466376},"[kN/m2]",null,null,"1. -2.",{"$f":"0","v":0},"[kN/m2]",null,"qser",{"$f":"PG211","v":84.720634394904465},"[kN/m2]",null,"qstotale",{"$f":"IF(PK46<0.1,PM50*PP58*PG120*PG98*PH104*PI104,PG120*PH104*PI104*PG98*PM50)","v":22.809806369426752},null,{"$f":"PS120*PT104*PU104*PS98*PT50","v":31.042380759493668},"[kN/m2]",null,null,null,"1. -2.",{"$f":"PQ65*(PQ207+PQ210+PQ213)","v":12.293210734177213},"[kN/m2]",null,null,"qser",{"$f":"PQ219","v":147.70843361466376},"[kN/m2]",null,null,"1. -2.",{"$f":"0","v":0},"[kN/m2]",null,"qser",{"$f":"QG211","v":84.720634394904465},"[kN/m2]",null,"qstotale",{"$f":"IF(QK46<0.1,QM50*QP58*QG120*QG98*QH104*QI104,QG120*QH104*QI104*QG98*QM50)","v":22.809806369426752},null,{"$f":"QS120*QT104*QU104*QS98*QT50","v":31.042380759493668},"[kN/m2]",null,null,null,"1. -2.",{"$f":"QQ65*(QQ207+QQ210+QQ213)","v":12.293210734177213},"[kN/m2]",null,null,"qser",{"$f":"QQ219","v":147.70843361466376},"[kN/m2]",null,null,"1. -2.",{"$f":"0","v":0},"[kN/m2]",null,"qser",{"$f":"RG211","v":84.991307348242799},"[kN/m2]",null,"qstotale",{"$f":"IF(RK46<0.1,RM50*RP58*RG120*RG98*RH104*RI104,RG120*RH104*RI104*RG98*RM50)","v":22.882681150159744},null,{"$f":"RS120*RT104*RU104*RS98*RT50","v":31.042380759493668},"[kN/m2]",null,null,null,"1. -2.",{"$f":"RQ65*(RQ207+RQ210+RQ213)","v":12.293210734177213},"[kN/m2]",null,null,"qser",{"$f":"RQ219","v":147.70843361466376},"[kN/m2]",null,null,null,1,null,null,1,null,null,null,"qstotale",{"$f":"IF(SK37<0.1,SM41*SP51*SG114*SG94*SH98*SI98,SG114*SH98*SI98*SG94*SM41)","v":0},null,{"$f":"SS114*ST98*SU98*SS94*ST41","v":0},"[kN/m2]"]
["10 Poids prorpe",null,0.5,9.11E-2,-0.57079999999999997,-0.3125,1.5,"g*r",null,null,null,null,null,null,1,2,"2A",3,4,null,null,null,null,null,null,null,null,null,null,null,null,"qBl",{"$f":"(0.26-0.54*LOG10(AM37))*0.6*Données!$AE$38*SQRT(Calculs!AM37)*10^3","v":235.69741142945506},"[kN/m2]","qBl",235.69741142945506,"[kN/m2]",null,null,null,null,null,null,null,null,null,null,"qBl",{"$f":"IF(0>=AV78,\"\",(0.26-0.54*LOG10(AM37))*0.6*Données!$AE$38*SQRT(Calculs!AM37)*10^3)","v":""},"[kN/m2]","qBl","","[kN/m2]",null,null,null,null,"qBl",{"$f":"(0.26-0.54*LOG10(BM37))*0.6*Données!$AE$38*SQRT(Calculs!BM37)*10^3","v":265.74661327582709},"[kN/m2]","qBl",265.74661327582709,"[kN/m2]",null,null,null,null,null,null,null,null,null,null,"qBl",{"$f":"IF(0>=BV78,\"\",(0.26-0.54*LOG10(BM37))*0.6*Données!$AE$38*SQRT(Calculs!BM37)*10^3)","v":""},"[kN/m2]","qBl","","[kN/m2]",null,null,null,null,"qBl",{"$f":"(0.26-0.54*LOG10(CM37))*0.6*Données!$AE$38*SQRT(Calculs!CM37)*10^3","v":299.92792341131866},"[kN/m2]","qBl",299.92792341131866,"[kN/m2]",null,null,null,null,null,null,null,null,null,null,"qBl",{"$f":"IF(0>=CV78,\"\",(0.26-0.54*LOG10(CM37))*0.6*Données!$AE$38*SQRT(Calculs!CM37)*10^3)","v":""},"[kN/m2]","qBl","","[kN/m2]",null,null,null,null,"qBl",{"$f":"(0.26-0.54*LOG10(DM37))*0.6*Données!$AE$38*SQRT(Calculs!DM37)*10^3","v":361.07609924777097},"[kN/m2]","qBl",361.07609924777097,"[kN/m2]",null,null,null,null,null,null,null,null,null,null,"qBl",{"$f":"IF(0>=DV78,\"\",(0.26-0.54*LOG10(DM37))*0.6*Données!$AE$38*SQRT(Calculs!DM37)*10^3)","v":""},"[kN/m2]","qBl","","[kN/m2]",null,null,null,null,"qBl",{"$f":"(0.26-0.54*LOG10(EM37))*0.6*Données!$AE$38*SQRT(Calculs!EM37)*10^3","v":256.67954063521012},"[kN/m2]","qBl",256.67954063521012,"[kN/m2]",null,null,null,null,null,null,null,null,null,null,"qBl",{"$f":"IF(0>=EV78,\"\",(0.26-0.54*LOG10(EM37))*0.6*Données!$AE$38*SQRT(Calculs!EM37)*10^3)","v":""},"[kN/m2]","qBl","","[kN/m2]",null,null,null,null,"qBl",{"$f":"(0.26-0.54*LOG10(FM37))*0.6*Données!$AE$38*SQRT(Calculs!FM37)*10^3","v":324.87190803906464},"[kN/m2]","qBl",324.87190803906464,"[kN/m2]",null,null,null,null,null,null,null,null,null,null,"qBl",{"$f":"IF(0>=FV78,\"\",(0.26-0.54*LOG10(FM37))*0.6*Données!$AE$38*SQRT(Calculs!FM37)*10^3)","v":""},"[kN/m2]","qBl","","[kN/m2]",null,null,null,null,"qBl",{"$f":"(0.26-0.54*LOG10(GM37))*0.6*Données!$AE$38*SQRT(Calculs!GM37)*10^3","v":390.69421288067815},"[kN/m2]","qBl",390.69421288067815,"[kN/m2]",null,null,null,null,null,null,null,null,null,null,"qBl",{"$f":"IF(0>=GV78,\"\",(0.26-0.54*LOG10(GM37))*0.6*Données!$AE$38*SQRT(Calculs!GM37)*10^3)","v":""},"[kN/m2]","qBl","","[kN/m2]",null,null,null,null,"qBl",{"$f":"(0.26-0.54*LOG10(HM37))*0.6*Données!$AE$38*SQRT(Calculs!HM37)*10^3","v":220.19248032706295},"[kN/m2]","qBl",220.19248032706295,"[kN/m2]",null,null,null,null,null,null,null,null,null,null,"qBl",{"$f":"IF(0>=HV78,\"\",(0.26-0.54*LOG10(HM37))*0.6*Données!$AE$38*SQRT(Calculs!HM37)*10^3)","v":""},"[kN/m2]","qBl","","[kN/m2]",null,null,null,null,"qBl",{"$f":"(0.26-0.54*LOG10(IM37))*0.6*Données!$AE$38*SQRT(Calculs!IM37)*10^3","v":281.86244987307111},"[kN/m2]","qBl",281.86244987307111,"[kN/m2]",null,null,null,null,null,null,null,null,null,null,"qBl",{"$f":"IF(0>=IV78,\"\",(0.26-0.54*LOG10(IM37))*0.6*Données!$AE$38*SQRT(Calculs!IM37)*10^3)","v":""},"[kN/m2]","qBl","","[kN/m2]",null,null,null,null,"qBl",{"$f":"(0.26-0.54*LOG10(JM37))*0.6*Données!$AE$38*SQRT(Calculs!JM37)*10^3","v":356.2728460354511},"[kN/m2]","qBl",356.2728460354511,"[kN/m2]",null,null,null,null,null,null,null,null,null,null,"qBl",{"$f":"IF(0>=JV78,\"\",(0.26-0.54*LOG10(JM37))*0.6*Données!$AE$38*SQRT(Calculs!JM37)*10^3)","v":""},"[kN/m2]","qBl","","[kN/m2]",null,null,null,null,null,null,null,null,null,null,null,1,2,"2A",3,4,null,null,null,null,null,null,null,null,null,null,null,null,null,null,null,null,null,null,null,null,null,1,2,"2A",3,4,null,null,null,null,null,null,null,null,null,null,null,null,null,null,"x/d long",{"$f":"0.125/(MM46+0.06)*MG204/(0.6*Données!$AE$38*10^3)","v":3.9473684210526327E-2},null,"x/d long",{"$f":"MG215","v":3.9473684210526327E-2},null,null,null,"qmultiples",{"$f":"IF(MK46<0.1,MO120*MP58*MM50*MG102*MH104*MI104,MO120*MH104*MI104*MG102*MM50)","v":0},null,{"$f":"NA120*MT104*MU104*MS102*MT50","v":0},"[kN/m2]",null,null,null,null,null,null,null,null,null,null,null,null,null,"x/d long",{"$f":"0.125/(NM46+0.06)*NG204/(0.6*Données!$AE$38*10^3)","v":3.7499999999999999E-2},null,"x/d long",{"$f":"NG215","v":3.7499999999999999E-2},null,null,null,"qmultiples",{"$f":"IF(NK46<0.1,NO120*NP58*NM50*NG102*NH104*NI104,NO120*NH104*NI104*NG102*NM50)","v":0},null,{"$f":"OA120*NT104*NU104*NS102*NT50","v":0},"[kN/m2]",null,null,null,null,null,null,null,null,null,null,null,null,null,"x/d long",{"$f":"0.125/(OM46+0.06)*OG204/(0.6*Données!$AE$38*10^3)","v":3.5064935064935063E-2},null,"x/d long",{"$f":"OG215","v":3.5064935064935063E-2},null,null,null,"qmultiples",{"$f":"IF(OK46<0.1,OO120*OP58*OM50*OG102*OH104*OI104,OO120*OH104*OI104*OG102*OM50)","v":0},null,{"$f":"PA120*OT104*OU104*OS102*OT50","v":0},"[kN/m2]",null,null,null,null,null,null,null,null,null,null,null,null,null,"x/d long",{"$f":"0.125/(PM46+0.06)*PG204/(0.6*Données!$AE$38*10^3)","v":3.2245222929936306E-2},null,"x/d long",{"$f":"PG215","v":3.2245222929936306E-2},null,null,null,"qmultiples",{"$f":"IF(PK46<0.1,PO120*PP58*PM50*PG102*PH104*PI104,PO120*PH104*PI104*PG102*PM50)","v":0},null,{"$f":"QA120*PT104*PU104*PS102*PT50","v":0},"[kN/m2]",null,null,null,null,null,null,null,null,null,null,null,null,null,"x/d long",{"$f":"0.125/(QM46+0.06)*QG204/(0.6*Données!$AE$38*10^3)","v":3.171661271797014E-2},null,"x/d long",{"$f":"QG215","v":3.171661271797014E-2},null,null,null,"qmultiples",{"$f":"IF(QK46<0.1,QO120*QP58*QM50*QG102*QH104*QI104,QO120*QH104*QI104*QG102*QM50)","v":0},null,{"$f":"RA120*QT104*QU104*QS102*QT50","v":0},"[kN/m2]",null,null,null,null,null,null,null,null,null,null,null,null,null,"x/d long",{"$f":"0.125/(RM46+0.06)*RG204/(0.6*Données!$AE$38*10^3)","v":2.9859916441386091E-2},null,"x/d long",{"$f":"RG215","v":2.9859916441386091E-2},null,null,null,"qmultiples",{"$f":"IF(RK46<0.1,RO120*RP58*RM50*RG102*RH104*RI104,RO120*RH104*RI104*RG102*RM50)","v":0},null,{"$f":"SA120*RT104*RU104*RS102*RT50","v":0},"[kN/m2]",null,null,null,null,null,null,null,null,null,null,null,null,null,"qBl",{"$f":"(0.26-0.54*LOG10(SM37))*0.6*Données!$AE$38*SQRT(Calculs!SM37)*10^3","v":856.17757243477217},"[kN/m2]","qBl",856.17757243477217,"[kN/m2]"]
["16 Charge verticale sur largeur complète",null,0.2994,1.83E-2,-0.30669999999999997,-8.8800000000000004E-2,0.58720000000000006,"p*r",null,null,null,null,null,"αu [rad]",{"$f":"30*2*PI()/360","v":0.52359877559829882},{"$f":"60*2*PI()/360","v":1.0471975511965976},{"$f":"90*2*PI()/360","v":1.5707963267948966},{"$f":"90*2*PI()/360","v":1.5707963267948966},{"$f":"90*2*PI()/360","v":1.5707963267948966},null,null,null,null,null,null,null,null,null,null,null,null,"qBl/2*(1-2*pwd/k*pcr)",{"$f":"AG215/2*(1-2*AG216/(AG218*AG217))","v":117.84870571472753},"[kN/m2]","qBl/2*(1-2*pwd/k*pcr)",117.84870571472753,"[kN/m2]",null,null,null,null,1,4,null,null,null,null,"qBl/2*(1-2*pwd/k*pcr)",{"$f":"IF(0>=AV78,\"\",AW215/2*(1-2*AW216/(AW218*AW217)))","v":""},"[kN/m2]","qBl/2*(1-2*pwd/k*pcr)","","[kN/m2]",null,null,null,null,"qBl/2*(1-2*pwd/k*pcr)",{"$f":"BG215/2*(1-2*BG216/(BG218*BG217))","v":132.87330663791354},"[kN/m2]","qBl/2*(1-2*pwd/k*pcr)",132.87330663791354,"[kN/m2]",null,null,null,null,1,4,null,null,null,null,"qBl/2*(1-2*pwd/k*pcr)",{"$f":"IF(0>=BV78,\"\",BW215/2*(1-2*BW216/(BW218*BW217)))","v":""},"[kN/m2]","qBl/2*(1-2*pwd/k*pcr)","","[kN/m2]",null,null,null,null,"qBl/2*(1-2*pwd/k*pcr)",{"$f":"CG215/2*(1-2*CG216/(CG218*CG217))","v":149.96396170565933},"[kN/m2]","qBl/2*(1-2*pwd/k*pcr)",149.96396170565933,"[kN/m2]",null,null,null,null,1,4,null,null,null,null,"qBl/2*(1-2*pwd/k*pcr)",{"$f":"IF(0>=CV78,\"\",CW215/2*(1-2*CW216/(CW218*CW217)))","v":""},"[kN/m2]","qBl/2*(1-2*pwd/k*pcr)","","[kN/m2]",null,null,null,null,"qBl/2*(1-2*pwd/k*pcr)",{"$f":"DG215/2*(1-2*DG216/(DG218*DG217))","v":180.53804962388548},"[kN/m2]","qBl/2*(1-2*pwd/k*pcr)",180.53804962388548,"[kN/m2]",null,null,null,null,1,4,null,null,null,null,"qBl/2*(1-2*pwd/k*pcr)",{"$f":"IF(0>=DV78,\"\",DW215/2*(1-2*DW216/(DW218*DW217)))","v":""},"[kN/m2]","qBl/2*(1-2*pwd/k*pcr)","","[kN/m2]",null,null,null,null,"qBl/2*(1-2*pwd/k*pcr)",{"$f":"EG215/2*(1-2*EG216/(EG218*EG217))","v":128.33977031760506},"[kN/m2]","qBl/2*(1-2*pwd/k*pcr)",128.33977031760506,"[kN/m2]",null,null,null,null,1,4,null,null,null,null,"qBl/2*(1-2*pwd/k*pcr)",{"$f":"IF(0>=EV78,\"\",EW215/2*(1-2*EW216/(EW218*EW217)))","v":""},"[kN/m2]","qBl/2*(1-2*pwd/k*pcr)","","[kN/m2]",null,null,null,null,"qBl/2*(1-2*pwd/k*pcr)",{"$f":"FG215/2*(1-2*FG216/(FG218*FG217))","v":162.43595401953232},"[kN/m2]","qBl/2*(1-2*pwd/k*pcr)",162.43595401953232,"[kN/m2]",null,null,null,null,1,4,null,null,null,null,"qBl/2*(1-2*pwd/k*pcr)",{"$f":"IF(0>=FV78,\"\",FW215/2*(1-2*FW216/(FW218*FW217)))","v":""},"[kN/m2]","qBl/2*(1-2*pwd/k*pcr)","","[kN/m2]",null,null,null,null,"qBl/2*(1-2*pwd/k*pcr)",{"$f":"GG215/2*(1-2*GG216/(GG218*GG217))","v":195.34710644033908},"[kN/m2]","qBl/2*(1-2*pwd/k*pcr)",195.34710644033908,"[kN/m2]",null,null,null,null,1,4,null,null,null,null,"qBl/2*(1-2*pwd/k*pcr)",{"$f":"IF(0>=GV78,\"\",GW215/2*(1-2*GW216/(GW218*GW217)))","v":""},"[kN/m2]","qBl/2*(1-2*pwd/k*pcr)","","[kN/m2]",null,null,null,null,"qBl/2*(1-2*pwd/k*pcr)",{"$f":"HG215/2*(1-2*HG216/(HG218*HG217))","v":110.09624016353148},"[kN/m2]","qBl/2*(1-2*pwd/k*pcr)",110.09624016353148,"[kN/m2]",null,null,null,null,1,4,null,null,null,null,"qBl/2*(1-2*pwd/k*pcr)",{"$f":"IF(0>=HV78,\"\",HW215/2*(1-2*HW216/(HW218*HW217)))","v":""},"[kN/m2]","qBl/2*(1-2*pwd/k*pcr)","","[kN/m2]",null,null,null,null,"qBl/2*(1-2*pwd/k*pcr)",{"$f":"IG215/2*(1-2*IG216/(IG218*IG217))","v":140.93122493653556},"[kN/m2]","qBl/2*(1-2*pwd/k*pcr)",140.93122493653556,"[kN/m2]",null,null,null,null,1,4,null,null,null,null,"qBl/2*(1-2*pwd/k*pcr)",{"$f":"IF(0>=IV78,\"\",IW215/2*(1-2*IW216/(IW218*IW217)))","v":""},"[kN/m2]","qBl/2*(1-2*pwd/k*pcr)","","[kN/m2]",null,null,null,null,"qBl/2*(1-2*pwd/k*pcr)",{"$f":"JG215/2*(1-2*JG216/(JG218*JG217))","v":178.13642301772555},"[kN/m2]","qBl/2*(1-2*pwd/k*pcr)",178.13642301772555,"[kN/m2]",null,null,null,null,1,4,null,null,null,null,"qBl/2*(1-2*pwd/k*pcr)",{"$f":"IF(0>=JV78,\"\",JW215/2*(1-2*JW216/(JW218*JW217)))","v":""},"[kN/m2]","qBl/2*(1-2*pwd/k*pcr)","","[kN/m2]",null,null,null,null,null,null,null,null,null,null,"αu [rad]",{"$f":"30*2*PI()/360","v":0.52359877559829882},{"$f":"60*2*PI()/360","v":1.0471975511965976},{"$f":"90*2*PI()/360","v":1.5707963267948966},{"$f":"90*2*PI()/360","v":1.5707963267948966},{"$f":"90*2*PI()/360","v":1.5707963267948966},null,null,null,null,null,null,null,null,null,null,null,null,null,null,null,null,null,null,null,null,"αu [rad]",{"$f":"30*2*PI()/360","v":0.52359877559829882},{"$f":"60*2*PI()/360","v":1.0471975511965976},{"$f":"90*2*PI()/360","v":1.5707963267948966},{"$f":"90*2*PI()/360","v":1.5707963267948966},{"$f":"90*2*PI()/360","v":1.5707963267948966},null,null,null,null,null,null,null,null,null,null,null,null,null,null,null,1,null,null,1,null,null,null,"qser",{"$f":"MO217+MO218","v":82.105800000000002},{"$f":"MP217+MP218","v":115.39140906435665},{"$f":"MQ217+MQ218","v":144.82065979073005},"[kN/m2]",null,null,null,null,"U4/V4",null,null,4,null,null,null,null,null,null,1,null,null,1,null,null,null,"qser",{"$f":"NO217+NO218","v":82.105800000000002},{"$f":"NP217+NP218","v":115.39140906435665},{"$f":"NQ217+NQ218","v":144.82065979073005},"[kN/m2]",null,null,null,null,"U4/V4",null,null,4,null,null,null,null,null,null,1,null,null,1,null,null,null,"qser",{"$f":"OO217+OO218","v":84.451679999999996},{"$f":"OP217+OP218","v":118.6883064661954},{"$f":"OQ217+OQ218","v":147.70843361466376},"[kN/m2]",null,null,null,null,"U4/V4",null,null,4,null,null,null,null,null,null,1,null,null,1,null,null,null,"qser",{"$f":"PO217+PO218","v":84.720634394904465},{"$f":"PP217+PP218","v":119.0662947033489},{"$f":"PQ217+PQ218","v":147.70843361466376},"[kN/m2]",null,null,null,null,"U4/V4",null,null,4,null,null,null,null,null,null,1,null,null,1,null,null,null,"qser",{"$f":"QO217+QO218","v":84.720634394904465},{"$f":"QP217+QP218","v":119.0662947033489},{"$f":"QQ217+QQ218","v":147.70843361466376},"[kN/m2]",null,null,null,null,"U4/V4",null,null,4,null,null,null,null,null,null,1,null,null,1,null,null,null,"qser",{"$f":"RO217+RO218","v":84.991307348242799},{"$f":"RP217+RP218","v":119.44669820080367},{"$f":"RQ217+RQ218","v":147.70843361466376},"[kN/m2]",null,null,null,null,"U4/V4",null,null,4,null,null,null,null,null,"qBl/2*(1-2*pwd/k*pcr)",{"$f":"SG215/2*(1-2*SG216/(SG218*SG217))","v":428.08878621738609},"[kN/m2]","qBl/2*(1-2*pwd/k*pcr)",428.08878621738609,"[kN/m2]",null,null,null,null,1]
[null,null,null,null,null,null,null,null,null,null,null,null,null,"Surpression",{"$f":"$C$168*$Q$185*$Q$183*$Q$187","v":0},{"$f":"D168*$Q$185*$Q$183*$Q$187","v":0},{"$f":"E168*$Q$185*$Q$183*$Q$187","v":0},{"$f":"F168*$Q$185*$Q$183*$Q$187","v":0},{"$f":"G168*$Q$185*$Q$183*$Q$187","v":0},null,null,null,null,null,null,null,null,null,null,null,null,"Jusqu'au sommet",{"$f":"10*$C$166*AI191^2*AI187","v":0},{"$f":"10*$D$166*AI191^2*AI187","v":0},{"$f":"10*$E$166*AI191^2*AI187","v":0},{"$f":"10*$F$166*AI191^2*AI187","v":0},{"$f":"10*$G$166*AI191^2*AI187","v":0},{"$f":"AI187*AI193","v":0},null,null,null,null,null,null,"Jusqu'au sommet",{"$f":"10*$C$166*AX191^2*AX187","v":0},{"$f":"10*$D$166*AX191^2*AX187","v":0},{"$f":"10*$E$166*AX191^2*AX187","v":0},{"$f":"10*$F$166*AX191^2*AX187","v":0},{"$f":"10*$G$166*AX191^2*AX187","v":0},{"$f":"AX187*AX193","v":0},null,null,null,null,null,null,"Jusqu'au sommet",{"$f":"10*$C$166*BI191^2*BI187","v":0},{"$f":"10*$D$166*BI191^2*BI187","v":0},{"$f":"10*$E$166*BI191^2*BI187","v":0},{"$f":"10*$F$166*BI191^2*BI187","v":0},{"$f":"10*$G$166*BI191^2*BI187","v":0},{"$f":"BI187*BI193","v":0},null,null,null,null,null,null,"Jusqu'au sommet",{"$f":"10*$C$166*BX191^2*BX187","v":0},{"$f":"10*$D$166*BX191^2*BX187","v":0},{"$f":"10*$E$166*BX191^2*BX187","v":0},{"$f":"10*$F$166*BX191^2*BX187","v":0},{"$f":"10*$G$166*BX191^2*BX187","v":0},{"$f":"BX187*BX193","v":0},null,null,null,null,null,null,"Jusqu'au sommet",{"$f":"10*$C$166*CI191^2*CI187","v":0},{"$f":"10*$D$166*CI191^2*CI187","v":0},{"$f":"10*$E$166*CI191^2*CI187","v":0},{"$f":"10*$F$166*CI191^2*CI187","v":0},{"$f":"10*$G$166*CI191^2*CI187","v":0},{"$f":"CI187*CI193","v":0},null,null,null,null,null,null,"Jusqu'au sommet",{"$f":"10*$C$166*CX191^2*CX187","v":0},{"$f":"10*$D$166*CX191^2*CX187","v":0},{"$f":"10*$E$166*CX191^2*CX187","v":0},{"$f":"10*$F$166*CX191^2*CX187","v":0},{"$f":"10*$G$166*CX191^2*CX187","v":0},{"$f":"CX187*CX193","v":0},null,null,null,null,null,null,"Jusqu'au sommet",{"$f":"10*$C$166*DI191^2*DI187","v":0},{"$f":"10*$D$166*DI191^2*DI187","v":0},{"$f":"10*$E$166*DI191^2*DI187","v":0},{"$f":"10*$F$166*DI191^2*DI187","v":0},{"$f":"10*$G$166*DI191^2*DI187","v":0},{"$f":"DI187*DI193","v":0},null,null,null,null,null,null,"Jusqu'au sommet",{"$f":"10*$C$166*DX191^2*DX187","v":0},{"$f":"10*$D$166*DX191^2*DX187","v":0},{"$f":"10*$E$166*DX191^2*DX187","v":0},{"$f":"10*$F$166*DX191^2*DX187","v":0},{"$f":"10*$G$166*DX191^2*DX187","v":0},{"$f":"DX187*DX193","v":0},null,null,null,null,null,null,"Jusqu'au sommet",{"$f":"10*$C$166*EI191^2*EI187","v":0},{"$f":"10*$D$166*EI191^2*EI187","v":0},{"$f":"10*$E$166*EI191^2*EI187","v":0},{"$f":"10*$F$166*EI191^2*EI187","v":0},{"$f":"10*$G$166*EI191^2*EI187","v":0},{"$f":"EI187*EI193","v":0},null,null,null,null,null,null,"Jusqu'au sommet",{"$f":"10*$C$166*EX191^2*EX187","v":0},{"$f":"10*$D$166*EX191^2*EX187","v":0},{"$f":"10*$E$166*EX191^2*EX187","v":0},{"$f":"10*$F$166*EX191^2*EX187","v":0},{"$f":"10*$G$166*EX191^2*EX187","v":0},{"$f":"EX187*EX193","v":0},null,null,null,null,null,null,"Jusqu'au sommet",{"$f":"10*$C$166*FI191^2*FI187","v":0},{"$f":"10*$D$166*FI191^2*FI187","v":0},{"$f":"10*$E$166*FI191^2*FI187","v":0},{"$f":"10*$F$166*FI191^2*FI187","v":0},{"$f":"10*$G$166*FI191^2*FI187","v":0},{"$f":"FI187*FI193","v":0},null,null,null,null,null,null,"Jusqu'au sommet",{"$f":"10*$C$166*FX191^2*FX187","v":0},{"$f":"10*$D$166*FX191^2*FX187","v":0},{"$f":"10*$E$166*FX191^2*FX187","v":0},{"$f":"10*$F$166*FX191^2*FX187","v":0},{"$f":"10*$G$166*FX191^2*FX187","v":0},{"$f":"FX187*FX193","v":0},null,null,null,null,null,null,"Jusqu'au sommet",{"$f":"10*$C$166*GI191^2*GI187","v":0},{"$f":"10*$D$166*GI191^2*GI187","v":0},{"$f":"10*$E$166*GI191^2*GI187","v":0},{"$f":"10*$F$166*GI191^2*GI187","v":0},{"$f":"10*$G$166*GI191^2*GI187","v":0},{"$f":"GI187*GI193","v":0},null,null,null,null,null,null,"Jusqu'au sommet",{"$f":"10*$C$166*GX191^2*GX187","v":0},{"$f":"10*$D$166*GX191^2*GX187","v":0},{"$f":"10*$E$166*GX191^2*GX187","v":0},{"$f":"10*$F$166*GX191^2*GX187","v":0},{"$f":"10*$G$166*GX191^2*GX187","v":0},{"$f":"GX187*GX193","v":0},null,null,null,null,null,null,"Jusqu'au sommet",{"$f":"10*$C$166*HI191^2*HI187","v":0},{"$f":"10*$D$166*HI191^2*HI187","v":0},{"$f":"10*$E$166*HI191^2*HI187","v":0},{"$f":"10*$F$166*HI191^2*HI187","v":0},{"$f":"10*$G$166*HI191^2*HI187","v":0},{"$f":"HI187*HI193","v":0},null,null,null,null,null,null,"Jusqu'au sommet",{"$f":"10*$C$166*HX191^2*HX187","v":0},{"$f":"10*$D$166*HX191^2*HX187","v":0},{"$f":"10*$E$166*HX191^2*HX187","v":0},{"$f":"10*$F$166*HX191^2*HX187","v":0},{"$f":"10*$G$166*HX191^2*HX187","v":0},{"$f":"HX187*HX193","v":0},null,null,null,null,null,null,"Jusqu'au sommet",{"$f":"10*$C$166*II191^2*II187","v":0},{"$f":"10*$D$166*II191^2*II187","v":0},{"$f":"10*$E$166*II191^2*II187","v":0},{"$f":"10*$F$166*II191^2*II187","v":0},{"$f":"10*$G$166*II191^2*II187","v":0},{"$f":"II187*II193","v":0},null,null,null,null,null,null,"Jusqu'au sommet",{"$f":"10*$C$166*IX191^2*IX187","v":0},{"$f":"10*$D$166*IX191^2*IX187","v":0},{"$f":"10*$E$166*IX191^2*IX187","v":0},{"$f":"10*$F$166*IX191^2*IX187","v":0},{"$f":"10*$G$166*IX191^2*IX187","v":0},{"$f":"IX187*IX193","v":0},null,null,null,null,null,null,"Jusqu'au sommet",{"$f":"10*$C$166*JI191^2*JI187","v":0},{"$f":"10*$D$166*JI191^2*JI187","v":0},{"$f":"10*$E$166*JI191^2*JI187","v":0},{"$f":"10*$F$166*JI191^2*JI187","v":0},{"$f":"10*$G$166*JI191^2*JI187","v":0},{"$f":"JI187*JI193","v":0},null,null,null,null,null,null,"Jusqu'au sommet",{"$f":"10*$C$166*JX191^2*JX187","v":0},{"$f":"10*$D$166*JX191^2*JX187","v":0},{"$f":"10*$E$166*JX191^2*JX187","v":0},{"$f":"10*$F$166*JX191^2*JX187","v":0},{"$f":"10*$G$166*JX191^2*JX187","v":0},{"$f":"JX187*JX193","v":0},null,null,null,null,null,null,null,null,null,null,null,null,"Surpression",{"$f":"C168*$KO$185*$KO$183*$KO$187","v":0},{"$f":"D168*$KO$185*$KO$183*$KO$187","v":0},0,0,0,null,null,null,null,null,null,null,null,null,null,null,null,null,null,null,null,null,null,null,null,"Surpression",{"$f":"$C$168*$LO$185*$LO$183*$LO$187","v":0},{"$f":"$D$168*$LO$185*$LO$183*$LO$187","v":0},{"$f":"$E$168*$LO$185*$LO$183*$LO$187","v":0},{"$f":"$F$168*$LO$185*$LO$183*$LO$187","v":0},{"$f":"$G$168*$LO$185*$LO$183*$LO$187","v":0},null,null,null,null,null,null,null,null,null,null,null,null,null,null,"15.1 Long terme (actions verticales) ",null,null,null,null,null,"Réaction d'Appui",null,null,null,null,null,null,null,null,null,null,null,null,null,null,null,null,null,null,null,"15.1 Long terme (actions verticales) ",null,null,null,null,null,"Réaction d'Appui",null,null,null,null,null,null,null,null,null,null,null,null,null,null,null,null,null,null,null,"15.1 Long terme (actions verticales) ",null,null,null,null,null,"Réaction d'Appui",null,null,null,null,null,null,null,null,null,null,null,null,null,null,null,null,null,null,null,"15.1 Long terme (actions verticales) ",null,null,null,null,null,"Réaction d'Appui",null,null,null,null,null,null,null,null,null,null,null,null,null,null,null,null,null,null,null,"15.1 Long terme (actions verticales) ",null,null,null,null,null,"Réaction d'Appui",null,null,null,null,null,null,null,null,null,null,null,null,null,null,null,null,null,null,null,"15.1 Long terme (actions verticales) ",null,null,null,null,null,"Réaction d'Appui"]
[null,null,null,null,null,null,null,null,null,null,null,null,null,"U1/V1",{"$f":"O235*$I$210*$Q$187","v":-2.3261754153283665},{"$f":"P235*$I$210*$Q$187","v":9.3178562819468009},21.924367722227768,17.147047995554338,2.3261754153283665,{"$f":"T235*I210*$Q$187","v":43.848735444455535},null,null,null,null,null,null,null,null,null,null,null,"angle αu",{"$f":"90*2*PI()/360","v":1.5707963267948966},null,null,null,null,null,null,null,null,null,null,null,"angle αu",{"$f":"90*2*PI()/360","v":1.5707963267948966},null,null,null,null,null,null,null,null,null,null,null,"angle αu",{"$f":"90*2*PI()/360","v":1.5707963267948966},null,null,null,null,null,null,null,null,null,null,null,"angle αu",{"$f":"90*2*PI()/360","v":1.5707963267948966},null,null,null,null,null,null,null,null,null,null,null,"angle αu",{"$f":"90*2*PI()/360","v":1.5707963267948966},null,null,null,null,null,null,null,null,null,null,null,"angle αu",{"$f":"90*2*PI()/360","v":1.5707963267948966},null,null,null,null,null,null,null,null,null,null,null,"angle αu",{"$f":"90*2*PI()/360","v":1.5707963267948966},null,null,null,null,null,null,null,null,null,null,null,"angle αu",{"$f":"90*2*PI()/360","v":1.5707963267948966},null,null,null,null,null,null,null,null,null,null,null,"angle αu",{"$f":"90*2*PI()/360","v":1.5707963267948966},null,null,null,null,null,null,null,null,null,null,null,"angle αu",{"$f":"90*2*PI()/360","v":1.5707963267948966},null,null,null,null,null,null,null,null,null,null,null,"angle αu",{"$f":"90*2*PI()/360","v":1.5707963267948966},null,null,null,null,null,null,null,null,null,null,null,"angle αu",{"$f":"90*2*PI()/360","v":1.5707963267948966},null,null,null,null,null,null,null,null,null,null,null,"angle αu",{"$f":"90*2*PI()/360","v":1.5707963267948966},null,null,null,null,null,null,null,null,null,null,null,"angle αu",{"$f":"90*2*PI()/360","v":1.5707963267948966},null,null,null,null,null,null,null,null,null,null,null,"angle αu",{"$f":"90*2*PI()/360","v":1.5707963267948966},null,null,null,null,null,null,null,null,null,null,null,"angle αu",{"$f":"90*2*PI()/360","v":1.5707963267948966},null,null,null,null,null,null,null,null,null,null,null,"angle αu",{"$f":"90*2*PI()/360","v":1.5707963267948966},null,null,null,null,null,null,null,null,null,null,null,"angle αu",{"$f":"90*2*PI()/360","v":1.5707963267948966},null,null,null,null,null,null,null,null,null,null,null,"angle αu",{"$f":"90*2*PI()/360","v":1.5707963267948966},null,null,null,null,null,null,null,null,null,null,null,"angle αu",{"$f":"90*2*PI()/360","v":1.5707963267948966},null,null,null,null,null,null,null,null,null,null,null,null,null,null,null,null,null,"U1/V1",{"$f":"KM235*$KG$210*$KO$187","v":-2.1731375590567628},{"$f":"KN235*$KG$210*$KO$187","v":8.7048394212924052},{"$f":"KO235*$KG$210*$KO$187","v":20.481975108923308},{"$f":"KP235*$KG$210*$KO$187","v":16.01895273268892},{"$f":"KQ235*$KG$210*$KO$187","v":2.1731375590567628},{"$f":"KR235*KG210*$KO$187","v":40.963950217846616},null,null,null,null,null,null,null,null,null,null,null,null,null,null,null,null,null,null,null,"U1/V1",{"$f":"LM235*$LG$210*$LO$187","v":-2.3016893583249094},{"$f":"LN235*$LG$210*$LO$187","v":9.2197735842420965},21.693584904099051,16.966552753495868,2.3016893583249094,{"$f":"LR235*LG210*$LO$187","v":43.387169808198102},null,null,null,null,null,null,null,null,null,null,null,null,null,"Jusqu'au sommet",{"$f":"10*$C$166*MI197^2*MI193","v":0},{"$f":"10*$D$166*MI197^2*MI193","v":0},{"$f":"10*$E$166*MI197^2*MI193","v":0},{"$f":"10*$F$166*MI197^2*MI193","v":0},{"$f":"10*$G$166*MI197^2*MI193","v":0},{"$f":"MI193*MI199","v":0},null,null,null,null,null,null,"Charge sommet",null,null,null,null,null,"Facteur de mult. (A)","Cas de charge",null,null,null,null,null,"Jusqu'au sommet",{"$f":"10*$C$166*NI197^2*NI193","v":0},{"$f":"10*$D$166*NI197^2*NI193","v":0},{"$f":"10*$E$166*NI197^2*NI193","v":0},{"$f":"10*$F$166*NI197^2*NI193","v":0},{"$f":"10*$G$166*NI197^2*NI193","v":0},{"$f":"NI193*NI199","v":0},null,null,null,null,null,null,"Charge sommet",null,null,null,null,null,"Facteur de mult. (A)","Cas de charge",null,null,null,null,null,"Jusqu'au sommet",{"$f":"10*$C$166*OI197^2*OI193","v":0},{"$f":"10*$D$166*OI197^2*OI193","v":0},{"$f":"10*$E$166*OI197^2*OI193","v":0},{"$f":"10*$F$166*OI197^2*OI193","v":0},{"$f":"10*$G$166*OI197^2*OI193","v":0},{"$f":"OI193*OI199","v":0},null,null,null,null,null,null,"Charge sommet",null,null,null,null,null,"Facteur de mult. (A)","Cas de charge",null,null,null,null,null,"Jusqu'au sommet",{"$f":"10*$C$166*PI197^2*PI193","v":0},{"$f":"10*$D$166*PI197^2*PI193","v":0},{"$f":"10*$E$166*PI197^2*PI193","v":0},{"$f":"10*$F$166*PI197^2*PI193","v":0},{"$f":"10*$G$166*PI197^2*PI193","v":0},{"$f":"PI193*PI199","v":0},null,null,null,null,null,null,"Charge sommet",null,null,null,null,null,"Facteur de mult. (A)","Cas de charge",null,null,null,null,null,"Jusqu'au sommet",{"$f":"10*$C$166*QI197^2*QI193","v":0},{"$f":"10*$D$166*QI197^2*QI193","v":0},{"$f":"10*$E$166*QI197^2*QI193","v":0},{"$f":"10*$F$166*QI197^2*QI193","v":0},{"$f":"10*$G$166*QI197^2*QI193","v":0},{"$f":"QI193*QI199","v":0},null,null,null,null,null,null,"Charge sommet",null,null,null,null,null,"Facteur de mult. (A)","Cas de charge",null,null,null,null,null,"Jusqu'au sommet",{"$f":"10*$C$166*RI197^2*RI193","v":0},{"$f":"10*$D$166*RI197^2*RI193","v":0},{"$f":"10*$E$166*RI197^2*RI193","v":0},{"$f":"10*$F$166*RI197^2*RI193","v":0},{"$f":"10*$G$166*RI197^2*RI193","v":0},{"$f":"RI193*RI199","v":0},null,null,null,null,null,null,"Charge sommet",null,null,null,null,null,"Facteur de mult. (A)","Cas de charge",null,null,null,null,null,"Surpression",{"$f":"IF(SN73>0,SN73*SN71*10*$C$167*SO32/1000,0)","v":0},{"$f":"IF(SN73>0,SN73*SN71*10*$D$167*SO32/1000,0)","v":0},{"$f":"IF(SN73>0,SN73*SN71*10*$E$167*SO32/1000,0)","v":0},{"$f":"IF(SN73>0,SN73*SN71*10*$F$167*SO32/1000,0)","v":0},{"$f":"IF(SN73>0,SN73*SN71*10*$G$167*SO32/1000,0)","v":0}]
[null,null,null,null,null,null,null,null,null,null,null,null,null,"U2/V2",{"$f":"O236*$Q$187*$J$210","v":-2.2438386579809442},{"$f":"P236*$Q$187*$J$210","v":8.9880436347021799},21.14833796400513,16.540115121648412,2.2438386579809442,{"$f":"T236*J210*$Q$187","v":42.296675928010259},null,null,null,null,null,null,null,null,null,null,null,"pu",{"$f":"AG240/(2*AI191*SIN(AG241))","v":85.058426873169722},null,null,null,null,null,null,null,null,null,null,null,"pu",{"$f":"AT240/(2*AX191*SIN(AT241))","v":157.24929015029409},null,null,null,null,null,null,null,null,null,null,null,"pu",{"$f":"BG240/(2*BI191*SIN(BG241))","v":85.405013046721947},null,null,null,null,null,null,null,null,null,null,null,"pu",{"$f":"BT240/(2*BX191*SIN(BT241))","v":157.27549270112732},null,null,null,null,null,null,null,null,null,null,null,"pu",{"$f":"CG240/(2*CI191*SIN(CG241))","v":85.803847633327834},null,null,null,null,null,null,null,null,null,null,null,"pu",{"$f":"CT240/(2*CX191*SIN(CT241))","v":157.30519826677781},null,null,null,null,null,null,null,null,null,null,null,"pu",{"$f":"DG240/(2*DI191*SIN(DG241))","v":86.534289052666381},null,null,null,null,null,null,null,null,null,null,null,"pu",{"$f":"DT240/(2*DX191*SIN(DT241))","v":157.35838654247129},null,null,null,null,null,null,null,null,null,null,null,"pu",{"$f":"EG240/(2*EI191*SIN(EG241))","v":82.378490242331594},null,null,null,null,null,null,null,null,null,null,null,"pu",{"$f":"ET240/(2*EX191*SIN(ET241))","v":159.88648601030471},null,null,null,null,null,null,null,null,null,null,null,"pu",{"$f":"FG240/(2*FI191*SIN(FG241))","v":84.551167498346132},null,null,null,null,null,null,null,null,null,null,null,"pu",{"$f":"FT240/(2*FX191*SIN(FT241))","v":157.10093631524646},null,null,null,null,null,null,null,null,null,null,null,"pu",{"$f":"GG240/(2*GI191*SIN(GG241))","v":85.041162262968598},null,null,null,null,null,null,null,null,null,null,null,"pu",{"$f":"GT240/(2*GX191*SIN(GT241))","v":157.15066940661617},null,null,null,null,null,null,null,null,null,null,null,"pu",{"$f":"HG240/(2*HI191*SIN(HG241))","v":85.031964055286196},null,null,null,null,null,null,null,null,null,null,null,"pu",{"$f":"HT240/(2*HX191*SIN(HT241))","v":157.0602027048439},null,null,null,null,null,null,null,null,null,null,null,"pu",{"$f":"IG240/(2*II191*SIN(IG241))","v":85.782457918471238},null,null,null,null,null,null,null,null,null,null,null,"pu",{"$f":"IT240/(2*IX191*SIN(IT241))","v":157.11293993641237},null,null,null,null,null,null,null,null,null,null,null,"pu",{"$f":"JG240/(2*JI191*SIN(JG241))","v":86.714258476931377},null,null,null,null,null,null,null,null,null,null,null,"pu",{"$f":"JT240/(2*JX191*SIN(JT241))","v":157.17622638727264},null,null,null,null,null,null,null,null,null,null,null,null,null,null,null,null,null,"U2/V2",{"$f":"KM236*$KO$187*$KH$210","v":-2.0962176936400923},{"$f":"KN236*$KO$187*$KH$210","v":8.3967249745244033},19.756999940057423,15.451949653118909,2.0962176936400923,{"$f":"KR236*KH210*$KO$187","v":39.513999880114845},null,null,null,null,null,null,null,null,null,null,null,null,null,null,null,null,null,null,null,"U2/V2",{"$f":"LM236*$LO$187*$LH$210","v":-2.2202193036864073},{"$f":"LN236*$LO$187*$LH$210","v":8.8934326490737323},20.925723880173489,16.366008646683689,2.2202193036864073,{"$f":"LR236*LH210*$LO$187","v":41.851447760346979},null,null,null,null,null,null,null,null,null,null,null,null,null,"Surpression",{"$f":"$C$168*MI197*MI195*MI193","v":0},{"$f":"$D$168*MI197*MI195*MI193","v":0},{"$f":"$E$168*MI197*MI195*MI193","v":0},{"$f":"$F$168*MI197*MI195*MI193","v":0},{"$f":"$G$168*MI197*MI195*MI193","v":0},null,null,null,null,null,null,null,"U4/V4",-0.1061,0.42499999999999999,1,0.78210000000000002,0.1061,2,16,null,null,null,null,null,"Surpression",{"$f":"$C$168*NI197*NI195*NI193","v":0},{"$f":"$D$168*NI197*NI195*NI193","v":0},{"$f":"$E$168*NI197*NI195*NI193","v":0},{"$f":"$F$168*NI197*NI195*NI193","v":0},{"$f":"$G$168*NI197*NI195*NI193","v":0},null,null,null,null,null,null,null,"U4/V4",-0.1061,0.42499999999999999,1,0.78210000000000002,0.1061,2,16,null,null,null,null,null,"Surpression",{"$f":"$C$168*OI197*OI195*OI193","v":0},{"$f":"$D$168*OI197*OI195*OI193","v":0},{"$f":"$E$168*OI197*OI195*OI193","v":0},{"$f":"$F$168*OI197*OI195*OI193","v":0},{"$f":"$G$168*OI197*OI195*OI193","v":0},null,null,null,null,null,null,null,"U4/V4",-0.1061,0.42499999999999999,1,0.78210000000000002,0.1061,2,16,null,null,null,null,null,"Surpression",{"$f":"$C$168*PI197*PI195*PI193","v":0},{"$f":"$D$168*PI197*PI195*PI193","v":0},{"$f":"$E$168*PI197*PI195*PI193","v":0},{"$f":"$F$168*PI197*PI195*PI193","v":0},{"$f":"$G$168*PI197*PI195*PI193","v":0},null,null,null,null,null,null,null,"U4/V4",-0.1061,0.42499999999999999,1,0.78210000000000002,0.1061,2,16,null,null,null,null,null,"Surpression",{"$f":"$C$168*QI197*QI195*QI193","v":0},{"$f":"$D$168*QI197*QI195*QI193","v":0},{"$f":"$E$168*QI197*QI195*QI193","v":0},{"$f":"$F$168*QI197*QI195*QI193","v":0},{"$f":"$G$168*QI197*QI195*QI193","v":0},null,null,null,null,null,null,null,"U4/V4",-0.1061,0.42499999999999999,1,0.78210000000000002,0.1061,2,16,null,null,null,null,null,"Surpression",{"$f":"$C$168*RI197*RI195*RI193","v":0},{"$f":"$D$168*RI197*RI195*RI193","v":0},{"$f":"$E$168*RI197*RI195*RI193","v":0},{"$f":"$F$168*RI197*RI195*RI193","v":0},{"$f":"$G$168*RI197*RI195*RI193","v":0},null,null,null,null,null,null,null,"U4/V4",-0.1061,0.42499999999999999,1,0.78210000000000002,0.1061,2,16]
[null,null,null,null,null,null,null,null,null,null,null,null,null,null,null,null,null,null,null,null,null,null,null,null,null,null,null,null,null,null,null,null,null,null,null,null,null,null,null,null,null,null,null,null,null,null,null,null,null,null,null,null,null,null,null,null,null,null,null,null,null,null,null,null,null,null,null,null,null,null,null,null,null,null,null,null,null,null,null,null,null,null,null,null,null,null,null,null,null,null,null,null,null,null,null,null,null,null,null,null,null,null,null,null,null,null,null,null,null,null,null,null,null,null,null,null,null,null,null,null,null,null,null,null,null,null,null,null,null,null,null,null,null,null,null,null,null,null,null,null,null,null,null,null,null,null,null,null,null,null,null,null,null,null,null,null,null,null,null,null,null,null,null,null,null,null,null,null,null,null,null,null,null,null,null,null,null,null,null,null,null,null,null,null,null,null,null,null,null,null,null,null,null,null,null,null,null,null,null,null,null,null,null,null,null,null,null,null,null,null,null,null,null,null,null,null,null,null,null,null,null,null,null,null,null,null,null,null,null,null,null,null,null,null,null,null,null,null,null,null,null,null,null,null,null,null,null,null,null,null,null,null,null,null,null,null,null,null,null,null,null,null,null,null,null,null,null,null,null,null,null,null,null,null,null,null,null,null,null,null,null,null,null,null,null,null,null,null,null,null,null,null,null,null,null,null,null,null,null,null,null,null,null,null,null,null,null,null,null,null,null,null,null,null,null,null,null,null,null,null,null,null,null,null,null,null,null,null,null,null,null,null,null,null,null,null,null,null,null,null,null,null,null,"pu",{"$f":"MG249/(2*MI197*SIN(MG250))","v":60.373849525777189},null,null,null,null,null,null,null,null,null,null,null,"U4/V4",{"$f":"$C$173","v":0.1061},{"$f":"$D$173","v":7.4999999999999997E-2},{"$f":"$E$173","v":0},{"$f":"$F$173","v":-0.28210000000000002},{"$f":"$G$173","v":-0.1061},20,null,null,null,null,null,null,"pu",{"$f":"NG249/(2*NI197*SIN(NG250))","v":60.427256600888207},null,null,null,null,null,null,null,null,null,null,null,"U4/V4",{"$f":"$C$173","v":0.1061},{"$f":"$D$173","v":7.4999999999999997E-2},{"$f":"$E$173","v":0},{"$f":"$F$173","v":-0.28210000000000002},{"$f":"$G$173","v":-0.1061},20,null,null,null,null,null,null,"pu",{"$f":"OG249/(2*OI197*SIN(OG250))","v":62.19494939028494},null,null,null,null,null,null,null,null,null,null,null,"U4/V4",{"$f":"$C$173","v":0.1061},{"$f":"$D$173","v":7.4999999999999997E-2},{"$f":"$E$173","v":0},{"$f":"$F$173","v":-0.28210000000000002},{"$f":"$G$173","v":-0.1061},20,null,null,null,null,null,null,"pu",{"$f":"PG249/(2*PI197*SIN(PG250))","v":62.444898776587976},null,null,null,null,null,null,null,null,null,null,null,"U4/V4",{"$f":"$C$173","v":0.1061},{"$f":"$D$173","v":7.4999999999999997E-2},{"$f":"$E$173","v":0},{"$f":"$F$173","v":-0.28210000000000002},{"$f":"$G$173","v":-0.1061},20,null,null,null,null,null,null,"pu",{"$f":"QG249/(2*QI197*SIN(QG250))","v":62.444898776587976},null,null,null,null,null,null,null,null,null,null,null,"U4/V4",{"$f":"$C$173","v":0.1061},{"$f":"$D$173","v":7.4999999999999997E-2},{"$f":"$E$173","v":0},{"$f":"$F$173","v":-0.28210000000000002},{"$f":"$G$173","v":-0.1061},20,null,null,null,null,null,null,"pu",{"$f":"RG249/(2*RI197*SIN(RG250))","v":62.696104024304347},null,null,null,null,null,null,null,null,null,null,null,"U4/V4",{"$f":"$C$173","v":0.1061},{"$f":"$D$173","v":7.4999999999999997E-2},{"$f":"$E$173","v":0},{"$f":"$F$173","v":-0.28210000000000002},{"$f":"$G$173","v":-0.1061},20,null,null,null,null,null,null,"Pression semelle pu","U1/V1"]
[null,null,null,null,null,null,null,null,null,null,null,null,null,null,null,null,null,null,null,null,null,null,null,null,null,null,null,null,null,null,null,"Profil","0°","45°","90°","135°","180°","A",null,null,null,null,null,null,"Profil","0°","45°","90°","135°","180°","A",null,null,null,null,null,null,"Profil","0°","45°","90°","135°","180°","A",null,null,null,null,null,null,"Profil","0°","45°","90°","135°","180°","A",null,null,null,null,null,null,"Profil","0°","45°","90°","135°","180°","A",null,null,null,null,null,null,"Profil","0°","45°","90°","135°","180°","A",null,null,null,null,null,null,"Profil","0°","45°","90°","135°","180°","A",null,null,null,null,null,null,"Profil","0°","45°","90°","135°","180°","A",null,null,null,null,null,null,"Profil","0°","45°","90°","135°","180°","A",null,null,null,null,null,null,"Profil","0°","45°","90°","135°","180°","A",null,null,null,null,null,null,"Profil","0°","45°","90°","135°","180°","A",null,null,null,null,null,null,"Profil","0°","45°","90°","135°","180°","A",null,null,null,null,null,null,"Profil","0°","45°","90°","135°","180°","A",null,null,null,null,null,null,"Profil","0°","45°","90°","135°","180°","A",null,null,null,null,null,null,"Profil","0°","45°","90°","135°","180°","A",null,null,null,null,null,null,"Profil","0°","45°","90°","135°","180°","A",null,null,null,null,null,null,"Profil","0°","45°","90°","135°","180°","A",null,null,null,null,null,null,"Profil","0°","45°","90°","135°","180°","A",null,null,null,null,null,null,"Profil","0°","45°","90°","135°","180°","A",null,null,null,null,null,null,"Profil","0°","45°","90°","135°","180°","A",null,null,null,null,null,null,null,null,null,null,null,null,null,null,null,null,null,null,null,null,null,null,null,null,null,null,null,null,null,null,null,null,null,null,null,null,null,null,null,null,null,null,null,null,null,null,null,null,null,null,null,null,null,null,null,null,null,null,"Charge horizontale","Cas de charge",null,null,null,null,null,null,null,null,null,null,null,null,null,null,null,null,null,null,null,null,null,null,null,null,"Charge horizontale","Cas de charge",null,null,null,null,null,null,null,null,null,null,null,null,null,null,null,null,null,null,null,null,null,null,null,null,"Charge horizontale","Cas de charge",null,null,null,null,null,null,null,null,null,null,null,null,null,null,null,null,null,null,null,null,null,null,null,null,"Charge horizontale","Cas de charge",null,null,null,null,null,null,null,null,null,null,null,null,null,null,null,null,null,null,null,null,null,null,null,null,"Charge horizontale","Cas de charge",null,null,null,null,null,null,null,null,null,null,null,null,null,null,null,null,null,null,null,null,null,null,null,null,"Charge horizontale","Cas de charge"]
[null,null,null,null,null,null,null,null,null,null,null,null,null,"U2/V2",{"$f":"$O$224+$O$227+$O$228+$O$231+$O$232+O242+O260","v":-0.60211038728638866},{"$f":"$P$224+$P$227+$P$228+$P$231+$P$232+P242+P260","v":10.239062834220682},{"$f":"$Q$224+$Q$227+$Q$228+$Q$231+$Q$232+Q242+Q260","v":21.404692524005128},{"$f":"$R$224+$R$227+$R$228+$R$231+$R$232+R242+R260","v":12.840277202912667},{"$f":"$S$224+$S$227+$S$228+$S$231+$S$232+S242+S260","v":0.60211038728638866},{"$f":"P248","v":43.322091770141967},null,null,null,null,null,null,null,null,null,null,null,null,null,null,null,null,null,null,null,null,null,null,null,null,null,null,null,null,null,null,null,null,null,null,null,null,null,null,null,null,null,null,null,null,null,null,null,null,null,null,null,null,null,null,null,null,null,null,null,null,null,null,null,null,null,null,null,null,null,null,null,null,null,null,null,null,null,null,null,null,null,null,null,null,null,null,null,null,null,null,null,null,null,null,null,null,null,null,null,null,null,null,null,null,null,null,null,null,null,null,null,null,null,null,null,null,null,null,null,null,null,null,null,null,null,null,null,null,null,null,null,null,null,null,null,null,null,null,null,null,null,null,null,null,null,null,null,null,null,null,null,null,null,null,null,null,null,null,null,null,null,null,null,null,null,null,null,null,null,null,null,null,null,null,null,null,null,null,null,null,null,null,null,null,null,null,null,null,null,null,null,null,null,null,null,null,null,null,null,null,null,null,null,null,null,null,null,null,null,null,null,null,null,null,null,null,null,null,null,null,null,null,null,null,null,null,null,null,null,null,null,null,null,null,null,null,null,null,null,null,null,null,null,null,null,null,null,null,null,null,null,null,null,null,null,null,null,null,null,null,null,null,null,null,null,null,null,null,null,null,null,null,null,null,null,null,null,"U2/V2",{"$f":"KM224+KM227+KM228+KM231+KM232+KM242+KM260","v":-0.54914613905788623},{"$f":"KN224+KN227+KN228+KN231+KN232+KN242+KN260","v":9.5452324150473125},19.912617132557422,11.91889079821407,0.54914613905788623,{"$f":"KN248","v":40.13646719451549},null,null,null,null,null,null,null,null,null,null,null,null,null,null,null,null,null,null,null,"U2/V2",{"$f":"LM224+LM227+LM228+LM231+LM232+LM242+LM260","v":-0.59072167636295081},{"$f":"LN224+LN227+LN228+LN231+LN232+LN242+LN260","v":10.12363896855606},21.147652787373488,12.676128193899238,0.59072167636295081,{"$f":"LN248","v":42.739161313286537},null,null,null,null,null,null,null,null,null,null,null,null,null,"U1/V1",{"$f":"VLOOKUP(ML268,MG265:ML266,2)","v":0.66669999999999996},{"$f":"VLOOKUP(ML268,MG265:ML266,3)","v":0.41670000000000001},{"$f":"VLOOKUP(ML268,MG265:ML266,4)","v":0},{"$f":"VLOOKUP(ML268,MG265:ML266,5)","v":0.41670000000000001},{"$f":"VLOOKUP(ML268,MG265:ML266,6)","v":0.66669999999999996},{"$f":"MG266","v":6},null,null,null,null,null,null,null,null,null,null,null,null,null,null,null,null,null,null,null,"U1/V1",{"$f":"VLOOKUP(NL268,NG265:NL266,2)","v":0.66669999999999996},{"$f":"VLOOKUP(NL268,NG265:NL266,3)","v":0.41670000000000001},{"$f":"VLOOKUP(NL268,NG265:NL266,4)","v":0},{"$f":"VLOOKUP(NL268,NG265:NL266,5)","v":0.41670000000000001},{"$f":"VLOOKUP(NL268,NG265:NL266,6)","v":0.66669999999999996},{"$f":"NG266","v":6},null,null,null,null,null,null,null,null,null,null,null,null,null,null,null,null,null,null,null,"U1/V1",{"$f":"VLOOKUP(OL268,OG265:OL266,2)","v":0.66669999999999996},{"$f":"VLOOKUP(OL268,OG265:OL266,3)","v":0.41670000000000001},{"$f":"VLOOKUP(OL268,OG265:OL266,4)","v":0},{"$f":"VLOOKUP(OL268,OG265:OL266,5)","v":0.41670000000000001},{"$f":"VLOOKUP(OL268,OG265:OL266,6)","v":0.66669999999999996},{"$f":"OG266","v":6},null,null,null,null,null,null,null,null,null,null,null,null,null,null,null,null,null,null,null,"U1/V1",{"$f":"VLOOKUP(PL268,PG265:PL266,2)","v":0.66669999999999996},{"$f":"VLOOKUP(PL268,PG265:PL266,3)","v":0.41670000000000001},{"$f":"VLOOKUP(PL268,PG265:PL266,4)","v":0},{"$f":"VLOOKUP(PL268,PG265:PL266,5)","v":0.41670000000000001},{"$f":"VLOOKUP(PL268,PG265:PL266,6)","v":0.66669999999999996},{"$f":"PG266","v":6},null,null,null,null,null,null,null,null,null,null,null,null,null,null,null,null,null,null,null,"U1/V1",{"$f":"VLOOKUP(QL268,QG265:QL266,2)","v":0.66669999999999996},{"$f":"VLOOKUP(QL268,QG265:QL266,3)","v":0.41670000000000001},{"$f":"VLOOKUP(QL268,QG265:QL266,4)","v":0},{"$f":"VLOOKUP(QL268,QG265:QL266,5)","v":0.41670000000000001},{"$f":"VLOOKUP(QL268,QG265:QL266,6)","v":0.66669999999999996},{"$f":"QG266","v":6},null,null,null,null,null,null,null,null,null,null,null,null,null,null,null,null,null,null,null,"U1/V1",{"$f":"VLOOKUP(RL268,RG265:RL266,2)","v":0.66669999999999996},{"$f":"VLOOKUP(RL268,RG265:RL266,3)","v":0.41670000000000001},{"$f":"VLOOKUP(RL268,RG265:RL266,4)","v":0},{"$f":"VLOOKUP(RL268,RG265:RL266,5)","v":0.41670000000000001},{"$f":"VLOOKUP(RL268,RG265:RL266,6)","v":0.66669999999999996},{"$f":"RG266","v":6},null,null,null,null,null,null,null,null,null,null,null,null,null,null,null,null,null,null,null,"U1/V1",4,{"$f":"$C$175","v":1},{"$f":"$D$175","v":0.5},{"$f":"$E$175","v":0},{"$f":"$F$175","v":0.5},{"$f":"$G$175","v":1}]
[null,null,null,null,null,null,null,null,null,null,null,null,null,"U1/V1",{"$f":"$P$198*$Q$187*C175","v":5.4810919305569419},{"$f":"$P$198*$Q$187*D175","v":2.7405459652784709},{"$f":"$P$198*$Q$187*E175","v":0},{"$f":"$P$198*$Q$187*F175","v":2.7405459652784709},{"$f":"$P$198*$Q$187*G175","v":5.4810919305569419},4,null,null,null,null,null,null,null,null,null,null,null,"Eau intérieur",null,null,null,null,null,null,null,null,null,null,null,null,"Eau intérieur",null,null,null,null,null,null,null,null,null,null,null,null,"Eau intérieur",null,null,null,null,null,null,null,null,null,null,null,null,"Eau intérieur",null,null,null,null,null,null,null,null,null,null,null,null,"Eau intérieur",null,null,null,null,null,null,null,null,null,null,null,null,"Eau intérieur",null,null,null,null,null,null,null,null,null,null,null,null,"Eau intérieur",null,null,null,null,null,null,null,null,null,null,null,null,"Eau intérieur",null,null,null,null,null,null,null,null,null,null,null,null,"Eau intérieur",null,null,null,null,null,null,null,null,null,null,null,null,"Eau intérieur",null,null,null,null,null,null,null,null,null,null,null,null,"Eau intérieur",null,null,null,null,null,null,null,null,null,null,null,null,"Eau intérieur",null,null,null,null,null,null,null,null,null,null,null,null,"Eau intérieur",null,null,null,null,null,null,null,null,null,null,null,null,"Eau intérieur",null,null,null,null,null,null,null,null,null,null,null,null,"Eau intérieur",null,null,null,null,null,null,null,null,null,null,null,null,"Eau intérieur",null,null,null,null,null,null,null,null,null,null,null,null,"Eau intérieur",null,null,null,null,null,null,null,null,null,null,null,null,"Eau intérieur",null,null,null,null,null,null,null,null,null,null,null,null,"Eau intérieur",null,null,null,null,null,null,null,null,null,null,null,null,"Eau intérieur",null,null,null,null,null,null,null,null,null,null,null,null,null,null,null,null,null,null,"U1/V1",{"$f":"$KN$198*$KO$187*C175","v":5.120493777230827},{"$f":"$KN$198*$KO$187*D175","v":2.5602468886154135},{"$f":"$KN$198*$KO$187*E175","v":0},{"$f":"$KN$198*$KO$187*F175","v":2.5602468886154135},{"$f":"$KN$198*$KO$187*G175","v":5.120493777230827},4,null,null,null,null,null,null,null,null,null,null,null,null,null,null,null,null,null,null,null,"U1/V1",{"$f":"$LN$198*$LO$187*C175","v":5.4233962260247628},{"$f":"$LN$198*$LO$187*D175","v":2.7116981130123814},{"$f":"$LN$198*$LO$187*E175","v":0},{"$f":"$LN$198*$LO$187*F175","v":2.7116981130123814},{"$f":"$LN$198*$LO$187*G175","v":5.4233962260247628},4,null,null,null,null,null,null,null,null,null,null,null,null,null,"16.1 Court terme (actions verticales) ",null,null,null,null,null,"Réaction d'Appui",null,null,null,null,null,null,"Poids propre",{"$f":"$C$215*MX197^2*MU87","v":0.13402645762500001},{"$f":"$D$215*MX197^2*MU87","v":2.4419620579275002E-2},{"$f":"$E$215*MX197^2*MU87","v":-0.15300460402470001},{"$f":"$F$215*MX197^2*MU87","v":-8.3766536015625004E-2},{"$f":"$G$215*MX197^2*MU87","v":0.40207937287500006},null,null,null,null,null,null,null,"16.1 Court terme (actions verticales) ",null,null,null,null,null,"Réaction d'Appui",null,null,null,null,null,null,"Poids propre",{"$f":"$C$215*NX197^2*NU87","v":0.13443380100000002},{"$f":"$D$215*NX197^2*NU87","v":2.4493838542200004E-2},{"$f":"$E$215*NX197^2*NU87","v":-0.15346962722160001},{"$f":"$F$215*NX197^2*NU87","v":-8.4021125625000012E-2},{"$f":"$G$215*NX197^2*NU87","v":0.40330140300000006},null,null,null,null,null,null,null,"16.1 Court terme (actions verticales) ",null,null,null,null,null,"Réaction d'Appui",null,null,null,null,null,null,"Poids propre",{"$f":"$C$215*OX197^2*OU87","v":0.10395975374999999},{"$f":"$D$215*OX197^2*OU87","v":1.8941467133250001E-2},{"$f":"$E$215*OX197^2*OU87","v":-0.11868045488099999},{"$f":"$F$215*OX197^2*OU87","v":-6.4974846093750011E-2},{"$f":"$G$215*OX197^2*OU87","v":0.31187926124999998},null,null,null,null,null,null,null,"16.1 Court terme (actions verticales) ",null,null,null,null,null,"Réaction d'Appui",null,null,null,null,null,null,"Poids propre",{"$f":"$C$215*PX197^2*PU87","v":0.10426696499999999},{"$f":"$D$215*PX197^2*PU87","v":1.8997441022999998E-2},{"$f":"$E$215*PX197^2*PU87","v":-0.11903116724399998},{"$f":"$F$215*PX197^2*PU87","v":-6.5166853125000007E-2},{"$f":"$G$215*PX197^2*PU87","v":0.31280089499999997},null,null,null,null,null,null,null,"16.1 Court terme (actions verticales) ",null,null,null,null,null,"Réaction d'Appui",null,null,null,null,null,null,"Poids propre",{"$f":"$C$215*QX197^2*QU87","v":0.10426696499999999},{"$f":"$D$215*QX197^2*QU87","v":1.8997441022999998E-2},{"$f":"$E$215*QX197^2*QU87","v":-0.11903116724399998},{"$f":"$F$215*QX197^2*QU87","v":-6.5166853125000007E-2},{"$f":"$G$215*QX197^2*QU87","v":0.31280089499999997},null,null,null,null,null,null,null,"16.1 Court terme (actions verticales) ",null,null,null,null,null,"Réaction d'Appui",null,null,null,null,null,null,"Poids propre",{"$f":"$C$215*RX197^2*RU87","v":0.10457216175},{"$f":"$D$215*RX197^2*RU87","v":1.905304787085E-2},{"$f":"$E$215*RX197^2*RU87","v":-0.11937957985379999},{"$f":"$F$215*RX197^2*RU87","v":-6.5357601093750009E-2},{"$f":"$G$215*RX197^2*RU87","v":0.31371648525000001},null,null,null,null,null,null,null,"U1/V1",{"$f":"SG272+SG262","v":7.7469002578705108},{"$f":"SH272+SH262","v":12.841879974141952},18.585052056877931,18.855561663886917,10.738803474239422,{"$f":"SL262","v":37.36879983401564}]
[null,null,null,null,null,null,null,null,null,null,null,null,null,"U2A/V2A",0.78779999999999994,0.34989999999999999,0,0.15010000000000001,0.2122,23,null,null,null,null,null,null,null,null,null,null,null,"Pression semelle pu","U1/V1",null,null,null,null,null,null,null,null,null,null,null,"Pression semelle pu","U1/V1",null,null,null,null,null,null,null,null,null,null,null,"Pression semelle pu","U1/V1",null,null,null,null,null,null,null,null,null,null,null,"Pression semelle pu","U1/V1",null,null,null,null,null,null,null,null,null,null,null,"Pression semelle pu","U1/V1",null,null,null,null,null,null,null,null,null,null,null,"Pression semelle pu","U1/V1",null,null,null,null,null,null,null,null,null,null,null,"Pression semelle pu","U1/V1",null,null,null,null,null,null,null,null,null,null,null,"Pression semelle pu","U1/V1",null,null,null,null,null,null,null,null,null,null,null,"Pression semelle pu","U1/V1",null,null,null,null,null,null,null,null,null,null,null,"Pression semelle pu","U1/V1",null,null,null,null,null,null,null,null,null,null,null,"Pression semelle pu","U1/V1",null,null,null,null,null,null,null,null,null,null,null,"Pression semelle pu","U1/V1",null,null,null,null,null,null,null,null,null,null,null,"Pression semelle pu","U1/V1",null,null,null,null,null,null,null,null,null,null,null,"Pression semelle pu","U1/V1",null,null,null,null,null,null,null,null,null,null,null,"Pression semelle pu","U1/V1",null,null,null,null,null,null,null,null,null,null,null,"Pression semelle pu","U1/V1",null,null,null,null,null,null,null,null,null,null,null,"Pression semelle pu","U1/V1",null,null,null,null,null,null,null,null,null,null,null,"Pression semelle pu","U1/V1",null,null,null,null,null,null,null,null,null,null,null,"Pression semelle pu","U1/V1",null,null,null,null,null,null,null,null,null,null,null,"Pression semelle pu","U1/V1",null,null,null,null,null,null,null,null,null,null,null,null,null,null,null,null,null,"U2A/V2A",0.78779999999999994,0.34989999999999999,0,0.15010000000000001,0.2122,23,null,null,null,null,null,null,null,null,null,null,null,null,null,null,null,null,null,null,null,"U2A/V2A",0.78779999999999994,0.34989999999999999,0,0.15010000000000001,0.2122,23,null,null,null,null,null,null,null,null,null,null,null,null,null,null,null,null,null,null,null,null,null,null,null,null,null,null,null,null,null,null,null,null,null,null,null,null,null,null,null,null,null,null,null,null,null,null,null,null,null,null,null,null,null,null,null,null,null,null,null,null,null,null,null,null,null,null,null,null,null,null,null,null,null,null,null,null,null,null,null,null,null,null,null,null,null,null,null,null,null,null,null,null,null,null,null,null,null,null,null,null,null,null,null,null,null,null,null,null,null,null,null,null,null,null,null,null,null,null,null,null,null,null,null,null,null,null,null,null,null,null,null,null,null,null,null,null,null,null,null,null,null,null,null,null,null,null,null,null,null,null,null,null,null,null,null,null,null,null,null,null,null,null,null,null,null,null,null,null,null,"Jusqu'au sommet",{"$f":"IF(SN70>0,SN71*10*SI191^3*$C$216,0)","v":0},{"$f":"IF(SN70>0,SN71*10*SI191^3*$D$216,0)","v":0},{"$f":"IF(SN70>0,SN71*10*SI191^3*$E$216,0)","v":0},{"$f":"IF(SN70>0,SN71*10*SI191^3*$F$216,0)","v":0},{"$f":"IF(SN70>0,SN71*10*SI191^3*$G$216,0)","v":0}]
[null,null,null,null,null,null,null,null,null,null,null,null,null,"U4/V4",{"$f":"O288*$T$198*$Q$187","v":0},{"$f":"P288*$T$198*$Q$187","v":0},0,0,0,4,null,null,null,null,null,null,null,null,null,null,null,"Somme des moments de flexion (actions verticales)",null,null,null,null,null,null,null,null,null,null,null,null,"Somme des moments de flexion (actions verticales)",null,null,null,null,null,null,null,null,null,null,null,null,"Somme des moments de flexion (actions verticales)",null,null,null,null,null,null,null,null,null,null,null,null,"Somme des moments de flexion (actions verticales)",null,null,null,null,null,null,null,null,null,null,null,null,"Somme des moments de flexion (actions verticales)",null,null,null,null,null,null,null,null,null,null,null,null,"Somme des moments de flexion (actions verticales)",null,null,null,null,null,null,null,null,null,null,null,null,"Somme des moments de flexion (actions verticales)",null,null,null,null,null,null,null,null,null,null,null,null,"Somme des moments de flexion (actions verticales)",null,null,null,null,null,null,null,null,null,null,null,null,"Somme des moments de flexion (actions verticales)",null,null,null,null,null,null,null,null,null,null,null,null,"Somme des moments de flexion (actions verticales)",null,null,null,null,null,null,null,null,null,null,null,null,"Somme des moments de flexion (actions verticales)",null,null,null,null,null,null,null,null,null,null,null,null,"Somme des moments de flexion (actions verticales)",null,null,null,null,null,null,null,null,null,null,null,null,"Somme des moments de flexion (actions verticales)",null,null,null,null,null,null,null,null,null,null,null,null,"Somme des moments de flexion (actions verticales)",null,null,null,null,null,null,null,null,null,null,null,null,"Somme des moments de flexion (actions verticales)",null,null,null,null,null,null,null,null,null,null,null,null,"Somme des moments de flexion (actions verticales)",null,null,null,null,null,null,null,null,null,null,null,null,"Somme des moments de flexion (actions verticales)",null,null,null,null,null,null,null,null,null,null,null,null,"Somme des moments de flexion (actions verticales)",null,null,null,null,null,null,null,null,null,null,null,null,"Somme des moments de flexion (actions verticales)",null,null,null,null,null,null,null,null,null,null,null,null,"Somme des moments de flexion (actions verticales)",null,null,null,null,null,null,null,null,null,null,null,null,null,null,null,null,null,null,"U4/V4",{"$f":"KM288*$KR$198*$KO$187","v":0},{"$f":"KN288*$KR$198*$KO$187","v":0},0,0,0,4,null,null,null,null,null,null,null,null,null,null,null,null,null,null,null,null,null,null,null,"U4/V4",{"$f":"LM288*$LR$198*$LO$187","v":0},{"$f":"LN288*$LR$198*$LO$187","v":0},0,0,0,4,null,null,null,null,null,null,null,null,null,null,null,null,null,null,null,null,null,null,null,null,null,null,null,null,null,null,"pu",{"$f":"MT293/(2*MX197*SIN(MT294))","v":156.76717820033602},null,null,null,null,null,null,null,null,null,null,null,null,null,null,null,null,null,null,null,null,null,null,null,null,"pu",{"$f":"NT293/(2*NX197*SIN(NT294))","v":156.80348696514784},null,null,null,null,null,null,null,null,null,null,null,null,null,null,null,null,null,null,null,null,null,null,null,null,"pu",{"$f":"OT293/(2*OX197*SIN(OT294))","v":159.33759555986501},null,null,null,null,null,null,null,null,null,null,null,null,null,null,null,null,null,null,null,null,null,null,null,null,"pu",{"$f":"PT293/(2*PX197*SIN(PT294))","v":159.37196087190901},null,null,null,null,null,null,null,null,null,null,null,null,null,null,null,null,null,null,null,null,null,null,null,null,"pu",{"$f":"QT293/(2*QX197*SIN(QT294))","v":159.37196087190901},null,null,null,null,null,null,null,null,null,null,null,null,null,null,null,null,null,null,null,null,null,null,null,null,"pu",{"$f":"RT293/(2*RX197*SIN(RT294))","v":159.40610083764454},null,null,null,null,null,null,null,null,null,null,null,"U1/V1",{"$f":"$C$219","v":0.2994},{"$f":"$D$219","v":1.83E-2},{"$f":"$E$219","v":-0.30669999999999997},{"$f":"$F$219","v":-8.8800000000000004E-2},{"$f":"$G$219","v":0.58720000000000006},16]
[null,null,null,null,null,null,null,null,null,null,null,null,null,null,null,null,null,null,null,null,null,null,null,null,null,null,null,null,null,null,null,"U1/V1",6,{"$f":"$C$223","v":-0.19789999999999999},{"$f":"$D$223","v":-1.04E-2},{"$f":"$E$223","v":0.21879999999999999},{"$f":"$F$223","v":-1.04E-2},{"$f":"$G$223","v":-0.19789999999999999},null,null,null,null,null,null,"U1/V1",{"$f":"AT303*AW202*AX191^2","v":-1.4421981203022256},{"$f":"AU303*AW202*AX191^2","v":0},{"$f":"AV303*AW202*AX191^2","v":1.4421981203022256},{"$f":"AW303*AW202*AX191^2","v":0},{"$f":"AX303*AW202*AX191^2","v":-1.4421981203022256},null,null,null,null,null,null,null,"U1/V1",6,{"$f":"$C$223","v":-0.19789999999999999},{"$f":"$D$223","v":-1.04E-2},{"$f":"$E$223","v":0.21879999999999999},{"$f":"$F$223","v":-1.04E-2},{"$f":"$G$223","v":-0.19789999999999999},null,null,null,null,null,null,"U1/V1",{"$f":"BT303*BW202*BX191^2","v":-1.4421981203022256},{"$f":"BU303*BW202*BX191^2","v":0},{"$f":"BV303*BW202*BX191^2","v":1.4421981203022256},{"$f":"BW303*BW202*BX191^2","v":0},{"$f":"BX303*BW202*BX191^2","v":-1.4421981203022256},null,null,null,null,null,null,null,"U1/V1",6,{"$f":"$C$223","v":-0.19789999999999999},{"$f":"$D$223","v":-1.04E-2},{"$f":"$E$223","v":0.21879999999999999},{"$f":"$F$223","v":-1.04E-2},{"$f":"$G$223","v":-0.19789999999999999},null,null,null,null,null,null,"U1/V1",{"$f":"CT303*CW202*CX191^2","v":-1.4421981203022256},{"$f":"CU303*CW202*CX191^2","v":0},{"$f":"CV303*CW202*CX191^2","v":1.4421981203022256},{"$f":"CW303*CW202*CX191^2","v":0},{"$f":"CX303*CW202*CX191^2","v":-1.4421981203022256},null,null,null,null,null,null,null,"U1/V1",6,{"$f":"$C$223","v":-0.19789999999999999},{"$f":"$D$223","v":-1.04E-2},{"$f":"$E$223","v":0.21879999999999999},{"$f":"$F$223","v":-1.04E-2},{"$f":"$G$223","v":-0.19789999999999999},null,null,null,null,null,null,"U1/V1",{"$f":"DT303*DW202*DX191^2","v":-1.4421981203022256},{"$f":"DU303*DW202*DX191^2","v":0},{"$f":"DV303*DW202*DX191^2","v":1.4421981203022256},{"$f":"DW303*DW202*DX191^2","v":0},{"$f":"DX303*DW202*DX191^2","v":-1.4421981203022256},null,null,null,null,null,null,null,"U1/V1",6,{"$f":"$C$223","v":-0.19789999999999999},{"$f":"$D$223","v":-1.04E-2},{"$f":"$E$223","v":0.21879999999999999},{"$f":"$F$223","v":-1.04E-2},{"$f":"$G$223","v":-0.19789999999999999},null,null,null,null,null,null,"U1/V1",{"$f":"ET303*EW202*EX191^2","v":-1.0027141300881384},{"$f":"EU303*EW202*EX191^2","v":0},{"$f":"EV303*EW202*EX191^2","v":1.0027141300881384},{"$f":"EW303*EW202*EX191^2","v":0},{"$f":"EX303*EW202*EX191^2","v":-1.0027141300881384},null,null,null,null,null,null,null,"U1/V1",6,{"$f":"$C$223","v":-0.19789999999999999},{"$f":"$D$223","v":-1.04E-2},{"$f":"$E$223","v":0.21879999999999999},{"$f":"$F$223","v":-1.04E-2},{"$f":"$G$223","v":-0.19789999999999999},null,null,null,null,null,null,"U1/V1",{"$f":"FT303*FW202*FX191^2","v":-1.1597963681437327},{"$f":"FU303*FW202*FX191^2","v":0},{"$f":"FV303*FW202*FX191^2","v":1.1597963681437327},{"$f":"FW303*FW202*FX191^2","v":0},{"$f":"FX303*FW202*FX191^2","v":-1.1597963681437327},null,null,null,null,null,null,null,"U1/V1",6,{"$f":"$C$223","v":-0.19789999999999999},{"$f":"$D$223","v":-1.04E-2},{"$f":"$E$223","v":0.21879999999999999},{"$f":"$F$223","v":-1.04E-2},{"$f":"$G$223","v":-0.19789999999999999},null,null,null,null,null,null,"U1/V1",{"$f":"GT303*GW202*GX191^2","v":-1.1597963681437327},{"$f":"GU303*GW202*GX191^2","v":0},{"$f":"GV303*GW202*GX191^2","v":1.1597963681437327},{"$f":"GW303*GW202*GX191^2","v":0},{"$f":"GX303*GW202*GX191^2","v":-1.1597963681437327},null,null,null,null,null,null,null,"U1/V1",6,{"$f":"$C$223","v":-0.19789999999999999},{"$f":"$D$223","v":-1.04E-2},{"$f":"$E$223","v":0.21879999999999999},{"$f":"$F$223","v":-1.04E-2},{"$f":"$G$223","v":-0.19789999999999999},null,null,null,null,null,null,"U1/V1",{"$f":"HT303*HW202*HX191^2","v":-1.1597963681437327},{"$f":"HU303*HW202*HX191^2","v":0},{"$f":"HV303*HW202*HX191^2","v":1.1597963681437327},{"$f":"HW303*HW202*HX191^2","v":0},{"$f":"HX303*HW202*HX191^2","v":-1.1597963681437327},null,null,null,null,null,null,null,"U1/V1",6,{"$f":"$C$223","v":-0.19789999999999999},{"$f":"$D$223","v":-1.04E-2},{"$f":"$E$223","v":0.21879999999999999},{"$f":"$F$223","v":-1.04E-2},{"$f":"$G$223","v":-0.19789999999999999},null,null,null,null,null,null,"U1/V1",{"$f":"IT303*IW202*IX191^2","v":-1.1597963681437327},{"$f":"IU303*IW202*IX191^2","v":0},{"$f":"IV303*IW202*IX191^2","v":1.1597963681437327},{"$f":"IW303*IW202*IX191^2","v":0},{"$f":"IX303*IW202*IX191^2","v":-1.1597963681437327},null,null,null,null,null,null,null,"U1/V1",6,{"$f":"$C$223","v":-0.19789999999999999},{"$f":"$D$223","v":-1.04E-2},{"$f":"$E$223","v":0.21879999999999999},{"$f":"$F$223","v":-1.04E-2},{"$f":"$G$223","v":-0.19789999999999999},null,null,null,null,null,null,"U1/V1",{"$f":"JT303*JW202*JX191^2","v":-1.1597963681437327},{"$f":"JU303*JW202*JX191^2","v":0},{"$f":"JV303*JW202*JX191^2","v":1.1597963681437327},{"$f":"JW303*JW202*JX191^2","v":0},{"$f":"JX303*JW202*JX191^2","v":-1.1597963681437327},null,null,null,null,null,null,null,null,null,null,null,null,null,null,null,null,null,null,null,null,null,null,null,null,null,null,null,null,null,null,null,null,null,null,null,null,null,null,null,null,null,null,null,null,null,null,null,null,null,null,null,null,null,null,null,null,null,null,null,"Profil","0°","45°","90°","135°","180°","A",null,null,null,null,null,null,null,null,null,null,null,null,null,null,null,null,null,null,null,"Profil","0°","45°","90°","135°","180°","A",null,null,null,null,null,null,null,null,null,null,null,null,null,null,null,null,null,null,null,"Profil","0°","45°","90°","135°","180°","A",null,null,null,null,null,null,null,null,null,null,null,null,null,null,null,null,null,null,null,"Profil","0°","45°","90°","135°","180°","A",null,null,null,null,null,null,null,null,null,null,null,null,null,null,null,null,null,null,null,"Profil","0°","45°","90°","135°","180°","A",null,null,null,null,null,null,null,null,null,null,null,null,null,null,null,null,null,null,null,"Profil","0°","45°","90°","135°","180°","A",null,null,null,null,null,null,null,null,null,null,null,null,null,null,null,null,null,null,null,"U1/V1",{"$f":"C220","v":-6.4999999999999997E-3},{"$f":"D220","v":-2.7000000000000001E-3},6.7000000000000002E-3,1.61E-2,-0.105,18]
[null,null,null,null,null,null,null,null,null,null,null,null,null,null,null,null,null,null,null,null,null,null,null,null,null,null,null,null,null,null,null,"Profil","0°","45°","90°","135°","180°",null,null,null,null,null,null,null,"Profil","0°","45°","90°","135°","180°",null,null,null,null,null,null,null,"Profil","0°","45°","90°","135°","180°",null,null,null,null,null,null,null,"Profil","0°","45°","90°","135°","180°",null,null,null,null,null,null,null,"Profil","0°","45°","90°","135°","180°",null,null,null,null,null,null,null,"Profil","0°","45°","90°","135°","180°",null,null,null,null,null,null,null,"Profil","0°","45°","90°","135°","180°",null,null,null,null,null,null,null,"Profil","0°","45°","90°","135°","180°",null,null,null,null,null,null,null,"Profil","0°","45°","90°","135°","180°",null,null,null,null,null,null,null,"Profil","0°","45°","90°","135°","180°",null,null,null,null,null,null,null,"Profil","0°","45°","90°","135°","180°",null,null,null,null,null,null,null,"Profil","0°","45°","90°","135°","180°",null,null,null,null,null,null,null,"Profil","0°","45°","90°","135°","180°",null,null,null,null,null,null,null,"Profil","0°","45°","90°","135°","180°",null,null,null,null,null,null,null,"Profil","0°","45°","90°","135°","180°",null,null,null,null,null,null,null,"Profil","0°","45°","90°","135°","180°",null,null,null,null,null,null,null,"Profil","0°","45°","90°","135°","180°",null,null,null,null,null,null,null,"Profil","0°","45°","90°","135°","180°",null,null,null,null,null,null,null,"Profil","0°","45°","90°","135°","180°",null,null,null,null,null,null,null,"Profil","0°","45°","90°","135°","180°",null,null,null,null,null,null,null,null,null,null,null,null,null,null,null,null,null,null,null,null,null,null,null,null,null,null,null,null,null,null,null,null,null,null,null,null,null,null,null,null,null,null,null,null,null,null,null,null,null,null,null,null,null,null,null,null,null,null,null,"Poids propre",{"$f":"$C$215*MI197^2*MM87","v":2.0253948749999998E-3},{"$f":"$D$215*MI197^2*MM87","v":3.6902694622499999E-4},{"$f":"$E$215*MI197^2*MM87","v":-2.3121907892999999E-3},{"$f":"$F$215*MI197^2*MM87","v":-1.265871796875E-3},{"$f":"$G$215*MI197^2*MM87","v":6.0761846250000006E-3},null,null,null,null,null,null,null,null,null,null,null,null,null,null,null,null,null,null,null,null,"Poids propre",{"$f":"$C$215*NI197^2*NM87","v":2.302208E-3},{"$f":"$D$215*NI197^2*NM87","v":4.1946229759999999E-4},{"$f":"$E$215*NI197^2*NM87","v":-2.6282006527999996E-3},{"$f":"$F$215*NI197^2*NM87","v":-1.43888E-3},{"$f":"$G$215*NI197^2*NM87","v":6.9066240000000001E-3},null,null,null,null,null,null,null,null,null,null,null,null,null,null,null,null,null,null,null,null,"Poids propre",{"$f":"$C$215*OI197^2*OM87","v":1.897678125E-3},{"$f":"$D$215*OI197^2*OM87","v":3.4575695437500005E-4},{"$f":"$E$215*OI197^2*OM87","v":-2.1663893475E-3},{"$f":"$F$215*OI197^2*OM87","v":-1.1860488281250001E-3},{"$f":"$G$215*OI197^2*OM87","v":5.6930343750000003E-3},null,null,null,null,null,null,null,null,null,null,null,null,null,null,null,null,null,null,null,null,"Poids propre",{"$f":"$C$215*PI197^2*PM87","v":2.0951650000000004E-3},{"$f":"$D$215*PI197^2*PM87","v":3.8173906300000005E-4},{"$f":"$E$215*PI197^2*PM87","v":-2.391840364E-3},{"$f":"$F$215*PI197^2*PM87","v":-1.3094781250000001E-3},{"$f":"$G$215*PI197^2*PM87","v":6.2854950000000003E-3},null,null,null,null,null,null,null,null,null,null,null,null,null,null,null,null,null,null,null,null,"Poids propre",{"$f":"$C$215*QI197^2*QM87","v":2.0951650000000004E-3},{"$f":"$D$215*QI197^2*QM87","v":3.8173906300000005E-4},{"$f":"$E$215*QI197^2*QM87","v":-2.391840364E-3},{"$f":"$F$215*QI197^2*QM87","v":-1.3094781250000001E-3},{"$f":"$G$215*QI197^2*QM87","v":6.2854950000000003E-3},null,null,null,null,null,null,null,null,null,null,null,null,null,null,null,null,null,null,null,null,"Poids propre",{"$f":"$C$215*RI197^2*RM87","v":2.290025375E-3},{"$f":"$D$215*RI197^2*RM87","v":4.1724262332499997E-4},{"$f":"$E$215*RI197^2*RM87","v":-2.6142929680999997E-3},{"$f":"$F$215*RI197^2*RM87","v":-1.4312658593749999E-3},{"$f":"$G$215*RI197^2*RM87","v":6.8700761250000009E-3}]
[null,null,null,null,null,null,null,null,null,null,null,null,null,"U2/V2",{"$f":"O307*$Q$197*$Q$187","v":10.150144805824262},{"$f":"P307*$Q$197*$Q$187","v":4.9878355088106092},0,4.0382751342267795,5.7111086671795857,null,null,null,null,null,null,null,null,null,null,null,null,null,null,null,null,null,null,null,null,null,null,null,null,null,null,null,null,null,null,null,null,null,null,null,null,null,null,null,null,null,null,null,null,null,null,null,null,null,null,null,null,null,null,null,null,null,null,null,null,null,null,null,null,null,null,null,null,null,null,null,null,null,null,null,null,null,null,null,null,null,null,null,null,null,null,null,null,null,null,null,null,null,null,null,null,null,null,null,null,null,null,null,null,null,null,null,null,null,null,null,null,null,null,null,null,null,null,null,null,null,null,null,null,null,null,null,null,null,null,null,null,null,null,null,null,null,null,null,null,null,null,null,null,null,null,null,null,null,null,null,null,null,null,null,null,null,null,null,null,null,null,null,null,null,null,null,null,null,null,null,null,null,null,null,null,null,null,null,null,null,null,null,null,null,null,null,null,null,null,null,null,null,null,null,null,null,null,null,null,null,null,null,null,null,null,null,null,null,null,null,null,null,null,null,null,null,null,null,null,null,null,null,null,null,null,null,null,null,null,null,null,null,null,null,null,null,null,null,null,null,null,null,null,null,null,null,null,null,null,null,null,null,null,null,null,null,null,null,null,null,null,null,null,null,null,null,null,null,null,null,null,null,null,null,null,null,null,"U2/V2",{"$f":"KM307*$KO$197*$KO$187","v":9.4823721212305596},{"$f":"KN307*$KO$197*$KO$187","v":4.6596884358625426},0,3.7725991385539648,5.3353778338125073,null,null,null,null,null,null,null,null,null,null,null,null,null,null,null,null,null,null,null,null,"U2/V2",{"$f":"LM307*$LO$197*$LO$187","v":10.043301176289267},{"$f":"LN307*$LO$197*$LO$187","v":4.9353319771389179},0,3.9957669749191282,5.6509917338408515,null,null,null,null,null,null,null,null,null,null,null,null,null,null,"Eau extérieur",null,null,null,null,null,null,null,null,null,null,null,null,null,null,null,null,null,null,null,null,null,null,null,null,null,"Eau extérieur",null,null,null,null,null,null,null,null,null,null,null,null,null,null,null,null,null,null,null,null,null,null,null,null,null,"Eau extérieur",null,null,null,null,null,null,null,null,null,null,null,null,null,null,null,null,null,null,null,null,null,null,null,null,null,"Eau extérieur",null,null,null,null,null,null,null,null,null,null,null,null,null,null,null,null,null,null,null,null,null,null,null,null,null,"Eau extérieur",null,null,null,null,null,null,null,null,null,null,null,null,null,null,null,null,null,null,null,null,null,null,null,null,null,"Eau extérieur",null,null,null,null,null,null,null,null,null,null,null,null,null,null,null,null,null,null,null,null,null,null,null,null,null,null,null,"0°","45°","90°","135°","180°"]
[null,null,null,null,null,null,null,null,null,null,null,null,null,"U2/V2",{"$f":"O298+O313","v":10.404559311531244},5.1673848981250128,0,4.7875607482914813,8.6289448560733728,null,null,null,null,null,null,null,null,null,null,null,null,"Effort normal",{"$f":"AG265/(AJ316*10^3)","v":1.0319216729781595},{"$f":"AH265/(AJ316*10^3)","v":1.3134421174012054},{"$f":"AI265/(AJ316*10^3)","v":1.3377941547565855},{"$f":"AJ265/(AJ316*10^3)","v":1.3146562843478016},{"$f":"AK265/(AJ316*10^3)","v":1.0325032591021408},null,null,null,null,null,null,null,"Type","C16/20","C20/25","C25/30","C30/37",null,null,null,null,null,null,null,null,"Effort normal",{"$f":"BG265/(BJ316*10^3)","v":0.90586704390081663},{"$f":"BH265/(BJ316*10^3)","v":1.1664377782595921},{"$f":"BI265/(BJ316*10^3)","v":1.2013554176982484},{"$f":"BJ265/(BJ316*10^3)","v":1.1676475608014285},{"$f":"BK265/(BJ316*10^3)","v":0.90644652989435281},null,null,null,null,null,null,null,"Type","C16/20","C20/25","C25/30","C30/37",null,null,null,null,null,null,null,null,"Effort normal",{"$f":"CG265/(CJ316*10^3)","v":0.78650358407081922},{"$f":"CH265/(CJ316*10^3)","v":1.0291562853508989},{"$f":"CI265/(CJ316*10^3)","v":1.0759977217925492},{"$f":"CJ265/(CJ316*10^3)","v":1.0303610571444393},{"$f":"CK265/(CJ316*10^3)","v":0.78708066991527526},null,null,null,null,null,null,null,"Type","C16/20","C20/25","C25/30","C30/37",null,null,null,null,null,null,null,null,"Effort normal",{"$f":"DG265/(DJ316*10^3)","v":0.61665638159681135},{"$f":"DH265/(DJ316*10^3)","v":0.83748308504928504},{"$f":"DI265/(DJ316*10^3)","v":0.90496032994153841},{"$f":"DJ265/(DJ316*10^3)","v":0.83867877486153786},{"$f":"DK265/(DJ316*10^3)","v":0.61722911717105966},null,null,null,null,null,null,null,"Type","C16/20","C20/25","C25/30","C30/37",null,null,null,null,null,null,null,null,"Effort normal",{"$f":"EG265/(EJ316*10^3)","v":1.5907050111036547},{"$f":"EH265/(EJ316*10^3)","v":2.0177408081665726},{"$f":"EI265/(EJ316*10^3)","v":2.048094718699355},{"$f":"EJ265/(EJ316*10^3)","v":2.0192451461551451},{"$f":"EK265/(EJ316*10^3)","v":1.5914255891941589},null,null,null,null,null,null,null,"Type","C16/20","C20/25","C25/30","C30/37",null,null,null,null,null,null,null,null,"Effort normal",{"$f":"FG265/(FJ316*10^3)","v":1.2399685137977801},{"$f":"FH265/(FJ316*10^3)","v":1.6138899860171512},{"$f":"FI265/(FJ316*10^3)","v":1.6789548452455176},{"$f":"FJ265/(FJ316*10^3)","v":1.6155770075373665},{"$f":"FK265/(FJ316*10^3)","v":1.2407765973234977},null,null,null,null,null,null,null,"Type","C16/20","C20/25","C25/30","C30/37",null,null,null,null,null,null,null,null,"Effort normal",{"$f":"GG265/(GJ316*10^3)","v":0.96771771000478812},{"$f":"GH265/(GJ316*10^3)","v":1.3068106256889989},{"$f":"GI265/(GJ316*10^3)","v":1.4051140356830769},{"$f":"GJ265/(GJ316*10^3)","v":1.3084893655557797},{"$f":"GK265/(GJ316*10^3)","v":0.96852182661744279},null,null,null,null,null,null,null,"Type","C16/20","C20/25","C25/30","C30/37",null,null,null,null,null,null,null,null,"Effort normal",{"$f":"HG265/(HJ316*10^3)","v":1.044985282599644},{"$f":"HH265/(HJ316*10^3)","v":1.322542614182135},{"$f":"HI265/(HJ316*10^3)","v":1.3396114241556878},{"$f":"HJ265/(HJ316*10^3)","v":1.323680106240736},{"$f":"HK265/(HJ316*10^3)","v":1.0455301414423885},null,null,null,null,null,null,null,"Type","C16/20","C20/25","C25/30","C30/37",null,null,null,null,null,null,null,null,"Effort normal",{"$f":"IG265/(IJ316*10^3)","v":0.80025588097220257},{"$f":"IH265/(IJ316*10^3)","v":1.0368539252520506},{"$f":"II265/(IJ316*10^3)","v":1.0741487216435295},{"$f":"IJ265/(IJ316*10^3)","v":1.0379824919152481},{"$f":"IK265/(IJ316*10^3)","v":0.80079646454939801},null,null,null,null,null,null,null,"Type","C16/20","C20/25","C25/30","C30/37",null,null,null,null,null,null,null,null,"Effort normal",{"$f":"JG265/(JJ316*10^3)","v":0.59472678124195821},{"$f":"JH265/(JJ316*10^3)","v":0.80376208630218759},{"$f":"JI265/(JJ316*10^3)","v":0.86487648209804757},{"$f":"JJ265/(JJ316*10^3)","v":0.80487974414878116},{"$f":"JK265/(JJ316*10^3)","v":0.59526213949459394},null,null,null,null,null,null,null,"Type","C16/20","C20/25","C25/30","C30/37",null,null,null,null,null,null,null,null,null,null,null,null,null,null,"U2/V2",{"$f":"KM298+KM313","v":9.7200488305094517},4.8274253653536299,0,4.4725896464301993,8.0612511155422304,null,null,null,null,null,null,null,null,null,null,null,null,null,null,null,null,null,null,null,null,"U2/V2",{"$f":"LM298+LM313","v":10.295037634567754},5.1129913728815914,0,4.7371653719936742,8.538113857588387,null,null,null,null,null,null,null,null,null,null,null,null,null,null,"Charge sommet",null,null,null,null,null,"Cas de charge",null,null,null,null,null,null,"αki",{"$f":"IF(1+MT34/(3*MU34)<1.025,1,1+MT34/(3*MU34))","v":1.194601381042059},null,"A",{"$f":"MT34*1000/(1000^2)","v":0.155},"[m2]",null,null,null,null,null,null,null,"Charge sommet",null,null,null,null,null,"Cas de charge",null,null,null,null,null,null,"αki",{"$f":"IF(1+NT34/(3*NU34)<1.025,1,1+NT34/(3*NU34))","v":1.194601381042059},null,"A",{"$f":"NT34*1000/(1000^2)","v":0.155},"[m2]",null,null,null,null,null,null,null,"Charge sommet",null,null,null,null,null,"Cas de charge",null,null,null,null,null,null,"αki",{"$f":"IF(1+OT34/(3*OU34)<1.025,1,1+OT34/(3*OU34))","v":1.2109704641350212},null,"A",{"$f":"OT34*1000/(1000^2)","v":0.15},"[m2]",null,null,null,null,null,null,null,"Charge sommet",null,null,null,null,null,"Cas de charge",null,null,null,null,null,null,"αki",{"$f":"IF(1+PT34/(3*PU34)<1.025,1,1+PT34/(3*PU34))","v":1.2109704641350212},null,"A",{"$f":"PT34*1000/(1000^2)","v":0.15},"[m2]",null,null,null,null,null,null,null,"Charge sommet",null,null,null,null,null,"Cas de charge",null,null,null,null,null,null,"αki",{"$f":"IF(1+QT34/(3*QU34)<1.025,1,1+QT34/(3*QU34))","v":1.2109704641350212},null,"A",{"$f":"QT34*1000/(1000^2)","v":0.15},"[m2]",null,null,null,null,null,null,null,"Charge sommet",null,null,null,null,null,"Cas de charge",null,null,null,null,null,null,"αki",{"$f":"IF(1+RT34/(3*RU34)<1.025,1,1+RT34/(3*RU34))","v":1.2109704641350212},null,"A",{"$f":"RT34*1000/(1000^2)","v":0.15},"[m2]",null,null,null,null,null,null,null,"15.6 Somme des moments de flexion totale"]
[null,null,null,null,null,null,null,null,null,null,null,null,null,"U2/V2",{"$f":"O322+O268","v":9.8024489242448549},15.406447732345695,21.404692524005128,17.62783795120415,9.2310552433597621,{"$f":"T268","v":43.322091770141967},null,null,null,null,null,null,null,null,null,null,null,null,null,null,null,null,null,null,null,null,null,null,null,null,"Moment intérieur",{"$f":"-AT312/(AW317*10^3)*AT316","v":-0.40896141686547938},{"$f":"-AU312/(AW317*10^3)*AT316","v":-2.8502066099299938E-3},{"$f":"-AV312/(AW317*10^3)*AT316","v":0.41302073566066577},{"$f":"-AW312/(AW317*10^3)*AT316","v":2.843228659424441E-3},{"$f":"-AX312/(AW317*10^3)*AT316","v":-0.41708996708802953},null,null,null,null,null,null,null,null,null,null,null,null,null,null,null,null,null,null,null,null,"Moment intérieur",{"$f":"-BT312/(BW317*10^3)*BT316","v":-0.40902184556561677},{"$f":"-BU312/(BW317*10^3)*BT316","v":4.885625371185965E-3},{"$f":"-BV312/(BW317*10^3)*BT316","v":0.41308955316035595},{"$f":"-BW312/(BW317*10^3)*BT316","v":2.8491043436242275E-3},{"$f":"-BX312/(BW317*10^3)*BT316","v":-0.4171671938722577},null,null,null,null,null,null,null,null,null,null,null,null,null,null,null,null,null,null,null,null,"Moment intérieur",{"$f":"-CT312/(CW317*10^3)*CT316","v":-0.40909035296898105},{"$f":"-CU312/(CW317*10^3)*CT316","v":4.8970479590553393E-3},{"$f":"-CV312/(CW317*10^3)*CT316","v":0.41316757086053951},{"$f":"-CW312/(CW317*10^3)*CT316","v":2.855765547102161E-3},{"$f":"-CX312/(CW317*10^3)*CT316","v":-0.41725474509287996},null,null,null,null,null,null,null,null,null,null,null,null,null,null,null,null,null,null,null,null,"Moment intérieur",{"$f":"-DT312/(DW317*10^3)*DT316","v":-0.40921301653647718},{"$f":"-DU312/(DW317*10^3)*DT316","v":4.9175002796701933E-3},{"$f":"-DV312/(DW317*10^3)*DT316","v":0.41330726276188762},{"$f":"-DW312/(DW317*10^3)*DT316","v":2.8676925351689229E-3},{"$f":"-DX312/(DW317*10^3)*DT316","v":-0.41741150691032985},null,null,null,null,null,null,null,null,null,null,null,null,null,null,null,null,null,null,null,null,"Moment intérieur",{"$f":"-ET312/(EW317*10^3)*ET316","v":-0.34698322816192551},{"$f":"-EU312/(EW317*10^3)*ET316","v":3.6830904027752506E-3},{"$f":"-EV312/(EW317*10^3)*ET316","v":0.35004972091674014},{"$f":"-EW312/(EW317*10^3)*ET316","v":2.1478333001944297E-3},{"$f":"-EX312/(EW317*10^3)*ET316","v":-0.35312370187740588},null,null,null,null,null,null,null,null,null,null,null,null,null,null,null,null,null,null,null,null,"Moment intérieur",{"$f":"-FT312/(FW317*10^3)*FT316","v":-0.3963921935130767},{"$f":"-FU312/(FW317*10^3)*FT316","v":4.3134015952656854E-3},{"$f":"-FV312/(FW317*10^3)*FT316","v":0.39998347509837867},{"$f":"-FW312/(FW317*10^3)*FT316","v":2.5154059689771668E-3},{"$f":"-FX312/(FW317*10^3)*FT316","v":-0.40358352639485495},null,null,null,null,null,null,null,null,null,null,null,null,null,null,null,null,null,null,null,null,"Moment intérieur",{"$f":"-GT312/(GW317*10^3)*GT316","v":-0.39650337309538408},{"$f":"-GU312/(GW317*10^3)*GT316","v":4.3319391326093826E-3},{"$f":"-GV312/(GW317*10^3)*GT316","v":0.40011008879110405},{"$f":"-GW312/(GW317*10^3)*GT316","v":2.5262163308353899E-3},{"$f":"-GX312/(GW317*10^3)*GT316","v":-0.40372561188724304},null,null,null,null,null,null,null,null,null,null,null,null,null,null,null,null,null,null,null,null,"Moment intérieur",{"$f":"-HT312/(HW317*10^3)*HT316","v":-0.39630113249785154},{"$f":"-HU312/(HW317*10^3)*HT316","v":4.2982185289574407E-3},{"$f":"-HV312/(HW317*10^3)*HT316","v":0.39987977286131554},{"$f":"-HW312/(HW317*10^3)*HT316","v":2.5065518025436323E-3},{"$f":"-HX312/(HW317*10^3)*HT316","v":-0.40346715206678868},null,null,null,null,null,null,null,null,null,null,null,null,null,null,null,null,null,null,null,null,"Moment intérieur",{"$f":"-IT312/(IW317*10^3)*IT316","v":-0.39641902791147532},{"$f":"-IU312/(IW317*10^3)*IT316","v":4.3178758310208889E-3},{"$f":"-IV312/(IW317*10^3)*IT316","v":0.40001403468677421},{"$f":"-IW312/(IW317*10^3)*IT316","v":2.5180151670954128E-3},{"$f":"-IX312/(IW317*10^3)*IT316","v":-0.4036178202699558},null,null,null,null,null,null,null,null,null,null,null,null,null,null,null,null,null,null,null,null,"Moment intérieur",{"$f":"-JT312/(JW317*10^3)*JT316","v":-0.39656050637136098},{"$f":"-JU312/(JW317*10^3)*JT316","v":4.3414652543577624E-3},{"$f":"-JV312/(JW317*10^3)*JT316","v":0.40017515339108573},{"$f":"-JW312/(JW317*10^3)*JT316","v":2.5317715899453607E-3},{"$f":"-JX312/(JW317*10^3)*JT316","v":-0.40379862717908427},null,null,null,null,null,null,null,null,null,null,null,null,null,"U2/V2",{"$f":"KM322+KM268","v":9.1709026914515661},14.372657780400942,19.912617132557422,16.391480444644269,8.610397254600116,{"$f":"KR268","v":40.13646719451549},null,null,null,null,null,null,null,null,null,null,null,null,null,null,null,null,null,null,null,"U2/V2",{"$f":"LM322+LM268","v":9.704315958204802},15.236630341437651,21.147652787373488,17.413293565892914,9.1288355339513387,{"$f":"LR268","v":42.739161313286537},null,null,null,null,null,null,null,null,null,null,null,null,null,null,"0°","45°","90°","135°","180°","Cas de charge",null,null,null,null,null,null,"σadm",{"$f":"HLOOKUP(Données!$AE$50,Calculs!MT328:MW329,2)","v":-0.3},null,null,null,null,null,null,null,null,null,null,null,null,"0°","45°","90°","135°","180°","Cas de charge",null,null,null,null,null,null,"σadm",{"$f":"HLOOKUP(Données!$AE$50,Calculs!NT328:NW329,2)","v":-0.3},null,null,null,null,null,null,null,null,null,null,null,null,"0°","45°","90°","135°","180°","Cas de charge",null,null,null,null,null,null,"σadm",{"$f":"HLOOKUP(Données!$AE$50,Calculs!OT328:OW329,2)","v":-0.3},null,null,null,null,null,null,null,null,null,null,null,null,"0°","45°","90°","135°","180°","Cas de charge",null,null,null,null,null,null,"σadm",{"$f":"HLOOKUP(Données!$AE$50,Calculs!PT328:PW329,2)","v":-0.3},null,null,null,null,null,null,null,null,null,null,null,null,"0°","45°","90°","135°","180°","Cas de charge",null,null,null,null,null,null,"σadm",{"$f":"HLOOKUP(Données!$AE$50,Calculs!QT328:QW329,2)","v":-0.3},null,null,null,null,null,null,null,null,null,null,null,null,"0°","45°","90°","135°","180°","Cas de charge",null,null,null,null,null,null,"σadm",{"$f":"HLOOKUP(Données!$AE$50,Calculs!RT328:RW329,2)","v":-0.3}]
[null,null,null,null,null,null,null,null,null,null,null,null,null,null,null,null,null,null,null,null,null,null,null,null,null,null,null,null,null,null,null,null,null,null,null,null,null,null,null,null,null,null,null,null,null,null,null,null,null,null,null,null,null,null,null,null,null,null,null,null,null,null,null,null,null,null,null,null,null,null,null,null,null,null,null,null,null,null,null,null,null,null,null,null,null,null,null,null,null,null,null,null,null,null,null,null,null,null,null,null,null,null,null,null,null,null,null,null,null,null,null,null,null,null,null,null,null,null,null,null,null,null,null,null,null,null,null,null,null,null,null,null,null,null,null,null,null,null,null,null,null,null,null,null,null,null,null,null,null,null,null,null,null,null,null,null,null,null,null,null,null,null,null,null,null,null,null,null,null,null,null,null,null,null,null,null,null,null,null,null,null,null,null,null,null,null,null,null,null,null,null,null,null,null,null,null,null,null,null,null,null,null,null,null,null,null,null,null,null,null,null,null,null,null,null,null,null,null,null,null,null,null,null,null,null,null,null,null,null,null,null,null,null,null,null,null,null,null,null,null,null,null,null,null,null,null,null,null,null,null,null,null,null,null,null,null,null,null,null,null,null,null,null,null,null,null,null,null,null,null,null,null,null,null,null,null,null,null,null,null,null,null,null,null,null,null,null,null,null,null,null,null,null,null,null,null,null,null,null,null,null,null,null,null,null,null,null,null,null,null,null,null,null,null,null,null,null,null,null,null,null,null,null,null,null,null,null,null,null,null,null,null,null,null,null,null,null,null,null,null,null,null,null,"17.3 Moments de flexion à long terme (actions horizontales)",null,null,null,null,null,null,null,null,null,null,null,null,"Conraintes intérieur",{"$f":"MT335+MT337","v":-0.28532601740889652},{"$f":"MU335+MU337","v":0.18620930124392532},0.67039555562137454,0.19611126518196326,-0.29081983765326491,null,null,null,null,null,null,null,"17.3 Moments de flexion à long terme (actions horizontales)",null,null,null,null,null,null,null,null,null,null,null,null,"Conraintes intérieur",{"$f":"NT335+NT337","v":-0.28541312314733908},{"$f":"NU335+NU337","v":0.18620979199505017},0.67052209254540762,0.19614185073288462,-0.29092364062686288,null,null,null,null,null,null,null,"17.3 Moments de flexion à long terme (actions horizontales)",null,null,null,null,null,null,null,null,null,null,null,null,"Conraintes intérieur",{"$f":"OT335+OT337","v":-0.24233559661204734},{"$f":"OU335+OU337","v":0.17533622451747402},0.60383067623607412,0.18391415852130211,-0.2468215097748625,null,null,null,null,null,null,null,"17.3 Moments de flexion à long terme (actions horizontales)",null,null,null,null,null,null,null,null,null,null,null,null,"Conraintes intérieur",{"$f":"PT335+PT337","v":-0.24240689109013352},{"$f":"PU335+PU337","v":0.17533711616118502},0.60393573593450944,0.18394039879977489,-0.24690606056551623,null,null,null,null,null,null,null,"17.3 Moments de flexion à long terme (actions horizontales)",null,null,null,null,null,null,null,null,null,null,null,null,"Conraintes intérieur",{"$f":"QT335+QT337","v":-0.24240689109013352},{"$f":"QU335+QU337","v":0.17533711616118502},0.60393573593450944,0.18394039879977489,-0.24690606056551623,null,null,null,null,null,null,null,"17.3 Moments de flexion à long terme (actions horizontales)",null,null,null,null,null,null,null,null,null,null,null,null,"Conraintes intérieur",{"$f":"RT335+RT337","v":-0.24247771806344542},{"$f":"RU335+RU337","v":0.17533800195805199},0.60404010671688946,0.18396646701084779,-0.24699005692475562]
[]
[null,null,null,null,null,null,null,null,null,null,null,null,null,"U1/V1",{"$f":"O351*$I$210*$Q$187^2","v":1.1159064683259492},{"$f":"P351*$I$210*$Q$187^2","v":6.8206707983850604E-2},-1.1431146086692336,-0.33097025513475048,2.188578083503665,null,null,null,null,null,null,null,null,null,null,null,null,null,null,null,null,null,null,null,null,null,null,null,null,null,null,null,null,null,null,null,null,null,null,null,null,null,null,null,null,null,null,null,null,null,null,null,null,null,null,null,null,null,null,null,null,null,null,null,null,null,null,null,null,null,null,null,null,null,null,null,null,null,null,null,null,null,null,null,null,null,null,null,null,null,null,null,null,null,null,null,null,null,null,null,null,null,null,null,null,null,null,null,null,null,null,null,null,null,null,null,null,null,null,null,null,null,null,null,null,null,null,null,null,null,null,null,null,null,null,null,null,null,null,null,null,null,null,null,null,null,null,null,null,null,null,null,null,null,null,null,null,null,null,null,null,null,null,null,null,null,null,null,null,null,null,null,null,null,null,null,null,null,null,null,null,null,null,null,null,null,null,null,null,null,null,null,null,null,null,null,null,null,null,null,null,null,null,null,null,null,null,null,null,null,null,null,null,null,null,null,null,null,null,null,null,null,null,null,null,null,null,null,null,null,null,null,null,null,null,null,null,null,null,null,null,null,null,null,null,null,null,null,null,null,null,null,null,null,null,null,null,null,null,null,null,null,null,null,null,null,null,null,null,null,null,null,null,null,null,null,null,null,null,null,null,null,null,"U1/V1",{"$f":"KM351*$KG$210*$KO$187^2","v":1.0041646731714058},{"$f":"KN351*$KG$210*$KO$187^2","v":6.1376798660777311E-2},-1.0286483141672349,-0.29782840005885386,1.9694238346234119,null,null,null,null,null,null,null,null,null,null,null,null,null,null,null,null,null,null,null,null,"U1/V1",{"$f":"LM351*$LG$210*$LO$187^2","v":1.0976650251285462},{"$f":"LN351*$LG$210*$LO$187^2","v":6.7091750032907127E-2},-1.1244284008247332,-0.3255599673727953,2.1528019464110972,null,null,null,null,null,null,null,null,null,null,null,null,null,null,"Réaction d'appui",{"$f":"MG283","v":8.1570402000000009},null,null,null,null,null,null,null,null,null,null,null,null,null,null,null,null,null,null,null,null,null,null,null,null,"Réaction d'appui",{"$f":"NG283","v":8.1349344000000006},null,null,null,null,null,null,null,null,null,null,null,null,null,null,null,null,null,null,null,null,null,null,null,null,"Réaction d'appui",{"$f":"OG283","v":7.1622791999999995},null,null,null,null,null,null,null,null,null,null,null,null,null,null,null,null,null,null,null,null,null,null,null,null,"Réaction d'appui",{"$f":"PG283","v":7.1622791999999995},null,null,null,null,null,null,null,null,null,null,null,null,null,null,null,null,null,null,null,null,null,null,null,null,"Réaction d'appui",{"$f":"QG283","v":7.1622791999999995},null,null,null,null,null,null,null,null,null,null,null,null,null,null,null,null,null,null,null,null,null,null,null,null,"Réaction d'appui",{"$f":"RG283","v":7.1622791999999995}]
[null,null,null,null,null,null,null,null,null,null,null,null,null,"pu",{"$f":"O364/(2*$Q$187*SIN(O365))","v":263.96559580345439},{"$f":"P364/(2*$Q$187*SIN(P365))","v":147.12953732558313},121.09522196215208,97.544715382828144,112.16836953671903,null,null,null,null,null,null,null,null,null,null,null,null,null,null,null,null,null,null,null,null,null,null,null,null,null,null,null,null,null,null,null,null,null,null,null,null,null,null,null,null,null,null,null,null,null,null,null,null,null,null,null,null,null,null,null,null,null,null,null,null,null,null,null,null,null,null,null,null,null,null,null,null,null,null,null,null,null,null,null,null,null,null,null,null,null,null,null,null,null,null,null,null,null,null,null,null,null,null,null,null,null,null,null,null,null,null,null,null,null,null,null,null,null,null,null,null,null,null,null,null,null,null,null,null,null,null,null,null,null,null,null,null,null,null,null,null,null,null,null,null,null,null,null,null,null,null,null,null,null,null,null,null,null,null,null,null,null,null,null,null,null,null,null,null,null,null,null,null,null,null,null,null,null,null,null,null,null,null,null,null,null,null,null,null,null,null,null,null,null,null,null,null,null,null,null,null,null,null,null,null,null,null,null,null,null,null,null,null,null,null,null,null,null,null,null,null,null,null,null,null,null,null,null,null,null,null,null,null,null,null,null,null,null,null,null,null,null,null,null,null,null,null,null,null,null,null,null,null,null,null,null,null,null,null,null,null,null,null,null,null,null,null,null,null,null,null,null,null,null,null,null,null,null,null,null,null,null,null,"pu",{"$f":"KM364/(2*$KO$187*SIN(KM365))","v":253.96285515876193},{"$f":"KN364/(2*$KO$187*SIN(KN365))","v":141.5132832920556},116.42192242946761,93.581053452975866,107.76405912894717,null,null,null,null,null,null,null,null,null,null,null,null,null,null,null,null,null,null,null,null,"pu",{"$f":"LM364/(2*$LO$187*SIN(LM365))","v":261.98155834992701},{"$f":"LN364/(2*$LO$187*SIN(LN365))","v":146.00867626724747},{"$f":"LO364/(2*$LO$187*SIN(LO365))","v":120.15406391402234},{"$f":"LP364/(2*$LO$187*SIN(LP365))","v":96.713572158332738},{"$f":"LQ364/(2*$LO$187*SIN(LQ365))","v":111.26891276120887},null,null,null,null,null,null,null,null,null,null,null,null,null,null,"18.2 Somme des moments de flexion à court terme (actions verticales)",null,null,null,null,null,null,null,null,null,null,null,null,null,null,null,null,null,null,null,null,null,null,null,null,null,"18.2 Somme des moments de flexion à court terme (actions verticales)",null,null,null,null,null,null,null,null,null,null,null,null,null,null,null,null,null,null,null,null,null,null,null,null,null,"18.2 Somme des moments de flexion à court terme (actions verticales)",null,null,null,null,null,null,null,null,null,null,null,null,null,null,null,null,null,null,null,null,null,null,null,null,null,"18.2 Somme des moments de flexion à court terme (actions verticales)",null,null,null,null,null,null,null,null,null,null,null,null,null,null,null,null,null,null,null,null,null,null,null,null,null,"18.2 Somme des moments de flexion à court terme (actions verticales)",null,null,null,null,null,null,null,null,null,null,null,null,null,null,null,null,null,null,null,null,null,null,null,null,null,"18.2 Somme des moments de flexion à court terme (actions verticales)"]
[null,null,null,null,null,null,null,null,null,null,null,null,null,null,null,null,null,null,null,null,null,null,null,null,null,null,null,null,null,null,null,null,null,null,null,null,null,null,null,null,null,null,null,null,null,null,null,null,null,null,null,null,null,null,null,null,null,null,null,null,null,null,null,null,null,null,null,null,null,null,null,null,null,null,null,null,null,null,null,null,null,null,null,null,null,null,null,null,null,null,null,null,null,null,null,null,null,null,null,null,null,null,null,null,null,null,null,null,null,null,null,null,null,null,null,null,null,null,null,null,null,null,null,null,null,null,null,null,null,null,null,null,null,null,null,null,null,null,null,null,null,null,null,null,null,null,null,null,null,null,null,null,null,null,null,null,null,null,null,null,null,null,null,null,null,null,null,null,null,null,null,null,null,null,null,null,null,null,null,null,null,null,null,null,null,null,null,null,null,null,null,null,null,null,null,null,null,null,null,null,null,null,null,null,null,null,null,null,null,null,null,null,null,null,null,null,null,null,null,null,null,null,null,null,null,null,null,null,null,null,null,null,null,null,null,null,null,null,null,null,null,null,null,null,null,null,null,null,null,null,null,null,null,null,null,null,null,null,null,null,null,null,null,null,null,null,null,null,null,null,null,null,null,null,null,null,null,null,null,null,null,null,null,null,null,null,null,null,null,null,null,null,null,null,null,null,null,null,null,null,null,null,null,null,null,null,null,null,null,null,null,null,null,null,null,null,null,null,null,null,null,null,null,null,null,null,null,null,null,null,null,null,null,null,null,null,null,null,null,null,null,null,null,"Profil","0°","45°","90°","135°","180°",null,null,null,null,null,null,null,null,null,null,null,null,null,null,null,null,null,null,null,null,"Profil","0°","45°","90°","135°","180°",null,null,null,null,null,null,null,null,null,null,null,null,null,null,null,null,null,null,null,null,"Profil","0°","45°","90°","135°","180°",null,null,null,null,null,null,null,null,null,null,null,null,null,null,null,null,null,null,null,null,"Profil","0°","45°","90°","135°","180°",null,null,null,null,null,null,null,null,null,null,null,null,null,null,null,null,null,null,null,null,"Profil","0°","45°","90°","135°","180°",null,null,null,null,null,null,null,null,null,null,null,null,null,null,null,null,null,null,null,null,"Profil","0°","45°","90°","135°","180°"]
[null,null,null,null,null,null,null,null,null,null,null,null,null,"U2/V2",{"$f":"O370*$P$250*$Q$187^2","v":-0.13989223538453771},{"$f":"P370*$P$250*$Q$187^2","v":-5.4000954084608782E-2},0.15307357063353672,0.30657234562994434,-1.1480517797515253,null,null,null,null,null,null,null,null,null,null,null,null,null,null,null,null,null,null,null,null,null,null,null,null,null,null,null,null,null,null,null,null,null,null,null,null,null,null,null,null,null,null,null,null,null,null,null,null,null,null,null,null,null,null,null,null,null,null,null,null,null,null,null,null,null,null,null,null,null,null,null,null,null,null,null,null,null,null,null,null,null,null,null,null,null,null,null,null,null,null,null,null,null,null,null,null,null,null,null,null,null,null,null,null,null,null,null,null,null,null,null,null,null,null,null,null,null,null,null,null,null,null,null,null,null,null,null,null,null,null,null,null,null,null,null,null,null,null,null,null,null,null,null,null,null,null,null,null,null,null,null,null,null,null,null,null,null,null,null,null,null,null,null,null,null,null,null,null,null,null,null,null,null,null,null,null,null,null,null,null,null,null,null,null,null,null,null,null,null,null,null,null,null,null,null,null,null,null,null,null,null,null,null,null,null,null,null,null,null,null,null,null,null,null,null,null,null,null,null,null,null,null,null,null,null,null,null,null,null,null,null,null,null,null,null,null,null,null,null,null,null,null,null,null,null,null,null,null,null,null,null,null,null,null,null,null,null,null,null,null,null,null,null,null,null,null,null,null,null,null,null,null,null,null,null,null,null,null,"U2/V2",{"$f":"KM370*$KN$250*$KO$187^2","v":-0.12484056414924438},{"$f":"KN370*$KN$250*$KO$187^2","v":-4.8190734489221988E-2},0.13660365681984185,0.27358676824196104,-1.0245274261488142,null,null,null,null,null,null,null,null,null,null,null,null,null,null,null,null,null,null,null,null,"U2/V2",{"$f":"LM370*$LN$250*$LO$187^2","v":-0.13719806011438532},{"$f":"LN370*$LN$250*$LO$187^2","v":-5.2960953296434458E-2},0.15012553690327879,0.30066808918684446,-1.1259415267745909]
[null,null,null,null,null,null,null,null,null,null,null,null,null,"U3/V3",0.76197371807788628,-1.4045983807883494E-2,-0.73515727028769318,9.1738961969496657E-3,0.72664606389315634,null,null,null,null,null,null,null,null,null,null,null,null,null,null,null,null,null,null,null,null,null,null,null,null,null,null,null,null,null,null,null,null,null,null,null,null,null,null,null,null,null,null,null,null,null,null,null,null,null,null,null,null,null,null,null,null,null,null,null,null,null,null,null,null,null,null,null,null,null,null,null,null,null,null,null,null,null,null,null,null,null,null,null,null,null,null,null,null,null,null,null,null,null,null,null,null,null,null,null,null,null,null,null,null,null,null,null,null,null,null,null,null,null,null,null,null,null,null,null,null,null,null,null,null,null,null,null,null,null,null,null,null,null,null,null,null,null,null,null,null,null,null,null,null,null,null,null,null,null,null,null,null,null,null,null,null,null,null,null,null,null,null,null,null,null,null,null,null,null,null,null,null,null,null,null,null,null,null,null,null,null,null,null,null,null,null,null,null,null,null,null,null,null,null,null,null,null,null,null,null,null,null,null,null,null,null,null,null,null,null,null,null,null,null,null,null,null,null,null,null,null,null,null,null,null,null,null,null,null,null,null,null,null,null,null,null,null,null,null,null,null,null,null,null,null,null,null,null,null,null,null,null,null,null,null,null,null,null,null,null,null,null,null,null,null,null,null,null,null,null,null,null,null,null,null,null,null,null,"U3/V3",0.68265838955150271,-1.2933336363368145E-2,-0.65810870709310509,8.548398012800329E-3,0.65003024048322744,null,null,null,null,null,null,null,null,null,null,null,null,null,null,null,null,null,null,null,null,"U3/V3",0.74834093879059416,-1.3931100778319404E-2,-0.72179946184858224,9.1383750935580543E-3,0.71326359612006396]
[null,null,null,null,null,null,null,null,null,null,null,null,null,"Pression d'appui 1 (KSt)",null,null,null,null,null,"Cas de charge",null,null,null,null,null,null,null,null,null,null,null,null,null,null,null,null,null,null,null,null,null,null,null,null,null,null,null,null,null,null,null,null,null,null,null,null,null,null,null,null,null,null,null,null,null,null,null,null,null,null,null,null,null,null,null,null,null,null,null,null,null,null,null,null,null,null,null,null,null,null,null,null,null,null,null,null,null,null,null,null,null,null,null,null,null,null,null,null,null,null,null,null,null,null,null,null,null,null,null,null,null,null,null,null,null,null,null,null,null,null,null,null,null,null,null,null,null,null,null,null,null,null,null,null,null,null,null,null,null,null,null,null,null,null,null,null,null,null,null,null,null,null,null,null,null,null,null,null,null,null,null,null,null,null,null,null,null,null,null,null,null,null,null,null,null,null,null,null,null,null,null,null,null,null,null,null,null,null,null,null,null,null,null,null,null,null,null,null,null,null,null,null,null,null,null,null,null,null,null,null,null,null,null,null,null,null,null,null,null,null,null,null,null,null,null,null,null,null,null,null,null,null,null,null,null,null,null,null,null,null,null,null,null,null,null,null,null,null,null,null,null,null,null,null,null,null,null,null,null,null,null,null,null,null,null,null,null,null,null,null,null,null,null,null,null,null,null,null,null,null,null,null,null,null,null,null,null,"Pression d'appui 1 (KSt)",null,null,null,null,null,"Cas de charge",null,null,null,null,null,null,null,null,null,null,null,null,null,null,null,null,null,null,null,"Pression d'appui 1 (KSt)",null,null,null,null,null,"Cas de charge"]
[null,null,null,null,null,null,null,null,null,null,null,null,null,"U2/V2",-0.23150000000000001,6.7000000000000002E-3,0.22839999999999999,-2.8500000000000001E-2,-0.1867,24,null,null,null,null,null,null,null,null,null,null,null,null,null,null,null,null,null,null,null,null,null,null,null,null,null,null,null,null,null,null,null,null,null,null,null,null,null,null,null,null,null,null,null,null,null,null,null,null,null,null,null,null,null,null,null,null,null,null,null,null,null,null,null,null,null,null,null,null,null,null,null,null,null,null,null,null,null,null,null,null,null,null,null,null,null,null,null,null,null,null,null,null,null,null,null,null,null,null,null,null,null,null,null,null,null,null,null,null,null,null,null,null,null,null,null,null,null,null,null,null,null,null,null,null,null,null,null,null,null,null,null,null,null,null,null,null,null,null,null,null,null,null,null,null,null,null,null,null,null,null,null,null,null,null,null,null,null,null,null,null,null,null,null,null,null,null,null,null,null,null,null,null,null,null,null,null,null,null,null,null,null,null,null,null,null,null,null,null,null,null,null,null,null,null,null,null,null,null,null,null,null,null,null,null,null,null,null,null,null,null,null,null,null,null,null,null,null,null,null,null,null,null,null,null,null,null,null,null,null,null,null,null,null,null,null,null,null,null,null,null,null,null,null,null,null,null,null,null,null,null,null,null,null,null,null,null,null,null,null,null,null,null,null,null,null,null,null,null,null,null,null,null,null,null,null,null,null,"U2/V2",-0.23150000000000001,6.7000000000000002E-3,0.22839999999999999,-2.8500000000000001E-2,-0.1867,24,null,null,null,null,null,null,null,null,null,null,null,null,null,null,null,null,null,null,null,"U2/V2",-0.23150000000000001,6.7000000000000002E-3,0.22839999999999999,-2.8500000000000001E-2,-0.1867,24,null,null,null,null,null,null,null,null,null,null,null,null,null,"22. Contraintes Profil d'enrobage U1/V1 à court terme (avec effet de courbure)",null,null,null,null,null,null,null,null,null,null,null,null,null,null,null,null,null,null,null,null,null,null,null,null,null,"22. Contraintes Profil d'enrobage U1/V1 à court terme (avec effet de courbure)",null,null,null,null,null,null,null,null,null,null,null,null,null,null,null,null,null,null,null,null,null,null,null,null,null,"22. Contraintes Profil d'enrobage U1/V1 à court terme (avec effet de courbure)",null,null,null,null,null,null,null,null,null,null,null,null,null,null,null,null,null,null,null,null,null,null,null,null,null,"22. Contraintes Profil d'enrobage U1/V1 à court terme (avec effet de courbure)",null,null,null,null,null,null,null,null,null,null,null,null,null,null,null,null,null,null,null,null,null,null,null,null,null,"22. Contraintes Profil d'enrobage U1/V1 à court terme (avec effet de courbure)",null,null,null,null,null,null,null,null,null,null,null,null,null,null,null,null,null,null,null,null,null,null,null,null,null,"22. Contraintes Profil d'enrobage U1/V1 à court terme (avec effet de courbure)"]
[null,null,null,null,null,null,null,null,null,null,null,null,null,"U3/V3",{"$f":"O404*$S$198*$Q$187^2","v":-0.14976015018059854},{"$f":"P404*$S$198*$Q$187^2","v":6.7427555768515932E-2},5.1102989635085763E-2,-1.5851390303475679E-2,-4.3768764270791044E-2,22,null,null,null,null,null,null,null,null,null,null,null,null,null,null,null,null,null,null,null,null,null,null,null,null,null,null,null,null,null,null,null,null,null,null,null,null,null,null,null,null,null,null,null,null,null,null,null,null,null,null,null,null,null,null,null,null,null,null,null,null,null,null,null,null,null,null,null,null,null,null,null,null,null,null,null,null,null,null,null,null,null,null,null,null,null,null,null,null,null,null,null,null,null,null,null,null,null,null,null,null,null,null,null,null,null,null,null,null,null,null,null,null,null,null,null,null,null,null,null,null,null,null,null,null,null,null,null,null,null,null,null,null,null,null,null,null,null,null,null,null,null,null,null,null,null,null,null,null,null,null,null,null,null,null,null,null,null,null,null,null,null,null,null,null,null,null,null,null,null,null,null,null,null,null,null,null,null,null,null,null,null,null,null,null,null,null,null,null,null,null,null,null,null,null,null,null,null,null,null,null,null,null,null,null,null,null,null,null,null,null,null,null,null,null,null,null,null,null,null,null,null,null,null,null,null,null,null,null,null,null,null,null,null,null,null,null,null,null,null,null,null,null,null,null,null,null,null,null,null,null,null,null,null,null,null,null,null,null,null,null,null,null,null,null,null,null,null,null,null,null,null,null,null,null,null,null,null,"U3/V3",{"$f":"KM404*$KQ$198*$KO$187^2","v":-0.13476385031247551},{"$f":"KN404*$KQ$198*$KO$187^2","v":6.0675667202299402E-2},4.598576882700587E-2,-1.4264104219487933E-2,-3.9385959412018917E-2,22,null,null,null,null,null,null,null,null,null,null,null,null,null,null,null,null,null,null,null,"U3/V3",{"$f":"LM404*$LQ$198*$LO$187^2","v":-0.14731205856154725},{"$f":"LN404*$LQ$198*$LO$187^2","v":6.6325334423445445E-2},5.0267621878821819E-2,-1.5592271601301212E-2,-4.3053287257324241E-2,22,null,null,null,null,null,null,null,null,null,null,null,null,null,"21. Déformations Profil d'enrobage U1/V1 à court terme",null,null,null,null,null,null,null,null,null,null,null,null,null,null,null,null,null,null,null,null,null,null,null,null,null,"21. Déformations Profil d'enrobage U1/V1 à court terme",null,null,null,null,null,null,null,null,null,null,null,null,null,null,null,null,null,null,null,null,null,null,null,null,null,"21. Déformations Profil d'enrobage U1/V1 à court terme",null,null,null,null,null,null,null,null,null,null,null,null,null,null,null,null,null,null,null,null,null,null,null,null,null,"21. Déformations Profil d'enrobage U1/V1 à court terme",null,null,null,null,null,null,null,null,null,null,null,null,null,null,null,null,null,null,null,null,null,null,null,null,null,"21. Déformations Profil d'enrobage U1/V1 à court terme",null,null,null,null,null,null,null,null,null,null,null,null,null,null,null,null,null,null,null,null,null,null,null,null,null,"21. Déformations Profil d'enrobage U1/V1 à court terme"]
[null,null,null,null,null,null,null,null,null,null,null,null,null,null,null,null,null,null,null,null,null,null,null,null,null,null,null,null,null,null,null,null,null,null,null,null,null,null,null,null,null,null,null,null,null,null,null,null,null,null,null,null,null,null,null,null,null,null,null,null,null,null,null,null,null,null,null,null,null,null,null,null,null,null,null,null,null,null,null,null,null,null,null,null,null,null,null,null,null,null,null,null,null,null,null,null,null,null,null,null,null,null,null,null,null,null,null,null,null,null,null,null,null,null,null,null,null,null,null,null,null,null,null,null,null,null,null,null,null,null,null,null,null,null,null,null,null,null,null,null,null,null,null,null,null,null,null,null,null,null,null,null,null,null,null,null,null,null,null,null,null,null,null,null,null,null,null,null,null,null,null,null,null,null,null,null,null,null,null,null,null,null,null,null,null,null,null,null,null,null,null,null,null,null,null,null,null,null,null,null,null,null,null,null,null,null,null,null,null,null,null,null,null,null,null,null,null,null,null,null,null,null,null,null,null,null,null,null,null,null,null,null,null,null,null,null,null,null,null,null,null,null,null,null,null,null,null,null,null,null,null,null,null,null,null,null,null,null,null,null,null,null,null,null,null,null,null,null,null,null,null,null,null,null,null,null,null,null,null,null,null,null,null,null,null,null,null,null,null,null,null,null,null,null,null,null,null,null,null,null,null,null,null,null,null,null,null,null,null,null,null,null,null,null,null,null,null,null,null,null,null,null,null,null,null,null,null,null,null,null,null,null,null,null,null,null,null,null,null,null,null,null,null,null,{"$f":"IF(ABS(MG418)<=MN418,\"OK\",\"KO!\")","v":"OK"},{"$f":"IF(ABS(MH418)<=MN418,\"OK\",\"KO!\")","v":"OK"},{"$f":"IF(ABS(MI418)<=MN418,\"OK\",\"KO!\")","v":"OK"},{"$f":"IF(ABS(MJ418)<=MN418,\"OK\",\"KO!\")","v":"OK"},{"$f":"IF(ABS(MK418)<=MN418,\"OK\",\"KO!\")","v":"OK"},null,null,null,null,null,null,null,null,null,null,null,null,null,null,null,null,null,null,null,null,null,{"$f":"IF(ABS(NG418)<=NN418,\"OK\",\"KO!\")","v":"OK"},{"$f":"IF(ABS(NH418)<=NN418,\"OK\",\"KO!\")","v":"OK"},{"$f":"IF(ABS(NI418)<=NN418,\"OK\",\"KO!\")","v":"OK"},{"$f":"IF(ABS(NJ418)<=NN418,\"OK\",\"KO!\")","v":"OK"},{"$f":"IF(ABS(NK418)<=NN418,\"OK\",\"KO!\")","v":"OK"},null,null,null,null,null,null,null,null,null,null,null,null,null,null,null,null,null,null,null,null,null,{"$f":"IF(ABS(OG418)<=ON418,\"OK\",\"KO!\")","v":"OK"},{"$f":"IF(ABS(OH418)<=ON418,\"OK\",\"KO!\")","v":"OK"},{"$f":"IF(ABS(OI418)<=ON418,\"OK\",\"KO!\")","v":"OK"},{"$f":"IF(ABS(OJ418)<=ON418,\"OK\",\"KO!\")","v":"OK"},{"$f":"IF(ABS(OK418)<=ON418,\"OK\",\"KO!\")","v":"OK"},null,null,null,null,null,null,null,null,null,null,null,null,null,null,null,null,null,null,null,null,null,{"$f":"IF(ABS(PG418)<=PN418,\"OK\",\"KO!\")","v":"OK"},{"$f":"IF(ABS(PH418)<=PN418,\"OK\",\"KO!\")","v":"OK"},{"$f":"IF(ABS(PI418)<=PN418,\"OK\",\"KO!\")","v":"OK"},{"$f":"IF(ABS(PJ418)<=PN418,\"OK\",\"KO!\")","v":"OK"},{"$f":"IF(ABS(PK418)<=PN418,\"OK\",\"KO!\")","v":"OK"},null,null,null,null,null,null,null,null,null,null,null,null,null,null,null,null,null,null,null,null,null,{"$f":"IF(ABS(QG418)<=QN418,\"OK\",\"KO!\")","v":"OK"},{"$f":"IF(ABS(QH418)<=QN418,\"OK\",\"KO!\")","v":"OK"},{"$f":"IF(ABS(QI418)<=QN418,\"OK\",\"KO!\")","v":"OK"},{"$f":"IF(ABS(QJ418)<=QN418,\"OK\",\"KO!\")","v":"OK"},{"$f":"IF(ABS(QK418)<=QN418,\"OK\",\"KO!\")","v":"OK"},null,null,null,null,null,null,null,null,null,null,null,null,null,null,null,null,null,null,null,null,null,{"$f":"IF(ABS(RG418)<=RN418,\"OK\",\"KO!\")","v":"OK"},{"$f":"IF(ABS(RH418)<=RN418,\"OK\",\"KO!\")","v":"OK"},{"$f":"IF(ABS(RI418)<=RN418,\"OK\",\"KO!\")","v":"OK"},{"$f":"IF(ABS(RJ418)<=RN418,\"OK\",\"KO!\")","v":"OK"},{"$f":"IF(ABS(RK418)<=RN418,\"OK\",\"KO!\")","v":"OK"}]
[null,null,null,null,null,null,null,null,null,null,null,null,null,"U2A/V2A",-0.1628,2.5100000000000001E-2,0.125,-2.5100000000000001E-2,-8.72E-2,23,null,null,null,null,null,null,null,null,null,null,null,null,null,null,null,null,null,null,null,null,null,null,null,null,null,null,null,null,null,null,null,null,null,null,null,null,null,null,null,null,null,null,null,null,null,null,null,null,null,null,null,null,null,null,null,null,null,null,null,null,null,null,null,null,null,null,null,null,null,null,null,null,null,null,null,null,null,null,null,null,null,null,null,null,null,null,null,null,null,null,null,null,null,null,null,null,null,null,null,null,null,null,null,null,null,null,null,null,null,null,null,null,null,null,null,null,null,null,null,null,null,null,null,null,null,null,null,null,null,null,null,null,null,null,null,null,null,null,null,null,null,null,null,null,null,null,null,null,null,null,null,null,null,null,null,null,null,null,null,null,null,null,null,null,null,null,null,null,null,null,null,null,null,null,null,null,null,null,null,null,null,null,null,null,null,null,null,null,null,null,null,null,null,null,null,null,null,null,null,null,null,null,null,null,null,null,null,null,null,null,null,null,null,null,null,null,null,null,null,null,null,null,null,null,null,null,null,null,null,null,null,null,null,null,null,null,null,null,null,null,null,null,null,null,null,null,null,null,null,null,null,null,null,null,null,null,null,null,null,null,null,null,null,null,null,null,null,null,null,null,null,null,null,null,null,null,null,"U2A/V2A",-0.1628,2.5100000000000001E-2,0.125,-2.5100000000000001E-2,-8.72E-2,23,null,null,null,null,null,null,null,null,null,null,null,null,null,null,null,null,null,null,null,"U2A/V2A",-0.1628,2.5100000000000001E-2,0.125,-2.5100000000000001E-2,-8.72E-2,23]
[null,null,null,null,null,null,null,null,null,null,null,null,null,"U1/V1",{"$f":"O423*$P$197*$Q$187^2","v":-0.46440195709222853},{"$f":"P423*$P$197*$Q$187^2","v":5.7150139719692507E-4},0.46440195709222853,-3.5407853871397841E-3,-0.4535932438051703,null,null,null,null,null,null,null,null,null,null,null,null,null,null,null,null,null,null,null,null,null,null,null,null,null,null,null,null,null,null,null,null,null,null,null,null,null,null,null,null,null,null,null,null,null,null,null,null,null,null,null,null,null,null,null,null,null,null,null,null,null,null,null,null,null,null,null,null,null,null,null,null,null,null,null,null,null,null,null,null,null,null,null,null,null,null,null,null,null,null,null,null,null,null,null,null,null,null,null,null,null,null,null,null,null,null,null,null,null,null,null,null,null,null,null,null,null,null,null,null,null,null,null,null,null,null,null,null,null,null,null,null,null,null,null,null,null,null,null,null,null,null,null,null,null,null,null,null,null,null,null,null,null,null,null,null,null,null,null,null,null,null,null,null,null,null,null,null,null,null,null,null,null,null,null,null,null,null,null,null,null,null,null,null,null,null,null,null,null,null,null,null,null,null,null,null,null,null,null,null,null,null,null,null,null,null,null,null,null,null,null,null,null,null,null,null,null,null,null,null,null,null,null,null,null,null,null,null,null,null,null,null,null,null,null,null,null,null,null,null,null,null,null,null,null,null,null,null,null,null,null,null,null,null,null,null,null,null,null,null,null,null,null,null,null,null,null,null,null,null,null,null,null,null,null,null,null,null,"U1/V1",{"$f":"KM423*$KN$197*$KO$187^2","v":-0.41789885864113946},{"$f":"KN423*$KN$197*$KO$187^2","v":5.1427384823225623E-4},0.41789885864113946,-3.1862272528818819E-3,-0.40817248071128959,null,null,null,null,null,null,null,null,null,null,null,null,null,null,null,null,null,null,null,null,"U1/V1",{"$f":"LM423*$LN$197*$LO$187^2","v":-0.45681049475957541},{"$f":"LN423*$LN$197*$LO$187^2","v":5.6215920717463477E-4},0.45681049475957541,-3.4829050563531029E-3,-0.44617846879807643]
[null,null,null,null,null,null,null,null,null,null,null,null,null,"U1/V1",{"$f":"O414+O429","v":-0.4651473855947843},{"$f":"P414+P429","v":2.8575069859846248E-4},0.4651473855947843,-1.7703926935698916E-3,-0.45974302895125518,null,null,null,null,null,null,null,null,null,null,null,null,null,null,null,null,null,null,null,null,null,null,null,null,null,null,null,null,null,null,null,null,null,null,null,null,null,null,null,null,null,null,null,null,null,null,null,null,null,null,null,null,null,null,null,null,null,null,null,null,null,null,null,null,null,null,null,null,null,null,null,null,null,null,null,null,null,null,null,null,null,null,null,null,null,null,null,null,null,null,null,null,null,null,null,null,null,null,null,null,null,null,null,null,null,null,null,null,null,null,null,null,null,null,null,null,null,null,null,null,null,null,null,null,null,null,null,null,null,null,null,null,null,null,null,null,null,null,null,null,null,null,null,null,null,null,null,null,null,null,null,null,null,null,null,null,null,null,null,null,null,null,null,null,null,null,null,null,null,null,null,null,null,null,null,null,null,null,null,null,null,null,null,null,null,null,null,null,null,null,null,null,null,null,null,null,null,null,null,null,null,null,null,null,null,null,null,null,null,null,null,null,null,null,null,null,null,null,null,null,null,null,null,null,null,null,null,null,null,null,null,null,null,null,null,null,null,null,null,null,null,null,null,null,null,null,null,null,null,null,null,null,null,null,null,null,null,null,null,null,null,null,null,null,null,null,null,null,null,null,null,null,null,null,null,null,null,null,"U1/V1",{"$f":"KM414+KM429","v":-0.4185696433259567},{"$f":"KN414+KN429","v":2.5713692411612812E-4},0.4185696433259567,-1.593113626440941E-3,-0.41370645436103176,null,null,null,null,null,null,null,null,null,null,null,null,null,null,null,null,null,null,null,null,"U1/V1",{"$f":"LM414+LM429","v":-0.45754373792933395},{"$f":"LN414+LN429","v":2.8107960358731739E-4},0.45754373792933395,-1.7414525281765514E-3,-0.45222772494858443]
[null,null,null,null,null,null,null,null,null,null,null,null,null,"U1/V1",{"$f":"O438+O384","v":0.61504514555948608},{"$f":"P438+P384","v":5.0422701641905522E-2},-0.64269183995902646,-0.21859009575693106,0.9694474540868272,null,null,null,null,null,null,null,null,null,null,null,null,null,null,null,null,null,null,null,null,null,null,null,null,null,null,null,null,null,null,null,null,null,null,null,null,null,null,null,null,null,null,null,null,null,null,null,null,null,null,null,null,null,null,null,null,null,null,null,null,null,null,null,null,null,null,null,null,null,null,null,null,null,null,null,null,null,null,null,null,null,null,null,null,null,null,null,null,null,null,null,null,null,null,null,null,null,null,null,null,null,null,null,null,null,null,null,null,null,null,null,null,null,null,null,null,null,null,null,null,null,null,null,null,null,null,null,null,null,null,null,null,null,null,null,null,null,null,null,null,null,null,null,null,null,null,null,null,null,null,null,null,null,null,null,null,null,null,null,null,null,null,null,null,null,null,null,null,null,null,null,null,null,null,null,null,null,null,null,null,null,null,null,null,null,null,null,null,null,null,null,null,null,null,null,null,null,null,null,null,null,null,null,null,null,null,null,null,null,null,null,null,null,null,null,null,null,null,null,null,null,null,null,null,null,null,null,null,null,null,null,null,null,null,null,null,null,null,null,null,null,null,null,null,null,null,null,null,null,null,null,null,null,null,null,null,null,null,null,null,null,null,null,null,null,null,null,null,null,null,null,null,null,null,null,null,null,null,"U1/V1",{"$f":"KM438+KM384","v":0.54944274059081344},{"$f":"KN438+KN384","v":4.4725411195167361E-2},-0.57371297996558646,-0.19485365585512265,0.86502467553605378,null,null,null,null,null,null,null,null,null,null,null,null,null,null,null,null,null,null,null,null,"U1/V1",{"$f":"LM438+LM384","v":0.6034238258270026},{"$f":"LN438+LN384","v":4.9345394694407317E-2},-0.6303812017823831,-0.21429545101365241,0.95073191021912473]
[null,null,null,null,null,null,null,null,null,null,null,null,null,"αka",{"$f":"IF(1-R32/(3*S32)<=0.975,1-R32/(3*S32),1)","v":0.92156862745098045},null,"W",{"$f":"R32^2*1000/(6*1000^3)","v":2.6666666666666668E-4},"[m3]",null,null,null,null,null,null,null,null,null,null,null,null,null,null,null,null,null,null,null,null,null,null,null,null,null,null,null,null,null,null,null,null,null,null,null,null,null,null,null,null,null,null,null,null,null,null,null,null,null,null,null,null,null,null,null,null,null,null,null,null,null,null,null,null,null,null,null,null,null,null,null,null,null,null,null,null,null,null,null,null,null,null,null,null,null,null,null,null,null,null,null,null,null,null,null,null,null,null,null,null,null,null,null,null,null,null,null,null,null,null,null,null,null,null,null,null,null,null,null,null,null,null,null,null,null,null,null,null,null,null,null,null,null,null,null,null,null,null,null,null,null,null,null,null,null,null,null,null,null,null,null,null,null,null,null,null,null,null,null,null,null,null,null,null,null,null,null,null,null,null,null,null,null,null,null,null,null,null,null,null,null,null,null,null,null,null,null,null,null,null,null,null,null,null,null,null,null,null,null,null,null,null,null,null,null,null,null,null,null,null,null,null,null,null,null,null,null,null,null,null,null,null,null,null,null,null,null,null,null,null,null,null,null,null,null,null,null,null,null,null,null,null,null,null,null,null,null,null,null,null,null,null,null,null,null,null,null,null,null,null,null,null,null,null,null,null,null,null,null,null,null,null,null,null,null,null,null,null,"αka",{"$f":"IF(1-KP32/(3*KQ32)<=0.975,1-KP32/(3*KQ32),1)","v":0.94402035623409675},null,"W",{"$f":"KP32^2*1000/(6*1000^3)","v":1.2604166666666666E-4},"[m3]",null,null,null,null,null,null,null,null,null,null,null,null,null,null,null,null,null,null,null,null,"αka",{"$f":"IF(1-LP32/(3*LQ32)<=0.975,1-LP32/(3*LQ32),1)","v":0.92504930966469434},null,"W",{"$f":"LP32^2*1000/(6*1000^3)","v":2.4066666666666667E-4},"[m3]"]
[null,null,null,null,null,null,null,null,null,null,null,null,null,"Moment intérieur",{"$f":"-O447/($R$456*10^3)*$O$455","v":-2.4873149268949803},{"$f":"-P447/($R$456*10^3)*$O$455","v":-0.20391533752241203},2.599121411599004,0.88400406372288287,-3.9205595569687861,null,null,null,null,null,null,null,null,null,null,null,null,null,null,null,null,null,null,null,null,null,null,null,null,null,null,null,null,null,null,null,null,null,null,null,null,null,null,null,null,null,null,null,null,null,null,null,null,null,null,null,null,null,null,null,null,null,null,null,null,null,null,null,null,null,null,null,null,null,null,null,null,null,null,null,null,null,null,null,null,null,null,null,null,null,null,null,null,null,null,null,null,null,null,null,null,null,null,null,null,null,null,null,null,null,null,null,null,null,null,null,null,null,null,null,null,null,null,null,null,null,null,null,null,null,null,null,null,null,null,null,null,null,null,null,null,null,null,null,null,null,null,null,null,null,null,null,null,null,null,null,null,null,null,null,null,null,null,null,null,null,null,null,null,null,null,null,null,null,null,null,null,null,null,null,null,null,null,null,null,null,null,null,null,null,null,null,null,null,null,null,null,null,null,null,null,null,null,null,null,null,null,null,null,null,null,null,null,null,null,null,null,null,null,null,null,null,null,null,null,null,null,null,null,null,null,null,null,null,null,null,null,null,null,null,null,null,null,null,null,null,null,null,null,null,null,null,null,null,null,null,null,null,null,null,null,null,null,null,null,null,null,null,null,null,null,null,null,null,null,null,null,null,null,null,null,null,null,"Moment intérieur",{"$f":"-KM447/($KP$456*10^3)*$KM$455","v":-4.6032424421462386},{"$f":"-KN447/($KP$456*10^3)*$KM$455","v":-0.37471040355297619},4.8065790006579947,1.6324878870456303,-7.2471943039043554,null,null,null,null,null,null,null,null,null,null,null,null,null,null,null,null,null,null,null,null,"Moment intérieur",{"$f":"-LM447/($LP$456*10^3)*$LM$455","v":-2.6952251723165137},{"$f":"-LN447/($LP$456*10^3)*$LM$455","v":-0.22040387572695821},2.8156317508187216,0.95716222854366206,-4.2464955258193298]
[null,null,null,null,null,null,null,null,null,null,null,null,null,"Contraintes en [N/mm2]","0°","45°","90°","135°","180°",null,null,null,null,null,null,null,null,null,null,null,null,null,null,null,null,null,null,null,null,null,null,null,null,null,null,null,null,null,null,null,null,null,null,null,null,null,null,null,null,null,null,null,null,null,null,null,null,null,null,null,null,null,null,null,null,null,null,null,null,null,null,null,null,null,null,null,null,null,null,null,null,null,null,null,null,null,null,null,null,null,null,null,null,null,null,null,null,null,null,null,null,null,null,null,null,null,null,null,null,null,null,null,null,null,null,null,null,null,null,null,null,null,null,null,null,null,null,null,null,null,null,null,null,null,null,null,null,null,null,null,null,null,null,null,null,null,null,null,null,null,null,null,null,null,null,null,null,null,null,null,null,null,null,null,null,null,null,null,null,null,null,null,null,null,null,null,null,null,null,null,null,null,null,null,null,null,null,null,null,null,null,null,null,null,null,null,null,null,null,null,null,null,null,null,null,null,null,null,null,null,null,null,null,null,null,null,null,null,null,null,null,null,null,null,null,null,null,null,null,null,null,null,null,null,null,null,null,null,null,null,null,null,null,null,null,null,null,null,null,null,null,null,null,null,null,null,null,null,null,null,null,null,null,null,null,null,null,null,null,null,null,null,null,null,null,null,null,null,null,null,null,null,null,null,null,null,null,"Contraintes en [N/mm2]","0°","45°","90°","135°","180°",null,null,null,null,null,null,null,null,null,null,null,null,null,null,null,null,null,null,null,null,"Contraintes en [N/mm2]","0°","45°","90°","135°","180°"]
[null,null,null,null,null,null,null,null,null,null,null,null,null,"Conraintes intérieur",{"$f":"IF(O479>=$L$464,\"OK\",\"KO!\")","v":"OK"},{"$f":"IF(P479>=$L$464,\"OK\",\"KO!\")","v":"OK"},"OK","OK","OK",null,null,null,null,null,null,null,null,null,null,null,null,null,null,null,null,null,null,null,null,null,null,null,null,null,null,null,null,null,null,null,null,null,null,null,null,null,null,null,null,null,null,null,null,null,null,null,null,null,null,null,null,null,null,null,null,null,null,null,null,null,null,null,null,null,null,null,null,null,null,null,null,null,null,null,null,null,null,null,null,null,null,null,null,null,null,null,null,null,null,null,null,null,null,null,null,null,null,null,null,null,null,null,null,null,null,null,null,null,null,null,null,null,null,null,null,null,null,null,null,null,null,null,null,null,null,null,null,null,null,null,null,null,null,null,null,null,null,null,null,null,null,null,null,null,null,null,null,null,null,null,null,null,null,null,null,null,null,null,null,null,null,null,null,null,null,null,null,null,null,null,null,null,null,null,null,null,null,null,null,null,null,null,null,null,null,null,null,null,null,null,null,null,null,null,null,null,null,null,null,null,null,null,null,null,null,null,null,null,null,null,null,null,null,null,null,null,null,null,null,null,null,null,null,null,null,null,null,null,null,null,null,null,null,null,null,null,null,null,null,null,null,null,null,null,null,null,null,null,null,null,null,null,null,null,null,null,null,null,null,null,null,null,null,null,null,null,null,null,null,null,null,null,null,null,null,null,null,"Conraintes intérieur",{"$f":"IF(KM479>=$KJ$464,\"OK\",\"KO!\")","v":"OK"},{"$f":"IF(KN479>=$KJ$464,\"OK\",\"KO!\")","v":"OK"},"OK","OK","OK",null,null,null,null,null,null,null,null,null,null,null,null,null,null,null,null,null,null,null,null,"Conraintes intérieur",{"$f":"IF(LM479>=$LJ$464,\"OK\",\"KO!\")","v":"OK"},{"$f":"IF(LN479>=$LJ$464,\"OK\",\"KO!\")","v":"OK"},"OK","OK","OK"]
[null,null,null,null,null,null,null,null,null,null,null,null,null,"Contraintes extérieur",{"$f":"O487+O488","v":1.757444563508213},{"$f":"P487+P488","v":0.38138483480001423},-1.0035496766823639,0.37778731411306388,1.7679947109233418,null,null,null,null,null,null,null,null,null,null,null,null,null,null,null,null,null,null,null,null,null,null,null,null,null,null,null,null,null,null,null,null,null,null,null,null,null,null,null,null,null,null,null,null,null,null,null,null,null,null,null,null,null,null,null,null,null,null,null,null,null,null,null,null,null,null,null,null,null,null,null,null,null,null,null,null,null,null,null,null,null,null,null,null,null,null,null,null,null,null,null,null,null,null,null,null,null,null,null,null,null,null,null,null,null,null,null,null,null,null,null,null,null,null,null,null,null,null,null,null,null,null,null,null,null,null,null,null,null,null,null,null,null,null,null,null,null,null,null,null,null,null,null,null,null,null,null,null,null,null,null,null,null,null,null,null,null,null,null,null,null,null,null,null,null,null,null,null,null,null,null,null,null,null,null,null,null,null,null,null,null,null,null,null,null,null,null,null,null,null,null,null,null,null,null,null,null,null,null,null,null,null,null,null,null,null,null,null,null,null,null,null,null,null,null,null,null,null,null,null,null,null,null,null,null,null,null,null,null,null,null,null,null,null,null,null,null,null,null,null,null,null,null,null,null,null,null,null,null,null,null,null,null,null,null,null,null,null,null,null,null,null,null,null,null,null,null,null,null,null,null,null,null,null,null,null,null,null,"Contraintes extérieur",{"$f":"KM487+KM488","v":3.2571766094785706},{"$f":"KN487+KN488","v":0.51710089450955821},-2.2350510782870776,0.51145088630613567,3.2700234875948908,null,null,null,null,null,null,null,null,null,null,null,null,null,null,null,null,null,null,null,null,"Contraintes extérieur",{"$f":"LM487+LM488","v":1.9051400899826763},{"$f":"LN487+LN488","v":0.39672751921843796},-1.120279117969124,0.39315360010061207,1.9151761862471326]
[null,null,null,null,null,null,null,null,null,null,null,null,null,"Conraintes intérieur",{"$f":"O487+O489","v":-1.5135133732006429},{"$f":"P487+P489","v":0.37439150436828328},2.2773682950511702,0.38476352328998736,-1.5229076176900054,null,null,null,null,null,null,null,null,null,null,null,null,null,null,null,null,null,null,null,null,null,null,null,null,null,null,null,null,null,null,null,null,null,null,null,null,null,null,null,null,null,null,null,null,null,null,null,null,null,null,null,null,null,null,null,null,null,null,null,null,null,null,null,null,null,null,null,null,null,null,null,null,null,null,null,null,null,null,null,null,null,null,null,null,null,null,null,null,null,null,null,null,null,null,null,null,null,null,null,null,null,null,null,null,null,null,null,null,null,null,null,null,null,null,null,null,null,null,null,null,null,null,null,null,null,null,null,null,null,null,null,null,null,null,null,null,null,null,null,null,null,null,null,null,null,null,null,null,null,null,null,null,null,null,null,null,null,null,null,null,null,null,null,null,null,null,null,null,null,null,null,null,null,null,null,null,null,null,null,null,null,null,null,null,null,null,null,null,null,null,null,null,null,null,null,null,null,null,null,null,null,null,null,null,null,null,null,null,null,null,null,null,null,null,null,null,null,null,null,null,null,null,null,null,null,null,null,null,null,null,null,null,null,null,null,null,null,null,null,null,null,null,null,null,null,null,null,null,null,null,null,null,null,null,null,null,null,null,null,null,null,null,null,null,null,null,null,null,null,null,null,null,null,null,null,null,null,null,"Conraintes intérieur",{"$f":"KM487+KM489","v":-2.9223851413682724},{"$f":"KN487+KN489","v":0.50844947124406381},3.9568321951274212,0.5200811289305014,-2.9342113968644767,null,null,null,null,null,null,null,null,null,null,null,null,null,null,null,null,null,null,null,null,"Conraintes intérieur",{"$f":"LM487+LM489","v":-1.6501629710485362},{"$f":"LN487+LN489","v":0.39005872296072119},2.4445217703058777,0.39980606963659004,-1.6591457224409343]
[null,null,null,null,null,null,null,null,null,null,null,null,null,"Moment extérieur",{"$f":"O450/($R$456*10^3)*$O$456","v":0.76175934504877096},{"$f":"P450/($R$456*10^3)*$O$456","v":-0.12621516759881915},-0.55543567632190038,4.9964085981207357E-2,0.51757320833779363,null,null,null,null,null,null,null,null,null,null,null,null,null,null,null,null,null,null,null,null,null,null,null,null,null,null,null,null,null,null,null,null,null,null,null,null,null,null,null,null,null,null,null,null,null,null,null,null,null,null,null,null,null,null,null,null,null,null,null,null,null,null,null,null,null,null,null,null,null,null,null,null,null,null,null,null,null,null,null,null,null,null,null,null,null,null,null,null,null,null,null,null,null,null,null,null,null,null,null,null,null,null,null,null,null,null,null,null,null,null,null,null,null,null,null,null,null,null,null,null,null,null,null,null,null,null,null,null,null,null,null,null,null,null,null,null,null,null,null,null,null,null,null,null,null,null,null,null,null,null,null,null,null,null,null,null,null,null,null,null,null,null,null,null,null,null,null,null,null,null,null,null,null,null,null,null,null,null,null,null,null,null,null,null,null,null,null,null,null,null,null,null,null,null,null,null,null,null,null,null,null,null,null,null,null,null,null,null,null,null,null,null,null,null,null,null,null,null,null,null,null,null,null,null,null,null,null,null,null,null,null,null,null,null,null,null,null,null,null,null,null,null,null,null,null,null,null,null,null,null,null,null,null,null,null,null,null,null,null,null,null,null,null,null,null,null,null,null,null,null,null,null,null,null,null,null,null,null,"Moment extérieur",{"$f":"KM450/($KP$456*10^3)*$KM$456","v":1.4630247969024623},{"$f":"KN450/($KP$456*10^3)*$KM$456","v":-0.24834925849965689},-1.0575120271857703,9.9636866005858166E-2,0.98052937537576323,null,null,null,null,null,null,null,null,null,null,null,null,null,null,null,null,null,null,null,null,"Moment extérieur",{"$f":"LM450/($LP$456*10^3)*$LM$456","v":0.82886895724515564},{"$f":"LN450/($LP$456*10^3)*$LM$456","v":-0.13852502810976339},-0.6025151983417999,5.5102441545909764E-2,0.56046269784321867]
[]
[null,null,null,null,null,null,null,null,null,null,null,null,null,"Conraintes intérieur",{"$f":"O513+O515","v":-0.3061084761602092},{"$f":"P513+P515","v":0.41552184313787688},1.152224075549924,0.4258938620595813,-0.31550272064957252,null,null,null,null,null,null,null,null,null,null,null,null,null,null,null,null,null,null,null,null,null,null,null,null,null,null,null,null,null,null,null,null,null,null,null,null,null,null,null,null,null,null,null,null,null,null,null,null,null,null,null,null,null,null,null,null,null,null,null,null,null,null,null,null,null,null,null,null,null,null,null,null,null,null,null,null,null,null,null,null,null,null,null,null,null,null,null,null,null,null,null,null,null,null,null,null,null,null,null,null,null,null,null,null,null,null,null,null,null,null,null,null,null,null,null,null,null,null,null,null,null,null,null,null,null,null,null,null,null,null,null,null,null,null,null,null,null,null,null,null,null,null,null,null,null,null,null,null,null,null,null,null,null,null,null,null,null,null,null,null,null,null,null,null,null,null,null,null,null,null,null,null,null,null,null,null,null,null,null,null,null,null,null,null,null,null,null,null,null,null,null,null,null,null,null,null,null,null,null,null,null,null,null,null,null,null,null,null,null,null,null,null,null,null,null,null,null,null,null,null,null,null,null,null,null,null,null,null,null,null,null,null,null,null,null,null,null,null,null,null,null,null,null,null,null,null,null,null,null,null,null,null,null,null,null,null,null,null,null,null,null,null,null,null,null,null,null,null,null,null,null,null,null,null,null,null,null,null,"Conraintes intérieur",{"$f":"KM513+KM515","v":-0.73227311567979148},{"$f":"KN513+KN515","v":0.56433950095968399},1.8785002288701802,0.57597115864612103,-0.74409937117599667,null,null,null,null,null,null,null,null,null,null,null,null,null,null,null,null,null,null,null,null,"Conraintes intérieur",{"$f":"LM513+LM515","v":-0.34382612793285489},{"$f":"LN513+LN515","v":0.43289807857669682},1.2238636384221473,0.44264542525256584,-0.35280887932525207]
[null,null,null,null,null,null,null,null,null,null,null,null,null,"DN",{"$f":"P32/1000","v":0.3},"[m]",null,null,null,null,null,null,null,null,null,null,null,null,null,null,null,null,null,null,null,null,null,null,null,null,null,null,null,null,null,null,null,null,null,null,null,null,null,null,null,null,null,null,null,null,null,null,null,null,null,null,null,null,null,null,null,null,null,null,null,null,null,null,null,null,null,null,null,null,null,null,null,null,null,null,null,null,null,null,null,null,null,null,null,null,null,null,null,null,null,null,null,null,null,null,null,null,null,null,null,null,null,null,null,null,null,null,null,null,null,null,null,null,null,null,null,null,null,null,null,null,null,null,null,null,null,null,null,null,null,null,null,null,null,null,null,null,null,null,null,null,null,null,null,null,null,null,null,null,null,null,null,null,null,null,null,null,null,null,null,null,null,null,null,null,null,null,null,null,null,null,null,null,null,null,null,null,null,null,null,null,null,null,null,null,null,null,null,null,null,null,null,null,null,null,null,null,null,null,null,null,null,null,null,null,null,null,null,null,null,null,null,null,null,null,null,null,null,null,null,null,null,null,null,null,null,null,null,null,null,null,null,null,null,null,null,null,null,null,null,null,null,null,null,null,null,null,null,null,null,null,null,null,null,null,null,null,null,null,null,null,null,null,null,null,null,null,null,null,null,null,null,null,null,null,null,null,null,null,null,null,null,"DN",{"$f":"KN32/1000","v":0.3},"[m]",null,null,null,null,null,null,null,null,null,null,null,null,null,null,null,null,null,null,null,null,null,null,null,"DN",{"$f":"LN32/1000","v":0.3},"[m]"]
[null,null,null,null,null,null,null,null,null,null,null,null,null,"a","U1/V1","U2/V2","U2A/V2A","U3/V3","U4/V4",null,null,null,null,null,null,null,null,null,null,null,null,null,null,null,null,null,null,null,null,null,null,null,null,null,null,null,null,null,null,null,null,null,null,null,null,null,null,null,null,null,null,null,null,null,null,null,null,null,null,null,null,null,null,null,null,null,null,null,null,null,null,null,null,null,null,null,null,null,null,null,null,null,null,null,null,null,null,null,null,null,null,null,null,null,null,null,null,null,null,null,null,null,null,null,null,null,null,null,null,null,null,null,null,null,null,null,null,null,null,null,null,null,null,null,null,null,null,null,null,null,null,null,null,null,null,null,null,null,null,null,null,null,null,null,null,null,null,null,null,null,null,null,null,null,null,null,null,null,null,null,null,null,null,null,null,null,null,null,null,null,null,null,null,null,null,null,null,null,null,null,null,null,null,null,null,null,null,null,null,null,null,null,null,null,null,null,null,null,null,null,null,null,null,null,null,null,null,null,null,null,null,null,null,null,null,null,null,null,null,null,null,null,null,null,null,null,null,null,null,null,null,null,null,null,null,null,null,null,null,null,null,null,null,null,null,null,null,null,null,null,null,null,null,null,null,null,null,null,null,null,null,null,null,null,null,null,null,null,null,null,null,null,null,null,null,null,null,null,null,null,null,null,null,null,null,null,null,"a","U1/V1","U2/V2","U2A/V2A","U3/V3","U4/V4",null,null,null,null,null,null,null,null,null,null,null,null,null,null,null,null,null,null,null,null,"a","U1/V1","U2/V2","U2A/V2A","U3/V3","U4/V4"]
[]
[null,null,null,null,null,null,null,null,null,null,null,null,null,"a en [m]",0,{"$f":"IF(P538>$O$534,$O$528,P544)","v":0.15},{"$f":"IF(Q538>$O$534,$O$528,Q544)","v":0.15},{"$f":"IF(R538>$O$534,$O$528,R544)","v":0.15},{"$f":"IF(S538>$O$534,$O$528,S544)","v":0.15},null,null,null,null,null,null,null,null,null,null,null,null,null,null,null,null,null,null,null,null,null,null,null,null,null,null,null,null,null,null,null,null,null,null,null,null,null,null,null,null,null,null,null,null,null,null,null,null,null,null,null,null,null,null,null,null,null,null,null,null,null,null,null,null,null,null,null,null,null,null,null,null,null,null,null,null,null,null,null,null,null,null,null,null,null,null,null,null,null,null,null,null,null,null,null,null,null,null,null,null,null,null,null,null,null,null,null,null,null,null,null,null,null,null,null,null,null,null,null,null,null,null,null,null,null,null,null,null,null,null,null,null,null,null,null,null,null,null,null,null,null,null,null,null,null,null,null,null,null,null,null,null,null,null,null,null,null,null,null,null,null,null,null,null,null,null,null,null,null,null,null,null,null,null,null,null,null,null,null,null,null,null,null,null,null,null,null,null,null,null,null,null,null,null,null,null,null,null,null,null,null,null,null,null,null,null,null,null,null,null,null,null,null,null,null,null,null,null,null,null,null,null,null,null,null,null,null,null,null,null,null,null,null,null,null,null,null,null,null,null,null,null,null,null,null,null,null,null,null,null,null,null,null,null,null,null,null,null,null,null,null,null,null,null,null,null,null,null,null,null,null,null,null,null,null,null,null,null,"a en [m]",0,{"$f":"IF(KN538>$KM$534,$KM$528,KN544)","v":0.15},{"$f":"IF(KO538>$KM$534,$KM$528,KO544)","v":0.15},{"$f":"IF(KP538>$KM$534,$KM$528,KP544)","v":0.15},{"$f":"IF(KQ538>$KM$534,$KM$528,KQ544)","v":0.15},null,null,null,null,null,null,null,null,null,null,null,null,null,null,null,null,null,null,null,null,"a en [m]",0,{"$f":"IF(LN538>$LM$534,$LM$528,LN544)","v":0.15},{"$f":"IF(LO538>$LM$534,$LM$528,LO544)","v":0.15},0.15,0.15]
[]
[]
[null,null,null,null,null,null,null,null,null,null,null,null,null,"c","U1/V1","U2/V2","U2A/V2A","U3/V3","U4/V4",null,null,null,null,null,null,null,null,null,null,null,null,null,null,null,null,null,null,null,null,null,null,null,null,null,null,null,null,null,null,null,null,null,null,null,null,null,null,null,null,null,null,null,null,null,null,null,null,null,null,null,null,null,null,null,null,null,null,null,null,null,null,null,null,null,null,null,null,null,null,null,null,null,null,null,null,null,null,null,null,null,null,null,null,null,null,null,null,null,null,null,null,null,null,null,null,null,null,null,null,null,null,null,null,null,null,null,null,null,null,null,null,null,null,null,null,null,null,null,null,null,null,null,null,null,null,null,null,null,null,null,null,null,null,null,null,null,null,null,null,null,null,null,null,null,null,null,null,null,null,null,null,null,null,null,null,null,null,null,null,null,null,null,null,null,null,null,null,null,null,null,null,null,null,null,null,null,null,null,null,null,null,null,null,null,null,null,null,null,null,null,null,null,null,null,null,null,null,null,null,null,null,null,null,null,null,null,null,null,null,null,null,null,null,null,null,null,null,null,null,null,null,null,null,null,null,null,null,null,null,null,null,null,null,null,null,null,null,null,null,null,null,null,null,null,null,null,null,null,null,null,null,null,null,null,null,null,null,null,null,null,null,null,null,null,null,null,null,null,null,null,null,null,null,null,null,null,null,"c","U1/V1","U2/V2","U2A/V2A","U3/V3","U4/V4",null,null,null,null,null,null,null,null,null,null,null,null,null,null,null,null,null,null,null,null,"c","U1/V1","U2/V2","U2A/V2A","U3/V3","U4/V4"]
[null,null,null,null,null,null,null,null,null,null,null,null,null,"Force de traction Ft",{"$f":"-P198*$Q$187*(1+COS(P52))","v":-0.73432707821673759},{"$f":"-Q198*$Q$187*(1+COS(Q52))","v":-3.1722506946007702},-10.03673990625,-20.875404262698432,{"$f":"-T198*$Q$187*(1+COS(T52))*0.5","v":-14.844731920141108},"[kN]",null,null,null,null,null,null,null,null,null,null,null,null,null,null,null,null,null,null,null,null,null,null,null,null,null,null,null,null,null,null,null,null,null,null,null,null,null,null,null,null,null,null,null,null,null,null,null,null,null,null,null,null,null,null,null,null,null,null,null,null,null,null,null,null,null,null,null,null,null,null,null,null,null,null,null,null,null,null,null,null,null,null,null,null,null,null,null,null,null,null,null,null,null,null,null,null,null,null,null,null,null,null,null,null,null,null,null,null,null,null,null,null,null,null,null,null,null,null,null,null,null,null,null,null,null,null,null,null,null,null,null,null,null,null,null,null,null,null,null,null,null,null,null,null,null,null,null,null,null,null,null,null,null,null,null,null,null,null,null,null,null,null,null,null,null,null,null,null,null,null,null,null,null,null,null,null,null,null,null,null,null,null,null,null,null,null,null,null,null,null,null,null,null,null,null,null,null,null,null,null,null,null,null,null,null,null,null,null,null,null,null,null,null,null,null,null,null,null,null,null,null,null,null,null,null,null,null,null,null,null,null,null,null,null,null,null,null,null,null,null,null,null,null,null,null,null,null,null,null,null,null,null,null,null,null,null,null,null,null,null,null,null,null,null,null,null,null,null,null,null,null,null,null,null,null,null,null,"Force de traction Ft",{"$f":"-KN198*$KO$187*(1+COS(KN52))","v":-0.68601608622879429},{"$f":"-KO198*$KO$187*(1+COS(KO52))","v":-2.9635499910086147},-9.3764280703124996,-19.502022403310374,{"$f":"-KR198*$KO$187*(1+COS(KR52))*0.5","v":-13.868104820131823},"[kN]",null,null,null,null,null,null,null,null,null,null,null,null,null,null,null,null,null,null,null,"Force de traction Ft",{"$f":"-LN198*$LO$187*(1+COS(LN52))","v":-0.72659731949866657},{"$f":"-LO198*$LO$187*(1+COS(LO52))","v":-3.1388585820260246},-9.9310900124999986,-20.655663165196337,{"$f":"-LR198*$LO$187*(1+COS(LR52))*0.5","v":-14.688471584139618},"[kN]"]
[null,null,null,null,null,null,null,null,null,null,null,null,null,"Contrainte de traction",{"$f":"O551/(1000*$O$529)","v":-4.8955138547782506E-3},{"$f":"P551/(1000*$O$529)","v":-2.1148337964005136E-2},-6.6911599375000005E-2,-0.13916936175132288,-9.8964879467607389E-2,"[N/mm2]",null,null,null,null,null,null,null,null,null,null,null,null,null,null,null,null,null,null,null,null,null,null,null,null,null,null,null,null,null,null,null,null,null,null,null,null,null,null,null,null,null,null,null,null,null,null,null,null,null,null,null,null,null,null,null,null,null,null,null,null,null,null,null,null,null,null,null,null,null,null,null,null,null,null,null,null,null,null,null,null,null,null,null,null,null,null,null,null,null,null,null,null,null,null,null,null,null,null,null,null,null,null,null,null,null,null,null,null,null,null,null,null,null,null,null,null,null,null,null,null,null,null,null,null,null,null,null,null,null,null,null,null,null,null,null,null,null,null,null,null,null,null,null,null,null,null,null,null,null,null,null,null,null,null,null,null,null,null,null,null,null,null,null,null,null,null,null,null,null,null,null,null,null,null,null,null,null,null,null,null,null,null,null,null,null,null,null,null,null,null,null,null,null,null,null,null,null,null,null,null,null,null,null,null,null,null,null,null,null,null,null,null,null,null,null,null,null,null,null,null,null,null,null,null,null,null,null,null,null,null,null,null,null,null,null,null,null,null,null,null,null,null,null,null,null,null,null,null,null,null,null,null,null,null,null,null,null,null,null,null,null,null,null,null,null,null,null,null,null,null,null,null,null,null,null,null,null,"Contrainte de traction",{"$f":"KM551/(1000*$KM$529)","v":-4.5734405748586284E-3},{"$f":"KN551/(1000*$KM$529)","v":-1.9756999940057432E-2},{"$f":"KO551/(1000*$KM$529)","v":-6.2509520468749996E-2},{"$f":"KP551/(1000*$KM$529)","v":-0.13001348268873583},{"$f":"KQ551/(1000*$KM$529)","v":-9.2454032134212147E-2},"[N/mm2]",null,null,null,null,null,null,null,null,null,null,null,null,null,null,null,null,null,null,null,"Contrainte de traction",{"$f":"LM551/(1000*$LM$529)","v":-4.8439821299911109E-3},{"$f":"LN551/(1000*$LM$529)","v":-2.0925723880173497E-2},-6.6207266749999993E-2,-0.13770442110130893,-9.7923143894264125E-2,"[N/mm2]"]
[]
[null,null,null,null,null,null,null,null,null,null,null,null,null,"Si c pas suffisant",null,null,null,null,null,null,null,null,null,null,null,null,null,null,null,null,null,null,null,null,null,null,null,null,null,null,null,null,null,null,null,null,null,null,null,null,null,null,null,null,null,null,null,null,null,null,null,null,null,null,null,null,null,null,null,null,null,null,null,null,null,null,null,null,null,null,null,null,null,null,null,null,null,null,null,null,null,null,null,null,null,null,null,null,null,null,null,null,null,null,null,null,null,null,null,null,null,null,null,null,null,null,null,null,null,null,null,null,null,null,null,null,null,null,null,null,null,null,null,null,null,null,null,null,null,null,null,null,null,null,null,null,null,null,null,null,null,null,null,null,null,null,null,null,null,null,null,null,null,null,null,null,null,null,null,null,null,null,null,null,null,null,null,null,null,null,null,null,null,null,null,null,null,null,null,null,null,null,null,null,null,null,null,null,null,null,null,null,null,null,null,null,null,null,null,null,null,null,null,null,null,null,null,null,null,null,null,null,null,null,null,null,null,null,null,null,null,null,null,null,null,null,null,null,null,null,null,null,null,null,null,null,null,null,null,null,null,null,null,null,null,null,null,null,null,null,null,null,null,null,null,null,null,null,null,null,null,null,null,null,null,null,null,null,null,null,null,null,null,null,null,null,null,null,null,null,null,null,null,null,null,null,null,"Si c pas suffisant",null,null,null,null,null,null,null,null,null,null,null,null,null,null,null,null,null,null,null,null,null,null,null,null,null,"Si c pas suffisant"]
[null,null,null,null,null,null,null,null,null,null,null,null,null,"Contrainte de traction",0,0,0,0,{"$f":"HLOOKUP($O$526,$O$531:$R$532,2)","v":-0.3},null,null,null,null,null,null,null,null,null,null,null,null,null,null,null,null,null,null,null,null,null,null,null,null,null,null,null,null,null,null,null,null,null,null,null,null,null,null,null,null,null,null,null,null,null,null,null,null,null,null,null,null,null,null,null,null,null,null,null,null,null,null,null,null,null,null,null,null,null,null,null,null,null,null,null,null,null,null,null,null,null,null,null,null,null,null,null,null,null,null,null,null,null,null,null,null,null,null,null,null,null,null,null,null,null,null,null,null,null,null,null,null,null,null,null,null,null,null,null,null,null,null,null,null,null,null,null,null,null,null,null,null,null,null,null,null,null,null,null,null,null,null,null,null,null,null,null,null,null,null,null,null,null,null,null,null,null,null,null,null,null,null,null,null,null,null,null,null,null,null,null,null,null,null,null,null,null,null,null,null,null,null,null,null,null,null,null,null,null,null,null,null,null,null,null,null,null,null,null,null,null,null,null,null,null,null,null,null,null,null,null,null,null,null,null,null,null,null,null,null,null,null,null,null,null,null,null,null,null,null,null,null,null,null,null,null,null,null,null,null,null,null,null,null,null,null,null,null,null,null,null,null,null,null,null,null,null,null,null,null,null,null,null,null,null,null,null,null,null,null,null,null,null,null,null,null,null,null,"Contrainte de traction",0,0,0,0,{"$f":"HLOOKUP($KM$526,$KM$531:$KP$532,2)","v":-0.3},null,null,null,null,null,null,null,null,null,null,null,null,null,null,null,null,null,null,null,null,"Contrainte de traction",0,0,0,0,{"$f":"HLOOKUP($LM$526,$LM$531:$LP$532,2)","v":-0.3}]
[null,null,null,null,null,null,null,null,null,null,null,null,null,null,"U1/V1","U2/V2","U2A/V2A","U3/V3","U4/V4",null,null,null,null,null,null,null,null,null,null,null,null,null,null,null,null,null,null,null,null,null,null,null,null,null,null,null,null,null,null,null,null,null,null,null,null,null,null,null,null,null,null,null,null,null,null,null,null,null,null,null,null,null,null,null,null,null,null,null,null,null,null,null,null,null,null,null,null,null,null,null,null,null,null,null,null,null,null,null,null,null,null,null,null,null,null,null,null,null,null,null,null,null,null,null,null,null,null,null,null,null,null,null,null,null,null,null,null,null,null,null,null,null,null,null,null,null,null,null,null,null,null,null,null,null,null,null,null,null,null,null,null,null,null,null,null,null,null,null,null,null,null,null,null,null,null,null,null,null,null,null,null,null,null,null,null,null,null,null,null,null,null,null,null,null,null,null,null,null,null,null,null,null,null,null,null,null,null,null,null,null,null,null,null,null,null,null,null,null,null,null,null,null,null,null,null,null,null,null,null,null,null,null,null,null,null,null,null,null,null,null,null,null,null,null,null,null,null,null,null,null,null,null,null,null,null,null,null,null,null,null,null,null,null,null,null,null,null,null,null,null,null,null,null,null,null,null,null,null,null,null,null,null,null,null,null,null,null,null,null,null,null,null,null,null,null,null,null,null,null,null,null,null,null,null,null,null,null,null,"U1/V1","U2/V2","U2A/V2A","U3/V3","U4/V4",null,null,null,null,null,null,null,null,null,null,null,null,null,null,null,null,null,null,null,null,null,"U1/V1","U2/V2","U2A/V2A","U3/V3","U4/V4"]
[null,null,null,null,null,null,null,null,null,null,null,null,null,"Force de traction Ft",0,0,0,0,{"$f":"-T198*$Q$187*(1+COS(T52))*0.5","v":-14.844731920141108},"[kN]",null,null,null,null,null,null,null,null,null,null,null,null,null,null,null,null,null,null,null,null,null,null,null,null,null,null,null,null,null,null,null,null,null,null,null,null,null,null,null,null,null,null,null,null,null,null,null,null,null,null,null,null,null,null,null,null,null,null,null,null,null,null,null,null,null,null,null,null,null,null,null,null,null,null,null,null,null,null,null,null,null,null,null,null,null,null,null,null,null,null,null,null,null,null,null,null,null,null,null,null,null,null,null,null,null,null,null,null,null,null,null,null,null,null,null,null,null,null,null,null,null,null,null,null,null,null,null,null,null,null,null,null,null,null,null,null,null,null,null,null,null,null,null,null,null,null,null,null,null,null,null,null,null,null,null,null,null,null,null,null,null,null,null,null,null,null,null,null,null,null,null,null,null,null,null,null,null,null,null,null,null,null,null,null,null,null,null,null,null,null,null,null,null,null,null,null,null,null,null,null,null,null,null,null,null,null,null,null,null,null,null,null,null,null,null,null,null,null,null,null,null,null,null,null,null,null,null,null,null,null,null,null,null,null,null,null,null,null,null,null,null,null,null,null,null,null,null,null,null,null,null,null,null,null,null,null,null,null,null,null,null,null,null,null,null,null,null,null,null,null,null,null,null,null,null,null,null,"Force de traction Ft",0,0,0,0,{"$f":"-KR198*$KO$187*(1+COS(KR52))*0.5","v":-13.868104820131823},"[kN]",null,null,null,null,null,null,null,null,null,null,null,null,null,null,null,null,null,null,null,"Force de traction Ft",0,0,0,0,{"$f":"-LR198*$LO$187*(1+COS(LR52))*0.5","v":-14.688471584139618},"[kN]"]
[null,null,null,null,null,null,null,null,null,null,null,null,null,"cnéc.",0,0,0,0,{"$f":"S557/(10^3*S555)","v":4.9482439733803694E-2},"[m]",null,null,null,null,null,null,null,null,null,null,null,null,null,null,null,null,null,null,null,null,null,null,null,null,null,null,null,null,null,null,null,null,null,null,null,null,null,null,null,null,null,null,null,null,null,null,null,null,null,null,null,null,null,null,null,null,null,null,null,null,null,null,null,null,null,null,null,null,null,null,null,null,null,null,null,null,null,null,null,null,null,null,null,null,null,null,null,null,null,null,null,null,null,null,null,null,null,null,null,null,null,null,null,null,null,null,null,null,null,null,null,null,null,null,null,null,null,null,null,null,null,null,null,null,null,null,null,null,null,null,null,null,null,null,null,null,null,null,null,null,null,null,null,null,null,null,null,null,null,null,null,null,null,null,null,null,null,null,null,null,null,null,null,null,null,null,null,null,null,null,null,null,null,null,null,null,null,null,null,null,null,null,null,null,null,null,null,null,null,null,null,null,null,null,null,null,null,null,null,null,null,null,null,null,null,null,null,null,null,null,null,null,null,null,null,null,null,null,null,null,null,null,null,null,null,null,null,null,null,null,null,null,null,null,null,null,null,null,null,null,null,null,null,null,null,null,null,null,null,null,null,null,null,null,null,null,null,null,null,null,null,null,null,null,null,null,null,null,null,null,null,null,null,null,null,null,null,"cnéc.",0,0,0,0,{"$f":"KQ557/(10^3*KQ555)","v":4.6227016067106073E-2},"[m]",null,null,null,null,null,null,null,null,null,null,null,null,null,null,null,null,null,null,null,"cnéc.",0,0,0,0,{"$f":"LQ557/(10^3*LQ555)","v":4.8961571947132063E-2},"[m]"]
[]
[null,null,null,null,null,null,null,null,null,null,null,null,"Choix","Profil d'enrobage","U1/V1","U2/V2","U2A/V2A","U3/V3","U4/V4",null,null,null,null,null,null,null,null,null,null,null,null,null,null,null,null,null,null,null,null,null,null,null,null,null,null,null,null,null,null,null,null,null,null,null,null,null,null,null,null,null,null,null,null,null,null,null,null,null,null,null,null,null,null,null,null,null,null,null,null,null,null,null,null,null,null,null,null,null,null,null,null,null,null,null,null,null,null,null,null,null,null,null,null,null,null,null,null,null,null,null,null,null,null,null,null,null,null,null,null,null,null,null,null,null,null,null,null,null,null,null,null,null,null,null,null,null,null,null,null,null,null,null,null,null,null,null,null,null,null,null,null,null,null,null,null,null,null,null,null,null,null,null,null,null,null,null,null,null,null,null,null,null,null,null,null,null,null,null,null,null,null,null,null,null,null,null,null,null,null,null,null,null,null,null,null,null,null,null,null,null,null,null,null,null,null,null,null,null,null,null,null,null,null,null,null,null,null,null,null,null,null,null,null,null,null,null,null,null,null,null,null,null,null,null,null,null,null,null,null,null,null,null,null,null,null,null,null,null,null,null,null,null,null,null,null,null,null,null,null,null,null,null,null,null,null,null,null,null,null,null,null,null,null,null,null,null,null,null,null,null,null,null,null,null,null,null,null,null,null,null,null,null,null,null,null,null,"Choix","Profil d'enrobage","U1/V1","U2/V2","U2A/V2A","U3/V3","U4/V4",null,null,null,null,null,null,null,null,null,null,null,null,null,null,null,null,null,null,null,"Choix","Profil d'enrobage","U1/V1","U2/V2","U2A/V2A","U3/V3","U4/V4"]
[null,null,null,null,null,null,null,null,null,null,null,null,null,"c en [m]",0,0,0,0,{"$f":"IF(S552>$O$534,$O$529,S558)","v":0.15},null,null,null,null,null,null,null,null,null,null,null,null,null,null,null,null,null,null,null,null,null,null,null,null,null,null,null,null,null,null,null,null,null,null,null,null,null,null,null,null,null,null,null,null,null,null,null,null,null,null,null,null,null,null,null,null,null,null,null,null,null,null,null,null,null,null,null,null,null,null,null,null,null,null,null,null,null,null,null,null,null,null,null,null,null,null,null,null,null,null,null,null,null,null,null,null,null,null,null,null,null,null,null,null,null,null,null,null,null,null,null,null,null,null,null,null,null,null,null,null,null,null,null,null,null,null,null,null,null,null,null,null,null,null,null,null,null,null,null,null,null,null,null,null,null,null,null,null,null,null,null,null,null,null,null,null,null,null,null,null,null,null,null,null,null,null,null,null,null,null,null,null,null,null,null,null,null,null,null,null,null,null,null,null,null,null,null,null,null,null,null,null,null,null,null,null,null,null,null,null,null,null,null,null,null,null,null,null,null,null,null,null,null,null,null,null,null,null,null,null,null,null,null,null,null,null,null,null,null,null,null,null,null,null,null,null,null,null,null,null,null,null,null,null,null,null,null,null,null,null,null,null,null,null,null,null,null,null,null,null,null,null,null,null,null,null,null,null,null,null,null,null,null,null,null,null,null,null,"c en [m]",0,0,0,0,{"$f":"IF(KQ552>$KM$534,$KM$529,KQ558)","v":0.15},null,null,null,null,null,null,null,null,null,null,null,null,null,null,null,null,null,null,null,null,"c en [m]",0,0,0,0,{"$f":"IF(LQ552>$LM$534,$LM$529,LQ558)","v":0.15}]

{"sheet":"Béton","index":8,"n_rows":241,"n_cols":8,"rows_kept":241,"cut":false,"hidden":false,"merged":[[113,0,113,1],[107,2,107,7],[109,0,109,1],[110,0,110,1],[111,0,111,1],[112,0,112,1],[1,7,1,8],[3,7,3,8],[5,7,5,8],[9,0,9,8],[74,0,74,8],[59,7,60,7],[125,6,126,7],[131,1,131,7],[138,1,138,7],[81,2,82,2],[81,3,82,3],[81,4,82,4],[119,1,119,7],[85,2,86,2],[85,3,86,3],[120,1,120,2],[83,4,84,4],[104,1,104,5],[83,2,84,2],[83,3,84,3],[85,4,86,4],[114,0,114,1],[148,3,148,5],[121,1,122,2],[123,1,123,2],[124,1,124,2],[125,1,125,2],[126,1,126,2],[146,3,146,5],[147,3,147,5],[160,1,160,7],[221,1,221,7],[210,1,210,2],[211,1,211,2],[212,1,212,7],[208,1,208,2],[207,1,207,7],[236,1,236,2],[237,1,237,2],[239,1,239,2],[240,1,240,2],[165,1,165,7],[168,1,168,7],[174,1,174,7],[179,1,179,7],[182,1,182,7],[188,1,188,7],[196,1,196,7],[226,1,226,7],[229,1,229,7],[215,1,215,7],[209,1,209,2],[193,1,193,7]]}
[]
[null,"Projet:",{"$f":"Accueil!P15","v":"VSA 2026"},null,null,"Ingénieur/e:",null,{"$f":"Accueil!AI15","v":0}]
[]
[null,{"$f":"Accueil!$L$17","v":"N°:"},{"$f":"Accueil!P17","v":0},null,null,"Responsable:",null,{"$f":"Accueil!AI17","v":0}]
[]
[null,"Lieu:",{"$f":"Accueil!P21","v":0},null,null,"Maître d'ouvrage:",null,{"$f":"Accueil!AI19","v":0}]
[null,null,{"$f":"Accueil!P23","v":0}]
[]
[]
["Données"]
[]
[null,"Tuyau"]
[]
[null,"Diamètre intérieur ",null,null,"di",{"$f":"Calculs!O32/1000","v":0.3},"m"]
[null,"Rayon moyen",null,null,"rm",{"$f":"Calculs!S32/1000","v":0.17},"m"]
[null,"Épaisseur de paroi",null,null,"e",{"$f":"Calculs!R32/1000","v":0.04},"m"]
[null,"Section",null,null,"A",{"$f":"Calculs!R455","v":0.04},"m2"]
[null,"Module de flexion",null,null,"W",{"$f":"Calculs!R456","v":2.6666666666666668E-4},"m3"]
[null,"Classe de résistance",null,null,"FK",{"$f":"Calculs!T32","v":90}]
[null,"Module d'élasticité",null,null,"ER,court",{"$f":"Calculs!B7","v":30000},"N/mm2"]
[]
[null,"Rigidité du système",null,null,"SFcourt",{"$f":"Calculs!O37","v":10.855553293981952},{"$f":"Calculs!P37","v":"rigide"}]
[null,"Facteur de majoration de charge",null,null,"f",{"$f":"Calculs!Q41","v":1.1176470588235294}]
[null,"Effet de courbure:",null,null,"αka",{"$f":"Calculs!O456","v":0.92156862745098045}]
[null,null,null,null,"αki",{"$f":"Calculs!O455","v":1.0784313725490196}]
[]
[null,"Terrain"]
[]
[null,"Qualité du sol",null,null,null,{"$f":"Données!AE30","v":"Sol stable"}]
[null,"Poids volumique apparent humide",null,null,"γ",{"$f":"Données!AE32","v":20},"kN/m3"]
[null,"Poids volumique déjaugé",null,null,"γ'",{"$f":"Données!AE34","v":11},"kN/m3"]
[null,"Module de déformation du sol",null,null,"EB",{"$f":"Données!AE38","v":5},"N/mm2"]
[null,"Coefficient de pression du terrain",null,null,"K",{"$f":"Données!AE40","v":0.5}]
[null,"Coefficient de flexion au tassement",null,null,"C2",{"$f":"Données!AE42","v":0.5}]
[null,"Type de béton d'enrobage",null,null,null,{"$f":"Données!AE50","v":"C16/20"}]
[]
[null,"Fouille"]
[]
[null,"Hauteur de couverture",null,null,"H",{"$f":"Données!AE52","v":3},"m"]
[null,"Type de fouille",null,null,null,{"$f":"Données!AE56","v":"Verticale (U)"}]
[]
[null,"Eau"]
[]
[null,"Eau souterraine",null,null,null,{"$f":"Données!AE60","v":"Sans eau souterraine"}]
[null,"Niveau d'eau souterraine",null,null,"hw",{"$f":"Données!AE62","v":1.3},"m"]
[null,"Eau à l'intérieur du tuyau",null,null,null,{"$f":"Données!AE64","v":"Tuyau vide"}]
[null,"Pression",null,null,"pEi",{"$f":"Données!AE66","v":10},"kN/m2"]
[]
[]
[]
[]
[]
[]
[]
[]
[null,"Actions"]
[]
[null,"Charge surfacique",null,null,null,{"$f":"Données!AE8","v":"Pas de charge"}]
[null,null,null,null,"qs",{"$f":"Calculs!R123","v":0},"kN/m2"]
[null,"Trafic ",null,null,null,{"$f":"Données!AE22","v":"Trafic routier"},null,{"$f":"IF(AND(Accueil!AZ15=\"Français\",AND(OR(F60=\"Voie unique (ferroviaire)\",F60=\"Voies multiples (ferroviaire)\",F60=\"Voie étroite (ferroviaire)\",F60=\"Eingleisig (Bahnverkehr)\",F60=\"Mehrgleisig (Bahnverkehr)\",F60=\"Schmalspur (Bahnverkehr)\"),F39<2)),\"H trop faible!\",\"\")","v":""}]
[null,"Coefficient de charge",null,null,"α",{"$f":"Calculs!P93","v":0.9}]
[null,"Coefficient dynamique",null,null,"Ψ",{"$f":"Calculs!Q93","v":1}]
[null,"Trafic routier et route d'importance",null,null,"pvtotale",{"$f":"Calculs!M109","v":24.562000000000001},"kN/m2"]
[null,"secondaire",null,null,"pvroue",{"$f":"Calculs!N109","v":4.9021999999999997},"kN/m2"]
[null,null,null,null,"∆pv",{"$f":"Calculs!O109","v":19.659800000000001},"kN/m2"]
[null,"Bord de route",null,null,"pvtotale",{"$f":"Calculs!P109","v":0},"kN/m2"]
[null,null,null,null,"pvroue",{"$f":"Calculs!Q109","v":0},"kN/m2"]
[null,null,null,null,"∆pv",{"$f":"Calculs!R109","v":0},"kN/m2"]
[null,"Trafic ferroviaire voie unique",null,null,"punique",{"$f":"Calculs!T109","v":0},"kN/m2"]
[null,"Trafic ferroviaire voies multiples",null,null,"pmultiples",{"$f":"Calculs!U109","v":0},"kN/m2"]
[null,"Trafic ferroviaire voie étroite",null,null,"pétroite",{"$f":"Calculs!V109","v":0},"kN/m2"]
[]
[]
[]
["Résultats"]
[]
[]
[]
[]
[]
[]
[]
[]
[]
[]
[]
[]
[]
[]
[]
[]
[]
[]
[]
[]
[]
[]
[]
[]
[]
[]
[]
[]
[]
[]
[null,"Sollicitations"]
[]
[null,null,"Sollicitations en [kN/m2]"]
[null,null,null,"U1/V1","U2/V2","U2A/V2A","U3/V3","U4/V4"]
["Charge perm. au sommet",null,"qs1",{"$f":"Calculs!X194","v":104.26038660133979},{"$f":"Calculs!Y194","v":99.695505670618388},{"$f":"Calculs!Z194","v":93.372810661764703},{"$f":"Calculs!AA194","v":84.445958236331649},{"$f":"Calculs!AB194","v":84.445958236331649}]
["Charge variable au sommet",null,"qs2",{"$f":"Calculs!X195","v":24.70648235294118},{"$f":"Calculs!Y195","v":24.70648235294118},{"$f":"Calculs!Z195","v":24.70648235294118},{"$f":"Calculs!AA195","v":24.70648235294118},{"$f":"Calculs!AB195","v":24.70648235294118}]
["Charge effective au sommet",null,"qser",{"$f":"Calculs!X196","v":128.96686895428098},{"$f":"Calculs!Y196","v":124.40198802355957},{"$f":"Calculs!Z196","v":118.07929301470588},{"$f":"Calculs!AA196","v":109.15244058927283},{"$f":"Calculs!AB196","v":109.15244058927283}]
["Pression du terrain",null,"qh",{"$f":"Calculs!X197","v":64.483434477140477},{"$f":"Calculs!Y197","v":62.200994011779784},{"$f":"Calculs!Z197","v":59.039646507352941},{"$f":"Calculs!AA197","v":54.576220294636414},{"$f":"Calculs!AB197","v":0}]
["Pression d'appui",null,"qSt",{"$f":"Calculs!X198","v":32.241717238570246},{"$f":"Calculs!Y198","v":37.320596407067868},{"$f":"Calculs!Z198","v":59.039646507352941},{"$f":"Calculs!AA198","v":81.864330441954621},{"$f":"Calculs!AB198","v":87.321952471418271}]
["Charge de dim. au sommet",null,"qds",{"$f":"Calculs!X199","v":177.81124544122051},{"$f":"Calculs!Y199","v":171.64865618474661},{"$f":"Calculs!Z199","v":163.11301792279414},{"$f":"Calculs!AA199","v":151.06176714845952},{"$f":"Calculs!AB199","v":151.06176714845952}]
[]
[]
[null,"Vérifications"]
[]
[null,"Poussée d'Archimède"]
[null,"Actions stabilisant",null,"G + G' + Gsp",{"$f":"Calculs!Y172","v":23.109885052054086},"[kN/m]"]
[null,null,null,"GR",{"$f":"Calculs!Y173","v":1.0254158421317086},"[kN/m]"]
[null,null,null,"Somme",{"$f":"Calculs!Y174","v":24.135300894185793},"[kN/m]","Facteur",0.9]
[null,"Actions déstabilisantes",null,"FA",{"$f":"Calculs!Y175","v":0},"[kN/m]","Facteur",1.05]
[]
[null,"Contôle:",null,"1.05*FA",{"$f":"Calculs!Y177","v":0},"[kN/m]",{"$f":"IF(E126<E127,\"OK\",\"KO!\")","v":"OK"}]
[null,null,null,"0.9*Somme",{"$f":"Calculs!Y178","v":21.721770804767214},"[kN/m]"]
[]
[]
[null,"Sécurité structurale"]
[]
[null,"Sécurité structurale"]
[null,null,"U1/V1","U2/V2","U2A/V2A","U3/V3","U4/V4"]
[null,"qds",{"$f":"Calculs!W202","v":177.81124544122051},{"$f":"Calculs!X202","v":171.64865618474661},{"$f":"Calculs!Y202","v":163.11301792279414},{"$f":"Calculs!Z202","v":151.06176714845952},{"$f":"Calculs!AA202","v":151.06176714845952},"[kN/m2]"]
[null,"q*ds",{"$f":"Calculs!W203","v":67.568273267663798},{"$f":"Calculs!X203","v":65.226489350203721},{"$f":"Calculs!Y203","v":61.982946810661772},{"$f":"Calculs!Z203","v":57.403471516414619},{"$f":"Calculs!AA203","v":57.403471516414619},"[kN/m]"]
[null,"qBr",{"$f":"Calculs!W204","v":27},{"$f":"Calculs!X204","v":27},{"$f":"Calculs!Y204","v":27},{"$f":"Calculs!Z204","v":27},{"$f":"Calculs!AA204","v":27},"[kN/m]"]
[null,"ZE",{"$f":"Calculs!W205","v":1.5},{"$f":"Calculs!X205","v":2.5},{"$f":"Calculs!Y205","v":3},{"$f":"Calculs!Z205","v":6},{"$f":"Calculs!AA205","v":7},"[-]"]
[null,"ZE*qBr/1.2",{"$f":"Calculs!W206","v":33.75},{"$f":"Calculs!X206","v":56.25},{"$f":"Calculs!Y206","v":67.5},{"$f":"Calculs!Z206","v":135},{"$f":"Calculs!AA206","v":157.5},"[kN/m]"]
[]
[null,"Résultat",{"$f":"IF(C135<=C138,\"OK\",\"KO!\")","v":"KO!"},{"$f":"IF(D135<=D138,\"OK\",\"KO!\")","v":"KO!"},"OK","OK","OK"]
[]
[]
[null,"Aptitude au service"]
[]
[null,null,null,"σRbz,adm",{"$f":"Calculs!L464","v":-4},"N/mm2"]
[]
[null,null,null,"Convention des contraintes:"]
[null,null,null,"Traction négative -"]
[null,null,null,"Compression positive +"]
[]
[]
[]
[]
[]
[]
[]
[]
[]
[]
[]
[null,"Contraintes Profil d'enrobage U1/V1"]
[null,"Contraintes en [N/mm2]",null,"0°","45°","90°","135°","180°"]
[null,"Due à l'effort normal",null,{"$f":"Calculs!O461","v":0.22856162277020581},{"$f":"Calculs!P461","v":0.38119174483685125},{"$f":"Calculs!Q461","v":0.55451805705569412},{"$f":"Calculs!R461","v":0.56354877062852426},{"$f":"Calculs!S461","v":0.30118591231812253}]
[null,"Due au moment extérieur",null,{"$f":"Calculs!O462","v":2.1255236648011651},{"$f":"Calculs!P462","v":0.17425492479187937},{"$f":"Calculs!Q462","v":-2.2210673880936946},{"$f":"Calculs!R462","v":-0.75542165445410003},{"$f":"Calculs!S462","v":3.3502963486824178}]
[null,"Due au moment intérieur",null,{"$f":"Calculs!O463","v":-2.4873149268949803},{"$f":"Calculs!P463","v":-0.20391533752241203},{"$f":"Calculs!Q463","v":2.599121411599004},{"$f":"Calculs!R463","v":0.88400406372288287},{"$f":"Calculs!S463","v":-3.9205595569687861}]
[]
[null,"Contraintes extérieures",null,{"$f":"Calculs!O465","v":2.3540852875713707},{"$f":"Calculs!P465","v":0.55544666962873057},{"$f":"Calculs!Q465","v":-1.6665493310380004},{"$f":"Calculs!R465","v":-0.19187288382557577},{"$f":"Calculs!S465","v":3.6514822610005404}]
[null,"Conraintes intérieures",null,{"$f":"Calculs!O466","v":-2.2587533041247747},{"$f":"Calculs!P466","v":0.17727640731443922},{"$f":"Calculs!Q466","v":3.1536394686546982},{"$f":"Calculs!R466","v":1.447552834351407},{"$f":"Calculs!S466","v":-3.6193736446506635}]
[]
[null,"Contraintes extérieures",null,{"$f":"Calculs!O468","v":"OK"},{"$f":"Calculs!P468","v":"OK"},{"$f":"Calculs!Q468","v":"OK"},{"$f":"Calculs!R468","v":"OK"},{"$f":"Calculs!S468","v":"OK"}]
[null,"Conraintes intérieures",null,{"$f":"Calculs!O469","v":"OK"},{"$f":"Calculs!P469","v":"OK"},{"$f":"Calculs!Q469","v":"OK"},{"$f":"Calculs!R469","v":"OK"},{"$f":"Calculs!S469","v":"OK"}]
[]
[]
[]
[null,"Contraintes Profil d'enrobage U2/V2"]
[null,"Contraintes en [N/mm2]",null,"0°","45°","90°","135°","180°"]
[null,"Due à l'effort normal",null,{"$f":"Calculs!O474","v":0.24506122310612138},{"$f":"Calculs!P474","v":0.3851611933086424},{"$f":"Calculs!Q474","v":0.53511731310012822},{"$f":"Calculs!R474","v":0.44069594878010376},{"$f":"Calculs!S474","v":0.23077638108399406}]
[null,"Due au moment extérieur",null,{"$f":"Calculs!O475","v":1.7773187998623046},{"$f":"Calculs!P475","v":6.6133821334686982E-2},{"$f":"Calculs!Q475","v":-1.8369571765336041},{"$f":"Calculs!R475","v":-0.14461382917680216},{"$f":"Calculs!S475","v":2.0762567263766365}]
[null,"Due au moment intérieur",null,{"$f":"Calculs!O476","v":-2.0798411487750368},{"$f":"Calculs!P476","v":-7.7390641987399644E-2},{"$f":"Calculs!Q476","v":2.1496307384967706},{"$f":"Calculs!R476","v":0.16922894903668334},{"$f":"Calculs!S476","v":-2.4296621266109573}]
[]
[null,"Contraintes extérieures",null,{"$f":"Calculs!O478","v":2.0223800229684259},{"$f":"Calculs!P478","v":0.45129501464332938},{"$f":"Calculs!Q478","v":-1.301839863433476},{"$f":"Calculs!R478","v":0.29608211960330161},{"$f":"Calculs!S478","v":2.3070331074606307}]
[null,"Conraintes intérieures",null,{"$f":"Calculs!O479","v":-1.8347799256689155},{"$f":"Calculs!P479","v":0.30777055132124276},{"$f":"Calculs!Q479","v":2.6847480515968987},{"$f":"Calculs!R479","v":0.60992489781678705},{"$f":"Calculs!S479","v":-2.198885745526963}]
[]
[null,"Contraintes extérieures",null,{"$f":"Calculs!O481","v":"OK"},{"$f":"Calculs!P481","v":"OK"},{"$f":"Calculs!Q481","v":"OK"},{"$f":"Calculs!R481","v":"OK"},{"$f":"Calculs!S481","v":"OK"}]
[null,"Conraintes intérieures",null,{"$f":"Calculs!O482","v":"OK"},{"$f":"Calculs!P482","v":"OK"},{"$f":"Calculs!Q482","v":"OK"},{"$f":"Calculs!R482","v":"OK"},{"$f":"Calculs!S482","v":"OK"}]
[]
[]
[]
[null,"Contraintes Profil d'enrobage U2A/V2A"]
[null,"Contraintes en [N/mm2]",null,"0°","45°","90°","135°","180°"]
[null,"Due à l'effort normal",null,{"$f":"Calculs!O487","v":0.25023845541687717},{"$f":"Calculs!P487","v":0.3781624178363735},{"$f":"Calculs!Q487","v":0.50824585931249999},{"$f":"Calculs!R487","v":0.38100184187105801},{"$f":"Calculs!S487","v":0.25159853989562281}]
[null,"Due au moment extérieur",null,{"$f":"Calculs!O488","v":1.5072061080913357},{"$f":"Calculs!P488","v":3.222416963640725E-3},{"$f":"Calculs!Q488","v":-1.5117955359948638},{"$f":"Calculs!R488","v":-3.2145277579941557E-3},{"$f":"Calculs!S488","v":1.516396171027719}]
[null,"Due au moment intérieur",null,{"$f":"Calculs!O489","v":-1.7637518286175202},{"$f":"Calculs!P489","v":-3.7709134680902097E-3},{"$f":"Calculs!Q489","v":1.7691224357386703},{"$f":"Calculs!R489","v":3.7616814189293311E-3},{"$f":"Calculs!S489","v":-1.7745061575856282}]
[]
[null,"Contraintes extérieures",null,{"$f":"Calculs!O491","v":1.757444563508213},{"$f":"Calculs!P491","v":0.38138483480001423},{"$f":"Calculs!Q491","v":-1.0035496766823639},{"$f":"Calculs!R491","v":0.37778731411306388},{"$f":"Calculs!S491","v":1.7679947109233418}]
[null,"Conraintes intérieures",null,{"$f":"Calculs!O492","v":-1.5135133732006429},{"$f":"Calculs!P492","v":0.37439150436828328},{"$f":"Calculs!Q492","v":2.2773682950511702},{"$f":"Calculs!R492","v":0.38476352328998736},{"$f":"Calculs!S492","v":-1.5229076176900054}]
[]
[null,"Contraintes extérieures",null,{"$f":"Calculs!O494","v":"OK"},{"$f":"Calculs!P494","v":"OK"},{"$f":"Calculs!Q494","v":"OK"},{"$f":"Calculs!R494","v":"OK"},{"$f":"Calculs!S494","v":"OK"}]
[null,"Conraintes intérieures",null,{"$f":"Calculs!O495","v":"OK"},{"$f":"Calculs!P495","v":"OK"},{"$f":"Calculs!Q495","v":"OK"},{"$f":"Calculs!R495","v":"OK"},{"$f":"Calculs!S495","v":"OK"}]
[]
[]
[]
[]
[]
[]
[]
[]
[null,"Contraintes Profil d'enrobage U3/V3"]
[null,"Contraintes en [N/mm2]",null,"0°","45°","90°","135°","180°"]
[null,"Due à l'effort normal",null,{"$f":"Calculs!O500","v":0.30456953385556068},{"$f":"Calculs!P500","v":0.40153794939297749},{"$f":"Calculs!Q500","v":0.4081444215888187},{"$f":"Calculs!R500","v":0.36865367836349289},{"$f":"Calculs!S500","v":0.33329004083800251}]
[null,"Due au moment extérieur",null,{"$f":"Calculs!O501","v":0.76175934504877096},{"$f":"Calculs!P501","v":-0.12621516759881915},{"$f":"Calculs!Q501","v":-0.55543567632190038},{"$f":"Calculs!R501","v":4.9964085981207357E-2},{"$f":"Calculs!S501","v":0.51757320833779363}]
[null,"Due au moment intérieur",null,{"$f":"Calculs!O502","v":-0.89142051016345536},{"$f":"Calculs!P502","v":0.14769860038159685},{"$f":"Calculs!Q502","v":0.64997791910009606},{"$f":"Calculs!R502","v":-5.8468611254604341E-2},{"$f":"Calculs!S502","v":-0.60567077571443939}]
[]
[null,"Contraintes extérieures",null,{"$f":"Calculs!O504","v":1.0663288789043317},{"$f":"Calculs!P504","v":0.27532278179415837},{"$f":"Calculs!Q504","v":-0.14729125473308169},{"$f":"Calculs!R504","v":0.41861776434470022},{"$f":"Calculs!S504","v":0.85086324917579614}]
[null,"Conraintes intérieures",null,{"$f":"Calculs!O505","v":-0.58685097630789462},{"$f":"Calculs!P505","v":0.54923654977457437},{"$f":"Calculs!Q505","v":1.0581223406889149},{"$f":"Calculs!R505","v":0.31018506710888855},{"$f":"Calculs!S505","v":-0.27238073487643688}]
[]
[null,"Contraintes extérieures",null,{"$f":"Calculs!O507","v":"OK"},{"$f":"Calculs!P507","v":"OK"},{"$f":"Calculs!Q507","v":"OK"},{"$f":"Calculs!R507","v":"OK"},{"$f":"Calculs!S507","v":"OK"}]
[null,"Conraintes intérieures",null,{"$f":"Calculs!O508","v":"OK"},{"$f":"Calculs!P508","v":"OK"},{"$f":"Calculs!Q508","v":"OK"},{"$f":"Calculs!R508","v":"OK"},{"$f":"Calculs!S508","v":"OK"}]
[]
[]
[]
[null,"Contraintes Profil d'enrobage U4/V4"]
[null,"Contraintes en [N/mm2]",null,"0°","45°","90°","135°","180°"]
[null,"Due à l'effort normal",null,{"$f":"Calculs!O513","v":0.3704382557641549},{"$f":"Calculs!P513","v":0.4192927566059671},{"$f":"Calculs!Q513","v":0.47030673650440952},{"$f":"Calculs!R513","v":0.42213218064065172},{"$f":"Calculs!S513","v":0.37179834024290048}]
[null,"Due au moment extérieur",null,{"$f":"Calculs!O514","v":0.57813993455354762},{"$f":"Calculs!P514","v":3.222416963640725E-3},{"$f":"Calculs!Q514","v":-0.58272936245707607},{"$f":"Calculs!R514","v":-3.2145277579943479E-3},{"$f":"Calculs!S514","v":0.58732999748993153}]
[null,"Due au moment intérieur",null,{"$f":"Calculs!O515","v":-0.6765467319243641},{"$f":"Calculs!P515","v":-3.7709134680902097E-3},{"$f":"Calculs!Q515","v":0.68191733904551455},{"$f":"Calculs!R515","v":3.7616814189295553E-3},{"$f":"Calculs!S515","v":-0.687301060892473}]
[]
[null,"Contraintes extérieures",null,{"$f":"Calculs!O517","v":0.94857819031770252},{"$f":"Calculs!P517","v":0.42251517356960783},{"$f":"Calculs!Q517","v":-0.11242262595266656},{"$f":"Calculs!R517","v":0.41891765288265737},{"$f":"Calculs!S517","v":0.95912833773283201}]
[null,"Conraintes intérieures",null,{"$f":"Calculs!O518","v":-0.3061084761602092},{"$f":"Calculs!P518","v":0.41552184313787688},{"$f":"Calculs!Q518","v":1.152224075549924},{"$f":"Calculs!R518","v":0.4258938620595813},{"$f":"Calculs!S518","v":-0.31550272064957252}]
[]
[null,"Contraintes extérieures",null,{"$f":"Calculs!O520","v":"OK"},{"$f":"Calculs!P520","v":"OK"},{"$f":"Calculs!Q520","v":"OK"},{"$f":"Calculs!R520","v":"OK"},{"$f":"Calculs!S520","v":"OK"}]
[null,"Conraintes intérieures",null,{"$f":"Calculs!O521","v":"OK"},{"$f":"Calculs!P521","v":"OK"},{"$f":"Calculs!Q521","v":"OK"},{"$f":"Calculs!R521","v":"OK"},{"$f":"Calculs!S521","v":"OK"}]
[]
[]
[null,"Traction dans le béton d'enrobage"]
[]
[null,"Profil d'enrobage",null,"U1/V1","U2/V2","U2A/V2A","U3/V3","U4/V4"]
[null,"anéc. en [m]",null,{"$f":"Calculs!O547","v":0},{"$f":"Calculs!P547","v":0.15},{"$f":"Calculs!Q547","v":0.15},{"$f":"Calculs!R547","v":0.15},{"$f":"Calculs!S547","v":0.15}]
[]
[null,"Profil d'enrobage",null,"U4/V4"]
[null,"cnéc. en [m]",null,{"$f":"Calculs!S561","v":0.15}]

{"sheet":"Béton (D)","index":9,"n_rows":240,"n_cols":8,"rows_kept":240,"cut":false,"hidden":false,"merged":[[236,1,236,2],[238,1,238,2],[239,1,239,2],[211,1,211,7],[214,1,214,7],[220,1,220,7],[225,1,225,7],[228,1,228,7],[187,1,187,7],[192,1,192,7],[195,1,195,7],[206,1,206,7],[235,1,235,2],[164,1,164,7],[167,1,167,7],[173,1,173,7],[178,1,178,7],[181,1,181,7],[159,1,159,7],[121,1,121,2],[122,1,123,2],[124,1,124,2],[125,1,125,2],[126,1,126,2],[126,6,127,7],[127,1,127,2],[132,1,132,7],[139,1,139,7],[147,3,147,5],[148,3,148,5],[149,3,149,5],[120,1,120,7],[85,2,86,2],[85,3,86,3],[85,4,86,4],[105,1,105,5],[108,2,108,7],[110,0,110,1],[111,0,111,1],[112,0,112,1],[113,0,113,1],[114,0,114,1],[115,0,115,1],[81,2,82,2],[81,3,82,3],[81,4,82,4],[83,2,84,2],[83,3,84,3],[83,4,84,4],[74,0,74,8],[1,7,1,8],[3,7,3,8],[5,7,5,8],[9,0,9,8],[59,7,60,7]]}
[]
[null,"Projekt:",{"$f":"Accueil!P15","v":"VSA 2026"},null,null,"Ingenieur/in:",null,{"$f":"Accueil!AI15","v":0}]
[]
[null,"N°:",{"$f":"Accueil!P17","v":0},null,null,"Verantwortlicher:",null,{"$f":"Accueil!AI17","v":0}]
[]
[null,"Ort:",{"$f":"Accueil!P21","v":0},null,null,"Bauherr:",null,{"$f":"Accueil!AI19","v":0}]
[null,null,{"$f":"Accueil!P23","v":0}]
[]
[]
["Daten"]
[]
[null,"Rohr"]
[]
[null,"Innendurchmesser",null,null,"di",{"$f":"Calculs!O32/1000","v":0.3},"m"]
[null,"Radius",null,null,"rm",{"$f":"Calculs!S32/1000","v":0.17},"m"]
[null,"Wanddicke",null,null,"e",{"$f":"Calculs!R32/1000","v":0.04},"m"]
[null,"Querschnittsfläche",null,null,"A",{"$f":"Calculs!R455","v":0.04},"m2"]
[null,"Widerstandsmoment",null,null,"W",{"$f":"Calculs!R456","v":2.6666666666666668E-4},"m3"]
[null,"Festigkeitsklasse",null,null,"FK",{"$f":"Calculs!T32","v":90}]
[null,"E-Modul",null,null,"ER,kurz",{"$f":"Calculs!B7","v":30000},"N/mm2"]
[]
[null,"Systemsteifigkeit",null,null,"SFkurz",{"$f":"Calculs!O37","v":10.855553293981952},{"$f":"Calculs!P37","v":"rigide"}]
[null,"Lastvergrösserungsfaktor",null,null,"f",{"$f":"Calculs!Q41","v":1.1176470588235294}]
[null,"Krümmungseinfluss",null,null,"αka",{"$f":"Calculs!O456","v":0.92156862745098045}]
[null,null,null,null,"αki",{"$f":"Calculs!O455","v":1.0784313725490196}]
[]
[null,"Terrain"]
[]
[null,"Bodenqualität",null,null,null,{"$f":"Données!AE30","v":"Sol stable"}]
[null,"Feuchtraumgewicht des Baugrunds",null,null,"γ",{"$f":"Données!AE32","v":20},"kN/m3"]
[null,"Raumgewicht unter Auftrieb",null,null,"γ'",{"$f":"Données!AE34","v":11},"kN/m3"]
[null,"Verformungsmodul des Bodens",null,null,"EB",{"$f":"Données!AE38","v":5},"N/mm2"]
[null,"Erddruckbeiwert",null,null,"K",{"$f":"Données!AE40","v":0.5}]
[null,"Setzungs-Durchbiegungsziffer",null,null,"C2",{"$f":"Données!AE42","v":0.5}]
[null,"Hüllbeton",null,null,null,{"$f":"Données!AE50","v":"C16/20"}]
[]
[null,"Graben"]
[]
[null,"Überdeckungshöhe",null,null,"H",{"$f":"Données!AE52","v":3},"m"]
[null,"Grabentyp",null,null,null,{"$f":"Données!AE56","v":"Verticale (U)"}]
[]
[null,"Wasser"]
[]
[null,"Grundwasser",null,null,null,{"$f":"Données!AE60","v":"Sans eau souterraine"}]
[null,"Grundwasserspiegel",null,null,"hw",{"$f":"Données!AE62","v":1.3},"m"]
[null,"Wasser im Rohr",null,null,null,{"$f":"Données!AE64","v":"Tuyau vide"}]
[null,"Druck",null,null,"pEi",{"$f":"Données!AE66","v":10},"kN/m2"]
[]
[]
[]
[]
[]
[]
[]
[]
[null,"Einwirkungen"]
[]
[null,"Flächenlast",null,null,null,{"$f":"Données!AE8","v":"Pas de charge"}]
[null,null,null,null,"qs",{"$f":"Calculs!R123","v":0},"kN/m2"]
[null,"Verkehr",null,null,null,{"$f":"Données!AE22","v":"Trafic routier"},null,{"$f":"IF(AND(Accueil!AZ15=\"Deutsch\",AND(OR(F60=\"Voie unique (ferroviaire)\",F60=\"Voies multiples (ferroviaire)\",F60=\"Voie étroite (ferroviaire)\",F60=\"Eingleisig (Bahnverkehr)\",F60=\"Mehrgleisig (Bahnverkehr)\",F60=\"Schmalspur (Bahnverkehr)\"),F39<2)),\"H zu klein!\",\"\")","v":""}]
[null,"Beiwert Strass- und Bahnvekehrslasten",null,null,"α",{"$f":"Calculs!P93","v":0.9}]
[null,"Dynamischer Beiwert",null,null,"Ψ",{"$f":"Calculs!Q93","v":1}]
[null,"Strassenverkehr und untergeordnete",null,null,"pvtotal",{"$f":"Calculs!M109","v":24.562000000000001},"kN/m2"]
[null,"Strassen",null,null,"pvRad",{"$f":"Calculs!N109","v":4.9021999999999997},"kN/m2"]
[null,null,null,null,"∆pv",{"$f":"Calculs!O109","v":19.659800000000001},"kN/m2"]
[null,"Strassenrand",null,null,"pvtotal",{"$f":"Calculs!P109","v":0},"kN/m2"]
[null,null,null,null,"pvRad",{"$f":"Calculs!Q109","v":0},"kN/m2"]
[null,null,null,null,"∆pv",{"$f":"Calculs!R109","v":0},"kN/m2"]
[null,"Bahnverkehr eingleisig",null,null,"peingleisig",{"$f":"Calculs!T109","v":0},"kN/m2"]
[null,"Bahnverkehr mehrgleisig",null,null,"pmehrgleisig",{"$f":"Calculs!U109","v":0},"kN/m2"]
[null,"Bahnverkehr schmalspur",null,null,"pschmal",{"$f":"Calculs!V109","v":0},"kN/m2"]
[]
[]
[]
["Resultate"]
[]
[]
[]
[]
[]
[]
[]
[]
[]
[]
[]
[]
[]
[]
[]
[]
[]
[]
[]
[]
[]
[]
[]
[]
[]
[]
[]
[]
[]
[]
[]
[null,"Beanspruchungen"]
[]
[null,null,"Beanspruchungen in [kN/m2]"]
[null,null,null,"U1/V1","U2/V2","U2A/V2A","U3/V3","U4/V4"]
["Perm. Last auf Scheitel",null,"qs1",{"$f":"Calculs!X194","v":104.26038660133979},{"$f":"Calculs!Y194","v":99.695505670618388},{"$f":"Calculs!Z194","v":93.372810661764703},{"$f":"Calculs!AA194","v":84.445958236331649},{"$f":"Calculs!AB194","v":84.445958236331649}]
["Var. Last auf Scheitel",null,"qs2",{"$f":"Calculs!X195","v":24.70648235294118},{"$f":"Calculs!Y195","v":24.70648235294118},{"$f":"Calculs!Z195","v":24.70648235294118},{"$f":"Calculs!AA195","v":24.70648235294118},{"$f":"Calculs!AB195","v":24.70648235294118}]
["Effektive Last auf Scheitel",null,"qser",{"$f":"Calculs!X196","v":128.96686895428098},{"$f":"Calculs!Y196","v":124.40198802355957},{"$f":"Calculs!Z196","v":118.07929301470588},{"$f":"Calculs!AA196","v":109.15244058927283},{"$f":"Calculs!AB196","v":109.15244058927283}]
["Erd- und Bettungsdruck",null,"qh",{"$f":"Calculs!X197","v":64.483434477140477},{"$f":"Calculs!Y197","v":62.200994011779784},{"$f":"Calculs!Z197","v":59.039646507352941},{"$f":"Calculs!AA197","v":54.576220294636414},{"$f":"Calculs!AB197","v":0}]
["Stützdruck",null,"qSt",{"$f":"Calculs!X198","v":32.241717238570246},{"$f":"Calculs!Y198","v":37.320596407067868},{"$f":"Calculs!Z198","v":59.039646507352941},{"$f":"Calculs!AA198","v":81.864330441954621},{"$f":"Calculs!AB198","v":87.321952471418271}]
["Bemessungswert ",null,"qds",{"$f":"Calculs!X199","v":177.81124544122051},{"$f":"Calculs!Y199","v":171.64865618474661},{"$f":"Calculs!Z199","v":163.11301792279414},{"$f":"Calculs!AA199","v":151.06176714845952},{"$f":"Calculs!AB199","v":151.06176714845952}]
[]
[]
[null,"Nachweise"]
[]
[null,"Auftrieb"]
[null,"Stabilisierend",null,"G + G' + Gsp",{"$f":"Calculs!Y172","v":23.109885052054086},"[kN/m]"]
[null,null,null,"GR",{"$f":"Calculs!Y173","v":1.0254158421317086},"[kN/m]"]
[null,null,null,"Summe",{"$f":"Calculs!Y174","v":24.135300894185793},"[kN/m]","Faktor",0.9]
[null,"Destabilisierend",null,"FA",{"$f":"Calculs!Y175","v":0},"[kN/m]","Faktor",1.05]
[]
[null,"Kontrolle:",null,"1.05*FA",{"$f":"Calculs!Y177","v":0},"[kN/m]",{"$f":"IF(E127<E128,\"OK\",\"KO!\")","v":"OK"}]
[null,null,null,"0.9*Summe",{"$f":"Calculs!Y178","v":21.721770804767214},"[kN/m]"]
[]
[]
[null,"Tragfähigkeit"]
[]
[null,"Tragfähigkeit"]
[null,null,"U1/V1","U2/V2","U2A/V2A","U3/V3","U4/V4"]
[null,"qds",{"$f":"Calculs!W202","v":177.81124544122051},{"$f":"Calculs!X202","v":171.64865618474661},{"$f":"Calculs!Y202","v":163.11301792279414},{"$f":"Calculs!Z202","v":151.06176714845952},{"$f":"Calculs!AA202","v":151.06176714845952},"[kN/m2]"]
[null,"q*ds",{"$f":"Calculs!W203","v":67.568273267663798},{"$f":"Calculs!X203","v":65.226489350203721},{"$f":"Calculs!Y203","v":61.982946810661772},{"$f":"Calculs!Z203","v":57.403471516414619},{"$f":"Calculs!AA203","v":57.403471516414619},"[kN/m]"]
[null,"qBr",{"$f":"Calculs!W204","v":27},{"$f":"Calculs!X204","v":27},{"$f":"Calculs!Y204","v":27},{"$f":"Calculs!Z204","v":27},{"$f":"Calculs!AA204","v":27},"[kN/m]"]
[null,"ZE",{"$f":"Calculs!W205","v":1.5},{"$f":"Calculs!X205","v":2.5},{"$f":"Calculs!Y205","v":3},{"$f":"Calculs!Z205","v":6},{"$f":"Calculs!AA205","v":7},"[-]"]
[null,"ZE*qBr/1.2",{"$f":"Calculs!W206","v":33.75},{"$f":"Calculs!X206","v":56.25},{"$f":"Calculs!Y206","v":67.5},{"$f":"Calculs!Z206","v":135},{"$f":"Calculs!AA206","v":157.5},"[kN/m]"]
[]
[null,"Resultat",{"$f":"IF(C136<=C139,\"OK\",\"KO!\")","v":"KO!"},{"$f":"IF(D136<=D139,\"OK\",\"KO!\")","v":"KO!"},"OK","OK","OK"]
[]
[]
[null,"Gebrauchstauglichkeit"]
[]
[null,null,null,"σRbz,adm",{"$f":"Calculs!L464","v":-4},"N/mm2"]
[]
[null,null,null,"Spannungskonventionen:"]
[null,null,null,"Zug negatif -"]
[null,null,null,"Druck positif +"]
[]
[]
[]
[]
[]
[]
[]
[]
[]
[null,"Spannungen Verlegeprofil U1/V1"]
[null,"Spannungen in [N/mm2]",null,"0°","45°","90°","135°","180°"]
[null,"Durch die Normalkraft",null,{"$f":"Calculs!O461","v":0.22856162277020581},{"$f":"Calculs!P461","v":0.38119174483685125},{"$f":"Calculs!Q461","v":0.55451805705569412},{"$f":"Calculs!R461","v":0.56354877062852426},{"$f":"Calculs!S461","v":0.30118591231812253}]
[null,"Durch das Moment aussen",null,{"$f":"Calculs!O462","v":2.1255236648011651},{"$f":"Calculs!P462","v":0.17425492479187937},{"$f":"Calculs!Q462","v":-2.2210673880936946},{"$f":"Calculs!R462","v":-0.75542165445410003},{"$f":"Calculs!S462","v":3.3502963486824178}]
[null,"Durch das Moment innen",null,{"$f":"Calculs!O463","v":-2.4873149268949803},{"$f":"Calculs!P463","v":-0.20391533752241203},{"$f":"Calculs!Q463","v":2.599121411599004},{"$f":"Calculs!R463","v":0.88400406372288287},{"$f":"Calculs!S463","v":-3.9205595569687861}]
[]
[null,"Spannungen aussen",null,{"$f":"Calculs!O465","v":2.3540852875713707},{"$f":"Calculs!P465","v":0.55544666962873057},{"$f":"Calculs!Q465","v":-1.6665493310380004},{"$f":"Calculs!R465","v":-0.19187288382557577},{"$f":"Calculs!S465","v":3.6514822610005404}]
[null,"Spannungen innen",null,{"$f":"Calculs!O466","v":-2.2587533041247747},{"$f":"Calculs!P466","v":0.17727640731443922},{"$f":"Calculs!Q466","v":3.1536394686546982},{"$f":"Calculs!R466","v":1.447552834351407},{"$f":"Calculs!S466","v":-3.6193736446506635}]
[]
[null,"Spannungen aussen",null,{"$f":"Calculs!O468","v":"OK"},{"$f":"Calculs!P468","v":"OK"},{"$f":"Calculs!Q468","v":"OK"},{"$f":"Calculs!R468","v":"OK"},{"$f":"Calculs!S468","v":"OK"}]
[null,"Spannungen innen",null,{"$f":"Calculs!O469","v":"OK"},{"$f":"Calculs!P469","v":"OK"},{"$f":"Calculs!Q469","v":"OK"},{"$f":"Calculs!R469","v":"OK"},{"$f":"Calculs!S469","v":"OK"}]
[]
[]
[]
[null,"Spannungen Verlegeprofil U2/V2"]
[null,"Spannungen in [N/mm2]",null,"0°","45°","90°","135°","180°"]
[null,"Durch die Normalkraft",null,{"$f":"Calculs!O474","v":0.24506122310612138},{"$f":"Calculs!P474","v":0.3851611933086424},{"$f":"Calculs!Q474","v":0.53511731310012822},{"$f":"Calculs!R474","v":0.44069594878010376},{"$f":"Calculs!S474","v":0.23077638108399406}]
[null,"Durch das Moment aussen",null,{"$f":"Calculs!O475","v":1.7773187998623046},{"$f":"Calculs!P475","v":6.6133821334686982E-2},{"$f":"Calculs!Q475","v":-1.8369571765336041},{"$f":"Calculs!R475","v":-0.14461382917680216},{"$f":"Calculs!S475","v":2.0762567263766365}]
[null,"Durch das Moment innen",null,{"$f":"Calculs!O476","v":-2.0798411487750368},{"$f":"Calculs!P476","v":-7.7390641987399644E-2},{"$f":"Calculs!Q476","v":2.1496307384967706},{"$f":"Calculs!R476","v":0.16922894903668334},{"$f":"Calculs!S476","v":-2.4296621266109573}]
[]
[null,"Spannungen aussen",null,{"$f":"Calculs!O478","v":2.0223800229684259},{"$f":"Calculs!P478","v":0.45129501464332938},{"$f":"Calculs!Q478","v":-1.301839863433476},{"$f":"Calculs!R478","v":0.29608211960330161},{"$f":"Calculs!S478","v":2.3070331074606307}]
[null,"Spannungen innen",null,{"$f":"Calculs!O479","v":-1.8347799256689155},{"$f":"Calculs!P479","v":0.30777055132124276},{"$f":"Calculs!Q479","v":2.6847480515968987},{"$f":"Calculs!R479","v":0.60992489781678705},{"$f":"Calculs!S479","v":-2.198885745526963}]
[]
[null,"Spannungen aussen",null,{"$f":"Calculs!O481","v":"OK"},{"$f":"Calculs!P481","v":"OK"},{"$f":"Calculs!Q481","v":"OK"},{"$f":"Calculs!R481","v":"OK"},{"$f":"Calculs!S481","v":"OK"}]
[null,"Spannungen innen",null,{"$f":"Calculs!O482","v":"OK"},{"$f":"Calculs!P482","v":"OK"},{"$f":"Calculs!Q482","v":"OK"},{"$f":"Calculs!R482","v":"OK"},{"$f":"Calculs!S482","v":"OK"}]
[]
[]
[]
[null,"Spannungen Verlegeprofil U2A/V2A"]
[null,"Spannungen in [N/mm2]",null,"0°","45°","90°","135°","180°"]
[null,"Durch die Normalkraft",null,{"$f":"Calculs!O487","v":0.25023845541687717},{"$f":"Calculs!P487","v":0.3781624178363735},{"$f":"Calculs!Q487","v":0.50824585931249999},{"$f":"Calculs!R487","v":0.38100184187105801},{"$f":"Calculs!S487","v":0.25159853989562281}]
[null,"Durch das Moment aussen",null,{"$f":"Calculs!O488","v":1.5072061080913357},{"$f":"Calculs!P488","v":3.222416963640725E-3},{"$f":"Calculs!Q488","v":-1.5117955359948638},{"$f":"Calculs!R488","v":-3.2145277579941557E-3},{"$f":"Calculs!S488","v":1.516396171027719}]
[null,"Durch das Moment innen",null,{"$f":"Calculs!O489","v":-1.7637518286175202},{"$f":"Calculs!P489","v":-3.7709134680902097E-3},{"$f":"Calculs!Q489","v":1.7691224357386703},{"$f":"Calculs!R489","v":3.7616814189293311E-3},{"$f":"Calculs!S489","v":-1.7745061575856282}]
[]
[null,"Spannungen aussen",null,{"$f":"Calculs!O491","v":1.757444563508213},{"$f":"Calculs!P491","v":0.38138483480001423},{"$f":"Calculs!Q491","v":-1.0035496766823639},{"$f":"Calculs!R491","v":0.37778731411306388},{"$f":"Calculs!S491","v":1.7679947109233418}]
[null,"Spannungen innen",null,{"$f":"Calculs!O492","v":-1.5135133732006429},{"$f":"Calculs!P492","v":0.37439150436828328},{"$f":"Calculs!Q492","v":2.2773682950511702},{"$f":"Calculs!R492","v":0.38476352328998736},{"$f":"Calculs!S492","v":-1.5229076176900054}]
[]
[null,"Spannungen aussen",null,{"$f":"Calculs!O494","v":"OK"},{"$f":"Calculs!P494","v":"OK"},{"$f":"Calculs!Q494","v":"OK"},{"$f":"Calculs!R494","v":"OK"},{"$f":"Calculs!S494","v":"OK"}]
[null,"Spannungen innen",null,{"$f":"Calculs!O495","v":"OK"},{"$f":"Calculs!P495","v":"OK"},{"$f":"Calculs!Q495","v":"OK"},{"$f":"Calculs!R495","v":"OK"},{"$f":"Calculs!S495","v":"OK"}]
[]
[]
[]
[]
[]
[]
[]
[]
[null,"Spannungen Verlegeprofil U3/V3"]
[null,"Spannungen in [N/mm2]",null,"0°","45°","90°","135°","180°"]
[null,"Durch die Normalkraft",null,{"$f":"Calculs!O500","v":0.30456953385556068},{"$f":"Calculs!P500","v":0.40153794939297749},{"$f":"Calculs!Q500","v":0.4081444215888187},{"$f":"Calculs!R500","v":0.36865367836349289},{"$f":"Calculs!S500","v":0.33329004083800251}]
[null,"Durch das Moment aussen",null,{"$f":"Calculs!O501","v":0.76175934504877096},{"$f":"Calculs!P501","v":-0.12621516759881915},{"$f":"Calculs!Q501","v":-0.55543567632190038},{"$f":"Calculs!R501","v":4.9964085981207357E-2},{"$f":"Calculs!S501","v":0.51757320833779363}]
[null,"Durch das Moment innen",null,{"$f":"Calculs!O502","v":-0.89142051016345536},{"$f":"Calculs!P502","v":0.14769860038159685},{"$f":"Calculs!Q502","v":0.64997791910009606},{"$f":"Calculs!R502","v":-5.8468611254604341E-2},{"$f":"Calculs!S502","v":-0.60567077571443939}]
[]
[null,"Spannungen aussen",null,{"$f":"Calculs!O504","v":1.0663288789043317},{"$f":"Calculs!P504","v":0.27532278179415837},{"$f":"Calculs!Q504","v":-0.14729125473308169},{"$f":"Calculs!R504","v":0.41861776434470022},{"$f":"Calculs!S504","v":0.85086324917579614}]
[null,"Spannungen innen",null,{"$f":"Calculs!O505","v":-0.58685097630789462},{"$f":"Calculs!P505","v":0.54923654977457437},{"$f":"Calculs!Q505","v":1.0581223406889149},{"$f":"Calculs!R505","v":0.31018506710888855},{"$f":"Calculs!S505","v":-0.27238073487643688}]
[]
[null,"Spannungen aussen",null,{"$f":"Calculs!O507","v":"OK"},{"$f":"Calculs!P507","v":"OK"},{"$f":"Calculs!Q507","v":"OK"},{"$f":"Calculs!R507","v":"OK"},{"$f":"Calculs!S507","v":"OK"}]
[null,"Spannungen innen",null,{"$f":"Calculs!O508","v":"OK"},{"$f":"Calculs!P508","v":"OK"},{"$f":"Calculs!Q508","v":"OK"},{"$f":"Calculs!R508","v":"OK"},{"$f":"Calculs!S508","v":"OK"}]
[]
[]
[]
[null,"Spannungen Verlegeprofil U4/V4"]
[null,"Spannungen in [N/mm2]",null,"0°","45°","90°","135°","180°"]
[null,"Durch die Normalkraft",null,{"$f":"Calculs!O513","v":0.3704382557641549},{"$f":"Calculs!P513","v":0.4192927566059671},{"$f":"Calculs!Q513","v":0.47030673650440952},{"$f":"Calculs!R513","v":0.42213218064065172},{"$f":"Calculs!S513","v":0.37179834024290048}]
[null,"Durch das Moment aussen",null,{"$f":"Calculs!O514","v":0.57813993455354762},{"$f":"Calculs!P514","v":3.222416963640725E-3},{"$f":"Calculs!Q514","v":-0.58272936245707607},{"$f":"Calculs!R514","v":-3.2145277579943479E-3},{"$f":"Calculs!S514","v":0.58732999748993153}]
[null,"Durch das Moment innen",null,{"$f":"Calculs!O515","v":-0.6765467319243641},{"$f":"Calculs!P515","v":-3.7709134680902097E-3},{"$f":"Calculs!Q515","v":0.68191733904551455},{"$f":"Calculs!R515","v":3.7616814189295553E-3},{"$f":"Calculs!S515","v":-0.687301060892473}]
[]
[null,"Spannungen aussen",null,{"$f":"Calculs!O517","v":0.94857819031770252},{"$f":"Calculs!P517","v":0.42251517356960783},{"$f":"Calculs!Q517","v":-0.11242262595266656},{"$f":"Calculs!R517","v":0.41891765288265737},{"$f":"Calculs!S517","v":0.95912833773283201}]
[null,"Spannungen innen",null,{"$f":"Calculs!O518","v":-0.3061084761602092},{"$f":"Calculs!P518","v":0.41552184313787688},{"$f":"Calculs!Q518","v":1.152224075549924},{"$f":"Calculs!R518","v":0.4258938620595813},{"$f":"Calculs!S518","v":-0.31550272064957252}]
[]
[null,"Spannungen aussen",null,{"$f":"Calculs!O520","v":"OK"},{"$f":"Calculs!P520","v":"OK"},{"$f":"Calculs!Q520","v":"OK"},{"$f":"Calculs!R520","v":"OK"},{"$f":"Calculs!S520","v":"OK"}]
[null,"Spannungen innen",null,{"$f":"Calculs!O521","v":"OK"},{"$f":"Calculs!P521","v":"OK"},{"$f":"Calculs!Q521","v":"OK"},{"$f":"Calculs!R521","v":"OK"},{"$f":"Calculs!S521","v":"OK"}]
[]
[]
[null,"Zugkraft im Sohlenbeton"]
[]
[null,"Verlegeprofil",null,"U1/V1","U2/V2","U2A/V2A","U3/V3","U4/V4"]
[null,"anötig in [m]",null,{"$f":"Calculs!O547","v":0},{"$f":"Calculs!P547","v":0.15},{"$f":"Calculs!Q547","v":0.15},{"$f":"Calculs!R547","v":0.15},{"$f":"Calculs!S547","v":0.15}]
[]
[null,"Verlegeprofil",null,"U4/V4"]
[null,"cnötig in [m]",null,{"$f":"Calculs!S561","v":0.15}]

{"sheet":"Grès vitrifié n.","index":10,"n_rows":240,"n_cols":8,"rows_kept":240,"cut":false,"hidden":false,"merged":[[235,1,235,2],[236,1,236,2],[238,1,238,2],[239,1,239,2],[210,1,210,2],[211,1,211,7],[214,1,214,7],[220,1,220,7],[225,1,225,7],[228,1,228,7],[209,1,209,2],[164,1,164,7],[167,1,167,7],[173,1,173,7],[178,1,178,7],[181,1,181,7],[187,1,187,7],[192,1,192,7],[195,1,195,7],[206,1,206,7],[207,1,207,2],[208,1,208,2],[159,1,159,7],[121,1,121,2],[122,1,123,2],[124,1,124,2],[125,1,125,2],[126,1,126,2],[126,6,127,7],[127,1,127,2],[132,1,132,7],[139,1,139,7],[147,3,147,5],[148,3,148,5],[149,3,149,5],[120,1,120,7],[85,2,86,2],[85,3,86,3],[85,4,86,4],[105,1,105,5],[108,2,108,7],[110,0,110,1],[111,0,111,1],[112,0,112,1],[113,0,113,1],[114,0,114,1],[115,0,115,1],[81,2,82,2],[81,3,82,3],[81,4,82,4],[83,2,84,2],[83,3,84,3],[83,4,84,4],[74,0,74,8],[1,7,1,8],[3,7,3,8],[5,7,5,8],[9,0,9,8],[59,7,60,7],[11,4,11,6]]}
[]
[null,"Projet:",{"$f":"Accueil!P15","v":"VSA 2026"},null,null,"Ingénieur/e:",null,{"$f":"Accueil!AI15","v":0}]
[]
[null,{"$f":"Accueil!$L$17","v":"N°:"},{"$f":"Accueil!P17","v":0},null,null,"Responsable:",null,{"$f":"Accueil!AI17","v":0}]
[]
[null,"Lieu:",{"$f":"Accueil!P21","v":0},null,null,"Maître d'ouvrage:",null,{"$f":"Accueil!AI19","v":0}]
[null,null,{"$f":"Accueil!P23","v":0}]
[]
[]
["Données"]
[]
[null,"Tuyau en grès",null,null,{"$f":"IF(Données!$AE$6/1000>F14,\"di max.< di introduit!\",\"\")","v":""}]
[]
[null,"Diamètre intérieur ",null,null,"di",{"$f":"Calculs!KM32/1000","v":0.3},"m"]
[null,"Rayon moyen",null,null,"rm",{"$f":"Calculs!KQ32/1000","v":0.16375000000000001},"m"]
[null,"Épaisseur de paroi",null,null,"e",{"$f":"Calculs!KP32/1000","v":2.75E-2},"m"]
[null,"Section",null,null,"A",{"$f":"Calculs!KP455","v":2.75E-2},"m2"]
[null,"Module de flexion",null,null,"W",{"$f":"Calculs!KP456","v":1.2604166666666666E-4},"m3"]
[null,"Classe de résistance",null,null,"FK",{"$f":"Calculs!KR32","v":160}]
[null,"Module d'élasticité",null,null,"ER,court",{"$f":"Calculs!B8","v":50000},"N/mm2"]
[]
[null,"Rigidité du système",null,null,"SFcourt",{"$f":"Calculs!KM37","v":6.5784209308648505},{"$f":"Calculs!KN37","v":"rigide"}]
[null,"Facteur de majoration de charge",null,null,"f",{"$f":"Calculs!KO41","v":1.083969465648855}]
[null,"Effet de courbure:",null,null,"αka",{"$f":"Calculs!KM456","v":0.94402035623409675}]
[null,null,null,null,"αki",{"$f":"Calculs!KM455","v":1.0559796437659033}]
[]
[null,"Terrain"]
[]
[null,"Qualité du sol",null,null,null,{"$f":"Données!AE30","v":"Sol stable"}]
[null,"Poids volumique apparent humide",null,null,"γ",{"$f":"Données!AE32","v":20},"kN/m3"]
[null,"Poids volumique déjaugé",null,null,"γ'",{"$f":"Données!AE34","v":11},"kN/m3"]
[null,"Module de déformation du sol",null,null,"EB",{"$f":"Données!AE38","v":5},"N/mm2"]
[null,"Coefficient de pression du terrain",null,null,"K",{"$f":"Données!AE40","v":0.5}]
[null,"Coefficient de flexion au tassement",null,null,"C2",{"$f":"Données!AE42","v":0.5}]
[null,"Type de béton d'enrobage",null,null,null,{"$f":"Données!AE50","v":"C16/20"}]
[]
[null,"Fouille"]
[]
[null,"Hauteur de couverture",null,null,"H",{"$f":"Données!AE52","v":3},"m"]
[null,"Type de fouille",null,null,null,{"$f":"Données!AE56","v":"Verticale (U)"}]
[]
[null,"Eau"]
[]
[null,"Eau souterraine",null,null,null,{"$f":"Données!AE60","v":"Sans eau souterraine"}]
[null,"Niveau d'eau souterraine",null,null,"hw",{"$f":"Données!AE62","v":1.3},"m"]
[null,"Eau à l'intérieur du tuyau",null,null,null,{"$f":"Données!AE64","v":"Tuyau vide"}]
[null,"Pression",null,null,"pEi",{"$f":"Données!AE66","v":10},"kN/m2"]
[]
[]
[]
[]
[]
[]
[]
[]
[null,"Actions"]
[]
[null,"Charge surfacique",null,null,null,{"$f":"Données!AE8","v":"Pas de charge"}]
[null,null,null,null,"qs",{"$f":"Calculs!KP123","v":0},"kN/m2"]
[null,"Trafic ",null,null,null,{"$f":"Données!AE22","v":"Trafic routier"},null,{"$f":"IF(AND(Accueil!AZ15=\"Français\",AND(OR(F60=\"Voie unique (ferroviaire)\",F60=\"Voies multiples (ferroviaire)\",F60=\"Voie étroite (ferroviaire)\",F60=\"Eingleisig (Bahnverkehr)\",F60=\"Mehrgleisig (Bahnverkehr)\",F60=\"Schmalspur (Bahnverkehr)\"),F39<2)),\"H trop faible!\",\"\")","v":""}]
[null,"Coefficient de charge",null,null,"α",{"$f":"Calculs!KN93","v":0.9}]
[null,"Coefficient dynamique",null,null,"Ψ",{"$f":"Calculs!KO93","v":1}]
[null,"Trafic routier et route d'importance",null,null,"pvtotale",{"$f":"Calculs!KK109","v":24.562000000000001},"kN/m2"]
[null,"secondaire",null,null,"pvroue",{"$f":"Calculs!KL109","v":4.9021999999999997},"kN/m2"]
[null,null,null,null,"∆pv",{"$f":"Calculs!KM109","v":19.659800000000001},"kN/m2"]
[null,"Bord de route",null,null,"pvtotale",{"$f":"Calculs!KN109","v":0},"kN/m2"]
[null,null,null,null,"pvroue",{"$f":"Calculs!KO109","v":0},"kN/m2"]
[null,null,null,null,"∆pv",{"$f":"Calculs!KP109","v":0},"kN/m2"]
[null,"Trafic ferroviaire voie unique",null,null,"punique",{"$f":"Calculs!KR109","v":0},"kN/m2"]
[null,"Trafic ferroviaire voies multiples",null,null,"pmultiples",{"$f":"Calculs!KS109","v":0},"kN/m2"]
[null,"Trafic ferroviaire voie étroite",null,null,"pétroite",{"$f":"Calculs!KT109","v":0},"kN/m2"]
[]
[]
[]
["Résultats"]
[]
[]
[]
[]
[]
[]
[]
[]
[]
[]
[]
[]
[]
[]
[]
[]
[]
[]
[]
[]
[]
[]
[]
[]
[]
[]
[]
[]
[]
[]
[]
[null,"Sollicitations"]
[]
[null,null,"Sollicitations en [kN/m2]"]
[null,null,null,"U1/V1","U2/V2","U2A/V2A","U3/V3","U4/V4"]
["Charge perm. au sommet",null,"qs1",{"$f":"Calculs!KV194","v":101.11875181021865},{"$f":"Calculs!KW194","v":96.6914225347018},{"$f":"Calculs!KX194","v":90.559246660305334},{"$f":"Calculs!KY194","v":81.901383359784887},{"$f":"Calculs!KZ194","v":81.901383359784887}]
["Charge variable au sommet",null,"qs2",{"$f":"Calculs!KV195","v":23.962012213740461},{"$f":"Calculs!KW195","v":23.962012213740461},{"$f":"Calculs!KX195","v":23.962012213740461},{"$f":"Calculs!KY195","v":23.962012213740461},{"$f":"Calculs!KZ195","v":23.962012213740461}]
["Charge effective au sommet",null,"qser",{"$f":"Calculs!KV196","v":125.08076402395912},{"$f":"Calculs!KW196","v":120.65343474844227},{"$f":"Calculs!KX196","v":114.5212588740458},{"$f":"Calculs!KY196","v":105.86339557352535},{"$f":"Calculs!KZ196","v":105.86339557352535}]
["Pression du terrain",null,"qh",{"$f":"Calculs!KV197","v":62.54038201197956},{"$f":"Calculs!KW197","v":60.326717374221133},{"$f":"Calculs!KX197","v":57.260629437022899},{"$f":"Calculs!KY197","v":52.931697786762669},{"$f":"Calculs!KZ197","v":0}]
["Pression d'appui",null,"qSt",{"$f":"Calculs!KV198","v":31.27019100598978},{"$f":"Calculs!KW198","v":36.19603042453268},{"$f":"Calculs!KX198","v":57.260629437022899},{"$f":"Calculs!KY198","v":79.397546680144018},{"$f":"Calculs!KZ198","v":84.69071645882029}]
["Charge de dim. au sommet",null,"qds",{"$f":"Calculs!KV199","v":172.45333326440587},{"$f":"Calculs!KW199","v":166.47643874245813},{"$f":"Calculs!KX199","v":158.19800131202288},{"$f":"Calculs!KY199","v":146.5098858563203},{"$f":"Calculs!KZ199","v":146.5098858563203}]
[]
[]
[null,"Vérifications"]
[]
[null,"Poussée d'Archimède"]
[null,"Actions stabilisant",null,"G + G' + Gsp",{"$f":"Calculs!KW172","v":21.570451964578364},"[kN/m]"]
[null,null,null,"GR",{"$f":"Calculs!KW173","v":0.62246731440064762},"[kN/m]"]
[null,null,null,"Somme",{"$f":"Calculs!KW174","v":22.192919278979012},"[kN/m]","Facteur",0.9]
[null,"Actions déstabilisantes",null,"FA",{"$f":"Calculs!KW175","v":0},"[kN/m]","Facteur",1.05]
[]
[null,"Contôle:",null,"1.05*FA",{"$f":"Calculs!KW177","v":0},"[kN/m]",{"$f":"IF(E127<E128,\"OK\",\"KO!\")","v":"OK"}]
[null,null,null,"0.9*Somme",{"$f":"Calculs!KW178","v":19.973627351081113},"[kN/m]"]
[]
[]
[null,"Sécurité structurale"]
[]
[null,"Sécurité structurale"]
[null,null,"U1/V1","U2/V2","U2A/V2A","U3/V3","U4/V4"]
[null,"qds",{"$f":"Calculs!KU202","v":172.45333326440587},{"$f":"Calculs!KV202","v":166.47643874245813},{"$f":"Calculs!KW202","v":158.19800131202288},{"$f":"Calculs!KX202","v":146.5098858563203},{"$f":"Calculs!KY202","v":146.5098858563203},"[kN/m2]"]
[null,"q*ds",{"$f":"Calculs!KU203","v":61.220933308864083},{"$f":"Calculs!KV203","v":59.099135753572632},{"$f":"Calculs!KW203","v":56.160290465768121},{"$f":"Calculs!KX203","v":52.011009478993707},{"$f":"Calculs!KY203","v":52.011009478993707},"[kN/m]"]
[null,"qBr",{"$f":"Calculs!KU204","v":48},{"$f":"Calculs!KV204","v":48},{"$f":"Calculs!KW204","v":48},{"$f":"Calculs!KX204","v":48},{"$f":"Calculs!KY204","v":48},"[kN/m]"]
[null,"ZE",{"$f":"Calculs!KU205","v":1.5},{"$f":"Calculs!KV205","v":2.5},{"$f":"Calculs!KW205","v":3},{"$f":"Calculs!KX205","v":6},{"$f":"Calculs!KY205","v":7},"[-]"]
[null,"ZE*qBr/1.2",{"$f":"Calculs!KU206","v":60},{"$f":"Calculs!KV206","v":100},{"$f":"Calculs!KW206","v":120},{"$f":"Calculs!KX206","v":240},{"$f":"Calculs!KY206","v":280},"[kN/m]"]
[]
[null,"Résultat",{"$f":"Calculs!KU208","v":"KO!"},{"$f":"Calculs!KV208","v":"OK"},{"$f":"Calculs!KW208","v":"OK"},{"$f":"Calculs!KX208","v":"OK"},{"$f":"Calculs!KY208","v":"OK"}]
[]
[]
[null,"Aptitude au service"]
[]
[null,null,null,"σRbz,adm",{"$f":"Calculs!KJ464","v":-6},"N/mm2"]
[]
[null,null,null,"Convention des contraintes:"]
[null,null,null,"Traction négative -"]
[null,null,null,"Compression positive +"]
[]
[]
[]
[]
[]
[]
[]
[]
[]
[null,"Contraintes Profil d'enrobage U1/V1"]
[null,"Contraintes en [N/mm2]",null,"0°","45°","90°","135°","180°"]
[null,"Due à l'effort normal",null,{"$f":"Calculs!KM461","v":0.3113898975832804},{"$f":"Calculs!KN461","v":0.51747654741532378},{"$f":"Calculs!KO461","v":0.75045790186993844},{"$f":"Calculs!KP461","v":0.76197258093714826},{"$f":"Calculs!KQ461","v":0.4084584276085152}]
[null,"Due au moment extérieur",null,{"$f":"Calculs!KM462","v":4.115187821774108},{"$f":"Calculs!KN462","v":0.33498207161001009},{"$f":"Calculs!KO462","v":-4.2969658054075088},{"$f":"Calculs!KP462","v":-1.4594048339612746},{"$f":"Calculs!KQ462","v":6.4788170765024491}]
[null,"Due au moment intérieur",null,{"$f":"Calculs!KM463","v":-4.6032424421462386},{"$f":"Calculs!KN463","v":-0.37471040355297619},{"$f":"Calculs!KO463","v":4.8065790006579947},{"$f":"Calculs!KP463","v":1.6324878870456303},{"$f":"Calculs!KQ463","v":-7.2471943039043554}]
[]
[null,"Contraintes extérieures",null,{"$f":"Calculs!KM465","v":4.4265777193573888},{"$f":"Calculs!KN465","v":0.85245861902533382},{"$f":"Calculs!KO465","v":-3.5465079035375702},{"$f":"Calculs!KP465","v":-0.69743225302412637},{"$f":"Calculs!KQ465","v":6.8872755041109643}]
[null,"Conraintes intérieures",null,{"$f":"Calculs!KM466","v":-4.2918525445629578},{"$f":"Calculs!KN466","v":0.14276614386234759},{"$f":"Calculs!KO466","v":5.5570369025279334},{"$f":"Calculs!KP466","v":2.3944604679827783},{"$f":"Calculs!KQ466","v":-6.8387358762958401}]
[]
[null,"Contraintes extérieures",null,{"$f":"Calculs!KM468","v":"OK"},{"$f":"Calculs!KN468","v":"OK"},{"$f":"Calculs!KO468","v":"OK"},{"$f":"Calculs!KP468","v":"OK"},{"$f":"Calculs!KQ468","v":"OK"}]
[null,"Conraintes intérieures",null,{"$f":"Calculs!KM469","v":"OK"},{"$f":"Calculs!KN469","v":"OK"},{"$f":"Calculs!KO469","v":"OK"},{"$f":"Calculs!KP469","v":"OK"},{"$f":"Calculs!KQ469","v":"KO!"}]
[]
[]
[]
[null,"Contraintes Profil d'enrobage U2/V2"]
[null,"Contraintes en [N/mm2]",null,"0°","45°","90°","135°","180°"]
[null,"Due à l'effort normal",null,{"$f":"Calculs!KM474","v":0.33348737059823874},{"$f":"Calculs!KN474","v":0.52264210110548881},{"$f":"Calculs!KO474","v":0.72409516845663358},{"$f":"Calculs!KP474","v":0.5960538343507007},{"$f":"Calculs!KQ474","v":0.31310535471273149}]
[null,"Due au moment extérieur",null,{"$f":"Calculs!KM475","v":3.4412499789975666},{"$f":"Calculs!KN475","v":0.1260272652804349},{"$f":"Calculs!KO475","v":-3.5536584737625918},{"$f":"Calculs!KP475","v":-0.27869346909573911},{"$f":"Calculs!KQ475","v":4.0150859679460469}]
[null,"Due au moment intérieur",null,{"$f":"Calculs!KM476","v":-3.8493766611428297},{"$f":"Calculs!KN476","v":-0.14097389512501474},{"$f":"Calculs!KO476","v":3.9751166215942733},{"$f":"Calculs!KP476","v":0.31174606381329306},{"$f":"Calculs!KQ476","v":-4.4912686703439606}]
[]
[null,"Contraintes extérieures",null,{"$f":"Calculs!KM478","v":3.7747373495958052},{"$f":"Calculs!KN478","v":0.64866936638592376},{"$f":"Calculs!KO478","v":-2.8295633053059581},{"$f":"Calculs!KP478","v":0.31736036525496159},{"$f":"Calculs!KQ478","v":4.3281913226587783}]
[null,"Conraintes intérieures",null,{"$f":"Calculs!KM479","v":-3.5158892905445911},{"$f":"Calculs!KN479","v":0.38166820598047407},{"$f":"Calculs!KO479","v":4.6992117900509065},{"$f":"Calculs!KP479","v":0.90779989816399376},{"$f":"Calculs!KQ479","v":-4.1781633156312292}]
[]
[null,"Contraintes extérieures",null,{"$f":"Calculs!KM481","v":"OK"},{"$f":"Calculs!KN481","v":"OK"},{"$f":"Calculs!KO481","v":"OK"},{"$f":"Calculs!KP481","v":"OK"},{"$f":"Calculs!KQ481","v":"OK"}]
[null,"Conraintes intérieures",null,{"$f":"Calculs!KM482","v":"OK"},{"$f":"Calculs!KN482","v":"OK"},{"$f":"Calculs!KO482","v":"OK"},{"$f":"Calculs!KP482","v":"OK"},{"$f":"Calculs!KQ482","v":"OK"}]
[]
[]
[]
[null,"Contraintes Profil d'enrobage U2A/V2A"]
[null,"Contraintes en [N/mm2]",null,"0°","45°","90°","135°","180°"]
[null,"Due à l'effort normal",null,{"$f":"Calculs!KM487","v":0.34036056677605286},{"$f":"Calculs!KN487","v":0.51301733467304622},{"$f":"Calculs!KO487","v":0.68758084847727263},{"$f":"Calculs!KP487","v":0.5155244486644559},{"$f":"Calculs!KQ487","v":0.34156147470121978}]
[null,"Due au moment extérieur",null,{"$f":"Calculs!KM488","v":2.9168160427025178},{"$f":"Calculs!KN488","v":4.0835598365119644E-3},{"$f":"Calculs!KO488","v":-2.9226319267643501},{"$f":"Calculs!KP488","v":-4.0735623583202226E-3},{"$f":"Calculs!KQ488","v":2.9284620128936711}]
[null,"Due au moment intérieur",null,{"$f":"Calculs!KM489","v":-3.2627457081443252},{"$f":"Calculs!KN489","v":-4.5678634289823862E-3},{"$f":"Calculs!KO489","v":3.2692513466501487},{"$f":"Calculs!KP489","v":4.5566802660455307E-3},{"$f":"Calculs!KQ489","v":-3.2757728715656964}]
[]
[null,"Contraintes extérieures",null,{"$f":"Calculs!KM491","v":3.2571766094785706},{"$f":"Calculs!KN491","v":0.51710089450955821},{"$f":"Calculs!KO491","v":-2.2350510782870776},{"$f":"Calculs!KP491","v":0.51145088630613567},{"$f":"Calculs!KQ491","v":3.2700234875948908}]
[null,"Conraintes intérieures",null,{"$f":"Calculs!KM492","v":-2.9223851413682724},{"$f":"Calculs!KN492","v":0.50844947124406381},{"$f":"Calculs!KO492","v":3.9568321951274212},{"$f":"Calculs!KP492","v":0.5200811289305014},{"$f":"Calculs!KQ492","v":-2.9342113968644767}]
[]
[null,"Contraintes extérieures",null,{"$f":"Calculs!KM494","v":"OK"},{"$f":"Calculs!KN494","v":"OK"},{"$f":"Calculs!KO494","v":"OK"},{"$f":"Calculs!KP494","v":"OK"},{"$f":"Calculs!KQ494","v":"OK"}]
[null,"Conraintes intérieures",null,{"$f":"Calculs!KM495","v":"OK"},{"$f":"Calculs!KN495","v":"OK"},{"$f":"Calculs!KO495","v":"OK"},{"$f":"Calculs!KP495","v":"OK"},{"$f":"Calculs!KQ495","v":"OK"}]
[]
[]
[]
[]
[]
[]
[]
[]
[null,"Contraintes Profil d'enrobage U3/V3"]
[null,"Contraintes en [N/mm2]",null,"0°","45°","90°","135°","180°"]
[null,"Due à l'effort normal",null,{"$f":"Calculs!KM500","v":0.41418844369751745},{"$f":"Calculs!KN500","v":0.54478121487436459},{"$f":"Calculs!KO500","v":0.55155784219246173},{"$f":"Calculs!KP500","v":0.49874512600345811},{"$f":"Calculs!KQ500","v":0.45256810756072136}]
[null,"Due au moment extérieur",null,{"$f":"Calculs!KM501","v":1.4630247969024623},{"$f":"Calculs!KN501","v":-0.24834925849965689},{"$f":"Calculs!KO501","v":-1.0575120271857703},{"$f":"Calculs!KP501","v":9.9636866005858166E-2},{"$f":"Calculs!KQ501","v":0.98052937537576323}]
[null,"Due au moment intérieur",null,{"$f":"Calculs!KM502","v":-1.6365371717372554},{"$f":"Calculs!KN502","v":0.27780307891471051},{"$f":"Calculs!KO502","v":1.1829312433479637},{"$f":"Calculs!KP502","v":-0.11145363717636425},{"$f":"Calculs!KQ502","v":-1.0968185735335356}]
[]
[null,"Contraintes extérieures",null,{"$f":"Calculs!KM504","v":1.8772132405999797},{"$f":"Calculs!KN504","v":0.29643195637470771},{"$f":"Calculs!KO504","v":-0.50595418499330858},{"$f":"Calculs!KP504","v":0.5983819920093163},{"$f":"Calculs!KQ504","v":1.4330974829364846}]
[null,"Conraintes intérieures",null,{"$f":"Calculs!KM505","v":-1.222348728039738},{"$f":"Calculs!KN505","v":0.82258429378907505},{"$f":"Calculs!KO505","v":1.7344890855404254},{"$f":"Calculs!KP505","v":0.38729148882709385},{"$f":"Calculs!KQ505","v":-0.64425046597281432}]
[]
[null,"Contraintes extérieures",null,{"$f":"Calculs!KM507","v":"OK"},{"$f":"Calculs!KN507","v":"OK"},{"$f":"Calculs!KO507","v":"OK"},{"$f":"Calculs!KP507","v":"OK"},{"$f":"Calculs!KQ507","v":"OK"}]
[null,"Conraintes intérieures",null,{"$f":"Calculs!KM508","v":"OK"},{"$f":"Calculs!KN508","v":"OK"},{"$f":"Calculs!KO508","v":"OK"},{"$f":"Calculs!KP508","v":"OK"},{"$f":"Calculs!KQ508","v":"OK"}]
[]
[]
[]
[null,"Contraintes Profil d'enrobage U4/V4"]
[null,"Contraintes en [N/mm2]",null,"0°","45°","90°","135°","180°"]
[null,"Due à l'effort normal",null,{"$f":"Calculs!KM513","v":0.50369426676948281},{"$f":"Calculs!KN513","v":0.56890736438866629},{"$f":"Calculs!KO513","v":0.63602720791508283},{"$f":"Calculs!KP513","v":0.57141447838007597},{"$f":"Calculs!KQ513","v":0.50489517469464973}]
[null,"Due au moment extérieur",null,{"$f":"Calculs!KM514","v":1.1049250575630862},{"$f":"Calculs!KN514","v":4.0835598365119123E-3},{"$f":"Calculs!KO514","v":-1.1107409416249185},{"$f":"Calculs!KP514","v":-4.0735623583198063E-3},{"$f":"Calculs!KQ514","v":1.1165710277542404}]
[null,"Due au moment intérieur",null,{"$f":"Calculs!KM515","v":-1.2359673824492743},{"$f":"Calculs!KN515","v":-4.5678634289823272E-3},{"$f":"Calculs!KO515","v":1.2424730209550974},{"$f":"Calculs!KP515","v":4.5566802660450658E-3},{"$f":"Calculs!KQ515","v":-1.2489945458706464}]
[]
[null,"Contraintes extérieures",null,{"$f":"Calculs!KM517","v":1.608619324332569},{"$f":"Calculs!KN517","v":0.57299092422517817},{"$f":"Calculs!KO517","v":-0.47471373370983572},{"$f":"Calculs!KP517","v":0.56734091602175618},{"$f":"Calculs!KQ517","v":1.6214662024488902}]
[null,"Conraintes intérieures",null,{"$f":"Calculs!KM518","v":-0.73227311567979148},{"$f":"Calculs!KN518","v":0.56433950095968399},{"$f":"Calculs!KO518","v":1.8785002288701802},{"$f":"Calculs!KP518","v":0.57597115864612103},{"$f":"Calculs!KQ518","v":-0.74409937117599667}]
[]
[null,"Contraintes extérieures",null,{"$f":"Calculs!KM520","v":"OK"},{"$f":"Calculs!KN520","v":"OK"},{"$f":"Calculs!KO520","v":"OK"},{"$f":"Calculs!KP520","v":"OK"},{"$f":"Calculs!KQ520","v":"OK"}]
[null,"Conraintes intérieures",null,{"$f":"Calculs!KM521","v":"OK"},{"$f":"Calculs!KN521","v":"OK"},{"$f":"Calculs!KO521","v":"OK"},{"$f":"Calculs!KP521","v":"OK"},{"$f":"Calculs!KQ521","v":"OK"}]
[]
[]
[null,"Traction dans le béton d'enrobage"]
[]
[null,"Profil d'enrobage",null,"U1/V1","U2/V2","U2A/V2A","U3/V3","U4/V4"]
[null,"anéc. en [m]",null,{"$f":"Calculs!KM547","v":0},{"$f":"Calculs!KN547","v":0.15},{"$f":"Calculs!KO547","v":0.15},{"$f":"Calculs!KP547","v":0.15},{"$f":"Calculs!KQ547","v":0.15}]
[]
[null,"Profil d'enrobage",null,"U4/V4"]
[null,"cnéc. en [m]",null,{"$f":"Calculs!KQ561","v":0.15}]

{"sheet":"Grès vitrifié n. (D)","index":11,"n_rows":240,"n_cols":8,"rows_kept":240,"cut":false,"hidden":false,"merged":[[74,0,74,8],[1,7,1,8],[3,7,3,8],[5,7,5,8],[9,0,9,8],[59,7,60,7],[11,4,11,6],[81,2,82,2],[81,3,82,3],[81,4,82,4],[83,2,84,2],[83,3,84,3],[83,4,84,4],[120,1,120,7],[85,2,86,2],[85,3,86,3],[85,4,86,4],[105,1,105,5],[108,2,108,7],[110,0,110,1],[111,0,111,1],[112,0,112,1],[113,0,113,1],[114,0,114,1],[115,0,115,1],[159,1,159,7],[121,1,121,2],[122,1,123,2],[124,1,124,2],[125,1,125,2],[126,1,126,2],[126,6,127,7],[127,1,127,2],[132,1,132,7],[139,1,139,7],[147,3,147,5],[148,3,148,5],[149,3,149,5],[192,1,192,7],[195,1,195,7],[206,1,206,7],[164,1,164,7],[167,1,167,7],[173,1,173,7],[178,1,178,7],[181,1,181,7],[187,1,187,7],[235,1,235,2],[236,1,236,2],[238,1,238,2],[239,1,239,2],[211,1,211,7],[214,1,214,7],[220,1,220,7],[225,1,225,7],[228,1,228,7]]}
[]
[null,"Projekt:",{"$f":"Accueil!P15","v":"VSA 2026"},null,null,"Ingenieur/in:",null,{"$f":"Accueil!AI15","v":0}]
[]
[null,"N°:",{"$f":"Accueil!P17","v":0},null,null,"Verantwortlicher:",null,{"$f":"Accueil!AI17","v":0}]
[]
[null,"Ort:",{"$f":"Accueil!P21","v":0},null,null,"Bauherr:",null,{"$f":"Accueil!AI19","v":0}]
[null,null,{"$f":"Accueil!P23","v":0}]
[]
[]
["Daten"]
[]
[null,"Steinzeugrohr",null,null,{"$f":"IF(Données!$AE$6/1000>F14,\"di max.< di Eingabe!\",\"\")","v":""}]
[]
[null,"Innendurchmesser",null,null,"di",{"$f":"Calculs!KM32/1000","v":0.3},"m"]
[null,"Radius",null,null,"rm",{"$f":"Calculs!KQ32/1000","v":0.16375000000000001},"m"]
[null,"Wanddicke",null,null,"e",{"$f":"Calculs!KP32/1000","v":2.75E-2},"m"]
[null,"Querschnittsfläche",null,null,"A",{"$f":"Calculs!KP455","v":2.75E-2},"m2"]
[null,"Widerstandsmoment",null,null,"W",{"$f":"Calculs!KP456","v":1.2604166666666666E-4},"m3"]
[null,"Festigkeitsklasse",null,null,"FK",{"$f":"Calculs!KR32","v":160}]
[null,"E-Modul",null,null,"ER,kurz",{"$f":"Calculs!B8","v":50000},"N/mm2"]
[]
[null,"Systemsteifigkeit",null,null,"SFkurz",{"$f":"Calculs!KM37","v":6.5784209308648505},{"$f":"Calculs!KN37","v":"rigide"}]
[null,"Lastvergrösserungsfaktor",null,null,"f",{"$f":"Calculs!KO41","v":1.083969465648855}]
[null,"Krümmungseinfluss",null,null,"αka",{"$f":"Calculs!KM456","v":0.94402035623409675}]
[null,null,null,null,"αki",{"$f":"Calculs!KM455","v":1.0559796437659033}]
[]
[null,"Terrain"]
[]
[null,"Bodenqualität",null,null,null,{"$f":"Données!AE30","v":"Sol stable"}]
[null,"Feuchtraumgewicht des Baugrunds",null,null,"γ",{"$f":"Données!AE32","v":20},"kN/m3"]
[null,"Raumgewicht unter Auftrieb",null,null,"γ'",{"$f":"Données!AE34","v":11},"kN/m3"]
[null,"Verformungsmodul des Bodens",null,null,"EB",{"$f":"Données!AE38","v":5},"N/mm2"]
[null,"Erddruckbeiwert",null,null,"K",{"$f":"Données!AE40","v":0.5}]
[null,"Setzungs-Durchbiegungsziffer",null,null,"C2",{"$f":"Données!AE42","v":0.5}]
[null,"Hüllbeton",null,null,null,{"$f":"Données!AE50","v":"C16/20"}]
[]
[null,"Graben"]
[]
[null,"Überdeckungshöhe",null,null,"H",{"$f":"Données!AE52","v":3},"m"]
[null,"Grabentyp",null,null,null,{"$f":"Données!AE56","v":"Verticale (U)"}]
[]
[null,"Wasser"]
[]
[null,"Grundwasser",null,null,null,{"$f":"Données!AE60","v":"Sans eau souterraine"}]
[null,"Grwundwasserspiegel",null,null,"hw",{"$f":"Données!AE62","v":1.3},"m"]
[null,"Wasser im Rohr",null,null,null,{"$f":"Données!AE64","v":"Tuyau vide"}]
[null,"Druck",null,null,"pEi",{"$f":"Données!AE66","v":10},"kN/m2"]
[]
[]
[]
[]
[]
[]
[]
[]
[null,"Einwirkungen"]
[]
[null,"Flächenlast",null,null,null,{"$f":"Données!AE8","v":"Pas de charge"}]
[null,null,null,null,"qs",{"$f":"Calculs!KP123","v":0},"kN/m2"]
[null,"Verkehr",null,null,null,{"$f":"Données!AE22","v":"Trafic routier"},null,{"$f":"IF(AND(Accueil!AZ15=\"Deutsch\",AND(OR(F60=\"Voie unique (ferroviaire)\",F60=\"Voies multiples (ferroviaire)\",F60=\"Voie étroite (ferroviaire)\",F60=\"Eingleisig (Bahnverkehr)\",F60=\"Mehrgleisig (Bahnverkehr)\",F60=\"Schmalspur (Bahnverkehr)\"),F39<2)),\"H zu klein!\",\"\")","v":""}]
[null,"Beiwert Strass- und Bahnvekehrslasten",null,null,"α",{"$f":"Calculs!KN93","v":0.9}]
[null,"Dynamischer Beiwert",null,null,"Ψ",{"$f":"Calculs!KO93","v":1}]
[null,"Strassenverkehr und untergeordnete",null,null,"pvtotal",{"$f":"Calculs!KK109","v":24.562000000000001},"kN/m2"]
[null,"Strassen",null,null,"pvRad",{"$f":"Calculs!KL109","v":4.9021999999999997},"kN/m2"]
[null,null,null,null,"∆pv",{"$f":"Calculs!KM109","v":19.659800000000001},"kN/m2"]
[null,"Strassenrand",null,null,"pvtotal",{"$f":"Calculs!KN109","v":0},"kN/m2"]
[null,null,null,null,"pvRad",{"$f":"Calculs!KO109","v":0},"kN/m2"]
[null,null,null,null,"∆pv",{"$f":"Calculs!KP109","v":0},"kN/m2"]
[null,"Bahnverkehr eingleisig",null,null,"peingleisig",{"$f":"Calculs!KR109","v":0},"kN/m2"]
[null,"Bahnverkehr mehrgleisig",null,null,"pmehrgleisig",{"$f":"Calculs!KS109","v":0},"kN/m2"]
[null,"Bahnverkehr schmalspur",null,null,"pschmal",{"$f":"Calculs!KT109","v":0},"kN/m2"]
[]
[]
[]
["Resultate"]
[]
[]
[]
[]
[]
[]
[]
[]
[]
[]
[]
[]
[]
[]
[]
[]
[]
[]
[]
[]
[]
[]
[]
[]
[]
[]
[]
[]
[]
[]
[]
[null,"Beanspruchungen"]
[]
[null,null,"Beanspruchungen in [kN/m2]"]
[null,null,null,"U1/V1","U2/V2","U2A/V2A","U3/V3","U4/V4"]
["Perm. Last auf Scheitel",null,"qs1",{"$f":"Calculs!KV194","v":101.11875181021865},{"$f":"Calculs!KW194","v":96.6914225347018},{"$f":"Calculs!KX194","v":90.559246660305334},{"$f":"Calculs!KY194","v":81.901383359784887},{"$f":"Calculs!KZ194","v":81.901383359784887}]
["Var. Last auf Scheitel",null,"qs2",{"$f":"Calculs!KV195","v":23.962012213740461},{"$f":"Calculs!KW195","v":23.962012213740461},{"$f":"Calculs!KX195","v":23.962012213740461},{"$f":"Calculs!KY195","v":23.962012213740461},{"$f":"Calculs!KZ195","v":23.962012213740461}]
["Effektive Last auf Scheitel",null,"qser",{"$f":"Calculs!KV196","v":125.08076402395912},{"$f":"Calculs!KW196","v":120.65343474844227},{"$f":"Calculs!KX196","v":114.5212588740458},{"$f":"Calculs!KY196","v":105.86339557352535},{"$f":"Calculs!KZ196","v":105.86339557352535}]
["Erd- und Bettungsdruck",null,"qh",{"$f":"Calculs!KV197","v":62.54038201197956},{"$f":"Calculs!KW197","v":60.326717374221133},{"$f":"Calculs!KX197","v":57.260629437022899},{"$f":"Calculs!KY197","v":52.931697786762669},{"$f":"Calculs!KZ197","v":0}]
["Stützdruck",null,"qSt",{"$f":"Calculs!KV198","v":31.27019100598978},{"$f":"Calculs!KW198","v":36.19603042453268},{"$f":"Calculs!KX198","v":57.260629437022899},{"$f":"Calculs!KY198","v":79.397546680144018},{"$f":"Calculs!KZ198","v":84.69071645882029}]
["Bemessungswert ",null,"qds",{"$f":"Calculs!KV199","v":172.45333326440587},{"$f":"Calculs!KW199","v":166.47643874245813},{"$f":"Calculs!KX199","v":158.19800131202288},{"$f":"Calculs!KY199","v":146.5098858563203},{"$f":"Calculs!KZ199","v":146.5098858563203}]
[]
[]
[null,"Nachweise"]
[]
[null,"Auftrieb"]
[null,"Stabilisierend",null,"G + G' + Gsp",{"$f":"Calculs!KW172","v":21.570451964578364},"[kN/m]"]
[null,null,null,"GR",{"$f":"Calculs!KW173","v":0.62246731440064762},"[kN/m]"]
[null,null,null,"Summe",{"$f":"Calculs!KW174","v":22.192919278979012},"[kN/m]","Faktor",0.9]
[null,"Destabilisierend",null,"FA",{"$f":"Calculs!KW175","v":0},"[kN/m]","Faktor",1.05]
[]
[null,"Kontrolle:",null,"1.05*FA",{"$f":"Calculs!KW177","v":0},"[kN/m]",{"$f":"IF(E127<E128,\"OK\",\"KO!\")","v":"OK"}]
[null,null,null,"0.9*Summe",{"$f":"Calculs!KW178","v":19.973627351081113},"[kN/m]"]
[]
[]
[null,"Tragfähigkeit"]
[]
[null,"Tragfähigkeit"]
[null,null,"U1/V1","U2/V2","U2A/V2A","U3/V3","U4/V4"]
[null,"qds",{"$f":"Calculs!KU202","v":172.45333326440587},{"$f":"Calculs!KV202","v":166.47643874245813},{"$f":"Calculs!KW202","v":158.19800131202288},{"$f":"Calculs!KX202","v":146.5098858563203},{"$f":"Calculs!KY202","v":146.5098858563203},"[kN/m2]"]
[null,"q*ds",{"$f":"Calculs!KU203","v":61.220933308864083},{"$f":"Calculs!KV203","v":59.099135753572632},{"$f":"Calculs!KW203","v":56.160290465768121},{"$f":"Calculs!KX203","v":52.011009478993707},{"$f":"Calculs!KY203","v":52.011009478993707},"[kN/m]"]
[null,"qBr",{"$f":"Calculs!KU204","v":48},{"$f":"Calculs!KV204","v":48},{"$f":"Calculs!KW204","v":48},{"$f":"Calculs!KX204","v":48},{"$f":"Calculs!KY204","v":48},"[kN/m]"]
[null,"ZE",{"$f":"Calculs!KU205","v":1.5},{"$f":"Calculs!KV205","v":2.5},{"$f":"Calculs!KW205","v":3},{"$f":"Calculs!KX205","v":6},{"$f":"Calculs!KY205","v":7},"[-]"]
[null,"ZE*qBr/1.2",{"$f":"Calculs!KU206","v":60},{"$f":"Calculs!KV206","v":100},{"$f":"Calculs!KW206","v":120},{"$f":"Calculs!KX206","v":240},{"$f":"Calculs!KY206","v":280},"[kN/m]"]
[]
[null,"Resultat",{"$f":"Calculs!KU208","v":"KO!"},{"$f":"Calculs!KV208","v":"OK"},{"$f":"Calculs!KW208","v":"OK"},{"$f":"Calculs!KX208","v":"OK"},{"$f":"Calculs!KY208","v":"OK"}]
[]
[]
[null,"Gebrauchstauglichkeit"]
[]
[null,null,null,"σRbz,adm",{"$f":"Calculs!KJ464","v":-6},"N/mm2"]
[]
[null,null,null,"Spannungskonventionen:"]
[null,null,null,"Zug negatif -"]
[null,null,null,"Druck positif +"]
[]
[]
[]
[]
[]
[]
[]
[]
[]
[null,"Spannungen Verlegeprofil U1/V1"]
[null,"Spannungen in [N/mm2]",null,"0°","45°","90°","135°","180°"]
[null,"Durch die Normalkraft",null,{"$f":"Calculs!KM461","v":0.3113898975832804},{"$f":"Calculs!KN461","v":0.51747654741532378},{"$f":"Calculs!KO461","v":0.75045790186993844},{"$f":"Calculs!KP461","v":0.76197258093714826},{"$f":"Calculs!KQ461","v":0.4084584276085152}]
[null,"Durch das Moment aussen",null,{"$f":"Calculs!KM462","v":4.115187821774108},{"$f":"Calculs!KN462","v":0.33498207161001009},{"$f":"Calculs!KO462","v":-4.2969658054075088},{"$f":"Calculs!KP462","v":-1.4594048339612746},{"$f":"Calculs!KQ462","v":6.4788170765024491}]
[null,"Durch das Moment innen",null,{"$f":"Calculs!KM463","v":-4.6032424421462386},{"$f":"Calculs!KN463","v":-0.37471040355297619},{"$f":"Calculs!KO463","v":4.8065790006579947},{"$f":"Calculs!KP463","v":1.6324878870456303},{"$f":"Calculs!KQ463","v":-7.2471943039043554}]
[]
[null,"Spannungen aussen",null,{"$f":"Calculs!KM465","v":4.4265777193573888},{"$f":"Calculs!KN465","v":0.85245861902533382},{"$f":"Calculs!KO465","v":-3.5465079035375702},{"$f":"Calculs!KP465","v":-0.69743225302412637},{"$f":"Calculs!KQ465","v":6.8872755041109643}]
[null,"Spannungen innen",null,{"$f":"Calculs!KM466","v":-4.2918525445629578},{"$f":"Calculs!KN466","v":0.14276614386234759},{"$f":"Calculs!KO466","v":5.5570369025279334},{"$f":"Calculs!KP466","v":2.3944604679827783},{"$f":"Calculs!KQ466","v":-6.8387358762958401}]
[]
[null,"Spannungen aussen",null,{"$f":"Calculs!KM468","v":"OK"},{"$f":"Calculs!KN468","v":"OK"},{"$f":"Calculs!KO468","v":"OK"},{"$f":"Calculs!KP468","v":"OK"},{"$f":"Calculs!KQ468","v":"OK"}]
[null,"Spannungen innen",null,{"$f":"Calculs!KM469","v":"OK"},{"$f":"Calculs!KN469","v":"OK"},{"$f":"Calculs!KO469","v":"OK"},{"$f":"Calculs!KP469","v":"OK"},{"$f":"Calculs!KQ469","v":"KO!"}]
[]
[]
[]
[null,"Spannungen Verlegeprofil U2/V2"]
[null,"Spannungen in [N/mm2]",null,"0°","45°","90°","135°","180°"]
[null,"Durch die Normalkraft",null,{"$f":"Calculs!KM474","v":0.33348737059823874},{"$f":"Calculs!KN474","v":0.52264210110548881},{"$f":"Calculs!KO474","v":0.72409516845663358},{"$f":"Calculs!KP474","v":0.5960538343507007},{"$f":"Calculs!KQ474","v":0.31310535471273149}]
[null,"Durch das Moment aussen",null,{"$f":"Calculs!KM475","v":3.4412499789975666},{"$f":"Calculs!KN475","v":0.1260272652804349},{"$f":"Calculs!KO475","v":-3.5536584737625918},{"$f":"Calculs!KP475","v":-0.27869346909573911},{"$f":"Calculs!KQ475","v":4.0150859679460469}]
[null,"Durch das Moment innen",null,{"$f":"Calculs!KM476","v":-3.8493766611428297},{"$f":"Calculs!KN476","v":-0.14097389512501474},{"$f":"Calculs!KO476","v":3.9751166215942733},{"$f":"Calculs!KP476","v":0.31174606381329306},{"$f":"Calculs!KQ476","v":-4.4912686703439606}]
[]
[null,"Spannungen aussen",null,{"$f":"Calculs!KM478","v":3.7747373495958052},{"$f":"Calculs!KN478","v":0.64866936638592376},{"$f":"Calculs!KO478","v":-2.8295633053059581},{"$f":"Calculs!KP478","v":0.31736036525496159},{"$f":"Calculs!KQ478","v":4.3281913226587783}]
[null,"Spannungen innen",null,{"$f":"Calculs!KM479","v":-3.5158892905445911},{"$f":"Calculs!KN479","v":0.38166820598047407},{"$f":"Calculs!KO479","v":4.6992117900509065},{"$f":"Calculs!KP479","v":0.90779989816399376},{"$f":"Calculs!KQ479","v":-4.1781633156312292}]
[]
[null,"Spannungen aussen",null,{"$f":"Calculs!KM481","v":"OK"},{"$f":"Calculs!KN481","v":"OK"},{"$f":"Calculs!KO481","v":"OK"},{"$f":"Calculs!KP481","v":"OK"},{"$f":"Calculs!KQ481","v":"OK"}]
[null,"Spannungen innen",null,{"$f":"Calculs!KM482","v":"OK"},{"$f":"Calculs!KN482","v":"OK"},{"$f":"Calculs!KO482","v":"OK"},{"$f":"Calculs!KP482","v":"OK"},{"$f":"Calculs!KQ482","v":"OK"}]
[]
[]
[]
[null,"Spannungen Verlegeprofil U2A/V2A"]
[null,"Spannungen in [N/mm2]",null,"0°","45°","90°","135°","180°"]
[null,"Durch die Normalkraft",null,{"$f":"Calculs!KM487","v":0.34036056677605286},{"$f":"Calculs!KN487","v":0.51301733467304622},{"$f":"Calculs!KO487","v":0.68758084847727263},{"$f":"Calculs!KP487","v":0.5155244486644559},{"$f":"Calculs!KQ487","v":0.34156147470121978}]
[null,"Durch das Moment aussen",null,{"$f":"Calculs!KM488","v":2.9168160427025178},{"$f":"Calculs!KN488","v":4.0835598365119644E-3},{"$f":"Calculs!KO488","v":-2.9226319267643501},{"$f":"Calculs!KP488","v":-4.0735623583202226E-3},{"$f":"Calculs!KQ488","v":2.9284620128936711}]
[null,"Durch das Moment innen",null,{"$f":"Calculs!KM489","v":-3.2627457081443252},{"$f":"Calculs!KN489","v":-4.5678634289823862E-3},{"$f":"Calculs!KO489","v":3.2692513466501487},{"$f":"Calculs!KP489","v":4.5566802660455307E-3},{"$f":"Calculs!KQ489","v":-3.2757728715656964}]
[]
[null,"Spannungen aussen",null,{"$f":"Calculs!KM491","v":3.2571766094785706},{"$f":"Calculs!KN491","v":0.51710089450955821},{"$f":"Calculs!KO491","v":-2.2350510782870776},{"$f":"Calculs!KP491","v":0.51145088630613567},{"$f":"Calculs!KQ491","v":3.2700234875948908}]
[null,"Spannungen innen",null,{"$f":"Calculs!KM492","v":-2.9223851413682724},{"$f":"Calculs!KN492","v":0.50844947124406381},{"$f":"Calculs!KO492","v":3.9568321951274212},{"$f":"Calculs!KP492","v":0.5200811289305014},{"$f":"Calculs!KQ492","v":-2.9342113968644767}]
[]
[null,"Spannungen aussen",null,{"$f":"Calculs!KM494","v":"OK"},{"$f":"Calculs!KN494","v":"OK"},{"$f":"Calculs!KO494","v":"OK"},{"$f":"Calculs!KP494","v":"OK"},{"$f":"Calculs!KQ494","v":"OK"}]
[null,"Spannungen innen",null,{"$f":"Calculs!KM495","v":"OK"},{"$f":"Calculs!KN495","v":"OK"},{"$f":"Calculs!KO495","v":"OK"},{"$f":"Calculs!KP495","v":"OK"},{"$f":"Calculs!KQ495","v":"OK"}]
[]
[]
[]
[]
[]
[]
[]
[]
[null,"Spannungen Verlegeprofil U3/V3"]
[null,"Spannungen in [N/mm2]",null,"0°","45°","90°","135°","180°"]
[null,"Durch die Normalkraft",null,{"$f":"Calculs!KM500","v":0.41418844369751745},{"$f":"Calculs!KN500","v":0.54478121487436459},{"$f":"Calculs!KO500","v":0.55155784219246173},{"$f":"Calculs!KP500","v":0.49874512600345811},{"$f":"Calculs!KQ500","v":0.45256810756072136}]
[null,"Durch das Moment aussen",null,{"$f":"Calculs!KM501","v":1.4630247969024623},{"$f":"Calculs!KN501","v":-0.24834925849965689},{"$f":"Calculs!KO501","v":-1.0575120271857703},{"$f":"Calculs!KP501","v":9.9636866005858166E-2},{"$f":"Calculs!KQ501","v":0.98052937537576323}]
[null,"Durch das Moment innen",null,{"$f":"Calculs!KM502","v":-1.6365371717372554},{"$f":"Calculs!KN502","v":0.27780307891471051},{"$f":"Calculs!KO502","v":1.1829312433479637},{"$f":"Calculs!KP502","v":-0.11145363717636425},{"$f":"Calculs!KQ502","v":-1.0968185735335356}]
[]
[null,"Spannungen aussen",null,{"$f":"Calculs!KM504","v":1.8772132405999797},{"$f":"Calculs!KN504","v":0.29643195637470771},{"$f":"Calculs!KO504","v":-0.50595418499330858},{"$f":"Calculs!KP504","v":0.5983819920093163},{"$f":"Calculs!KQ504","v":1.4330974829364846}]
[null,"Spannungen innen",null,{"$f":"Calculs!KM505","v":-1.222348728039738},{"$f":"Calculs!KN505","v":0.82258429378907505},{"$f":"Calculs!KO505","v":1.7344890855404254},{"$f":"Calculs!KP505","v":0.38729148882709385},{"$f":"Calculs!KQ505","v":-0.64425046597281432}]
[]
[null,"Spannungen aussen",null,{"$f":"Calculs!KM507","v":"OK"},{"$f":"Calculs!KN507","v":"OK"},{"$f":"Calculs!KO507","v":"OK"},{"$f":"Calculs!KP507","v":"OK"},{"$f":"Calculs!KQ507","v":"OK"}]
[null,"Spannungen innen",null,{"$f":"Calculs!KM508","v":"OK"},{"$f":"Calculs!KN508","v":"OK"},{"$f":"Calculs!KO508","v":"OK"},{"$f":"Calculs!KP508","v":"OK"},{"$f":"Calculs!KQ508","v":"OK"}]
[]
[]
[]
[null,"Spannungen Verlegeprofil U4/V4"]
[null,"Spannungen in [N/mm2]",null,"0°","45°","90°","135°","180°"]
[null,"Durch die Normalkraft",null,{"$f":"Calculs!KM513","v":0.50369426676948281},{"$f":"Calculs!KN513","v":0.56890736438866629},{"$f":"Calculs!KO513","v":0.63602720791508283},{"$f":"Calculs!KP513","v":0.57141447838007597},{"$f":"Calculs!KQ513","v":0.50489517469464973}]
[null,"Durch das Moment aussen",null,{"$f":"Calculs!KM514","v":1.1049250575630862},{"$f":"Calculs!KN514","v":4.0835598365119123E-3},{"$f":"Calculs!KO514","v":-1.1107409416249185},{"$f":"Calculs!KP514","v":-4.0735623583198063E-3},{"$f":"Calculs!KQ514","v":1.1165710277542404}]
[null,"Durch das Moment innen",null,{"$f":"Calculs!KM515","v":-1.2359673824492743},{"$f":"Calculs!KN515","v":-4.5678634289823272E-3},{"$f":"Calculs!KO515","v":1.2424730209550974},{"$f":"Calculs!KP515","v":4.5566802660450658E-3},{"$f":"Calculs!KQ515","v":-1.2489945458706464}]
[]
[null,"Spannungen aussen",null,{"$f":"Calculs!KM517","v":1.608619324332569},{"$f":"Calculs!KN517","v":0.57299092422517817},{"$f":"Calculs!KO517","v":-0.47471373370983572},{"$f":"Calculs!KP517","v":0.56734091602175618},{"$f":"Calculs!KQ517","v":1.6214662024488902}]
[null,"Spannungen innen",null,{"$f":"Calculs!KM518","v":-0.73227311567979148},{"$f":"Calculs!KN518","v":0.56433950095968399},{"$f":"Calculs!KO518","v":1.8785002288701802},{"$f":"Calculs!KP518","v":0.57597115864612103},{"$f":"Calculs!KQ518","v":-0.74409937117599667}]
[]
[null,"Spannungen aussen",null,{"$f":"Calculs!KM520","v":"OK"},{"$f":"Calculs!KN520","v":"OK"},{"$f":"Calculs!KO520","v":"OK"},{"$f":"Calculs!KP520","v":"OK"},{"$f":"Calculs!KQ520","v":"OK"}]
[null,"Spannungen innen",null,{"$f":"Calculs!KM521","v":"OK"},{"$f":"Calculs!KN521","v":"OK"},{"$f":"Calculs!KO521","v":"OK"},{"$f":"Calculs!KP521","v":"OK"},{"$f":"Calculs!KQ521","v":"OK"}]
[]
[]
[null,"Zugkraft im Sohlenbeton"]
[]
[null,"Verlegeprofil",null,"U1/V1","U2/V2","U2A/V2A","U3/V3","U4/V4"]
[null,"anötig in [m]",null,{"$f":"Calculs!KM547","v":0},{"$f":"Calculs!KN547","v":0.15},{"$f":"Calculs!KO547","v":0.15},{"$f":"Calculs!KP547","v":0.15},{"$f":"Calculs!KQ547","v":0.15}]
[]
[null,"Verlegeprofil",null,"U4/V4"]
[null,"cnötig in [m]",null,{"$f":"Calculs!KQ561","v":0.15}]

{"sheet":"Grès vitrifié s.","index":12,"n_rows":240,"n_cols":8,"rows_kept":240,"cut":false,"hidden":false,"merged":[[235,1,235,2],[236,1,236,2],[238,1,238,2],[239,1,239,2],[210,1,210,2],[211,1,211,7],[214,1,214,7],[220,1,220,7],[225,1,225,7],[228,1,228,7],[209,1,209,2],[164,1,164,7],[167,1,167,7],[173,1,173,7],[178,1,178,7],[181,1,181,7],[187,1,187,7],[192,1,192,7],[195,1,195,7],[206,1,206,7],[207,1,207,2],[208,1,208,2],[159,1,159,7],[121,1,121,2],[122,1,123,2],[124,1,124,2],[125,1,125,2],[126,1,126,2],[126,6,127,7],[127,1,127,2],[132,1,132,7],[139,1,139,7],[147,3,147,5],[148,3,148,5],[149,3,149,5],[120,1,120,7],[85,2,86,2],[85,3,86,3],[85,4,86,4],[105,1,105,5],[108,2,108,7],[110,0,110,1],[111,0,111,1],[112,0,112,1],[113,0,113,1],[114,0,114,1],[115,0,115,1],[81,2,82,2],[81,3,82,3],[81,4,82,4],[83,2,84,2],[83,3,84,3],[83,4,84,4],[74,0,74,8],[1,7,1,8],[3,7,3,8],[5,7,5,8],[9,0,9,8],[59,7,60,7],[11,4,11,6]]}
[]
[null,"Projet:",{"$f":"Accueil!P15","v":"VSA 2026"},null,null,"Ingénieur/e:",null,{"$f":"Accueil!AI15","v":0}]
[]
[null,{"$f":"Accueil!$L$17","v":"N°:"},{"$f":"Accueil!P17","v":0},null,null,"Responsable:",null,{"$f":"Accueil!AI17","v":0}]
[]
[null,"Lieu:",{"$f":"Accueil!P21","v":0},null,null,"Maître d'ouvrage:",null,{"$f":"Accueil!AI19","v":0}]
[null,null,{"$f":"Accueil!P23","v":0}]
[]
[]
["Données"]
[]
[null,"Tuyau en grès",null,null,{"$f":"IF(Données!$AE$6/1000>F14,\"di max.< di introduit!\",\"\")","v":""}]
[]
[null,"Diamètre intérieur ",null,null,"di",{"$f":"Calculs!LM32/1000","v":0.3},"m"]
[null,"Rayon moyen",null,null,"rm",{"$f":"Calculs!L32/1000","v":0},"m"]
[null,"Épaisseur de paroi",null,null,"e",{"$f":"Calculs!LP32/1000","v":3.7999999999999999E-2},"m"]
[null,"Section",null,null,"A",{"$f":"Calculs!LP455","v":3.7999999999999999E-2},"m2"]
[null,"Module de flexion",null,null,"W",{"$f":"Calculs!LP456","v":2.4066666666666667E-4},"m3"]
[null,"Classe de résistance",null,null,"FK",{"$f":"Calculs!LR32","v":240}]
[null,"Module d'élasticité",null,null,"ER,court",{"$f":"Calculs!B8","v":50000},"N/mm2"]
[]
[null,"Rigidité du système",null,null,"SFcourt",{"$f":"Calculs!LM37","v":15.789129238615228},{"$f":"Calculs!KN37","v":"rigide"}]
[null,"Facteur de majoration de charge",null,null,"f",{"$f":"Calculs!LO41","v":1.1124260355029585}]
[null,"Effet de courbure:",null,null,"αka",{"$f":"Calculs!LM456","v":0.92504930966469434}]
[null,null,null,null,"αki",{"$f":"Calculs!LM455","v":1.0749506903353057}]
[]
[null,"Terrain"]
[]
[null,"Qualité du sol",null,null,null,{"$f":"Données!AE30","v":"Sol stable"}]
[null,"Poids volumique apparent humide",null,null,"γ",{"$f":"Données!AE32","v":20},"kN/m3"]
[null,"Poids volumique déjaugé",null,null,"γ'",{"$f":"Données!AE34","v":11},"kN/m3"]
[null,"Module de déformation du sol",null,null,"EB",{"$f":"Données!AE38","v":5},"N/mm2"]
[null,"Coefficient de pression du terrain",null,null,"K",{"$f":"Données!AE40","v":0.5}]
[null,"Coefficient de flexion au tassement",null,null,"C2",{"$f":"Données!AE42","v":0.5}]
[null,"Type de béton d'enrobage",null,null,null,{"$f":"Données!AE50","v":"C16/20"}]
[]
[null,"Fouille"]
[]
[null,"Hauteur de couverture",null,null,"H",{"$f":"Données!AE52","v":3},"m"]
[null,"Type de fouille",null,null,null,{"$f":"Données!AE56","v":"Verticale (U)"}]
[]
[null,"Eau"]
[]
[null,"Eau souterraine",null,null,null,{"$f":"Données!AE60","v":"Sans eau souterraine"}]
[null,"Niveau d'eau souterraine",null,null,"hw",{"$f":"Données!AE62","v":1.3},"m"]
[null,"Eau à l'intérieur du tuyau",null,null,null,{"$f":"Données!AE64","v":"Tuyau vide"}]
[null,"Pression",null,null,"pEi",{"$f":"Données!AE66","v":10},"kN/m2"]
[]
[]
[]
[]
[]
[]
[]
[]
[null,"Actions"]
[]
[null,"Charge surfacique",null,null,null,{"$f":"Données!AE8","v":"Pas de charge"}]
[null,null,null,null,"qs",{"$f":"Calculs!LP123","v":0},"kN/m2"]
[null,"Trafic ",null,null,null,{"$f":"Données!AE22","v":"Trafic routier"},null,{"$f":"IF(AND(Accueil!AZ15=\"Français\",AND(OR(F60=\"Voie unique (ferroviaire)\",F60=\"Voies multiples (ferroviaire)\",F60=\"Voie étroite (ferroviaire)\",F60=\"Eingleisig (Bahnverkehr)\",F60=\"Mehrgleisig (Bahnverkehr)\",F60=\"Schmalspur (Bahnverkehr)\"),F39<2)),\"H trop faible!\",\"\")","v":""}]
[null,"Coefficient de charge",null,null,"α",{"$f":"Calculs!LN93","v":0.9}]
[null,"Coefficient dynamique",null,null,"Ψ",{"$f":"Calculs!LO93","v":1}]
[null,"Trafic routier et route d'importance",null,null,"pvtotale",{"$f":"Calculs!LK109","v":24.562000000000001},"kN/m2"]
[null,"secondaire",null,null,"pvroue",{"$f":"Calculs!LL109","v":4.9021999999999997},"kN/m2"]
[null,null,null,null,"∆pv",{"$f":"Calculs!LM109","v":19.659800000000001},"kN/m2"]
[null,"Bord de route",null,null,"pvtotale",{"$f":"Calculs!LN109","v":0},"kN/m2"]
[null,null,null,null,"pvroue",{"$f":"Calculs!LO109","v":0},"kN/m2"]
[null,null,null,null,"∆pv",{"$f":"Calculs!LP109","v":0},"kN/m2"]
[null,"Trafic ferroviaire voie unique",null,null,"punique",{"$f":"Calculs!LR109","v":0},"kN/m2"]
[null,"Trafic ferroviaire voies multiples",null,null,"pmultiples",{"$f":"Calculs!LS109","v":0},"kN/m2"]
[null,"Trafic ferroviaire voie étroite",null,null,"pétroite",{"$f":"Calculs!LT109","v":0},"kN/m2"]
[]
[]
[]
["Résultats"]
[]
[]
[]
[]
[]
[]
[]
[]
[]
[]
[]
[]
[]
[]
[]
[]
[]
[]
[]
[]
[]
[]
[]
[]
[]
[]
[]
[]
[]
[]
[]
[null,"Sollicitations"]
[]
[null,null,"Sollicitations en [kN/m2]"]
[null,null,null,"U1/V1","U2/V2","U2A/V2A","U3/V3","U4/V4"]
["Charge perm. au sommet",null,"qs1",{"$f":"Calculs!LV194","v":103.77334026094111},{"$f":"Calculs!LW194","v":99.229783906352012},{"$f":"Calculs!LX194","v":92.936624999999978},{"$f":"Calculs!LY194","v":84.051473847186514},{"$f":"Calculs!LZ194","v":84.051473847186514}]
["Charge variable au sommet",null,"qs2",{"$f":"Calculs!LV195","v":24.591067455621303},{"$f":"Calculs!LW195","v":24.591067455621303},{"$f":"Calculs!LX195","v":24.591067455621303},{"$f":"Calculs!LY195","v":24.591067455621303},{"$f":"Calculs!LZ195","v":24.591067455621303}]
["Charge effective au sommet",null,"qser",{"$f":"Calculs!LV196","v":128.36440771656243},{"$f":"Calculs!LW196","v":123.82085136197331},{"$f":"Calculs!LX196","v":117.52769245562128},{"$f":"Calculs!LY196","v":108.64254130280781},{"$f":"Calculs!LZ196","v":108.64254130280781}]
["Pression du terrain",null,"qh",{"$f":"Calculs!LV197","v":64.182203858281213},{"$f":"Calculs!LW197","v":61.910425680986656},{"$f":"Calculs!LX197","v":58.763846227810639},{"$f":"Calculs!LY197","v":54.321270651403907},{"$f":"Calculs!LZ197","v":0}]
["Pression d'appui",null,"qSt",{"$f":"Calculs!LV198","v":32.091101929140606},{"$f":"Calculs!LW198","v":37.14625540859199},{"$f":"Calculs!LX198","v":58.763846227810639},{"$f":"Calculs!LY198","v":81.481905977105868},{"$f":"Calculs!LZ198","v":86.91403304224626}]
["Charge de dim. au sommet",null,"qds",{"$f":"Calculs!LV199","v":176.98061053570248},{"$f":"Calculs!LW199","v":170.8468094570072},{"$f":"Calculs!LX199","v":162.35104493343192},{"$f":"Calculs!LY199","v":150.35609087713377},{"$f":"Calculs!LZ199","v":150.35609087713377}]
[]
[]
[null,"Vérifications"]
[]
[null,"Poussée d'Archimède"]
[null,"Actions stabilisant",null,"G + G' + Gsp",{"$f":"Calculs!LW172","v":22.863395492515224},"[kN/m]"]
[null,null,null,"GR",{"$f":"Calculs!LW173","v":0.88771355293956078},"[kN/m]"]
[null,null,null,"Somme",{"$f":"Calculs!LW174","v":23.751109045454786},"[kN/m]","Facteur",0.9]
[null,"Actions déstabilisantes",null,"FA",{"$f":"Calculs!LW175","v":0},"[kN/m]","Facteur",1.05]
[]
[null,"Contôle:",null,"1.05*FA",{"$f":"Calculs!LW177","v":0},"[kN/m]",{"$f":"IF(E127<E128,\"OK\",\"KO!\")","v":"OK"}]
[null,null,null,"0.9*Somme",{"$f":"Calculs!LW178","v":21.375998140909306},"[kN/m]"]
[]
[]
[null,"Sécurité structurale"]
[]
[null,"Sécurité structurale"]
[null,null,"U1/V1","U2/V2","U2A/V2A","U3/V3","U4/V4"]
[null,"qds",{"$f":"Calculs!LU202","v":176.98061053570248},{"$f":"Calculs!LV202","v":170.8468094570072},{"$f":"Calculs!LW202","v":162.35104493343192},{"$f":"Calculs!LX202","v":150.35609087713377},{"$f":"Calculs!LY202","v":150.35609087713377},"[kN/m2]"]
[null,"q*ds",{"$f":"Calculs!LU203","v":66.544709561424128},{"$f":"Calculs!LV203","v":64.238400355834699},{"$f":"Calculs!LW203","v":61.043992894970401},{"$f":"Calculs!LX203","v":56.533890169802298},{"$f":"Calculs!LY203","v":56.533890169802298},"[kN/m]"]
[null,"qBr",{"$f":"Calculs!LU204","v":72},{"$f":"Calculs!LV204","v":72},{"$f":"Calculs!LW204","v":72},{"$f":"Calculs!LX204","v":72},{"$f":"Calculs!LY204","v":72},"[kN/m]"]
[null,"ZE",{"$f":"Calculs!LU205","v":1.5},{"$f":"Calculs!LV205","v":2.5},{"$f":"Calculs!LW205","v":3},{"$f":"Calculs!LX205","v":6},{"$f":"Calculs!LY205","v":7},"[-]"]
[null,"ZE*qBr/1.2",{"$f":"Calculs!LU206","v":90},{"$f":"Calculs!LV206","v":150},{"$f":"Calculs!LW206","v":180},{"$f":"Calculs!LX206","v":360},{"$f":"Calculs!LY206","v":420},"[kN/m]"]
[]
[null,"Résultat",{"$f":"Calculs!LU208","v":"OK"},{"$f":"Calculs!LV208","v":"OK"},{"$f":"Calculs!LW208","v":"OK"},{"$f":"Calculs!LX208","v":"OK"},{"$f":"Calculs!LY208","v":"OK"}]
[]
[]
[null,"Aptitude au service"]
[]
[null,null,null,"σRbz,adm",{"$f":"Calculs!LJ464","v":-6},"N/mm2"]
[]
[null,null,null,"Convention des contraintes:"]
[null,null,null,"Traction négative -"]
[null,null,null,"Compression positive +"]
[]
[]
[]
[]
[]
[]
[]
[]
[]
[null,"Contraintes Profil d'enrobage U1/V1"]
[null,"Contraintes en [N/mm2]",null,"0°","45°","90°","135°","180°"]
[null,"Due à l'effort normal",null,{"$f":"Calculs!LM461","v":0.23827998969647651},{"$f":"Calculs!LN461","v":0.39689208129507703},{"$f":"Calculs!LO461","v":0.57672404766576446},{"$f":"Calculs!LP461","v":0.58592284153090968},{"$f":"Calculs!LQ461","v":0.31347921582488492}]
[null,"Due au moment extérieur",null,{"$f":"Calculs!LM462","v":2.3193772583787986},{"$f":"Calculs!LN462","v":0.1896686563595292},{"$f":"Calculs!LO462","v":-2.4229931947412489},{"$f":"Calculs!LP462","v":-0.82368639483849093},{"$f":"Calculs!LQ462","v":3.6543236726775521}]
[null,"Due au moment intérieur",null,{"$f":"Calculs!LM463","v":-2.6952251723165137},{"$f":"Calculs!LN463","v":-0.22040387572695821},{"$f":"Calculs!LO463","v":2.8156317508187216},{"$f":"Calculs!LP463","v":0.95716222854366206},{"$f":"Calculs!LQ463","v":-4.2464955258193298}]
[]
[null,"Contraintes extérieures",null,{"$f":"Calculs!LM465","v":2.5576572480752753},{"$f":"Calculs!LN465","v":0.58656073765460626},{"$f":"Calculs!LO465","v":-1.8462691470754844},{"$f":"Calculs!LP465","v":-0.23776355330758125},{"$f":"Calculs!LQ465","v":3.9678028885024368}]
[null,"Conraintes intérieures",null,{"$f":"Calculs!LM466","v":-2.456945182620037},{"$f":"Calculs!LN466","v":0.17648820556811881},{"$f":"Calculs!LO466","v":3.3923557984844859},{"$f":"Calculs!LP466","v":1.5430850700745717},{"$f":"Calculs!LQ466","v":-3.9330163099944446}]
[]
[null,"Contraintes extérieures",null,{"$f":"Calculs!LM468","v":"OK"},{"$f":"Calculs!LN468","v":"OK"},{"$f":"Calculs!LO468","v":"OK"},{"$f":"Calculs!LP468","v":"OK"},{"$f":"Calculs!LQ468","v":"OK"}]
[null,"Conraintes intérieures",null,{"$f":"Calculs!LM469","v":"OK"},{"$f":"Calculs!LN469","v":"OK"},{"$f":"Calculs!LO469","v":"OK"},{"$f":"Calculs!LP469","v":"OK"},{"$f":"Calculs!LQ469","v":"OK"}]
[]
[]
[]
[null,"Contraintes Profil d'enrobage U2/V2"]
[null,"Contraintes en [N/mm2]",null,"0°","45°","90°","135°","180°"]
[null,"Due à l'effort normal",null,{"$f":"Calculs!LM474","v":0.25537673574223163},{"$f":"Calculs!LN474","v":0.40096395635362242},{"$f":"Calculs!LO474","v":0.55651717861509176},{"$f":"Calculs!LP474","v":0.45824456752349774},{"$f":"Calculs!LQ474","v":0.24023251405135101}]
[null,"Due au moment extérieur",null,{"$f":"Calculs!LM475","v":1.9394582867398635},{"$f":"Calculs!LN475","v":7.1762045669731891E-2},{"$f":"Calculs!LO475","v":-2.0039235026365541},{"$f":"Calculs!LP475","v":-0.15754439952873928},{"$f":"Calculs!LQ475","v":2.2646719559262287}]
[null,"Due au moment intérieur",null,{"$f":"Calculs!LM476","v":-2.253741505913061},{"$f":"Calculs!LN476","v":-8.3390863304912313E-2},{"$f":"Calculs!LO476","v":2.3286531107397055},{"$f":"Calculs!LP476","v":0.1830739823948036},{"$f":"Calculs!LQ476","v":-2.6316550447330371}]
[]
[null,"Contraintes extérieures",null,{"$f":"Calculs!LM478","v":2.1948350224820952},{"$f":"Calculs!LN478","v":0.4727260020233543},{"$f":"Calculs!LO478","v":-1.4474063240214623},{"$f":"Calculs!LP478","v":0.30070016799475846},{"$f":"Calculs!LQ478","v":2.5049044699775798}]
[null,"Conraintes intérieures",null,{"$f":"Calculs!LM479","v":-1.9983647701708294},{"$f":"Calculs!LN479","v":0.31757309304871012},{"$f":"Calculs!LO479","v":2.8851702893547975},{"$f":"Calculs!LP479","v":0.64131854991830139},{"$f":"Calculs!LQ479","v":-2.3914225306816861}]
[]
[null,"Contraintes extérieures",null,{"$f":"Calculs!LM481","v":"OK"},{"$f":"Calculs!LN481","v":"OK"},{"$f":"Calculs!LO481","v":"OK"},{"$f":"Calculs!LP481","v":"OK"},{"$f":"Calculs!LQ481","v":"OK"}]
[null,"Conraintes intérieures",null,{"$f":"Calculs!LM482","v":"OK"},{"$f":"Calculs!LN482","v":"OK"},{"$f":"Calculs!LO482","v":"OK"},{"$f":"Calculs!LP482","v":"OK"},{"$f":"Calculs!LQ482","v":"OK"}]
[]
[]
[]
[null,"Contraintes Profil d'enrobage U2A/V2A"]
[null,"Contraintes en [N/mm2]",null,"0°","45°","90°","135°","180°"]
[null,"Due à l'effort normal",null,{"$f":"Calculs!LM487","v":0.26072476885482743},{"$f":"Calculs!LN487","v":0.39364303653119026},{"$f":"Calculs!LO487","v":0.52852918242631564},{"$f":"Calculs!LP487","v":0.39623053127652297},{"$f":"Calculs!LQ487","v":0.26196417917148829}]
[null,"Due au moment extérieur",null,{"$f":"Calculs!LM488","v":1.6444153211278489},{"$f":"Calculs!LN488","v":3.0844826872476958E-3},{"$f":"Calculs!LO488","v":-1.6488083003954397},{"$f":"Calculs!LP488","v":-3.0769311759109292E-3},{"$f":"Calculs!LQ488","v":1.6532120070756444}]
[null,"Due au moment intérieur",null,{"$f":"Calculs!LM489","v":-1.9108877399033635},{"$f":"Calculs!LN489","v":-3.58431357046907E-3},{"$f":"Calculs!LO489","v":1.9159925878795618},{"$f":"Calculs!LP489","v":3.5755383600670708E-3},{"$f":"Calculs!LQ489","v":-1.9211099016124225}]
[]
[null,"Contraintes extérieures",null,{"$f":"Calculs!LM491","v":1.9051400899826763},{"$f":"Calculs!LN491","v":0.39672751921843796},{"$f":"Calculs!LO491","v":-1.120279117969124},{"$f":"Calculs!LP491","v":0.39315360010061207},{"$f":"Calculs!LQ491","v":1.9151761862471326}]
[null,"Conraintes intérieures",null,{"$f":"Calculs!LM492","v":-1.6501629710485362},{"$f":"Calculs!LN492","v":0.39005872296072119},{"$f":"Calculs!LO492","v":2.4445217703058777},{"$f":"Calculs!LP492","v":0.39980606963659004},{"$f":"Calculs!LQ492","v":-1.6591457224409343}]
[]
[null,"Contraintes extérieures",null,{"$f":"Calculs!LM494","v":"OK"},{"$f":"Calculs!LN494","v":"OK"},{"$f":"Calculs!LO494","v":"OK"},{"$f":"Calculs!LP494","v":"OK"},{"$f":"Calculs!LQ494","v":"OK"}]
[null,"Conraintes intérieures",null,{"$f":"Calculs!LM495","v":"OK"},{"$f":"Calculs!LN495","v":"OK"},{"$f":"Calculs!LO495","v":"OK"},{"$f":"Calculs!LP495","v":"OK"},{"$f":"Calculs!LQ495","v":"OK"}]
[]
[]
[]
[]
[]
[]
[]
[]
[null,"Contraintes Profil d'enrobage U3/V3"]
[null,"Contraintes en [N/mm2]",null,"0°","45°","90°","135°","180°"]
[null,"Due à l'effort normal",null,{"$f":"Calculs!LM500","v":0.31731337132835918},{"$f":"Calculs!LN500","v":0.41798985056244531},{"$f":"Calculs!LO500","v":0.4242684051850299},{"$f":"Calculs!LP500","v":0.38336928618277077},{"$f":"Calculs!LQ500","v":0.34705006380953468}]
[null,"Due au moment extérieur",null,{"$f":"Calculs!LM501","v":0.82886895724515564},{"$f":"Calculs!LN501","v":-0.13852502810976339},{"$f":"Calculs!LO501","v":-0.6025151983417999},{"$f":"Calculs!LP501","v":5.5102441545909764E-2},{"$f":"Calculs!LQ501","v":0.56046269784321867}]
[null,"Due au moment intérieur",null,{"$f":"Calculs!LM502","v":-0.96318460916547932},{"$f":"Calculs!LN502","v":0.16097258063927725},{"$f":"Calculs!LO502","v":0.70015092344622787},{"$f":"Calculs!LP502","v":-6.4031621839063579E-2},{"$f":"Calculs!LQ502","v":-0.65128394525491295}]
[]
[null,"Contraintes extérieures",null,{"$f":"Calculs!LM504","v":1.1461823285735149},{"$f":"Calculs!LN504","v":0.27946482245268189},{"$f":"Calculs!LO504","v":-0.17824679315677},{"$f":"Calculs!LP504","v":0.43847172772868054},{"$f":"Calculs!LQ504","v":0.90751276165275341}]
[null,"Conraintes intérieures",null,{"$f":"Calculs!LM505","v":-0.64587123783712008},{"$f":"Calculs!LN505","v":0.57896243120172253},{"$f":"Calculs!LO505","v":1.1244193286312578},{"$f":"Calculs!LP505","v":0.31933766434370719},{"$f":"Calculs!LQ505","v":-0.30423388144537827}]
[]
[null,"Contraintes extérieures",null,{"$f":"Calculs!LM507","v":"OK"},{"$f":"Calculs!LN507","v":"OK"},{"$f":"Calculs!LO507","v":"OK"},{"$f":"Calculs!LP507","v":"OK"},{"$f":"Calculs!LQ507","v":"OK"}]
[null,"Conraintes intérieures",null,{"$f":"Calculs!LM508","v":"OK"},{"$f":"Calculs!LN508","v":"OK"},{"$f":"Calculs!LO508","v":"OK"},{"$f":"Calculs!LP508","v":"OK"},{"$f":"Calculs!LQ508","v":"OK"}]
[]
[]
[]
[null,"Contraintes Profil d'enrobage U4/V4"]
[null,"Contraintes en [N/mm2]",null,"0°","45°","90°","135°","180°"]
[null,"Due à l'effort normal",null,{"$f":"Calculs!LM513","v":0.38591902074008061},{"$f":"Calculs!LN513","v":0.43648239214716594},{"$f":"Calculs!LO513","v":0.48901364177301371},{"$f":"Calculs!LP513","v":0.43906988689249854},{"$f":"Calculs!LQ513","v":0.38715843105674141}]
[null,"Due au moment extérieur",null,{"$f":"Calculs!LM514","v":0.62798252243597574},{"$f":"Calculs!LN514","v":3.0844826872477226E-3},{"$f":"Calculs!LO514","v":-0.63237550170356649},{"$f":"Calculs!LP514","v":-3.0769311759111426E-3},{"$f":"Calculs!LQ514","v":0.63677920838377067}]
[null,"Due au moment intérieur",null,{"$f":"Calculs!LM515","v":-0.7297451486729355},{"$f":"Calculs!LN515","v":-3.5843135704691012E-3},{"$f":"Calculs!LO515","v":0.73484999664913364},{"$f":"Calculs!LP515","v":3.5755383600673189E-3},{"$f":"Calculs!LQ515","v":-0.73996731038199348}]
[]
[null,"Contraintes extérieures",null,{"$f":"Calculs!LM517","v":1.0139015431760563},{"$f":"Calculs!LN517","v":0.43956687483441365},{"$f":"Calculs!LO517","v":-0.14336185993055278},{"$f":"Calculs!LP517","v":0.43599295571658742},{"$f":"Calculs!LQ517","v":1.0239376394405122}]
[null,"Conraintes intérieures",null,{"$f":"Calculs!LM518","v":-0.34382612793285489},{"$f":"Calculs!LN518","v":0.43289807857669682},{"$f":"Calculs!LO518","v":1.2238636384221473},{"$f":"Calculs!LP518","v":0.44264542525256584},{"$f":"Calculs!LQ518","v":-0.35280887932525207}]
[]
[null,"Contraintes extérieures",null,{"$f":"Calculs!LM520","v":"OK"},{"$f":"Calculs!LN520","v":"OK"},{"$f":"Calculs!LO520","v":"OK"},{"$f":"Calculs!LP520","v":"OK"},{"$f":"Calculs!LQ520","v":"OK"}]
[null,"Conraintes intérieures",null,{"$f":"Calculs!LM521","v":"OK"},{"$f":"Calculs!LN521","v":"OK"},{"$f":"Calculs!LO521","v":"OK"},{"$f":"Calculs!LP521","v":"OK"},{"$f":"Calculs!LQ521","v":"OK"}]
[]
[]
[null,"Traction dans le béton d'enrobage"]
[]
[null,"Profil d'enrobage",null,"U1/V1","U2/V2","U2A/V2A","U3/V3","U4/V4"]
[null,"anéc. en [m]",null,{"$f":"Calculs!LM547","v":0},{"$f":"Calculs!LN547","v":0.15},{"$f":"Calculs!LO547","v":0.15},{"$f":"Calculs!LP547","v":0.15},{"$f":"Calculs!LQ547","v":0.15}]
[]
[null,"Profil d'enrobage",null,"U4/V4"]
[null,"cnéc. en [m]",null,{"$f":"Calculs!LQ561","v":0.15}]

{"sheet":"Grès vitrifié s. (D)","index":13,"n_rows":240,"n_cols":8,"rows_kept":240,"cut":false,"hidden":false,"merged":[[235,1,235,2],[236,1,236,2],[238,1,238,2],[239,1,239,2],[211,1,211,7],[214,1,214,7],[220,1,220,7],[225,1,225,7],[228,1,228,7],[192,1,192,7],[195,1,195,7],[206,1,206,7],[164,1,164,7],[167,1,167,7],[173,1,173,7],[178,1,178,7],[181,1,181,7],[187,1,187,7],[159,1,159,7],[121,1,121,2],[122,1,123,2],[124,1,124,2],[125,1,125,2],[126,1,126,2],[126,6,127,7],[127,1,127,2],[132,1,132,7],[139,1,139,7],[147,3,147,5],[148,3,148,5],[149,3,149,5],[120,1,120,7],[85,2,86,2],[85,3,86,3],[85,4,86,4],[105,1,105,5],[108,2,108,7],[110,0,110,1],[111,0,111,1],[112,0,112,1],[113,0,113,1],[114,0,114,1],[115,0,115,1],[81,2,82,2],[81,3,82,3],[81,4,82,4],[83,2,84,2],[83,3,84,3],[83,4,84,4],[74,0,74,8],[1,7,1,8],[3,7,3,8],[5,7,5,8],[9,0,9,8],[59,7,60,7],[11,4,11,6]]}
[]
[null,"Projekt:",{"$f":"Accueil!P15","v":"VSA 2026"},null,null,"Ingenieur/in:",null,{"$f":"Accueil!AI15","v":0}]
[]
[null,"N°:",{"$f":"Accueil!P17","v":0},null,null,"Verantwortlicher:",null,{"$f":"Accueil!AI17","v":0}]
[]
[null,"Ort:",{"$f":"Accueil!P21","v":0},null,null,"Bauherr:",null,{"$f":"Accueil!AI19","v":0}]
[null,null,{"$f":"Accueil!P23","v":0}]
[]
[]
["Daten"]
[]
[null,"Steinzeugrohr",null,null,{"$f":"IF(Données!$AE$6/1000>F14,\"di max.< di Eingabe!\",\"\")","v":""}]
[]
[null,"Innendurchmesser",null,null,"di",{"$f":"Calculs!LM32/1000","v":0.3},"m"]
[null,"Radius",null,null,"rm",{"$f":"Calculs!L32/1000","v":0},"m"]
[null,"Wanddicke",null,null,"e",{"$f":"Calculs!LP32/1000","v":3.7999999999999999E-2},"m"]
[null,"Querschnittsfläche",null,null,"A",{"$f":"Calculs!LP455","v":3.7999999999999999E-2},"m2"]
[null,"Widerstandsmoment",null,null,"W",{"$f":"Calculs!LP456","v":2.4066666666666667E-4},"m3"]
[null,"Festigkeitsklasse",null,null,"FK",{"$f":"Calculs!LR32","v":240}]
[null,"E-Modul",null,null,"ER,kurz",{"$f":"Calculs!B8","v":50000},"N/mm2"]
[]
[null,"Systemsteifigkeit",null,null,"SFkurz",{"$f":"Calculs!LM37","v":15.789129238615228},{"$f":"Calculs!KN37","v":"rigide"}]
[null,"Lastvergrösserungsfaktor",null,null,"f",{"$f":"Calculs!LO41","v":1.1124260355029585}]
[null,"Krümmungseinfluss",null,null,"αka",{"$f":"Calculs!LM456","v":0.92504930966469434}]
[null,null,null,null,"αki",{"$f":"Calculs!LM455","v":1.0749506903353057}]
[]
[null,"Terrain"]
[]
[null,"Bodenqualität",null,null,null,{"$f":"Données!AE30","v":"Sol stable"}]
[null,"Feuchtraumgewicht des Baugrunds",null,null,"γ",{"$f":"Données!AE32","v":20},"kN/m3"]
[null,"Raumgewicht unter Auftrieb",null,null,"γ'",{"$f":"Données!AE34","v":11},"kN/m3"]
[null,"Verformungsmodul des Bodens",null,null,"EB",{"$f":"Données!AE38","v":5},"N/mm2"]
[null,"Erddruckbeiwert",null,null,"K",{"$f":"Données!AE40","v":0.5}]
[null,"Setzungs-Durchbiegungsziffer",null,null,"C2",{"$f":"Données!AE42","v":0.5}]
[null,"Hüllbeton",null,null,null,{"$f":"Données!AE50","v":"C16/20"}]
[]
[null,"Graben"]
[]
[null,"Überdeckungshöhe",null,null,"H",{"$f":"Données!AE52","v":3},"m"]
[null,"Grabentyp",null,null,null,{"$f":"Données!AE56","v":"Verticale (U)"}]
[]
[null,"Wasser"]
[]
[null,"Grundwasser",null,null,null,{"$f":"Données!AE60","v":"Sans eau souterraine"}]
[null,"Grwundwasserspiegel",null,null,"hw",{"$f":"Données!AE62","v":1.3},"m"]
[null,"Wasser im Rohr",null,null,null,{"$f":"Données!AE64","v":"Tuyau vide"}]
[null,"Druck",null,null,"pEi",{"$f":"Données!AE66","v":10},"kN/m2"]
[]
[]
[]
[]
[]
[]
[]
[]
[null,"Einwirkungen"]
[]
[null,"Flächenlast",null,null,null,{"$f":"Données!AE8","v":"Pas de charge"}]
[null,null,null,null,"qs",{"$f":"Calculs!LP123","v":0},"kN/m2"]
[null,"Verkehr",null,null,null,{"$f":"Données!AE22","v":"Trafic routier"},null,{"$f":"IF(AND(Accueil!AZ15=\"Deutsch\",AND(OR(F60=\"Voie unique (ferroviaire)\",F60=\"Voies multiples (ferroviaire)\",F60=\"Voie étroite (ferroviaire)\",F60=\"Eingleisig (Bahnverkehr)\",F60=\"Mehrgleisig (Bahnverkehr)\",F60=\"Schmalspur (Bahnverkehr)\"),F39<2)),\"H zu klein!\",\"\")","v":""}]
[null,"Beiwert Strass- und Bahnvekehrslasten",null,null,"α",{"$f":"Calculs!LN93","v":0.9}]
[null,"Dynamischer Beiwert",null,null,"Ψ",{"$f":"Calculs!LO93","v":1}]
[null,"Strassenverkehr und untergeordnete",null,null,"pvtotal",{"$f":"Calculs!LK109","v":24.562000000000001},"kN/m2"]
[null,"Strassen",null,null,"pvRad",{"$f":"Calculs!LL109","v":4.9021999999999997},"kN/m2"]
[null,null,null,null,"∆pv",{"$f":"Calculs!LM109","v":19.659800000000001},"kN/m2"]
[null,"Strassenrand",null,null,"pvtotal",{"$f":"Calculs!LN109","v":0},"kN/m2"]
[null,null,null,null,"pvRad",{"$f":"Calculs!LO109","v":0},"kN/m2"]
[null,null,null,null,"∆pv",{"$f":"Calculs!LP109","v":0},"kN/m2"]
[null,"Bahnverkehr eingleisig",null,null,"peingleisig",{"$f":"Calculs!LR109","v":0},"kN/m2"]
[null,"Bahnverkehr mehrgleisig",null,null,"pmehrgleisig",{"$f":"Calculs!LS109","v":0},"kN/m2"]
[null,"Bahnverkehr schmalspur",null,null,"pschmal",{"$f":"Calculs!LT109","v":0},"kN/m2"]
[]
[]
[]
["Resultate"]
[]
[]
[]
[]
[]
[]
[]
[]
[]
[]
[]
[]
[]
[]
[]
[]
[]
[]
[]
[]
[]
[]
[]
[]
[]
[]
[]
[]
[]
[]
[]
[null,"Beanspruchungen"]
[]
[null,null,"Beanspruchungen in [kN/m2]"]
[null,null,null,"U1/V1","U2/V2","U2A/V2A","U3/V3","U4/V4"]
["Perm. Last auf Scheitel",null,"qs1",{"$f":"Calculs!LV194","v":103.77334026094111},{"$f":"Calculs!LW194","v":99.229783906352012},{"$f":"Calculs!LX194","v":92.936624999999978},{"$f":"Calculs!LY194","v":84.051473847186514},{"$f":"Calculs!LZ194","v":84.051473847186514}]
["Var. Last auf Scheitel",null,"qs2",{"$f":"Calculs!LV195","v":24.591067455621303},{"$f":"Calculs!LW195","v":24.591067455621303},{"$f":"Calculs!LX195","v":24.591067455621303},{"$f":"Calculs!LY195","v":24.591067455621303},{"$f":"Calculs!LZ195","v":24.591067455621303}]
["Effektive Last auf Scheitel",null,"qser",{"$f":"Calculs!LV196","v":128.36440771656243},{"$f":"Calculs!LW196","v":123.82085136197331},{"$f":"Calculs!LX196","v":117.52769245562128},{"$f":"Calculs!LY196","v":108.64254130280781},{"$f":"Calculs!LZ196","v":108.64254130280781}]
["Erd- und Bettungsdruck",null,"qh",{"$f":"Calculs!LV197","v":64.182203858281213},{"$f":"Calculs!LW197","v":61.910425680986656},{"$f":"Calculs!LX197","v":58.763846227810639},{"$f":"Calculs!LY197","v":54.321270651403907},{"$f":"Calculs!LZ197","v":0}]
["Stützdruck",null,"qSt",{"$f":"Calculs!LV198","v":32.091101929140606},{"$f":"Calculs!LW198","v":37.14625540859199},{"$f":"Calculs!LX198","v":58.763846227810639},{"$f":"Calculs!LY198","v":81.481905977105868},{"$f":"Calculs!LZ198","v":86.91403304224626}]
["Bemessungswert ",null,"qds",{"$f":"Calculs!LV199","v":176.98061053570248},{"$f":"Calculs!LW199","v":170.8468094570072},{"$f":"Calculs!LX199","v":162.35104493343192},{"$f":"Calculs!LY199","v":150.35609087713377},{"$f":"Calculs!LZ199","v":150.35609087713377}]
[]
[]
[null,"Nachweise"]
[]
[null,"Auftrieb"]
[null,"Stabilisierend",null,"G + G' + Gsp",{"$f":"Calculs!LW172","v":22.863395492515224},"[kN/m]"]
[null,null,null,"GR",{"$f":"Calculs!LW173","v":0.88771355293956078},"[kN/m]"]
[null,null,null,"Summe",{"$f":"Calculs!LW174","v":23.751109045454786},"[kN/m]","Faktor",0.9]
[null,"Destabilisierend",null,"FA",{"$f":"Calculs!LW175","v":0},"[kN/m]","Faktor",1.05]
[]
[null,"Kontrolle:",null,"1.05*FA",{"$f":"Calculs!LW177","v":0},"[kN/m]",{"$f":"IF(E127<E128,\"OK\",\"KO!\")","v":"OK"}]
[null,null,null,"0.9*Summe",{"$f":"Calculs!LW178","v":21.375998140909306},"[kN/m]"]
[]
[]
[null,"Tragfähigkeit"]
[]
[null,"Tragfähigkeit"]
[null,null,"U1/V1","U2/V2","U2A/V2A","U3/V3","U4/V4"]
[null,"qds",{"$f":"Calculs!LU202","v":176.98061053570248},{"$f":"Calculs!LV202","v":170.8468094570072},{"$f":"Calculs!LW202","v":162.35104493343192},{"$f":"Calculs!LX202","v":150.35609087713377},{"$f":"Calculs!LY202","v":150.35609087713377},"[kN/m2]"]
[null,"q*ds",{"$f":"Calculs!LU203","v":66.544709561424128},{"$f":"Calculs!LV203","v":64.238400355834699},{"$f":"Calculs!LW203","v":61.043992894970401},{"$f":"Calculs!LX203","v":56.533890169802298},{"$f":"Calculs!LY203","v":56.533890169802298},"[kN/m]"]
[null,"qBr",{"$f":"Calculs!LU204","v":72},{"$f":"Calculs!LV204","v":72},{"$f":"Calculs!LW204","v":72},{"$f":"Calculs!LX204","v":72},{"$f":"Calculs!LY204","v":72},"[kN/m]"]
[null,"ZE",{"$f":"Calculs!LU205","v":1.5},{"$f":"Calculs!LV205","v":2.5},{"$f":"Calculs!LW205","v":3},{"$f":"Calculs!LX205","v":6},{"$f":"Calculs!LY205","v":7},"[-]"]
[null,"ZE*qBr/1.2",{"$f":"Calculs!LU206","v":90},{"$f":"Calculs!LV206","v":150},{"$f":"Calculs!LW206","v":180},{"$f":"Calculs!LX206","v":360},{"$f":"Calculs!LY206","v":420},"[kN/m]"]
[]
[null,"Resultat",{"$f":"Calculs!LU208","v":"OK"},{"$f":"Calculs!LV208","v":"OK"},{"$f":"Calculs!LW208","v":"OK"},{"$f":"Calculs!LX208","v":"OK"},{"$f":"Calculs!LY208","v":"OK"}]
[]
[]
[null,"Gebrauchstauglichkeit"]
[]
[null,null,null,"σRbz,adm",{"$f":"Calculs!LJ464","v":-6},"N/mm2"]
[]
[null,null,null,"Spannungskonventionen:"]
[null,null,null,"Zug negatif -"]
[null,null,null,"Druck positif +"]
[]
[]
[]
[]
[]
[]
[]
[]
[]
[null,"Spannungen Verlegeprofil U1/V1"]
[null,"Spannungen in [N/mm2]",null,"0°","45°","90°","135°","180°"]
[null,"Durch die Normalkraft",null,{"$f":"Calculs!LM461","v":0.23827998969647651},{"$f":"Calculs!LN461","v":0.39689208129507703},{"$f":"Calculs!LO461","v":0.57672404766576446},{"$f":"Calculs!LP461","v":0.58592284153090968},{"$f":"Calculs!LQ461","v":0.31347921582488492}]
[null,"Durch das Moment aussen",null,{"$f":"Calculs!LM462","v":2.3193772583787986},{"$f":"Calculs!LN462","v":0.1896686563595292},{"$f":"Calculs!LO462","v":-2.4229931947412489},{"$f":"Calculs!LP462","v":-0.82368639483849093},{"$f":"Calculs!LQ462","v":3.6543236726775521}]
[null,"Durch das Moment innen",null,{"$f":"Calculs!LM463","v":-2.6952251723165137},{"$f":"Calculs!LN463","v":-0.22040387572695821},{"$f":"Calculs!LO463","v":2.8156317508187216},{"$f":"Calculs!LP463","v":0.95716222854366206},{"$f":"Calculs!LQ463","v":-4.2464955258193298}]
[]
[null,"Spannungen aussen",null,{"$f":"Calculs!LM465","v":2.5576572480752753},{"$f":"Calculs!LN465","v":0.58656073765460626},{"$f":"Calculs!LO465","v":-1.8462691470754844},{"$f":"Calculs!LP465","v":-0.23776355330758125},{"$f":"Calculs!LQ465","v":3.9678028885024368}]
[null,"Spannungen innen",null,{"$f":"Calculs!LM466","v":-2.456945182620037},{"$f":"Calculs!LN466","v":0.17648820556811881},{"$f":"Calculs!LO466","v":3.3923557984844859},{"$f":"Calculs!LP466","v":1.5430850700745717},{"$f":"Calculs!LQ466","v":-3.9330163099944446}]
[]
[null,"Spannungen aussen",null,{"$f":"Calculs!LM468","v":"OK"},{"$f":"Calculs!LN468","v":"OK"},{"$f":"Calculs!LO468","v":"OK"},{"$f":"Calculs!LP468","v":"OK"},{"$f":"Calculs!LQ468","v":"OK"}]
[null,"Spannungen innen",null,{"$f":"Calculs!LM469","v":"OK"},{"$f":"Calculs!LN469","v":"OK"},{"$f":"Calculs!LO469","v":"OK"},{"$f":"Calculs!LP469","v":"OK"},{"$f":"Calculs!LQ469","v":"OK"}]
[]
[]
[]
[null,"Spannungen Verlegeprofil U2/V2"]
[null,"Spannungen in [N/mm2]",null,"0°","45°","90°","135°","180°"]
[null,"Durch die Normalkraft",null,{"$f":"Calculs!LM474","v":0.25537673574223163},{"$f":"Calculs!LN474","v":0.40096395635362242},{"$f":"Calculs!LO474","v":0.55651717861509176},{"$f":"Calculs!LP474","v":0.45824456752349774},{"$f":"Calculs!LQ474","v":0.24023251405135101}]
[null,"Durch das Moment aussen",null,{"$f":"Calculs!LM475","v":1.9394582867398635},{"$f":"Calculs!LN475","v":7.1762045669731891E-2},{"$f":"Calculs!LO475","v":-2.0039235026365541},{"$f":"Calculs!LP475","v":-0.15754439952873928},{"$f":"Calculs!LQ475","v":2.2646719559262287}]
[null,"Durch das Moment innen",null,{"$f":"Calculs!LM476","v":-2.253741505913061},{"$f":"Calculs!LN476","v":-8.3390863304912313E-2},{"$f":"Calculs!LO476","v":2.3286531107397055},{"$f":"Calculs!LP476","v":0.1830739823948036},{"$f":"Calculs!LQ476","v":-2.6316550447330371}]
[]
[null,"Spannungen aussen",null,{"$f":"Calculs!LM478","v":2.1948350224820952},{"$f":"Calculs!LN478","v":0.4727260020233543},{"$f":"Calculs!LO478","v":-1.4474063240214623},{"$f":"Calculs!LP478","v":0.30070016799475846},{"$f":"Calculs!LQ478","v":2.5049044699775798}]
[null,"Spannungen innen",null,{"$f":"Calculs!LM479","v":-1.9983647701708294},{"$f":"Calculs!LN479","v":0.31757309304871012},{"$f":"Calculs!LO479","v":2.8851702893547975},{"$f":"Calculs!LP479","v":0.64131854991830139},{"$f":"Calculs!LQ479","v":-2.3914225306816861}]
[]
[null,"Spannungen aussen",null,{"$f":"Calculs!LM481","v":"OK"},{"$f":"Calculs!LN481","v":"OK"},{"$f":"Calculs!LO481","v":"OK"},{"$f":"Calculs!LP481","v":"OK"},{"$f":"Calculs!LQ481","v":"OK"}]
[null,"Spannungen innen",null,{"$f":"Calculs!LM482","v":"OK"},{"$f":"Calculs!LN482","v":"OK"},{"$f":"Calculs!LO482","v":"OK"},{"$f":"Calculs!LP482","v":"OK"},{"$f":"Calculs!LQ482","v":"OK"}]
[]
[]
[]
[null,"Spannungen Verlegeprofil U2A/V2A"]
[null,"Spannungen in [N/mm2]",null,"0°","45°","90°","135°","180°"]
[null,"Durch die Normalkraft",null,{"$f":"Calculs!LM487","v":0.26072476885482743},{"$f":"Calculs!LN487","v":0.39364303653119026},{"$f":"Calculs!LO487","v":0.52852918242631564},{"$f":"Calculs!LP487","v":0.39623053127652297},{"$f":"Calculs!LQ487","v":0.26196417917148829}]
[null,"Durch das Moment aussen",null,{"$f":"Calculs!LM488","v":1.6444153211278489},{"$f":"Calculs!LN488","v":3.0844826872476958E-3},{"$f":"Calculs!LO488","v":-1.6488083003954397},{"$f":"Calculs!LP488","v":-3.0769311759109292E-3},{"$f":"Calculs!LQ488","v":1.6532120070756444}]
[null,"Durch das Moment innen",null,{"$f":"Calculs!LM489","v":-1.9108877399033635},{"$f":"Calculs!LN489","v":-3.58431357046907E-3},{"$f":"Calculs!LO489","v":1.9159925878795618},{"$f":"Calculs!LP489","v":3.5755383600670708E-3},{"$f":"Calculs!LQ489","v":-1.9211099016124225}]
[]
[null,"Spannungen aussen",null,{"$f":"Calculs!LM491","v":1.9051400899826763},{"$f":"Calculs!LN491","v":0.39672751921843796},{"$f":"Calculs!LO491","v":-1.120279117969124},{"$f":"Calculs!LP491","v":0.39315360010061207},{"$f":"Calculs!LQ491","v":1.9151761862471326}]
[null,"Spannungen innen",null,{"$f":"Calculs!LM492","v":-1.6501629710485362},{"$f":"Calculs!LN492","v":0.39005872296072119},{"$f":"Calculs!LO492","v":2.4445217703058777},{"$f":"Calculs!LP492","v":0.39980606963659004},{"$f":"Calculs!LQ492","v":-1.6591457224409343}]
[]
[null,"Spannungen aussen",null,{"$f":"Calculs!LM494","v":"OK"},{"$f":"Calculs!LN494","v":"OK"},{"$f":"Calculs!LO494","v":"OK"},{"$f":"Calculs!LP494","v":"OK"},{"$f":"Calculs!LQ494","v":"OK"}]
[null,"Spannungen innen",null,{"$f":"Calculs!LM495","v":"OK"},{"$f":"Calculs!LN495","v":"OK"},{"$f":"Calculs!LO495","v":"OK"},{"$f":"Calculs!LP495","v":"OK"},{"$f":"Calculs!LQ495","v":"OK"}]
[]
[]
[]
[]
[]
[]
[]
[]
[null,"Spannungen Verlegeprofil U3/V3"]
[null,"Spannungen in [N/mm2]",null,"0°","45°","90°","135°","180°"]
[null,"Durch die Normalkraft",null,{"$f":"Calculs!LM500","v":0.31731337132835918},{"$f":"Calculs!LN500","v":0.41798985056244531},{"$f":"Calculs!LO500","v":0.4242684051850299},{"$f":"Calculs!LP500","v":0.38336928618277077},{"$f":"Calculs!LQ500","v":0.34705006380953468}]
[null,"Durch das Moment aussen",null,{"$f":"Calculs!LM501","v":0.82886895724515564},{"$f":"Calculs!LN501","v":-0.13852502810976339},{"$f":"Calculs!LO501","v":-0.6025151983417999},{"$f":"Calculs!LP501","v":5.5102441545909764E-2},{"$f":"Calculs!LQ501","v":0.56046269784321867}]
[null,"Durch das Moment innen",null,{"$f":"Calculs!LM502","v":-0.96318460916547932},{"$f":"Calculs!LN502","v":0.16097258063927725},{"$f":"Calculs!LO502","v":0.70015092344622787},{"$f":"Calculs!LP502","v":-6.4031621839063579E-2},{"$f":"Calculs!LQ502","v":-0.65128394525491295}]
[]
[null,"Spannungen aussen",null,{"$f":"Calculs!LM504","v":1.1461823285735149},{"$f":"Calculs!LN504","v":0.27946482245268189},{"$f":"Calculs!LO504","v":-0.17824679315677},{"$f":"Calculs!LP504","v":0.43847172772868054},{"$f":"Calculs!LQ504","v":0.90751276165275341}]
[null,"Spannungen innen",null,{"$f":"Calculs!LM505","v":-0.64587123783712008},{"$f":"Calculs!LN505","v":0.57896243120172253},{"$f":"Calculs!LO505","v":1.1244193286312578},{"$f":"Calculs!LP505","v":0.31933766434370719},{"$f":"Calculs!LQ505","v":-0.30423388144537827}]
[]
[null,"Spannungen aussen",null,{"$f":"Calculs!LM507","v":"OK"},{"$f":"Calculs!LN507","v":"OK"},{"$f":"Calculs!LO507","v":"OK"},{"$f":"Calculs!LP507","v":"OK"},{"$f":"Calculs!LQ507","v":"OK"}]
[null,"Spannungen innen",null,{"$f":"Calculs!LM508","v":"OK"},{"$f":"Calculs!LN508","v":"OK"},{"$f":"Calculs!LO508","v":"OK"},{"$f":"Calculs!LP508","v":"OK"},{"$f":"Calculs!LQ508","v":"OK"}]
[]
[]
[]
[null,"Spannungen Verlegeprofil U4/V4"]
[null,"Spannungen in [N/mm2]",null,"0°","45°","90°","135°","180°"]
[null,"Durch die Normalkraft",null,{"$f":"Calculs!LM513","v":0.38591902074008061},{"$f":"Calculs!LN513","v":0.43648239214716594},{"$f":"Calculs!LO513","v":0.48901364177301371},{"$f":"Calculs!LP513","v":0.43906988689249854},{"$f":"Calculs!LQ513","v":0.38715843105674141}]
[null,"Durch das Moment aussen",null,{"$f":"Calculs!LM514","v":0.62798252243597574},{"$f":"Calculs!LN514","v":3.0844826872477226E-3},{"$f":"Calculs!LO514","v":-0.63237550170356649},{"$f":"Calculs!LP514","v":-3.0769311759111426E-3},{"$f":"Calculs!LQ514","v":0.63677920838377067}]
[null,"Durch das Moment innen",null,{"$f":"Calculs!LM515","v":-0.7297451486729355},{"$f":"Calculs!LN515","v":-3.5843135704691012E-3},{"$f":"Calculs!LO515","v":0.73484999664913364},{"$f":"Calculs!LP515","v":3.5755383600673189E-3},{"$f":"Calculs!LQ515","v":-0.73996731038199348}]
[]
[null,"Spannungen aussen",null,{"$f":"Calculs!LM517","v":1.0139015431760563},{"$f":"Calculs!LN517","v":0.43956687483441365},{"$f":"Calculs!LO517","v":-0.14336185993055278},{"$f":"Calculs!LP517","v":0.43599295571658742},{"$f":"Calculs!LQ517","v":1.0239376394405122}]
[null,"Spannungen innen",null,{"$f":"Calculs!LM518","v":-0.34382612793285489},{"$f":"Calculs!LN518","v":0.43289807857669682},{"$f":"Calculs!LO518","v":1.2238636384221473},{"$f":"Calculs!LP518","v":0.44264542525256584},{"$f":"Calculs!LQ518","v":-0.35280887932525207}]
[]
[null,"Spannungen aussen",null,{"$f":"Calculs!LM520","v":"OK"},{"$f":"Calculs!LN520","v":"OK"},{"$f":"Calculs!LO520","v":"OK"},{"$f":"Calculs!LP520","v":"OK"},{"$f":"Calculs!LQ520","v":"OK"}]
[null,"Spannungen innen",null,{"$f":"Calculs!LM521","v":"OK"},{"$f":"Calculs!LN521","v":"OK"},{"$f":"Calculs!LO521","v":"OK"},{"$f":"Calculs!LP521","v":"OK"},{"$f":"Calculs!LQ521","v":"OK"}]
[]
[]
[null,"Zugkraft im Sohlenbeton"]
[]
[null,"Verlegeprofil",null,"U1/V1","U2/V2","U2A/V2A","U3/V3","U4/V4"]
[null,"anötig in [m]",null,{"$f":"Calculs!LM547","v":0},{"$f":"Calculs!LN547","v":0.15},{"$f":"Calculs!LO547","v":0.15},{"$f":"Calculs!LP547","v":0.15},{"$f":"Calculs!LQ547","v":0.15}]
[]
[null,"Verlegeprofil",null,"U4/V4"]
[null,"cnötig in [m]",null,{"$f":"Calculs!LQ561","v":0.15}]

{"sheet":"Fonte","index":14,"n_rows":145,"n_cols":8,"rows_kept":145,"cut":false,"hidden":false,"merged":[[11,4,11,6],[87,5,89,5],[27,16,27,17],[58,7,59,7],[65,16,66,16],[75,2,75,6],[76,2,76,6],[77,2,77,3],[78,2,78,3],[79,2,79,3],[80,2,80,3],[81,2,81,3],[87,6,90,7],[139,1,139,7],[142,1,142,7],[134,1,134,7],[130,3,130,5],[131,3,131,5],[132,3,132,5],[109,6,110,7],[110,1,110,2],[103,1,103,7],[90,5,91,5],[1,7,1,8],[3,7,3,8],[5,7,5,8],[9,0,9,8],[71,0,71,8],[104,1,104,2],[105,1,106,2],[107,1,107,2],[108,1,108,2],[109,1,109,2],[13,7,13,8],[86,3,86,5],[122,2,122,5],[123,2,123,3],[120,2,120,3],[121,2,121,3],[115,2,115,5],[116,2,116,5],[117,2,117,3],[118,2,118,3],[119,2,119,3]]}
[]
[null,"Projet:",{"$f":"Accueil!P15","v":"VSA 2026"},null,null,"Ingénieur/e:",null,{"$f":"Accueil!AI15","v":0}]
[]
[null,{"$f":"Accueil!$L$17","v":"N°:"},{"$f":"Accueil!P17","v":0},null,null,"Responsable:",null,{"$f":"Accueil!AI17","v":0}]
[]
[null,"Lieu:",{"$f":"Accueil!P21","v":0},null,null,"Maître d'ouvrage:",null,{"$f":"Accueil!AI19","v":0}]
[null,null,{"$f":"Accueil!P23","v":0}]
[]
[]
["Données"]
[]
[null,"Tuyau en fonte",null,null,{"$f":"IF(Données!$AE$6>F14,\"di max.< di introduit!\",\"\")","v":""}]
[]
[null,"Diamètre intérieur ",null,null,"di",{"$f":"Calculs!SK32","v":314.8},"mm"]
[null,"Rayon moyen",null,null,"rm",{"$f":"Calculs!SO32","v":160.19999999999999},"mm"]
[null,"Épaisseur de paroi",null,null,"e",{"$f":"Calculs!SN32","v":5.6},"mm"]
[null,"Section",null,null,"A",{"$f":"Calculs!SJ328","v":5.5999999999999999E-3},"m2"]
[null,"Module de flexion",null,null,"W",{"$f":"Calculs!SJ329","v":5.226666666666666E-6},"m3"]
[null,"Module d'élasticité",null,null,"ER,court",{"$f":"Calculs!B9","v":170000},"N/mm2"]
[]
[null,"Rigidité du système",null,null,"SFcourt",{"$f":"Calculs!SK37","v":0.20170792715109187},{"$f":"Calculs!SL37","v":"rigide"}]
[null,"Facteur de majoration de charge",null,null,"f",{"$f":"Calculs!SM41","v":1}]
[null,"Effet de courbure:",null,null,"αka",{"$f":"Calculs!SG329","v":1}]
[null,null,null,null,"αki",{"$f":"Calculs!SG328","v":1}]
[]
[null,"Terrain"]
[]
[null,"Qualité du sol",null,null,null,{"$f":"Données!AE30","v":"Sol stable"}]
[null,"Poids volumique apparent hum.",null,null,"γ",{"$f":"Données!AE32","v":20}]
[null,"Poids volumique déjaugé",null,null,"γ'",{"$f":"Données!AE34","v":11},"kN/m3"]
[null,"Module de déformation du sol",null,null,"EB",{"$f":"Données!AE38","v":5},"kN/m3"]
[null,"Coefficient de pression du terrain",null,null,"K",{"$f":"Données!AE40","v":0.5},"N/mm2"]
[null,"Coefficient de flexion au tassement",null,null,"C2",{"$f":"Données!AE42","v":0.5}]
[null,"Réduction de charge",null,null,"λmin",{"$f":"Données!AE44","v":"NON"}]
[]
[null,"Eau"]
[]
[null,"Eau souterraine",null,null,null,{"$f":"Données!AE60","v":"Sans eau souterraine"}]
[null,"Niveau d'eau souterraine",null,null,"hw",{"$f":"Données!AE62","v":1.3},"m"]
[null,"Eau à l'intérieur du tuyau",null,null,null,{"$f":"Données!AE64","v":"Tuyau vide"}]
[null,"Pression",null,null,"pEi",{"$f":"Données!AE66","v":10},"kN/m2"]
[]
[null,"Fouille"]
[]
[null,"Hauteur de couverture",null,null,"H",{"$f":"Données!AE52","v":3}]
[null,"Type de fouille",null,null,null,{"$f":"Données!AE56","v":"Verticale (U)"}]
[null,"Largeur de fouille",null,null,"B",{"$f":"Données!AE54","v":1.5}]
[null,"Angle de talus",null,null,"β",{"$f":"Données!AE58","v":30}]
[]
[]
[]
[]
[]
[]
[null,"Actions"]
[]
[null,"Charge surfacique",null,null,null,{"$f":"Données!AE8","v":"Pas de charge"}]
[null,null,null,null,"qs",{"$f":"Calculs!SL128","v":0},"kN/m2"]
[null,"Trafic ",null,null,null,{"$f":"Données!AE22","v":"Trafic routier"},null,{"$f":"IF(AND(Accueil!AZ15=\"Français\",AND(OR(F59=\"Voie unique (ferroviaire)\",F59=\"Voies multiples (ferroviaire)\",F59=\"Voie étroite (ferroviaire)\",F59=\"Eingleisig (Bahnverkehr)\",F59=\"Mehrgleisig (Bahnverkehr)\",F59=\"Schmalspur (Bahnverkehr)\"),F45<2)),\"H trop faible!\",\"\")","v":""}]
[null,"Coefficient de charge",null,null,"α",{"$f":"Calculs!SH98","v":0.9}]
[null,"Coefficient dynamique",null,null,"Ψ",{"$f":"Calculs!SI98","v":1}]
[null,"Trafic routier et route d'importance",null,null,"pvtotale",{"$f":"Calculs!SG114","v":24.562000000000001},"kN/m2"]
[null,"secondaire",null,null,"pvroue",{"$f":"Calculs!SH114","v":4.9021999999999997},"kN/m2"]
[null,null,null,null,"∆pv",{"$f":"Calculs!SI114","v":19.659800000000001},"kN/m2"]
[null,"Bord de route",null,null,"pvtotale",{"$f":"Calculs!SJ114","v":0},"kN/m2"]
[null,null,null,null,"pvroue",{"$f":"Calculs!SK114","v":0},"kN/m2"]
[null,null,null,null,"∆pv",{"$f":"Calculs!SL114","v":0},"kN/m2"]
[null,"Trafic ferroviaire voie unique",null,null,"punique",{"$f":"Calculs!SN114","v":0},"kN/m2"]
[null,"Trafic ferroviaire voies multiples",null,null,"pmultiples",{"$f":"Calculs!SO114","v":0},"kN/m2"]
[null,"Trafic ferroviaire voie étroite",null,null,"pétroite",{"$f":"Calculs!SP114","v":0},"kN/m2"]
[]
["Résultats"]
[]
[null,"Sollicitations"]
[]
[null,null," Sollicitations"]
[null,null,"U1/V1"]
[null,null,"À long terme",null,"qs1",{"$f":"Calculs!SK198","v":93.285609064356649},"[kN/m2]"]
[null,null,"À court terme",null,"qs2",{"$f":"Calculs!SK199","v":22.105800000000002},"[kN/m2]"]
[null,null,"Charge eff. au sommet",null,"qser",{"$f":"Calculs!SK200","v":115.39140906435665},"[kN/m2]"]
[null,null,"Pression du terrain",null,"qh",{"$f":"Calculs!SG202","v":57.695704532178326},"[kN/m2]"]
[null,null,"Charge de dim. au sommet",null,"qds",{"$f":"Calculs!SK203","v":159.09427223688149},"[kN/m2]"]
[]
[]
[null,"Vérifications"]
[]
[null,null,null,"Vérification de la déformation (IOWA)"]
[null,null,null,null,1,null,{"$f":"IF(Calculs!SK37<0.1,\"\",\"Tuyau rigide. Pas nécessaire de vérifier la déformation!\")","v":"Tuyau rigide. Pas nécessaire de vérifier la déformation!"}]
[null,null,null,"x/d court",{"$f":"IF(Calculs!SK37<0.1,Calculs!SJ207,\"\")","v":""}]
[null,null,null,"x/d long",{"$f":"IF(Calculs!SK37<0.1,Calculs!SJ208,\"\")","v":""}]
[null,null,null,"Somme",{"$f":"IF(Calculs!SK37<0.1,Calculs!SJ209,\"\")","v":""},{"$f":"IF(Calculs!SK37<0.1,Calculs!SK209,\"\")","v":""}]
[null,null,null,"Admissible",{"$f":"IF(Calculs!SK37<0.1,Calculs!SJ210,\"\")","v":""}]
[]
[]
[]
[]
[]
[]
[]
[]
[]
[]
[]
[null,"Poussée d'Archimède"]
[null,"Actions stabilisant",null,"G + G' + Gsp",{"$f":"Calculs!SI177","v":19.788070247867729},"[kN/m]"]
[null,null,null,"GR",{"$f":"Calculs!SI178","v":0.39739236979577491},"[kN/m]"]
[null,null,null,"Somme",{"$f":"Calculs!SI179","v":20.185462617663504},"[kN/m]","Facteur",0.9]
[null,"Actions déstabilisantes",null,"FA",{"$f":"Calculs!SI180","v":0},"[kN/m]","Facteur",1.05]
[]
[null,"Contôle:",null,"1.05*FA",{"$f":"Calculs!SI182","v":0},"[kN/m]",{"$f":"IF(E110<E111,\"OK\",\"KO!\")","v":"OK"}]
[null,null,null,"0.9*Somme",{"$f":"Calculs!SI183","v":18.166916355897154},"[kN/m]"]
[]
[]
[null,"Sécurité structurale"]
[]
[null,null,"Sécurité structurale"]
[null,null,"U1/V1"]
[null,null,{"$f":"IF(Calculs!SK37<0.1,Calculs!SF214,Calculs!SF225)","v":"qds"},null,{"$f":"IF(Calculs!SK37<0.1,Calculs!SJ214,Calculs!SJ225)","v":159.09427223688149},"[kN/m2]"]
[null,null,{"$f":"IF(Calculs!SK37<0.1,Calculs!SF215,Calculs!SF226)","v":"q*ds"},null,{"$f":"IF(Calculs!SK37<0.1,Calculs!SJ215,Calculs!SJ226)","v":51.864732749223364},"[kN/m2]"]
[null,null,{"$f":"IF(Calculs!SK37<0.1,Calculs!SF216,Calculs!SF227)","v":"qBr"},null,{"$f":"IF(Calculs!SK37<0.1,Calculs!SJ216,Calculs!SJ227)","v":157.40558220353211},"[kN/m2]"]
[null,null,{"$f":"IF(Calculs!SK37<0.1,Calculs!SF217,Calculs!SF228)","v":"ZE"},null,{"$f":"IF(Calculs!SK37<0.1,Calculs!SJ217,Calculs!SJ228)","v":1.5},"[kN/m2]"]
[null,null,{"$f":"IF(Calculs!SK37<0.1,Calculs!SF219,Calculs!SF229)","v":"ZE*qBr/1.2"},null,{"$f":"IF(Calculs!SK37<0.1,Calculs!SJ219,Calculs!SJ229)","v":196.75697775441515},"[kN/m2]"]
[]
[null,null,"Résultat",null,{"$f":"IF(Calculs!SK37<0.1,Calculs!SJ221,Calculs!SJ231)","v":"OK"}]
[]
[]
[null,"Aptitude au service"]
[]
[null,null,null,"σRbz,adm",{"$f":"Calculs!SN327","v":330},"N/mm2"]
[]
[null,null,null,"Convention des contraintes:"]
[null,null,null,"Traction négative -"]
[null,null,null,"Compression positive +"]
[]
[null,"Contraintes Profil d'enrobage U1/V1"]
[null,"Contraintes en [N/mm2]",null,"0°","45°","90°","135°","180°"]
[null,"Due à l'effort normal",null,{"$f":"Calculs!SG334","v":1.3833750460483056},{"$f":"Calculs!SH334","v":2.2931928525253484},{"$f":"Calculs!SI334","v":3.3187592958710592},{"$f":"Calculs!SJ334","v":3.3670645828369494},{"$f":"Calculs!SK334","v":1.917643477542754}]
[null,"Due au moment extérieur",null,{"$f":"Calculs!SG335","v":92.33873887419854},{"$f":"Calculs!SH335","v":7.4528069333501579},{"$f":"Calculs!SI335","v":-96.38306640220334},{"$f":"Calculs!SJ335","v":-32.479042681991793},{"$f":"Calculs!SK335","v":144.52447257589535}]
[null,"Due au moment intérieur",null,{"$f":"Calculs!SG336","v":-92.33873887419854},{"$f":"Calculs!SH336","v":-7.4528069333501579},{"$f":"Calculs!SI336","v":96.38306640220334},{"$f":"Calculs!SJ336","v":32.479042681991793},{"$f":"Calculs!SK336","v":-144.52447257589535}]
[]
[null,"Contraintes extérieures",null,{"$f":"Calculs!SG338","v":93.722113920246841},{"$f":"Calculs!SH338","v":9.7459997858755063},{"$f":"Calculs!SI338","v":-93.064307106332279},{"$f":"Calculs!SJ338","v":-29.111978099154843},{"$f":"Calculs!SK338","v":146.4421160534381}]
[null,"Conraintes intérieures",null,{"$f":"Calculs!SG339","v":-90.95536382815024},{"$f":"Calculs!SH339","v":-5.1596140808248094},{"$f":"Calculs!SI339","v":99.701825698074401},{"$f":"Calculs!SJ339","v":35.846107264828746},{"$f":"Calculs!SK339","v":-142.60682909835259}]
[]
[null,"Contraintes extérieures",null,{"$f":"Calculs!SG341","v":"OK"},{"$f":"Calculs!SH341","v":"OK"},{"$f":"Calculs!SI341","v":"OK"},{"$f":"Calculs!SJ341","v":"OK"},{"$f":"Calculs!SK341","v":"OK"}]
[null,"Conraintes intérieures",null,{"$f":"Calculs!SG342","v":"OK"},{"$f":"Calculs!SH342","v":"OK"},{"$f":"Calculs!SI342","v":"OK"},{"$f":"Calculs!SJ342","v":"OK"},{"$f":"Calculs!SK342","v":"OK"}]

{"sheet":"Fonte (D)","index":15,"n_rows":145,"n_cols":8,"rows_kept":145,"cut":false,"hidden":false,"merged":[[27,16,27,17],[77,2,77,3],[1,7,1,8],[3,7,3,8],[5,7,5,8],[9,0,9,8],[13,7,13,8],[58,7,59,7],[65,16,66,16],[71,0,71,8],[75,2,75,6],[76,2,76,6],[11,4,11,6],[78,2,78,3],[79,2,79,3],[80,2,80,3],[81,2,81,3],[86,3,86,5],[116,2,116,5],[87,6,89,7],[90,5,91,5],[103,1,103,7],[104,1,104,2],[105,1,106,2],[107,1,107,2],[87,5,89,5],[108,1,108,2],[109,1,109,2],[109,6,110,7],[110,1,110,2],[115,2,115,5],[123,2,123,3],[140,1,140,2],[141,1,141,2],[117,2,117,3],[118,2,118,3],[119,2,119,3],[120,2,120,3],[121,2,121,3],[130,3,130,5],[122,2,122,5],[143,1,143,2],[144,1,144,2],[131,3,131,5],[132,3,132,5],[134,1,134,7],[139,1,139,7],[142,1,142,7]]}
[]
[null,"Projekt:",{"$f":"Accueil!P15","v":"VSA 2026"},null,null,"Ingenieur/in:",null,{"$f":"Accueil!AI15","v":0}]
[]
[null,"N°:",{"$f":"Accueil!P17","v":0},null,null,"Verantwortlicher:",null,{"$f":"Accueil!AI17","v":0}]
[]
[null,"Ort:",{"$f":"Accueil!P21","v":0},null,null,"Bauherr:",null,{"$f":"Accueil!AI19","v":0}]
[null,null,{"$f":"Accueil!P23","v":0}]
[]
[]
["Daten"]
[]
[null,"Gusseisenrohr",null,null,{"$f":"IF(Données!$AE$6>F14,\"di max.< di Eingabe!\",\"\")","v":""}]
[]
[null,"Innendurchmesser",null,null,"di",{"$f":"Calculs!SK32","v":314.8},"mm"]
[null,"Radius",null,null,"rm",{"$f":"Calculs!SO32","v":160.19999999999999},"mm"]
[null,"Wanddicke",null,null,"e",{"$f":"Calculs!SN32","v":5.6},"mm"]
[null,"Querschnittsfläche",null,null,"A",{"$f":"Calculs!SJ328","v":5.5999999999999999E-3},"m2"]
[null,"Widerstandsmoment",null,null,"W",{"$f":"Calculs!SJ329","v":5.226666666666666E-6},"m3"]
[null,"E-Modul",null,null,"ER,kurz",{"$f":"Calculs!B9","v":170000},"N/mm2"]
[]
[null,"Systemsteifigkeit",null,null,"SFkurz",{"$f":"Calculs!SK37","v":0.20170792715109187},{"$f":"Calculs!SL37","v":"rigide"}]
[null,"Lastvergrösserungsfaktor",null,null,"f",{"$f":"Calculs!SM41","v":1}]
[null,"Krümmungseinfluss",null,null,"αka",{"$f":"Calculs!SG329","v":1}]
[null,null,null,null,"αki",{"$f":"Calculs!SG328","v":1}]
[]
[null,"Terrain"]
[]
[null,"Bodenqualität",null,null,null,{"$f":"Données!AE30","v":"Sol stable"}]
[null,"Feuchtraumgewicht des Baugrunds",null,null,"γ",{"$f":"Données!AE32","v":20}]
[null,"Raumgewicht unter Auftrieb",null,null,"γ'",{"$f":"Données!AE34","v":11},"kN/m3"]
[null,"Verformungsmodul des Bodens",null,null,"EB",{"$f":"Données!AE38","v":5},"kN/m3"]
[null,"Erddruckbeiwert",null,null,"K",{"$f":"Données!AE40","v":0.5},"N/mm2"]
[null,"Setzungs-Durchbiegungsziffer",null,null,"C2",{"$f":"Données!AE42","v":0.5}]
[null,"Lastminderung",null,null,"λmin",{"$f":"Données!AE44","v":"NON"}]
[]
[null,"Wasser"]
[]
[null,"Grundwasser",null,null,null,{"$f":"Données!AE60","v":"Sans eau souterraine"}]
[null,"Grwundwasserspiegel",null,null,"hw",{"$f":"Données!AE62","v":1.3},"m"]
[null,"Wasser im Rohr",null,null,null,{"$f":"Données!AE64","v":"Tuyau vide"}]
[null,"Druck",null,null,"pEi",{"$f":"Données!AE66","v":10},"kN/m2"]
[]
[null,"Graben"]
[]
[null,"Überdeckungshöhe",null,null,"H",{"$f":"Données!AE52","v":3}]
[null,"Grabentyp",null,null,null,{"$f":"Données!AE56","v":"Verticale (U)"}]
[null,"Grabenbreite",null,null,"B",{"$f":"Données!AE54","v":1.5}]
[null,"Böschungsneigung",null,null,"β",{"$f":"Données!AE58","v":30}]
[]
[]
[]
[]
[]
[]
[null,"Einwirkungen"]
[]
[null,"Flächenlast",null,null,null,{"$f":"Données!AE8","v":"Pas de charge"}]
[null,null,null,null,"qs",{"$f":"Calculs!SL128","v":0},"kN/m2"]
[null,"Verkehr",null,null,null,{"$f":"Données!AE22","v":"Trafic routier"},null,{"$f":"IF(AND(Accueil!AZ15=\"Deutsch\",AND(OR(F59=\"Voie unique (ferroviaire)\",F59=\"Voies multiples (ferroviaire)\",F59=\"Voie étroite (ferroviaire)\",F59=\"Eingleisig (Bahnverkehr)\",F59=\"Mehrgleisig (Bahnverkehr)\",F59=\"Schmalspur (Bahnverkehr)\"),F45<2)),\"H zu klein!\",\"\")","v":""}]
[null,"Beiwert Strass- und Bahnvekehrslasten",null,null,"α",{"$f":"Calculs!SH98","v":0.9}]
[null,"Dynamischer Beiwert",null,null,"Ψ",{"$f":"Calculs!SI98","v":1}]
[null,"Strassenverkehr und untergeordnete",null,null,"pvtotal",{"$f":"Calculs!SG114","v":24.562000000000001},"kN/m2"]
[null,"Strassen",null,null,"pvRad",{"$f":"Calculs!SH114","v":4.9021999999999997},"kN/m2"]
[null,null,null,null,"∆pv",{"$f":"Calculs!SI114","v":19.659800000000001},"kN/m2"]
[null,"Strassenrand",null,null,"pvtotal",{"$f":"Calculs!SJ114","v":0},"kN/m2"]
[null,null,null,null,"pvRad",{"$f":"Calculs!SK114","v":0},"kN/m2"]
[null,null,null,null,"∆pv",{"$f":"Calculs!SL114","v":0},"kN/m2"]
[null,"Bahnverkehr eingleisig",null,null,"peingleisig",{"$f":"Calculs!SN114","v":0},"kN/m2"]
[null,"Bahnverkehr mehrgleisig",null,null,"pmehrgleisig",{"$f":"Calculs!SO114","v":0},"kN/m2"]
[null,"Bahnverkehr schmalspur",null,null,"pschmal",{"$f":"Calculs!SP114","v":0},"kN/m2"]
[]
["Resultate"]
[]
[null,"Beanspruchungen"]
[]
[null,null,"Beanspruchungen"]
[null,null,"U1/V1"]
[null,null,"Langzeit",null,"qs1",{"$f":"Calculs!SK198","v":93.285609064356649},"[kN/m2]"]
[null,null,"Kurzzeit",null,"qs2",{"$f":"Calculs!SK199","v":22.105800000000002},"[kN/m2]"]
[null,null,"Effektive Last auf Scheitel",null,"qser",{"$f":"Calculs!SK200","v":115.39140906435665},"[kN/m2]"]
[null,null,"Erddruck",null,"qh",{"$f":"Calculs!SG202","v":57.695704532178326},"[kN/m2]"]
[null,null,"Bemessungswert",null,"qds",{"$f":"Calculs!SK203","v":159.09427223688149},"[kN/m2]"]
[]
[]
[null,"Nachweise"]
[]
[null,null,null,"Verformungsnachweis (IOWA)"]
[null,null,null,null,1,null,{"$f":"IF(Calculs!SK37<0.1,\"\",\"Steifes Rohr. Verformungsnachweis entfällt!\")","v":"Steifes Rohr. Verformungsnachweis entfällt!"}]
[null,null,null,"x/d kurz",{"$f":"IF(Calculs!SK37<0.1,Calculs!SJ207,\"\")","v":""}]
[null,null,null,"x/d lang",{"$f":"IF(Calculs!SK37<0.1,Calculs!SJ208,\"\")","v":""}]
[null,null,null,"Summe",{"$f":"IF(Calculs!SK37<0.1,Calculs!SJ209,\"\")","v":""},{"$f":"IF(Calculs!SK37<0.1,Calculs!SK209,\"\")","v":""}]
[null,null,null,"Zugelassen",{"$f":"IF(Calculs!SK37<0.1,Calculs!SJ210,\"\")","v":""}]
[]
[]
[]
[]
[]
[]
[]
[]
[]
[]
[]
[null,"Auftrieb"]
[null,"Stabilisierend",null,"G + G' + Gsp",{"$f":"Calculs!SI177","v":19.788070247867729},"[kN/m]"]
[null,null,null,"GR",{"$f":"Calculs!SI178","v":0.39739236979577491},"[kN/m]"]
[null,null,null,"Summe",{"$f":"Calculs!SI179","v":20.185462617663504},"[kN/m]","Faktor",0.9]
[null,"Destabilisierend",null,"FA",{"$f":"Calculs!SI180","v":0},"[kN/m]","Faktor",1.05]
[]
[null,"Kontrolle:",null,"1.05*FA",{"$f":"Calculs!SI182","v":0},"[kN/m]",{"$f":"IF(E110<E111,\"OK\",\"KO!\")","v":"OK"}]
[null,null,null,"0.9*Summe",{"$f":"Calculs!SI183","v":18.166916355897154},"[kN/m]"]
[]
[]
[null,"Tragfähigkeit"]
[]
[null,null,"Tragfähigkeit"]
[null,null,"U1/V1"]
[null,null,{"$f":"IF(Calculs!SK37<0.1,Calculs!SF214,Calculs!SF225)","v":"qds"},null,{"$f":"IF(Calculs!SK37<0.1,Calculs!SJ214,Calculs!SJ225)","v":159.09427223688149},"[kN/m2]"]
[null,null,{"$f":"IF(Calculs!SK37<0.1,Calculs!SF215,Calculs!SF226)","v":"q*ds"},null,{"$f":"IF(Calculs!SK37<0.1,Calculs!SJ215,Calculs!SJ226)","v":51.864732749223364},"[kN/m2]"]
[null,null,{"$f":"IF(Calculs!SK37<0.1,Calculs!SF216,Calculs!SF227)","v":"qBr"},null,{"$f":"IF(Calculs!SK37<0.1,Calculs!SJ216,Calculs!SJ227)","v":157.40558220353211},"[kN/m2]"]
[null,null,{"$f":"IF(Calculs!SK37<0.1,Calculs!SF217,Calculs!SF228)","v":"ZE"},null,{"$f":"IF(Calculs!SK37<0.1,Calculs!SJ217,Calculs!SJ228)","v":1.5},"[kN/m2]"]
[null,null,{"$f":"IF(Calculs!SK37<0.1,Calculs!SF219,Calculs!SF229)","v":"ZE*qBr/1.2"},null,{"$f":"IF(Calculs!SK37<0.1,Calculs!SJ219,Calculs!SJ229)","v":196.75697775441515},"[kN/m2]"]
[]
[null,null,"Resultat",null,{"$f":"IF(Calculs!SK37<0.1,Calculs!SJ221,Calculs!SJ231)","v":"OK"}]
[]
[]
[null,"Gebrauchstauglichkeit"]
[]
[null,null,null,"σRbz,adm",{"$f":"Calculs!SN327","v":330},"N/mm2"]
[]
[null,null,null,"Spannungskonventionen:"]
[null,null,null,"Zug negatif -"]
[null,null,null,"Druck positif +"]
[]
[null,"Spannungen Verlegeprofil U1/V1"]
[null,"Spannungen in [N/mm2]",null,"0°","45°","90°","135°","180°"]
[null,"Durch die Normalkraft",null,{"$f":"Calculs!SG334","v":1.3833750460483056},{"$f":"Calculs!SH334","v":2.2931928525253484},{"$f":"Calculs!SI334","v":3.3187592958710592},{"$f":"Calculs!SJ334","v":3.3670645828369494},{"$f":"Calculs!SK334","v":1.917643477542754}]
[null,"Durch das Moment aussen",null,{"$f":"Calculs!SG335","v":92.33873887419854},{"$f":"Calculs!SH335","v":7.4528069333501579},{"$f":"Calculs!SI335","v":-96.38306640220334},{"$f":"Calculs!SJ335","v":-32.479042681991793},{"$f":"Calculs!SK335","v":144.52447257589535}]
[null,"Durch das Moment innen",null,{"$f":"Calculs!SG336","v":-92.33873887419854},{"$f":"Calculs!SH336","v":-7.4528069333501579},{"$f":"Calculs!SI336","v":96.38306640220334},{"$f":"Calculs!SJ336","v":32.479042681991793},{"$f":"Calculs!SK336","v":-144.52447257589535}]
[]
[null,"Spannungen aussen",null,{"$f":"Calculs!SG338","v":93.722113920246841},{"$f":"Calculs!SH338","v":9.7459997858755063},{"$f":"Calculs!SI338","v":-93.064307106332279},{"$f":"Calculs!SJ338","v":-29.111978099154843},{"$f":"Calculs!SK338","v":146.4421160534381}]
[null,"Spannungen innen","Spannungen innen",{"$f":"Calculs!SG339","v":-90.95536382815024},{"$f":"Calculs!SH339","v":-5.1596140808248094},{"$f":"Calculs!SI339","v":99.701825698074401},{"$f":"Calculs!SJ339","v":35.846107264828746},{"$f":"Calculs!SK339","v":-142.60682909835259}]
[]
[null,"Spannungen aussen",null,{"$f":"Calculs!SG341","v":"OK"},{"$f":"Calculs!SH341","v":"OK"},{"$f":"Calculs!SI341","v":"OK"},{"$f":"Calculs!SJ341","v":"OK"},{"$f":"Calculs!SK341","v":"OK"}]
[null,"Spannungen innen","Spannungen innen",{"$f":"Calculs!SG342","v":"OK"},{"$f":"Calculs!SH342","v":"OK"},{"$f":"Calculs!SI342","v":"OK"},{"$f":"Calculs!SJ342","v":"OK"},{"$f":"Calculs!SK342","v":"OK"}]

{"sheet":"PP-SN4","index":16,"n_rows":172,"n_cols":17,"rows_kept":172,"cut":false,"hidden":false,"merged":[[25,13,25,15],[11,4,11,6],[140,10,141,15],[8,9,9,17],[8,0,9,8],[106,2,106,3],[107,2,107,3],[108,2,108,3],[104,2,104,6],[105,2,105,6],[104,11,104,15],[105,11,105,15],[106,11,106,12],[107,11,107,12],[108,11,108,12],[70,0,70,8],[125,1,126,2],[124,1,124,2],[57,7,58,7],[64,16,65,16],[77,9,77,17],[109,2,109,3],[110,2,110,3],[109,11,109,12],[110,11,110,12],[115,10,115,16],[115,3,115,5],[116,5,118,5],[119,5,120,5],[123,1,123,7],[116,10,116,11],[117,10,118,11],[119,10,119,11],[120,10,120,11],[121,10,121,11],[121,15,122,16],[116,6,118,7],[122,10,122,11],[136,11,136,12],[137,11,137,14],[129,6,130,7],[133,11,133,12],[129,11,129,14],[130,11,130,14],[131,11,131,12],[132,11,132,12],[134,11,134,12],[135,11,135,12],[127,1,127,2],[130,1,130,2],[168,1,168,2],[169,1,169,2],[170,1,170,2],[167,1,167,2],[135,2,135,5],[142,2,142,3],[136,2,136,5],[137,2,137,3],[128,1,128,2],[129,1,129,2],[138,11,138,12],[161,1,161,7],[163,1,163,2],[164,1,164,2],[165,1,165,2],[138,2,138,3],[139,2,139,3],[140,2,140,3],[162,1,162,2],[144,2,144,3],[143,2,143,5],[141,2,141,3],[137,6,139,7],[171,1,171,2],[161,10,161,16],[162,10,162,11],[163,10,163,11],[164,10,164,11],[165,10,165,11],[166,10,166,11],[167,10,167,11],[168,10,168,11],[169,10,169,11],[170,10,170,11],[171,10,171,11],[166,1,166,2]]}
[null,"Projet:",{"$f":"Accueil!P15","v":"VSA 2026"},null,null,"Ingénieur/e:",null,{"$f":"Accueil!AI15","v":0},null,null,{"$f":"Accueil!$L$15","v":"Projet:"},{"$f":"Accueil!$P$15","v":"VSA 2026"},null,null,{"$f":"Accueil!$AD$15","v":"Ingénieur/e:"},null,{"$f":"Accueil!$AI$15","v":0}]
[]
[null,"N°:",{"$f":"Accueil!P17","v":0},null,null,"Respoonsable:",null,{"$f":"Accueil!AI17","v":0},null,null,{"$f":"Accueil!$L$17","v":"N°:"},{"$f":"Accueil!P17","v":0},null,null,{"$f":"Accueil!$AD$17","v":"Responsable:"},null,{"$f":"Accueil!$AI$17","v":0}]
[]
[null,"Lieu:",{"$f":"Accueil!P21","v":0},null,null,"Maître douvrage:",null,{"$f":"Accueil!AI19","v":0},null,null,{"$f":"Accueil!$L$21","v":"Lieu:"},{"$f":"Accueil!$P$21","v":0},null,null,{"$f":"Accueil!$AD$19","v":"Maître d'ouvrage:"},null,{"$f":"Accueil!$AI$19","v":0}]
[null,null,{"$f":"Accueil!P23","v":0},null,null,null,null,null,null,null,null,{"$f":"Accueil!$P$23","v":0}]
[]
[]
["Données profil d'enrobage U1/V1",null,null,null,null,null,null,null,null,"Données profil d'enrobage U4/V4"]
[]
[]
[null,"Tuyau PP",null,null,{"$f":"IF(Données!$AE$6>F14,\"di max.< di introduit!\",\"\")","v":""},null,null,null,null,null,"Tuyau \"fictif\" en béton"]
[]
[null,"Diamètre intérieur ",null,null,"di",{"$f":"Calculs!AK32","v":375.4},"mm",null,null,null,"Diamètre intérieur ",null,null,"di",{"$f":"Calculs!AR31/1000","v":0.4},"m"]
[null,"Rayon moyen",null,null,"rm",{"$f":"Calculs!AO32","v":193.85},"mm",null,null,null,"Rayon moyen",null,null,"rm",{"$f":"Calculs!AU31/1000","v":0.28249999999999997},"m"]
[null,"Épaisseur de paroi",null,null,"e",{"$f":"Calculs!AN32","v":12.3},"mm",null,null,null,"Épaisseur de paroi",null,null,"e",{"$f":"épaisseur/1000","v":0.16500000000000001},"m"]
[null,"Section",null,null,"A",{"$f":"Calculs!AJ316","v":1.23E-2},"m2",null,null,null,"Section",null,null,"A",{"$f":"Calculs!AW316","v":0.16500000000000001},"m2"]
[null,"Module de flexion",null,null,"W",{"$f":"Calculs!AJ317","v":2.5215000000000005E-5},"m3",null,null,null,"Module de flexion",null,null,"W",{"$f":"Calculs!AW317","v":4.5374999999999999E-3},"m3"]
[null,"Module d'élasticité",null,null,"ER,court",{"$f":"Calculs!B12","v":1250},"N/mm2",null,null,null,"Module d'élasticité",null,null,"ER,court",{"$f":"Calculs!AS33","v":20000},"N/mm2"]
[]
[null,"Rigidité du système",null,null,"SFcourt",{"$f":"Calculs!AK37","v":8.8700369816367038E-3},{"$f":"Calculs!AL37","v":"souple"},null,null,null,"Rigidité du système",null,null,"SFcourt",{"$f":"Calculs!AR37","v":110.69397191899354},{"$f":"Calculs!AS37","v":"rigide"}]
[null,"Facteur de majoration de charge",null,null,"f",{"$f":"Calculs!AM41","v":1.0317255610007738},null,null,null,null,"Facteur de majoration de charge",null,null,"f",{"$f":"Calculs!AT41","v":1.2920353982300885}]
[null,"Effet de courbure:",null,null,"αka",{"$f":"Calculs!AG317","v":1},null,null,null,null,"Effet de courbure:",null,null,"αka",{"$f":"Calculs!AT317","v":0.80530973451327437}]
[null,null,null,null,"αki",{"$f":"Calculs!AG316","v":1},null,null,null,null,null,null,null,"αki",{"$f":"Calculs!AT316","v":1.1946902654867257}]
[]
[null,"Terrain",null,null,null,null,null,null,null,null,"Tuyau PP",null,null,{"$f":"IF(Données!$AE$6>O28,\"di max.< di introduit!\",\"\")","v":""}]
[]
[null,"Qualité du sol",null,null,null,{"$f":"Données!AE30","v":"Sol stable"},null,null,null,null,"Diamètre intérieur ",null,null,"di",{"$f":"Calculs!AK32","v":375.4},"mm"]
[null,"Poids volumique apparent hum.",null,null,"γ",{"$f":"Données!AE32","v":20},"kN/m3",null,null,null,"Rayon moyen",null,null,"rm",{"$f":"Calculs!AO32","v":193.85},"mm"]
[null,"Poids volumique déjaugé",null,null,"γ'",{"$f":"Données!AE34","v":11},"kN/m3",null,null,null,"Épaisseur de paroi",null,null,"e",{"$f":"Calculs!AN32","v":12.3},"mm"]
[null,"Module de déformation du sol",null,null,"EB",{"$f":"Données!AE38","v":5},"N/mm2"]
[null,"Coefficient de pression du terrain",null,null,"K",{"$f":"Données!AE40","v":0.5},null,null,null,null,"Terrain"]
[null,"Coefficient de flexion au tassement",null,null,"C2",{"$f":"Données!AE42","v":0.5}]
[null,"Type de béton d'enrobage",null,null,null,{"$f":"Données!AE50","v":"C16/20"},null,null,null,null,"Qualité du sol",null,null,null,{"$f":"Données!AE30","v":"Sol stable"}]
[null,"Réduction de charge",null,null,"λmin",{"$f":"Données!AE44","v":"NON"},null,null,null,null,"Poids volumique apparent hum.",null,null,"γ",{"$f":"Données!AE32","v":20},"kN/m3"]
[null,null,null,null,null,null,null,null,null,null,"Poids volumique déjaugé",null,null,"γ'",{"$f":"Données!AE34","v":11},"kN/m3"]
[null,"Eau",null,null,null,null,null,null,null,null,"Module de déformation du sol",null,null,"EB",{"$f":"Données!AE38","v":5},"N/mm2"]
[null,null,null,null,null,null,null,null,null,null,"Coefficient de pression du terrain",null,null,"K",{"$f":"Données!AE40","v":0.5}]
[null,"Eau souterraine",null,null,null,{"$f":"Données!AE60","v":"Sans eau souterraine"},null,null,null,null,"Coefficient de flexion au tassement",null,null,"C2",{"$f":"Données!AE42","v":0.5}]
[null,"Niveau d'eau souterraine",null,null,"hw",{"$f":"Données!AE62","v":1.3},"m",null,null,null,"Type de béton d'enrobage",null,null,null,{"$f":"Données!AE50","v":"C16/20"}]
[null,"Eau à l'intérieur du tuyau",null,null,null,{"$f":"Données!AE64","v":"Tuyau vide"},null,null,null,null,"Réduction de charge",null,null,"λmin",{"$f":"Données!AE44","v":"NON"}]
[null,"Pression",null,null,"pEi",{"$f":"Données!AE66","v":10},"kN/m2"]
[null,null,null,null,null,null,null,null,null,null,"Eau"]
[null,"Fouille"]
[null,null,null,null,null,null,null,null,null,null,"Eau souterraine",null,null,null,{"$f":"Données!AE60","v":"Sans eau souterraine"}]
[null,"Hauteur de couverture",null,null,"H",{"$f":"Données!AE52","v":3},"m",null,null,null,"Niveau d'eau souterraine",null,null,"hw",{"$f":"Données!AE62","v":1.3},"m"]
[null,"Type de fouille",null,null,null,{"$f":"Données!AE56","v":"Verticale (U)"},null,null,null,null,"Eau à l'intérieur du tuyau",null,null,null,{"$f":"Données!AE64","v":"Tuyau vide"}]
[null,"Largeur de fouille",null,null,"B",{"$f":"Données!$AE$54","v":1.5},"m",null,null,null,"Pression",null,null,"pEi",{"$f":"Données!AE66","v":10},"kN/m2"]
[null,"Angle de talus",null,null,"β",{"$f":"Données!AE58","v":30},"°"]
[]
[]
[]
[]
[null,"Actions",null,null,null,null,null,null,null,null,"Fouille"]
[]
[null,"Charge surfacique",null,null,null,{"$f":"Données!AE8","v":"Pas de charge"},null,null,null,null,"Hauteur de couverture",null,null,"H",{"$f":"Calculs!AU101","v":2.835},"m"]
[null,null,null,null,"qs",{"$f":"Calculs!AL128","v":0},"kN/m2",null,null,null,"Type de fouille",null,null,null,{"$f":"Données!$AE$56","v":"Verticale (U)"}]
[null,"Trafic ",null,null,null,{"$f":"Données!AE22","v":"Trafic routier"},null,{"$f":"IF(AND(Accueil!AZ15=\"Français\",AND(OR(F58=\"Voie unique (ferroviaire)\",F58=\"Voies multiples (ferroviaire)\",F58=\"Voie étroite (ferroviaire)\",F58=\"Eingleisig (Bahnverkehr)\",F58=\"Mehrgleisig (Bahnverkehr)\",F58=\"Schmalspur (Bahnverkehr)\"),F46<2)),\"H trop faible!\",\"\")","v":""},null,null,"Largeur de fouille",null,null,"B",{"$f":"Données!AE54","v":1.5},"m"]
[null,"Coefficient de charge",null,null,"α",{"$f":"Calculs!BH98","v":0.9},null,null,null,null,"Angle de talus",null,null,"β",{"$f":"Données!AE58","v":30},"°"]
[null,"Coefficient dynamique",null,null,"Ψ",{"$f":"Calculs!BI98","v":1}]
[null,"Trafic routier et route d'importance",null,null,"pvtotale",{"$f":"Calculs!AG114","v":24.562000000000001},"kN/m2",null,null,null,"Actions"]
[null,"secondaire",null,null,"pvroue",{"$f":"Calculs!AH114","v":4.9021999999999997},"kN/m2"]
[null,null,null,null,"∆pv",{"$f":"Calculs!AI114","v":19.659800000000001},"kN/m2",null,null,null,"Charge surfacique",null,null,null,{"$f":"Données!AE8","v":"Pas de charge"}]
[null,"Bord de route",null,null,"pvtotale",{"$f":"Calculs!AJ114","v":0},"kN/m2",null,null,null,null,null,null,"qs",{"$f":"Calculs!AW128","v":0},"kN/m2"]
[null,null,null,null,"pvroue",{"$f":"Calculs!AK114","v":0},"kN/m2",null,null,null,"Trafic ",null,null,null,{"$f":"Données!AE22","v":"Trafic routier"},null,{"$f":"IF(AND(Accueil!AZ15=\"Français\",AND(OR(O65=\"Voie unique (ferroviaire)\",O65=\"Voies multiples (ferroviaire)\",O65=\"Voie étroite (ferroviaire)\",O65=\"Eingleisig (Bahnverkehr)\",O65=\"Mehrgleisig (Bahnverkehr)\",O65=\"Schmalspur (Bahnverkehr)\"),O56<2)),\"H trop faible!\",IF(AND(Accueil!AZ15=\"Français\",AND(OR(O65=\"Trafic routier\",O65=\"Bord de route\",O65=\"Route d'importance secondaire\",O65=\"Strassenverkehr\",O65=\"Strassenrand\",O65=\"Untergeordnete Strasse\"),O56<1)),\"H trop faible!\",\"\"))","v":""}]
[null,null,null,null,"∆pv",{"$f":"Calculs!AL114","v":0},"kN/m2",null,null,null,"Coefficient de charge",null,null,"α",{"$f":"Calculs!$AT$98","v":0.9}]
[null,"Trafic ferroviaire voie unique",null,null,"punique",{"$f":"Calculs!AN114","v":0},"kN/m2",null,null,null,"Coefficient dynamique",null,null,"Ψ",{"$f":"Calculs!$AU$98","v":1}]
[null,"Trafic ferroviaire voies multiples",null,null,"pmultiples",{"$f":"Calculs!AO114","v":0},"kN/m2",null,null,null,"Trafic routier et route d'importance",null,null,"pvtotale",{"$f":"Calculs!AS114","v":26.375859999999999},"kN/m2"]
[null,"Trafic ferroviaire voie étroite",null,null,"pétroite",{"$f":"Calculs!AP114","v":0},"kN/m2",null,null,null,"secondaire",null,null,"pvroue",{"$f":"Calculs!AT114","v":5.5099239999999998},"kN/m2"]
[null,null,null,null,null,null,null,null,null,null,null,null,null,"∆pv",{"$f":"Calculs!AU114","v":20.865935999999998},"kN/m2"]
["Résultats",null,null,null,null,null,null,null,null,null,"Bord de route",null,null,"pvtotale",{"$f":"Calculs!AV114","v":0},"kN/m2"]
[null,null,null,null,null,null,null,null,null,null,null,null,null,"pvroue",{"$f":"Calculs!AW114","v":0},"kN/m2"]
[null,null,null,null,null,null,null,null,null,null,null,null,null,"∆pv",{"$f":"Calculs!AX114","v":0},"kN/m2"]
[null,null,null,null,null,null,null,null,null,null,"Trafic ferroviaire voie unique",null,null,"punique",{"$f":"Calculs!AZ114","v":0},"kN/m2"]
[null,null,null,null,null,null,null,null,null,null,"Trafic ferroviaire voies multiples",null,null,"pmultiples",{"$f":"Calculs!BA114","v":0},"kN/m2"]
[null,null,null,null,null,null,null,null,null,null,"Trafic ferroviaire voie étroite",null,null,"pétroite",{"$f":"Calculs!BB114","v":0},"kN/m2"]
[]
[null,null,null,null,null,null,null,null,null,"Résultats"]
[]
[]
[]
[]
[]
[]
[]
[]
[]
[]
[]
[]
[]
[]
[]
[]
[]
[]
[]
[]
[]
[]
[]
[]
[null,"Sollicitations",null,null,null,null,null,null,null,null,"Sollicitations"]
[]
[null,null," Sollicitations",null,null,null,null,null,null,null,null," Sollicitations"]
[null,null,"U1/V1",null,null,null,null,null,null,null,null,"U4/V4"]
[null,null,"À long terme",null,"qs1",{"$f":"Calculs!AK198","v":61.903533660046428},"[kN/m2]",null,null,null,null,"À long terme",null,"qs1",{"$f":"Calculs!BB198","v":113.89925205848927},"[kN/m2]"]
[null,null,"À court terme",null,"qs2",{"$f":"Calculs!AK199","v":22.807118906370906},"[kN/m2]",null,null,null,null,"À court terme",null,"qs2",{"$f":"Calculs!BB199","v":30.670690300884957},"[kN/m2]"]
[null,null,"Charge eff. au sommet",null,"qser",{"$f":"Calculs!AK200","v":84.710652566417338},"[kN/m2]",null,null,null,null,"Charge eff. au sommet",null,"qser",{"$f":"Calculs!BB200","v":144.56994235937424},"[kN/m2]"]
[null,null,"Pression du terrain",null,"qh",{"$f":"Calculs!AG202","v":98.237646789008366},"[kN/m2]",null,null,null,null,"Pression du terrain",null,"qh",{"$f":"Calculs!BB201","v":72.284971179687105},"[kN/m2]"]
[null,null,"Charge de dim. au sommet",null,"qds",{"$f":"Calculs!AK203","v":117.78044880061904},"[kN/m2]",null,null,null,null,"Charge de dim. au sommet",null,"qds",{"$f":"Calculs!BB202","v":199.77002573028795},"[kN/m2]"]
[]
[null,null,null,null,null,null,null,null,null,null,"Vérifications"]
[null,"Vérifications"]
[]
[null,null,null,"Vérification de la déformation (IOWA)",null,null,null,null,null,null,"Poussée d'Archimède"]
[null,null,null,null,1,null,{"$f":"IF(Calculs!AK37<0.1,\"\",\"Tuyau rigide. Pas nécessaire de vérifier la déformation!\")","v":""},null,null,null,"Actions stabilisant",null,"G + G' + Gsp",{"$f":"Calculs!AX177","v":42.534613187254998},"[kN/m]"]
[null,null,null,"x/d court",{"$f":"IF(Calculs!AK37<0.1,Calculs!AJ207,\"\")","v":1.3798404396852175E-2},null,null,null,null,null,null,null,"GR",{"$f":"Calculs!AX178","v":7.1638315018697041},"[kN/m]"]
[null,null,null,"x/d long",{"$f":"IF(Calculs!AK37<0.1,Calculs!AJ208,\"\")","v":4.151558591227416E-2},null,null,null,null,null,null,null,"Somme",{"$f":"Calculs!AX179","v":49.698444689124699},"[kN/m]","Facteur",0.9]
[null,null,null,"Somme",{"$f":"IF(Calculs!AK37<0.1,Calculs!AJ209,\"\")","v":5.5313990309126336E-2},{"$f":"IF(Calculs!AK37<0.1,Calculs!AK209,\"\")","v":"KO!"},null,null,null,null,"Actions déstabilisant",null,"FA",{"$f":"Calculs!AX180","v":0},"[kN/m]","Facteur",1.05]
[null,null,null,"Admissible",{"$f":"IF(Calculs!AK37<0.1,Calculs!AJ210,\"\")","v":0.05}]
[null,null,null,null,null,null,null,null,null,null,"Contôle:",null,"1.05*FA",{"$f":"Calculs!AX182","v":0},"[kN/m]",{"$f":"Calculs!AZ182","v":"OK"}]
[null,null,null,null,null,null,null,null,null,null,null,null,"0.9*Somme",{"$f":"Calculs!AX183","v":44.728600220212229},"[kN/m]"]
[null,"Poussée d'Archimède"]
[null,"Actions stabilisant",null,"G + G' + Gsp",{"$f":"Calculs!AI177","v":24.343362938564084},"[kN/m]",null,null,null,null,"Sécurité structurale"]
[null,null,null,"GR",{"$f":"Calculs!AI178","v":0.13483209872790164},"[kN/m]",null,null,null,null,{"$f":"IF(N139=\"\",\"\",\"Hypothèse: 5% de la charge de dimensionnement est reprise par le tuyau PP et une déformation initiale\")","v":""}]
[null,null,null,"Somme",{"$f":"Calculs!AI179","v":24.478195037291986},"[kN/m]","Facteur",0.9,null,null,{"$f":"IF(N139=\"\",\"\",\"de 0.02m est admis [SIA190:2017;4.2.11.1.2].\")","v":""}]
[null,"Actions déstabilisant",null,"FA",{"$f":"Calculs!AI180","v":0},"[kN/m]","Facteur",1.05]
[]
[null,"Contôle:",null,"1.05*FA",{"$f":"Calculs!AI182","v":0},"[kN/m]",{"$f":"Calculs!AK182","v":"OK"},null,null,null,null,"Sécurité structurale"]
[null,null,null,"0.9*Somme",{"$f":"Calculs!AI183","v":22.030375533562786},"[kN/m]",null,null,null,null,null,"U4/V4"]
[null,null,null,null,null,null,null,null,null,null,null,"qds",null,{"$f":"Calculs!AZ214","v":""},"[kN/m2]"]
[null,null,null,null,null,null,null,null,null,null,null,"qBl",null,{"$f":"Calculs!AZ215","v":""},"[kN/m2]"]
[null,"Sécurité structurale",null,null,null,null,null,null,null,null,null,"pwd",null,{"$f":"Calculs!AZ216","v":""},"[kN/m2]"]
[null,null,null,null,null,null,null,null,null,null,null,"pcr",null,{"$f":"Calculs!AZ217","v":""},"[kN/m2]"]
[null,null,"Sécurité structurale",null,null,null,null,null,null,null,null,"k",null,{"$f":"Calculs!AZ218","v":""},"[-]"]
[null,null,"U1/V1",null,null,null,null,null,null,null,null,"qBl/2*(1-2*pwd/k*pcr)",null,{"$f":"Calculs!AZ219","v":""},"[kN/m2]"]
[null,null,"qds",null,{"$f":"IF(Calculs!AK37<0.1,Calculs!AJ214,\"\")","v":117.78044880061904},"[kN/m2]",{"$f":"IF(Calculs!AK37<0.1,\"\",\"Tuyau rigide. Limite de la formule de la sécurité structurale est dépassée!\")","v":""}]
[null,null,"qBl",null,{"$f":"IF(Calculs!AK37<0.1,Calculs!AJ215,\"\")","v":235.69741142945506},"[kN/m2]",null,null,null,null,null,"Résultat",null,{"$f":"Calculs!AZ221","v":""}]
[null,null,"pwd",null,{"$f":"IF(Calculs!AK37<0.1,Calculs!AJ216,\"\")","v":0},"[kN/m2]"]
[null,null,"pcr",null,{"$f":"IF(Calculs!AK37<0.1,Calculs!AJ217,\"\")","v":13.921055761300162},"[kN/m2]",null,null,null,null,{"$f":"IF(N139=\"\",\"Vérification de la sécurité structurale que nécessaire lors de présence d'eau souterraine!\",\"\")","v":"Vérification de la sécurité structurale que nécessaire lors de présence d'eau souterraine!"}]
[null,null,"k",null,{"$f":"IF(Calculs!AK37<0.1,Calculs!AJ218,\"\")","v":1},"[-]"]
[null,null,"qBl/2*(1-2*pwd/k*pcr)",null,{"$f":"IF(Calculs!AK37<0.1,Calculs!AJ219,\"\")","v":117.84870571472753},"[kN/m2]"]
[]
[null,null,"Résultat",null,{"$f":"IF(Calculs!AK37<0.1,Calculs!AJ221,\"\")","v":"OK"}]
[]
[]
[]
[]
[]
[]
[]
[null,"Aptitude au service",null,null,null,null,null,null,null,null,"Aptitude au service"]
[]
[null,null,null,null,null,null,null,null,null,null,null,null,"σRbz,adm",{"$f":"contrainte","v":-0.3},"N/mm2"]
[null,null,null,"σRbz,adm",{"$f":"Calculs!AN315","v":8},"N/mm2"]
[null,null,null,null,null,null,null,null,null,null,null,null,null,"Convention des contraintes:"]
[null,null,null,null,"Convention des contraintes:",null,null,null,null,null,null,null,null,"Traction négatif -"]
[null,null,null,null,"Traction négatif -",null,null,null,null,null,null,null,null,"Compression positif +"]
[null,null,null,null,"Compression positif +"]
[]
[null,"Contraintes Profil d'enrobage U1/V1",null,null,null,null,null,null,null,null,"Contraintes Profil d'enrobage U4/V4"]
[null,"Contraintes en [N/mm2]",null,"0°","45°","90°","135°","180°",null,null,"Contraintes en [N/mm2]",null,"0°","45°","90°","135°","180°"]
[null,"Effort normal",null,{"$f":"Calculs!AG322","v":1.0319216729781595},{"$f":"Calculs!AH322","v":1.3134421174012054},{"$f":"Calculs!AI322","v":1.3377941547565855},{"$f":"Calculs!AJ322","v":1.3146562843478016},{"$f":"Calculs!AK322","v":1.0325032591021408},null,null,"Effort normal",null,{"$f":"Calculs!AT329","v":0.12260888498142908},{"$f":"Calculs!AU329","v":0.188663541480385},{"$f":"Calculs!AV329","v":0.25837558048502557},{"$f":"Calculs!AW329","v":0.19347250675318597},{"$f":"Calculs!AX329","v":0.12491237996719647}]
[null,"Moment extérieur",null,{"$f":"Calculs!AG323","v":2.6446840650288239},{"$f":"Calculs!AH323","v":-1.5170487005542566},{"$f":"Calculs!AI323","v":0.40724615886936177},{"$f":"Calculs!AJ323","v":-1.5281244217083805},{"$f":"Calculs!AK323","v":2.6604969357111168},null,null,"Moment extérieur",null,{"$f":"Calculs!AT330","v":0.27567028840561941},{"$f":"Calculs!AU330","v":1.9212503815083661E-3},{"$f":"Calculs!AV330","v":-0.27840656996385621},{"$f":"Calculs!AW330","v":-1.916546725982401E-3},{"$f":"Calculs!AX330","v":0.28114953337044951}]
[null,"Moment intérieur",null,{"$f":"Calculs!AG324","v":-2.6446840650288239},{"$f":"Calculs!AH324","v":1.5170487005542566},{"$f":"Calculs!AI324","v":-0.40724615886936177},{"$f":"Calculs!AJ324","v":1.5281244217083805},{"$f":"Calculs!AK324","v":-2.6604969357111168},null,null,"Moment intérieur",null,{"$f":"Calculs!AT331","v":-0.40896141686547938},{"$f":"Calculs!AU331","v":-2.8502066099299938E-3},{"$f":"Calculs!AV331","v":0.41302073566066577},{"$f":"Calculs!AW331","v":2.843228659424441E-3},{"$f":"Calculs!AX331","v":-0.41708996708802953}]
[]
[null,"Contraintes extérieur",null,{"$f":"Calculs!AG326","v":3.6766057380069834},{"$f":"Calculs!AH326","v":-0.20360658315305113},{"$f":"Calculs!AI326","v":1.7450403136259474},{"$f":"Calculs!AJ326","v":-0.2134681373605789},{"$f":"Calculs!AK326","v":3.6930001948132576},null,null,"Contraintes extérieur",null,{"$f":"Calculs!AT333","v":0.39827917338704849},{"$f":"Calculs!AU333","v":0.19058479186189337},{"$f":"Calculs!AV333","v":-2.0030989478830641E-2},{"$f":"Calculs!AW333","v":0.19155596002720357},{"$f":"Calculs!AX333","v":0.40606191333764596}]
[null,"Conraintes intérieur",null,{"$f":"Calculs!AG327","v":-1.6127623920506644},{"$f":"Calculs!AH327","v":2.8304908179554618},{"$f":"Calculs!AI327","v":0.9305479958872237},{"$f":"Calculs!AJ327","v":2.8427807060561818},{"$f":"Calculs!AK327","v":-1.627993676608976},null,null,"Conraintes intérieur",null,{"$f":"Calculs!AT334","v":-0.2863525318840503},{"$f":"Calculs!AU334","v":0.18581333487045501},{"$f":"Calculs!AV334","v":0.67139631614569129},{"$f":"Calculs!AW334","v":0.19631573541261041},{"$f":"Calculs!AX334","v":-0.29217758712083308}]
[]
[null,"Contraintes extérieures",null,{"$f":"Calculs!AG329","v":"OK"},{"$f":"Calculs!AH329","v":"OK"},{"$f":"Calculs!AI329","v":"OK"},{"$f":"Calculs!AJ329","v":"OK"},{"$f":"Calculs!AK329","v":"OK"},null,null,"Contraintes extérieures",null,{"$f":"Calculs!AT336","v":"OK"},{"$f":"Calculs!AU336","v":"OK"},{"$f":"Calculs!AV336","v":"OK"},{"$f":"Calculs!AW336","v":"OK"},{"$f":"Calculs!AX336","v":"OK"}]
[null,"Conraintes intérieures",null,{"$f":"Calculs!AG330","v":"OK"},{"$f":"Calculs!AH330","v":"OK"},{"$f":"Calculs!AI330","v":"OK"},{"$f":"Calculs!AJ330","v":"OK"},{"$f":"Calculs!AK330","v":"OK"},null,null,"Conraintes intérieures",null,{"$f":"Calculs!AT337","v":"OK"},{"$f":"Calculs!AU337","v":"OK"},{"$f":"Calculs!AV337","v":"OK"},{"$f":"Calculs!AW337","v":"OK"},{"$f":"Calculs!AX337","v":"OK"}]

{"sheet":"PP-SN4 (D)","index":17,"n_rows":170,"n_cols":17,"rows_kept":170,"cut":false,"hidden":false,"merged":[[154,12,154,14],[155,12,155,14],[156,12,156,14],[168,1,168,2],[168,10,168,11],[169,1,169,2],[169,10,169,11],[155,3,155,5],[156,3,156,5],[157,3,157,5],[165,1,165,2],[165,10,165,11],[166,1,166,2],[166,10,166,11],[167,1,167,2],[167,10,167,11],[164,1,164,2],[164,10,164,11],[159,1,159,7],[159,10,159,16],[143,2,143,3],[135,2,135,5],[135,11,135,12],[136,2,136,3],[136,6,138,7],[136,11,136,14],[137,2,137,3],[137,11,137,12],[138,2,138,3],[139,2,139,3],[140,2,140,3],[141,2,141,3],[142,2,142,5],[139,10,139,15],[130,11,130,12],[131,11,131,12],[132,11,132,12],[133,11,133,12],[134,2,134,5],[134,11,134,12],[127,1,127,2],[128,1,128,2],[128,6,129,7],[128,11,128,14],[129,1,129,2],[129,11,129,14],[122,1,122,7],[123,1,123,2],[126,1,126,2],[124,1,125,2],[120,10,120,11],[118,5,119,5],[118,10,118,11],[119,10,119,11],[120,15,121,16],[121,10,121,11],[114,3,114,5],[114,10,114,16],[115,5,117,5],[115,6,117,7],[115,10,115,11],[116,10,117,11],[107,2,107,3],[107,11,107,12],[108,2,108,3],[108,11,108,12],[109,2,109,3],[109,11,109,12],[70,0,70,8],[105,2,105,3],[105,11,105,12],[106,2,106,3],[106,11,106,12],[77,9,77,17],[103,2,103,6],[103,11,103,15],[104,2,104,6],[104,11,104,15],[64,16,65,16],[8,0,9,8],[8,9,9,17],[57,7,58,7],[11,4,11,6],[25,13,25,15]]}
[null,"Projekt:",{"$f":"Accueil!P15","v":"VSA 2026"},null,null,"Ingenieur/in:",null,{"$f":"Accueil!AI15","v":0},null,null,{"$f":"Accueil!$L$15","v":"Projet:"},{"$f":"Accueil!$P$15","v":"VSA 2026"},null,null,{"$f":"Accueil!$AD$15","v":"Ingénieur/e:"},null,{"$f":"Accueil!$AI$15","v":0}]
[]
[null,"N°:",{"$f":"Accueil!P17","v":0},null,null,"Vernatworlticher:",null,{"$f":"Accueil!AI17","v":0},null,null,{"$f":"Accueil!$L$17","v":"N°:"},{"$f":"Accueil!P17","v":0},null,null,{"$f":"Accueil!$AD$17","v":"Responsable:"},null,{"$f":"Accueil!$AI$17","v":0}]
[]
[null,"Ort:",{"$f":"Accueil!P21","v":0},null,null,"Bauherr:",null,{"$f":"Accueil!AI19","v":0},null,null,{"$f":"Accueil!$L$21","v":"Lieu:"},{"$f":"Accueil!$P$21","v":0},null,null,{"$f":"Accueil!$AD$19","v":"Maître d'ouvrage:"},null,{"$f":"Accueil!$AI$19","v":0}]
[null,null,{"$f":"Accueil!P23","v":0},null,null,null,null,null,null,null,null,{"$f":"Accueil!$P$23","v":0}]
[]
[]
["Daten Normalverlegeprofil U1/V1",null,null,null,null,null,null,null,null,"Daten Normalverlegeprofil U4/V4"]
[]
[]
[null,"PP-Rohr",null,null,{"$f":"IF(Données!$AE$6>F14,\"di max.< di Eingabe!\",\"\")","v":""},null,null,null,null,null,"\"Fiktives\" Betonrohr"]
[]
[null,"Innendurchmesser",null,null,"di",{"$f":"Calculs!AK32","v":375.4},"mm",null,null,null,"Innendurchmesser",null,null,"di",{"$f":"Calculs!AR31/1000","v":0.4},"m"]
[null,"Radius",null,null,"rm",{"$f":"Calculs!AO32","v":193.85},"mm",null,null,null,"Radius",null,null,"rm",{"$f":"Calculs!AU31/1000","v":0.28249999999999997},"m"]
[null,"Wanddicke",null,null,"e",{"$f":"Calculs!AN32","v":12.3},"mm",null,null,null,"Wanddicke",null,null,"e",{"$f":"épaisseur/1000","v":0.16500000000000001},"m"]
[null,"Querschnittsfläche",null,null,"A",{"$f":"Calculs!AJ316","v":1.23E-2},"m2",null,null,null,"Querschnittsfläche",null,null,"A",{"$f":"Calculs!AW316","v":0.16500000000000001},"m2"]
[null,"Widerstandsmoment",null,null,"W",{"$f":"Calculs!AJ317","v":2.5215000000000005E-5},"m3",null,null,null,"Widerstandsmoment",null,null,"W",{"$f":"Calculs!AW317","v":4.5374999999999999E-3},"m3"]
[null,"E-Modul",null,null,"ER,kurz",{"$f":"Calculs!B12","v":1250},"N/mm2",null,null,null,"E-Modul",null,null,"ER,kurz",{"$f":"Calculs!AS33","v":20000},"N/mm2"]
[]
[null,"Systemsteifigkeit",null,null,"SFkurz",{"$f":"Calculs!AK37","v":8.8700369816367038E-3},{"$f":"Calculs!AL37","v":"souple"},null,null,null,"Systemsteifigkeit",null,null,"SFkurz",{"$f":"Calculs!AR37","v":110.69397191899354},{"$f":"Calculs!AS37","v":"rigide"}]
[null,"Lastvergrösserungsfaktor",null,null,"f",{"$f":"Calculs!AM41","v":1.0317255610007738},null,null,null,null,"Lastvergrösserungsfaktor",null,null,"f",{"$f":"Calculs!AT41","v":1.2920353982300885}]
[null,"Krümmungseinfluss",null,null,"αka",{"$f":"Calculs!AG317","v":1},null,null,null,null,"Krümmungseinfluss",null,null,"αka",{"$f":"Calculs!AT317","v":0.80530973451327437}]
[null,null,null,null,"αki",{"$f":"Calculs!AG316","v":1},null,null,null,null,null,null,null,"αki",{"$f":"Calculs!AT316","v":1.1946902654867257}]
[]
[null,"Terrain",null,null,null,null,null,null,null,null,"PP-Rohr",null,null,{"$f":"IF(Données!$AE$6>O28,\"di max.< di Eingabe!\",\"\")","v":""}]
[]
[null,"Bodenqualität",null,null,null,{"$f":"Données!AE30","v":"Sol stable"},null,null,null,null,"Innendurchmesser",null,null,"di",{"$f":"Calculs!AK32","v":375.4},"mm"]
[null,"Feuchtraumgewicht des Baugrunds",null,null,"γ",{"$f":"Données!AE32","v":20},"kN/m3",null,null,null,"Radius",null,null,"rm",{"$f":"Calculs!AO32","v":193.85},"mm"]
[null,"Raumgewicht unter Auftrieb",null,null,"γ'",{"$f":"Données!AE34","v":11},"kN/m3",null,null,null,"Wanddicke",null,null,"e",{"$f":"Calculs!AN32","v":12.3},"mm"]
[null,"Verformungsmodul des Bodens",null,null,"EB",{"$f":"Données!AE38","v":5},"N/mm2"]
[null,"Erddruckbeiwert",null,null,"K",{"$f":"Données!AE40","v":0.5},null,null,null,null,"Terrain"]
[null,"Setzungs-Durchbiegungsziffer",null,null,"C2",{"$f":"Données!AE42","v":0.5}]
[null,"Hüllbeton",null,null,null,{"$f":"Données!AE50","v":"C16/20"},null,null,null,null,"Bodenqualität",null,null,null,{"$f":"Données!AE30","v":"Sol stable"}]
[null,"Lastminderung",null,null,"λmin",{"$f":"Données!AE44","v":"NON"},null,null,null,null,"Feuchtraumgewicht des Baugrunds",null,null,"γ",{"$f":"Données!AE32","v":20},"kN/m3"]
[null,null,null,null,null,null,null,null,null,null,"Raumgewicht unter Auftrieb",null,null,"γ'",{"$f":"Données!AE34","v":11},"kN/m3"]
[null,"Wasser",null,null,null,null,null,null,null,null,"Verformungsmodul des Bodens",null,null,"EB",{"$f":"Données!AE38","v":5},"N/mm2"]
[null,null,null,null,null,null,null,null,null,null,"Erddruckbeiwert",null,null,"K",{"$f":"Données!AE40","v":0.5}]
[null,"Grundwasser",null,null,null,{"$f":"Données!AE60","v":"Sans eau souterraine"},null,null,null,null,"Setzungs-Durchbiegungsziffer",null,null,"C2",{"$f":"Données!AE42","v":0.5}]
[null,"Grwundwasserspiegel",null,null,"hw",{"$f":"Données!AE62","v":1.3},"m",null,null,null,"Hüllbeton",null,null,null,{"$f":"Données!AE50","v":"C16/20"}]
[null,"Wasser im Rohr",null,null,null,{"$f":"Données!AE64","v":"Tuyau vide"},null,null,null,null,"Lastminderung",null,null,"λmin",{"$f":"Données!AE44","v":"NON"}]
[null,"Druck",null,null,"pEi",{"$f":"Données!AE66","v":10},"kN/m2"]
[null,null,null,null,null,null,null,null,null,null,"Wasser"]
[null,"Graben"]
[null,null,null,null,null,null,null,null,null,null,"Grundwasser",null,null,null,{"$f":"Données!AE60","v":"Sans eau souterraine"}]
[null,"Überdeckungshöhe",null,null,"H",{"$f":"Données!AE52","v":3},"m",null,null,null,"Grwundwasserspiegel",null,null,"hw",{"$f":"Données!AN68","v":0},"m"]
[null,"Grabentyp",null,null,null,{"$f":"Données!AE56","v":"Verticale (U)"},null,null,null,null,"Wasser im Rohr",null,null,null,{"$f":"Données!AE64","v":"Tuyau vide"}]
[null,"Grabenbreite",null,null,"B",{"$f":"Données!$AE$54","v":1.5},"m",null,null,null,"Druck",null,null,"pEi",{"$f":"Données!AE66","v":10},"kN/m2"]
[null,"Böschungsneigung",null,null,"β",{"$f":"Données!AE58","v":30},"°"]
[]
[]
[]
[]
[null,"Einwirkungen",null,null,null,null,null,null,null,null,"Graben"]
[]
[null,"Flächenlast",null,null,null,{"$f":"Données!AE8","v":"Pas de charge"},null,null,null,null,"Überdeckungshöhe",null,null,"H",{"$f":"Calculs!AU101","v":2.835},"m"]
[null,null,null,null,"qs",{"$f":"Calculs!AW128","v":0},"kN/m2",null,null,null,"Grabentyp",null,null,null,{"$f":"Données!$AE$56","v":"Verticale (U)"}]
[null,"Verkehr",null,null,null,{"$f":"Données!AE22","v":"Trafic routier"},null,{"$f":"IF(AND(Accueil!AZ15=\"Deutsch\",AND(OR(F58=\"Voie unique (ferroviaire)\",F58=\"Voies multiples (ferroviaire)\",F58=\"Voie étroite (ferroviaire)\",F58=\"Eingleisig (Bahnverkehr)\",F58=\"Mehrgleisig (Bahnverkehr)\",F58=\"Schmalspur (Bahnverkehr)\"),F46<2)),\"H zu klein!\",\"\")","v":""},null,null,"Grabenbreite",null,null,"B",{"$f":"Données!AE54","v":1.5},"m"]
[null,"Beiwert Strass- und Bahnvekehrslasten",null,null,"α",{"$f":"Calculs!BH98","v":0.9},null,null,null,null,"Böschungsneigung",null,null,"β",{"$f":"Données!AE58","v":30},"°"]
[null,"Dynamischer Beiwert",null,null,"Ψ",{"$f":"Calculs!BI98","v":1}]
[null,"Strassenverkehr und untergeordnete",null,null,"pvtotal",{"$f":"Calculs!AG114","v":24.562000000000001},"kN/m2",null,null,null,"Einwirkungen"]
[null,"Strassen",null,null,"pvRad",{"$f":"Calculs!AH114","v":4.9021999999999997},"kN/m2"]
[null,null,null,null,"∆pv",{"$f":"Calculs!AI114","v":19.659800000000001},"kN/m2",null,null,null,"Flächenlast",null,null,null,{"$f":"Données!AE8","v":"Pas de charge"}]
[null,"Strassenrand",null,null,"pvtotal",{"$f":"Calculs!AJ114","v":0},"kN/m2",null,null,null,null,null,null,"qs",{"$f":"Calculs!AW128","v":0},"kN/m2"]
[null,null,null,null,"pvRad",{"$f":"Calculs!AK114","v":0},"kN/m2",null,null,null,"Verkehr",null,null,null,{"$f":"Données!AE22","v":"Trafic routier"},null,{"$f":"IF(AND(Accueil!AZ15=\"Deutsch\",AND(OR(O65=\"Voie unique (ferroviaire)\",O65=\"Voies multiples (ferroviaire)\",O65=\"Voie étroite (ferroviaire)\",O65=\"Eingleisig (Bahnverkehr)\",O65=\"Mehrgleisig (Bahnverkehr)\",O65=\"Schmalspur (Bahnverkehr)\"),O56<2)),\"H zu klein!\",IF(AND(Accueil!AZ15=\"Deutsch\",AND(OR(O65=\"Trafic routier\",O65=\"Bord de route\",O65=\"Route d'importance secondaire\",O65=\"Strassenverkehr\",O65=\"Strassenrand\",O65=\"Untergeordnete Strasse\"),O56<1)),\"H zu klein!\",\"\"))","v":""}]
[null,null,null,null,"∆pv",{"$f":"Calculs!AL114","v":0},"kN/m2",null,null,null,"Beiwert Strass- und Bahnvekehrslasten",null,null,"α",{"$f":"Calculs!$AT$98","v":0.9}]
[null,"Bahnverkehr eingleisig",null,null,"peingleisig",{"$f":"Calculs!AN114","v":0},"kN/m2",null,null,null,"Dynamischer Beiwert",null,null,"Ψ",{"$f":"Calculs!$AU$98","v":1}]
[null,"Bahnverkehr mehrgleisig",null,null,"pmehrgleisig",{"$f":"Calculs!AO114","v":0},"kN/m2",null,null,null,"Strassenverkehr und untergeordnete",null,null,"pvtotal",{"$f":"Calculs!AS114","v":26.375859999999999},"kN/m2"]
[null,"Bahnverkehr schmalspur",null,null,"pschmal",{"$f":"Calculs!AP114","v":0},"kN/m2",null,null,null,"Strassen",null,null,"pvRad",{"$f":"Calculs!AT114","v":5.5099239999999998},"kN/m2"]
[null,null,null,null,null,null,null,null,null,null,null,null,null,"∆pv",{"$f":"Calculs!AU114","v":20.865935999999998},"kN/m2"]
["Resultate",null,null,null,null,null,null,null,null,null,"Strassenrand",null,null,"pvtotal",{"$f":"Calculs!AV114","v":0},"kN/m2"]
[null,null,null,null,null,null,null,null,null,null,null,null,null,"pvRad",{"$f":"Calculs!AW114","v":0},"kN/m2"]
[null,null,null,null,null,null,null,null,null,null,null,null,null,"∆pv",{"$f":"Calculs!AX114","v":0},"kN/m2"]
[null,null,null,null,null,null,null,null,null,null,"Bahnverkehr eingleisig",null,null,"peingleisig",{"$f":"Calculs!AZ114","v":0},"kN/m2"]
[null,null,null,null,null,null,null,null,null,null,"Bahnverkehr mehrgleisig",null,null,"pmehrgleisig",{"$f":"Calculs!BA114","v":0},"kN/m2"]
[null,null,null,null,null,null,null,null,null,null,"Bahnverkehr schmalspur",null,null,"pschmal",{"$f":"Calculs!BB114","v":0},"kN/m2"]
[]
[null,null,null,null,null,null,null,null,null,"Resultate"]
[]
[]
[]
[]
[]
[]
[]
[]
[]
[]
[]
[]
[]
[]
[]
[]
[]
[]
[]
[]
[]
[]
[]
[null,"Beanspruchungen",null,null,null,null,null,null,null,null,"Beanspruchungen"]
[]
[null,null,"Beanspruchungen",null,null,null,null,null,null,null,null,"Beanspruchungen"]
[null,null,"U1/V1",null,null,null,null,null,null,null,null,"U4/V4"]
[null,null,"Langzeit",null,"qs1",{"$f":"Calculs!AK198","v":61.903533660046428},"[kN/m2]",null,null,null,null,"Langzeit",null,"qs1",{"$f":"Calculs!BB198","v":113.89925205848927},"[kN/m2]"]
[null,null,"Kurzzeit",null,"qs2",{"$f":"Calculs!AK199","v":22.807118906370906},"[kN/m2]",null,null,null,null,"Kurzzeit",null,"qs2",{"$f":"Calculs!BB199","v":30.670690300884957},"[kN/m2]"]
[null,null,"Effektive Last auf Scheitel",null,"qser",{"$f":"Calculs!AK200","v":84.710652566417338},"[kN/m2]",null,null,null,null,"Effektive Last auf Scheitel",null,"qser",{"$f":"Calculs!BB200","v":144.56994235937424},"[kN/m2]"]
[null,null,"Erddruck",null,"qh",{"$f":"Calculs!AG202","v":98.237646789008366},"[kN/m2]",null,null,null,null,"Erddruck",null,"qh",{"$f":"Calculs!BB201","v":72.284971179687105},"[kN/m2]"]
[null,null,"Bemessungswert",null,"qds",{"$f":"Calculs!AK203","v":117.78044880061904},"[kN/m2]",null,null,null,null,"Bemessungswert",null,"qds",{"$f":"Calculs!BB202","v":199.77002573028795},"[kN/m2]"]
[]
[null,null,null,null,null,null,null,null,null,null,"Nachweise"]
[null,"Nachweise"]
[]
[null,null,null,"Verformungsnachweis (IOWA)",null,null,null,null,null,null,"Auftrieb"]
[null,null,null,null,1,null,{"$f":"IF(Calculs!AK37<0.1,\"\",\"Steifes Rohr. Verformungsnachweis entfällt!\")","v":""},null,null,null,"Stabilisierend",null,"G + G' + Gsp",{"$f":"Calculs!AX177","v":42.534613187254998},"[kN/m]"]
[null,null,null,"x/d kurz",{"$f":"IF(Calculs!AK37<0.1,Calculs!AJ207,\"\")","v":1.3798404396852175E-2},null,null,null,null,null,null,null,"GR",{"$f":"Calculs!AX178","v":7.1638315018697041},"[kN/m]"]
[null,null,null,"x/d lang",{"$f":"IF(Calculs!AK37<0.1,Calculs!AJ208,\"\")","v":4.151558591227416E-2},null,null,null,null,null,null,null,"Summe",{"$f":"Calculs!AX179","v":49.698444689124699},"[kN/m]","Faktor",0.9]
[null,null,null,"Summe",{"$f":"IF(Calculs!AK37<0.1,Calculs!AJ209,\"\")","v":5.5313990309126336E-2},{"$f":"IF(Calculs!AK37<0.1,Calculs!AK209,\"\")","v":"KO!"},null,null,null,null,"Destabilisierend",null,"FA",{"$f":"Calculs!AX180","v":0},"[kN/m]","Faktor",1.05]
[null,null,null,"Zugelassen",{"$f":"IF(Calculs!AK37<0.1,Calculs!AJ210,\"\")","v":0.05}]
[null,null,null,null,null,null,null,null,null,null,"Kontrolle:",null,"1.05*FA",{"$f":"Calculs!AX182","v":0},"[kN/m]",{"$f":"Calculs!AZ182","v":"OK"}]
[null,null,null,null,null,null,null,null,null,null,null,null,"0.9*Summe",{"$f":"Calculs!AX183","v":44.728600220212229},"[kN/m]"]
[null,"Auftrieb"]
[null,"Stabilisierend",null,"G + G' + Gsp",{"$f":"Calculs!AI177","v":24.343362938564084},"[kN/m]",null,null,null,null,"Tragfähigkeit"]
[null,null,null,"GR",{"$f":"Calculs!AI178","v":0.13483209872790164},"[kN/m]",null,null,null,null,{"$f":"IF(N138=\"\",\"\",\"Annahme: 5% des Bemessungswerts werden durch das PP-Rohr aufgenommen und eine initiale\")","v":""}]
[null,null,null,"Summe",{"$f":"Calculs!AI179","v":24.478195037291986},"[kN/m]","Faktor",0.9,null,null,{"$f":"IF(N138=\"\",\"\",\"Deformation von 0.02m [SIA190:2017;4.2.11.1.2].\")","v":""}]
[null,"Destabilisierend",null,"FA",{"$f":"Calculs!AI180","v":0},"[kN/m]","Faktor",1.05]
[]
[null,"Kontrolle:",null,"1.05*FA",{"$f":"Calculs!AI182","v":0},"[kN/m]",{"$f":"Calculs!AK182","v":"OK"},null,null,null,null,"Tragfähigkeit"]
[null,null,null,"0.9*Summe",{"$f":"Calculs!AI183","v":22.030375533562786},"[kN/m]",null,null,null,null,null,"U4/V4"]
[null,null,null,null,null,null,null,null,null,null,null,"qds",null,{"$f":"Calculs!AZ214","v":""},"[kN/m2]"]
[null,null,null,null,null,null,null,null,null,null,null,"qBl",null,{"$f":"Calculs!AZ215","v":""},"[kN/m2]"]
[null,"Tragfähigkeit",null,null,null,null,null,null,null,null,null,"pwd",null,{"$f":"Calculs!AZ216","v":""},"[kN/m2]"]
[null,null,null,null,null,null,null,null,null,null,null,"pcr",null,{"$f":"Calculs!AZ217","v":""},"[kN/m2]"]
[null,null,"Tragfähigkeit",null,null,null,null,null,null,null,null,"k",null,{"$f":"Calculs!AZ218","v":""},"[-]"]
[null,null,"U1/V1",null,null,null,null,null,null,null,null,"qBl/2*(1-2*pwd/k*pcr)",null,{"$f":"Calculs!AZ219","v":""},"[kN/m2]"]
[null,null,"qds",null,{"$f":"IF(Calculs!AK37<0.1,Calculs!AJ214,\"\")","v":117.78044880061904},"[kN/m2]",{"$f":"IF(Calculs!AK37<0.1,\"\",\"Steifes Rohr. Limite der Tragfähigkeitsformel überschritten!\")","v":""}]
[null,null,"qBl",null,{"$f":"IF(Calculs!AK37<0.1,Calculs!AJ215,\"\")","v":235.69741142945506},"[kN/m2]",null,null,null,null,null,"Resultat",null,{"$f":"Calculs!AZ221","v":""}]
[null,null,"pwd",null,{"$f":"IF(Calculs!AK37<0.1,Calculs!AJ216,\"\")","v":0},"[kN/m2]"]
[null,null,"pcr",null,{"$f":"IF(Calculs!AK37<0.1,Calculs!AJ217,\"\")","v":13.921055761300162},"[kN/m2]",null,null,null,null,{"$f":"IF(N138=\"\",\"Tragfähigkeitsnachweis nur nötig bei Grundwasser!\",\"\")","v":"Tragfähigkeitsnachweis nur nötig bei Grundwasser!"}]
[null,null,"k",null,{"$f":"IF(Calculs!AK37<0.1,Calculs!AJ218,\"\")","v":1},"[-]"]
[null,null,"qBl/2*(1-2*pwd/k*pcr)",null,{"$f":"IF(Calculs!AK37<0.1,Calculs!AJ219,\"\")","v":117.84870571472753},"[kN/m2]"]
[]
[null,null,"Resultat",null,{"$f":"IF(Calculs!AK37<0.1,Calculs!AJ221,\"\")","v":"OK"}]
[]
[]
[]
[]
[]
[]
[null,"Gebrauchstauglichkeit",null,null,null,null,null,null,null,null,"Gebrauchstauglichkeit"]
[]
[null,null,null,null,null,null,null,null,null,null,null,null,"σRbz,adm",{"$f":"contrainte","v":-0.3},"N/mm2"]
[null,null,null,"σRbz,adm",{"$f":"Calculs!AN315","v":8},"N/mm2"]
[null,null,null,null,null,null,null,null,null,null,null,null,"Spannungskonventionen:"]
[null,null,null,"Spannungskonventionen:",null,null,null,null,null,null,null,null,"Zug negatif -"]
[null,null,null,"Zug negatif -",null,null,null,null,null,null,null,null,"Druck positif +"]
[null,null,null,"Druck positif +"]
[]
[null,"Spannungen Verlegeprofil U1/V1",null,null,null,null,null,null,null,null,"Spannungen Verlegeprofil U4/V4"]
[null,"Spannungen in [N/mm2]",null,"0°","45°","90°","135°","180°",null,null,"Spannungen in [N/mm2]",null,"0°","45°","90°","135°","180°"]
[null,"Durch die Normalkraft",null,{"$f":"Calculs!AG322","v":1.0319216729781595},{"$f":"Calculs!AH322","v":1.3134421174012054},{"$f":"Calculs!AI322","v":1.3377941547565855},{"$f":"Calculs!AJ322","v":1.3146562843478016},{"$f":"Calculs!AK322","v":1.0325032591021408},null,null,"Durch die Normalkraft",null,{"$f":"Calculs!AT329","v":0.12260888498142908},{"$f":"Calculs!AU329","v":0.188663541480385},{"$f":"Calculs!AV329","v":0.25837558048502557},{"$f":"Calculs!AW329","v":0.19347250675318597},{"$f":"Calculs!AX329","v":0.12491237996719647}]
[null,"Durch das Moment aussen",null,{"$f":"Calculs!AG323","v":2.6446840650288239},{"$f":"Calculs!AH323","v":-1.5170487005542566},{"$f":"Calculs!AI323","v":0.40724615886936177},{"$f":"Calculs!AJ323","v":-1.5281244217083805},{"$f":"Calculs!AK323","v":2.6604969357111168},null,null,"Durch das Moment aussen",null,{"$f":"Calculs!AT330","v":0.27567028840561941},{"$f":"Calculs!AU330","v":1.9212503815083661E-3},{"$f":"Calculs!AV330","v":-0.27840656996385621},{"$f":"Calculs!AW330","v":-1.916546725982401E-3},{"$f":"Calculs!AX330","v":0.28114953337044951}]
[null,"Durch das Moment innen",null,{"$f":"Calculs!AG324","v":-2.6446840650288239},{"$f":"Calculs!AH324","v":1.5170487005542566},{"$f":"Calculs!AI324","v":-0.40724615886936177},{"$f":"Calculs!AJ324","v":1.5281244217083805},{"$f":"Calculs!AK324","v":-2.6604969357111168},null,null,"Durch das Moment innen",null,{"$f":"Calculs!AT331","v":-0.40896141686547938},{"$f":"Calculs!AU331","v":-2.8502066099299938E-3},{"$f":"Calculs!AV331","v":0.41302073566066577},{"$f":"Calculs!AW331","v":2.843228659424441E-3},{"$f":"Calculs!AX331","v":-0.41708996708802953}]
[]
[null,"Spannungen aussen",null,{"$f":"Calculs!AG326","v":3.6766057380069834},{"$f":"Calculs!AH326","v":-0.20360658315305113},{"$f":"Calculs!AI326","v":1.7450403136259474},{"$f":"Calculs!AJ326","v":-0.2134681373605789},{"$f":"Calculs!AK326","v":3.6930001948132576},null,null,"Spannungen aussen",null,{"$f":"Calculs!AT333","v":0.39827917338704849},{"$f":"Calculs!AU333","v":0.19058479186189337},{"$f":"Calculs!AV333","v":-2.0030989478830641E-2},{"$f":"Calculs!AW333","v":0.19155596002720357},{"$f":"Calculs!AX333","v":0.40606191333764596}]
[null,"Spannungen innen","Spannungen innen",{"$f":"Calculs!AG327","v":-1.6127623920506644},{"$f":"Calculs!AH327","v":2.8304908179554618},{"$f":"Calculs!AI327","v":0.9305479958872237},{"$f":"Calculs!AJ327","v":2.8427807060561818},{"$f":"Calculs!AK327","v":-1.627993676608976},null,null,"Spannungen innen","Spannungen innen",{"$f":"Calculs!AT334","v":-0.2863525318840503},{"$f":"Calculs!AU334","v":0.18581333487045501},{"$f":"Calculs!AV334","v":0.67139631614569129},{"$f":"Calculs!AW334","v":0.19631573541261041},{"$f":"Calculs!AX334","v":-0.29217758712083308}]
[]
[null,"Spannungen aussen",null,{"$f":"Calculs!AG329","v":"OK"},{"$f":"Calculs!AH329","v":"OK"},{"$f":"Calculs!AI329","v":"OK"},{"$f":"Calculs!AJ329","v":"OK"},{"$f":"Calculs!AK329","v":"OK"},null,null,"Spannungen aussen",null,{"$f":"Calculs!AT336","v":"OK"},{"$f":"Calculs!AU336","v":"OK"},{"$f":"Calculs!AV336","v":"OK"},{"$f":"Calculs!AW336","v":"OK"},{"$f":"Calculs!AX336","v":"OK"}]
[null,"Spannungen innen","Spannungen innen",{"$f":"Calculs!AG330","v":"OK"},{"$f":"Calculs!AH330","v":"OK"},{"$f":"Calculs!AI330","v":"OK"},{"$f":"Calculs!AJ330","v":"OK"},{"$f":"Calculs!AK330","v":"OK"},null,null,"Spannungen innen","Spannungen innen",{"$f":"Calculs!AT337","v":"OK"},{"$f":"Calculs!AU337","v":"OK"},{"$f":"Calculs!AV337","v":"OK"},{"$f":"Calculs!AW337","v":"OK"},{"$f":"Calculs!AX337","v":"OK"}]

{"sheet":"PP-SN8","index":18,"n_rows":170,"n_cols":17,"rows_kept":170,"cut":false,"hidden":false,"merged":[[168,1,168,2],[168,10,168,11],[169,1,169,2],[169,10,169,11],[165,1,165,2],[165,10,165,11],[166,1,166,2],[166,10,166,11],[167,1,167,2],[167,10,167,11],[162,1,162,2],[162,10,162,11],[163,1,163,2],[163,10,163,11],[164,1,164,2],[164,10,164,11],[161,1,161,2],[161,10,161,11],[138,2,138,3],[139,2,139,3],[140,2,140,3],[141,2,141,3],[142,2,142,5],[143,2,143,3],[159,1,159,7],[159,10,159,16],[160,1,160,2],[160,10,160,11],[139,10,140,15],[135,2,135,5],[135,11,135,12],[136,2,136,3],[136,11,136,14],[137,2,137,3],[137,11,137,12],[135,6,137,7],[130,11,130,12],[131,11,131,12],[132,11,132,12],[133,11,133,12],[134,2,134,5],[134,11,134,12],[127,1,127,2],[128,1,128,2],[128,6,129,7],[128,11,128,14],[129,1,129,2],[129,11,129,14],[126,1,126,2],[118,5,119,5],[118,10,118,11],[119,10,119,11],[120,10,120,11],[122,1,122,7],[123,1,123,2],[124,1,125,2],[120,15,121,16],[121,10,121,11],[109,2,109,3],[109,11,109,12],[114,3,114,5],[114,10,114,16],[115,5,117,5],[115,10,115,11],[116,10,117,11],[115,6,117,7],[106,2,106,3],[106,11,106,12],[107,2,107,3],[107,11,107,12],[108,2,108,3],[108,11,108,12],[103,2,103,6],[103,11,103,15],[104,2,104,6],[104,11,104,15],[105,2,105,3],[105,11,105,12],[77,9,77,17],[8,0,9,8],[8,9,9,17],[57,7,58,7],[64,16,65,16],[11,4,11,6],[25,13,25,15],[70,0,70,8]]}
[null,"Projet:",{"$f":"Accueil!P15","v":"VSA 2026"},null,null,"Ingénieur/e:",null,{"$f":"Accueil!AI15","v":0},null,null,"Projet:",{"$f":"Accueil!$P$15","v":"VSA 2026"},null,null,"Ingénieur/e:",null,{"$f":"Accueil!$AI$15","v":0}]
[]
[null,"N°:",{"$f":"Accueil!P17","v":0},null,null,"Responsable:",null,{"$f":"Accueil!AI17","v":0},null,null,"N°:",{"$f":"Accueil!P17","v":0},null,null,"Responsable:",null,{"$f":"Accueil!$AI$17","v":0}]
[]
[null,"Lieu:",{"$f":"Accueil!P21","v":0},null,null,"Maître d'ouvrage:",null,{"$f":"Accueil!AI19","v":0},null,null,"Lieu:",{"$f":"Accueil!$P$21","v":0},null,null,"Maître d'ouvrage:",null,{"$f":"Accueil!$AI$19","v":0}]
[null,null,{"$f":"Accueil!P23","v":0},null,null,null,null,null,null,null,null,{"$f":"Accueil!$P$23","v":0}]
[]
[]
["Données profil d'enrobage U1/V1",null,null,null,null,null,null,null,null,"Données profil d'enrobage U4/V4"]
[]
[]
[null,"Tuyau PP",null,null,{"$f":"IF(Données!$AE$6>F14,\"di max.< di introduit!\",\"\")","v":""},null,null,null,null,null,"Tuyau \"fictif\" en béton"]
[]
[null,"Diamètre intérieur ",null,null,"di",{"$f":"Calculs!BK32","v":372.6},"mm",null,null,null,"Diamètre intérieur ",null,null,"di",{"$f":"Calculs!BR31/1000","v":0.4},"m"]
[null,"Rayon moyen",null,null,"rm",{"$f":"Calculs!BO32","v":193.15},"mm",null,null,null,"Rayon moyen",null,null,"rm",{"$f":"Calculs!BU31/1000","v":0.28249999999999997},"m"]
[null,"Épaisseur de paroi",null,null,"e",{"$f":"Calculs!BN32","v":13.7},"mm",null,null,null,"Épaisseur de paroi",null,null,"e",{"$f":"Calculs!BT31/1000","v":0.16500000000000001},"m"]
[null,"Section",null,null,"A",{"$f":"Calculs!BJ316","v":1.37E-2},"m2",null,null,null,"Section",null,null,"A",{"$f":"Calculs!BW316","v":0.16500000000000001},"m2"]
[null,"Module de flexion",null,null,"W",{"$f":"Calculs!BJ317","v":3.1281666666666662E-5},"m3",null,null,null,"Module de flexion",null,null,"W",{"$f":"Calculs!BW317","v":4.5374999999999999E-3},"m3"]
[null,"Module d'élasticité",null,null,"ER,court",{"$f":"Calculs!B12","v":1250},"N/mm2",null,null,null,"Module d'élasticité",null,null,"ER,court",{"$f":"Calculs!BS33","v":20000},"N/mm2"]
[]
[null,"Rigidité du système",null,null,"SFcourt",{"$f":"Calculs!BK37","v":1.2390392847863333E-2},{"$f":"Calculs!BL37","v":"souple"},null,null,null,"Rigidité du système",null,null,"SFcourt",{"$f":"Calculs!BR37","v":110.69397191899354},{"$f":"Calculs!BU37","v":"rigide"}]
[null,"Facteur de majoration de charge",null,null,"f",{"$f":"Calculs!BM41","v":1.0354646647683148},null,null,null,null,"Facteur de majoration de charge",null,null,"f",{"$f":"Calculs!BT41","v":1.2920353982300885}]
[null,"Effet de courbure:",null,null,"αka",{"$f":"Calculs!BG317","v":1},null,null,null,null,"Effet de courbure:",null,null,"αka",{"$f":"Calculs!BT317","v":0.80530973451327437}]
[null,null,null,null,"αki",{"$f":"Calculs!BG316","v":1},null,null,null,null,null,null,null,"αki",{"$f":"Calculs!BT316","v":1.1946902654867257}]
[]
[null,"Terrain",null,null,null,null,null,null,null,null,"Tuyau PP",null,null,{"$f":"IF(Données!$AE$6>O28,\"di max.< di introduit!\",\"\")","v":""}]
[]
[null,"Qualité du sol",null,null,null,{"$f":"Données!AE30","v":"Sol stable"},null,null,null,null,"Diamètre intérieur ",null,null,"di",{"$f":"Calculs!BK32","v":372.6},"mm"]
[null,"Poids volumique apparent hum.",null,null,"γ",{"$f":"Données!AE32","v":20},"kN/m3",null,null,null,"Rayon moyen",null,null,"rm",{"$f":"Calculs!BO32","v":193.15},"mm"]
[null,"Poids volumique déjaugé",null,null,"γ'",{"$f":"Données!AE34","v":11},"kN/m3",null,null,null,"Épaisseur de paroi",null,null,"e",{"$f":"Calculs!BN32","v":13.7},"mm"]
[null,"Module de déformation du sol",null,null,"EB",{"$f":"Données!AE38","v":5},"N/mm2"]
[null,"Coefficient de pression du terrain",null,null,"K",{"$f":"Données!AE40","v":0.5},null,null,null,null,"Terrain"]
[null,"Coefficient de flexion au tassement",null,null,"C2",{"$f":"Données!AE42","v":0.5}]
[null,"Type de béton d'enrobage",null,null,null,{"$f":"Données!AE50","v":"C16/20"},null,null,null,null,"Qualité du sol",null,null,null,{"$f":"Données!AE30","v":"Sol stable"}]
[null,"Réduction de charge",null,null,"λmin",{"$f":"Données!AE44","v":"NON"},null,null,null,null,"Poids volumique apparent hum.",null,null,"γ",{"$f":"Données!AE32","v":20},"kN/m3"]
[null,null,null,null,null,null,null,null,null,null,"Poids volumique déjaugé",null,null,"γ'",{"$f":"Données!AE34","v":11},"kN/m3"]
[null,"Eau",null,null,null,null,null,null,null,null,"Module de déformation du sol",null,null,"EB",{"$f":"Données!AE38","v":5},"N/mm2"]
[null,null,null,null,null,null,null,null,null,null,"Coefficient de pression du terrain",null,null,"K",{"$f":"Données!AE40","v":0.5}]
[null,"Eau souterraine",null,null,null,{"$f":"Données!AE60","v":"Sans eau souterraine"},null,null,null,null,"Coefficient de flexion au tassement",null,null,"C2",{"$f":"Données!AE42","v":0.5}]
[null,"Niveau d'eau souterraine",null,null,"hw",{"$f":"Données!AE62","v":1.3},"m",null,null,null,"Type de béton d'enrobage",null,null,null,{"$f":"Données!AE50","v":"C16/20"}]
[null,"Eau à l'intérieur du tuyau",null,null,null,{"$f":"Données!AE64","v":"Tuyau vide"},null,null,null,null,"Réduction de charge",null,null,"λmin",{"$f":"Données!AE44","v":"NON"}]
[null,"Pression",null,null,"pEi",{"$f":"Données!AE66","v":10},"kN/m2"]
[null,null,null,null,null,null,null,null,null,null,"Eau"]
[null,"Fouille"]
[null,null,null,null,null,null,null,null,null,null,"Eau souterraine",null,null,null,{"$f":"Données!AE60","v":"Sans eau souterraine"}]
[null,"Hauteur de couverture",null,null,"H",{"$f":"Données!AE52","v":3},"m",null,null,null,"Niveau d'eau souterraine",null,null,"hw",{"$f":"Données!AN68","v":0},"m"]
[null,"Type de fouille",null,null,null,{"$f":"Données!AE56","v":"Verticale (U)"},null,null,null,null,"Eau à l'intérieur du tuyau",null,null,null,{"$f":"Données!AE64","v":"Tuyau vide"}]
[null,"Largeur de fouille",null,null,"B",{"$f":"Données!$AE$54","v":1.5},"m",null,null,null,"Pression",null,null,"pEi",{"$f":"Données!AE66","v":10},"kN/m2"]
[null,"Angle de talus",null,null,"β",{"$f":"Données!AE58","v":30},"°"]
[]
[]
[]
[]
[null,"Actions",null,null,null,null,null,null,null,null,"Fouille"]
[]
[null,"Charge surfacique",null,null,null,{"$f":"Données!AE8","v":"Pas de charge"},null,null,null,null,"Hauteur de couverture",null,null,"H",{"$f":"Calculs!BU101","v":2.835},"m"]
[null,null,null,null,"qs",{"$f":"Calculs!BL128","v":0},"kN/m2",null,null,null,"Type de fouille",null,null,null,{"$f":"Données!$AE$56","v":"Verticale (U)"}]
[null,"Trafic ",null,null,null,{"$f":"Données!AE22","v":"Trafic routier"},null,{"$f":"IF(AND(Accueil!AZ15=\"Français\",AND(OR(F58=\"Voie unique (ferroviaire)\",F58=\"Voies multiples (ferroviaire)\",F58=\"Voie étroite (ferroviaire)\",F58=\"Eingleisig (Bahnverkehr)\",F58=\"Mehrgleisig (Bahnverkehr)\",F58=\"Schmalspur (Bahnverkehr)\"),F46<2)),\"H trop faible!\",\"\")","v":""},null,null,"Largeur de fouille",null,null,"B",{"$f":"Données!AE54","v":1.5},"m"]
[null,"Coefficient de charge",null,null,"α",{"$f":"Calculs!BH98","v":0.9},null,null,null,null,"Angle de talus",null,null,"β",{"$f":"Données!AE58","v":30},"°"]
[null,"Coefficient dynamique",null,null,"Ψ",{"$f":"Calculs!BI98","v":1}]
[null,"Trafic routier et route d'importance",null,null,"pvtotale",{"$f":"Calculs!BG114","v":24.562000000000001},"kN/m2",null,null,null,"Actions"]
[null,"secondaire",null,null,"pvroue",{"$f":"Calculs!BH114","v":4.9021999999999997},"kN/m2"]
[null,null,null,null,"∆pv",{"$f":"Calculs!BI114","v":19.659800000000001},"kN/m2",null,null,null,"Charge surfacique",null,null,null,{"$f":"Données!AE8","v":"Pas de charge"}]
[null,"Bord de route",null,null,"pvtotale",{"$f":"Calculs!BJ114","v":0},"kN/m2",null,null,null,null,null,null,"qs",{"$f":"Calculs!BW128","v":0},"kN/m2"]
[null,null,null,null,"pvroue",{"$f":"Calculs!BK114","v":0},"kN/m2",null,null,null,"Trafic ",null,null,null,{"$f":"Données!AE22","v":"Trafic routier"},null,{"$f":"IF(AND(Accueil!AZ15=\"Français\",AND(OR(O65=\"Voie unique (ferroviaire)\",O65=\"Voies multiples (ferroviaire)\",O65=\"Voie étroite (ferroviaire)\",O65=\"Eingleisig (Bahnverkehr)\",O65=\"Mehrgleisig (Bahnverkehr)\",O65=\"Schmalspur (Bahnverkehr)\"),O56<2)),\"H trop faible!\",IF(AND(Accueil!AZ15=\"Français\",AND(OR(O65=\"Trafic routier\",O65=\"Bord de route\",O65=\"Route d'importance secondaire\",O65=\"Strassenverkehr\",O65=\"Strassenrand\",O65=\"Untergeordnete Strasse\"),O56<1)),\"H trop faible!\",\"\"))","v":""}]
[null,null,null,null,"∆pv",{"$f":"Calculs!BL114","v":0},"kN/m2",null,null,null,"Coefficient de charge",null,null,"α",{"$f":"Calculs!BT98","v":0.9}]
[null,"Trafic ferroviaire voie unique",null,null,"punique",{"$f":"Calculs!BN114","v":0},"kN/m2",null,null,null,"Coefficient dynamique",null,null,"Ψ",{"$f":"Calculs!BU98","v":1}]
[null,"Trafic ferroviaire voies multiples",null,null,"pmultiples",{"$f":"Calculs!BO114","v":0},"kN/m2",null,null,null,"Trafic routier et route d'importance",null,null,"pvtotale",{"$f":"Calculs!BS114","v":26.375859999999999},"kN/m2"]
[null,"Trafic ferroviaire voie étroite",null,null,"pétroite",{"$f":"Calculs!BP114","v":0},"kN/m2",null,null,null,"secondaire",null,null,"pvroue",{"$f":"Calculs!BT114","v":5.5099239999999998},"kN/m2"]
[null,null,null,null,null,null,null,null,null,null,null,null,null,"∆pv",{"$f":"Calculs!BU114","v":20.865935999999998},"kN/m2"]
["Résultats",null,null,null,null,null,null,null,null,null,"Bord de route",null,null,"pvtotale",{"$f":"Calculs!BV114","v":0},"kN/m2"]
[null,null,null,null,null,null,null,null,null,null,null,null,null,"pvroue",{"$f":"Calculs!BW114","v":0},"kN/m2"]
[null,null,null,null,null,null,null,null,null,null,null,null,null,"∆pv",{"$f":"Calculs!BX114","v":0},"kN/m2"]
[null,null,null,null,null,null,null,null,null,null,"Trafic ferroviaire voie unique",null,null,"punique",{"$f":"Calculs!BZ114","v":0},"kN/m2"]
[null,null,null,null,null,null,null,null,null,null,"Trafic ferroviaire voies multiples",null,null,"pmultiples",{"$f":"Calculs!CA114","v":0},"kN/m2"]
[null,null,null,null,null,null,null,null,null,null,"Trafic ferroviaire voie étroite",null,null,"pétroite",{"$f":"Calculs!CB114","v":0},"kN/m2"]
[]
[null,null,null,null,null,null,null,null,null,"Résultats"]
[]
[]
[]
[]
[]
[]
[]
[]
[]
[]
[]
[]
[]
[]
[]
[]
[]
[]
[]
[]
[]
[]
[]
[null,"Sollicitations",null,null,null,null,null,null,null,null,"Sollicitations"]
[]
[null,null," Sollicitations",null,null,null,null,null,null,null,null," Sollicitations"]
[null,null,"U1/V1",null,null,null,null,null,null,null,null,"U4/V4"]
[null,null,"À long terme",null,"qs1",{"$f":"Calculs!BG198","v":62.127879886098889},"[kN/m2]",null,null,null,null,"À long terme",null,"qs1",{"$f":"Calculs!CB198","v":113.89925205848927},"[kN/m2]"]
[null,null,"À court terme",null,"qs2",{"$f":"Calculs!BK199","v":22.889774786435417},"[kN/m2]",null,null,null,null,"À court terme",null,"qs2",{"$f":"Calculs!CB199","v":30.670690300884957},"[kN/m2]"]
[null,null,"Charge eff. au sommet",null,"qser",{"$f":"Calculs!BK200","v":85.017654672534306},"[kN/m2]",null,null,null,null,"Charge eff. au sommet",null,"qser",{"$f":"Calculs!CB200","v":144.56994235937424},"[kN/m2]"]
[null,null,"Pression du terrain",null,"qh",{"$f":"Calculs!BG202","v":96.404819783579114},"[kN/m2]",null,null,null,null,"Pression du terrain",null,"qh",{"$f":"Calculs!CB201","v":72.284971179687105},"[kN/m2]"]
[null,null,"Charge de dim. au sommet",null,"qds",{"$f":"Calculs!BK203","v":118.20730002588662},"[kN/m2]",null,null,null,null,"Charge de dim. au sommet",null,"qds",{"$f":"Calculs!CB202","v":199.77002573028795},"[kN/m2]"]
[]
[null,null,null,null,null,null,null,null,null,null,"Vérifications"]
[null,"Vérifications"]
[]
[null,null,null,"Vérification de la déformation (IOWA)",null,null,null,null,null,null,"Poussée d'Archimède"]
[null,null,null,null,"U1/V1",null,{"$f":"IF(Calculs!BK37<0.1,\"\",\"Tuyau rigide. Pas nécessaire de vérifier la déformation!\")","v":""},null,null,null,"Actions stabilisant",null,"G + G' + Gsp",{"$f":"Calculs!BX177","v":42.534613187254998},"[kN/m]"]
[null,null,null,"x/d court",{"$f":"IF(Calculs!BK37<0.1,Calculs!BJ207,\"\")","v":1.3174961187265145E-2},null,null,null,null,null,null,null,"GR",{"$f":"Calculs!BX178","v":7.1786359430904811},"[kN/m]"]
[null,null,null,"x/d long",{"$f":"IF(Calculs!BK37<0.1,Calculs!BJ208,\"\")","v":4.1107031934119499E-2},null,null,null,null,null,null,null,"Somme",{"$f":"Calculs!BX179","v":49.713249130345481},"[kN/m]","Facteur",0.9]
[null,null,null,"Somme",{"$f":"IF(Calculs!BK37<0.1,Calculs!BJ209,\"\")","v":5.4281993121384646E-2},{"$f":"IF(Calculs!BK37<0.1,Calculs!BK209,\"\")","v":"KO!"},null,null,null,null,"Actions déstabilisant",null,"FA",{"$f":"Calculs!BX180","v":0},"[kN/m]","Facteur",1.05]
[null,null,null,"Admissible",{"$f":"IF(Calculs!BK37<0.1,Calculs!BJ210,\"\")","v":0.05}]
[null,null,null,null,null,null,null,null,null,null,"Contôle:",null,"1.05*FA",{"$f":"Calculs!BX182","v":0},"[kN/m]",{"$f":"Calculs!BZ182","v":"OK"}]
[null,null,null,null,null,null,null,null,null,null,null,null,"0.9*Somme",{"$f":"Calculs!BX183","v":44.741924217310931},"[kN/m]"]
[null,"Poussée d'Archimède"]
[null,"Actions stabilisant",null,"G + G' + Gsp",{"$f":"Calculs!BI177","v":24.343362938564084},"[kN/m]",null,null,null,null,"Sécurité structurale"]
[null,null,null,"GR",{"$f":"Calculs!BI178","v":0.14963653994867818},"[kN/m]",null,null,null,null,{"$f":"IF(N138=\"\",\"\",\"Hypothèse: 5% de la charge de dimensionnement est reprise par le tuyau PP et une déformation initiale\")","v":""}]
[null,null,null,"Somme",{"$f":"Calculs!BI179","v":24.492999478512761},"[kN/m]","Facteur",0.9,null,null,{"$f":"IF(N138=\"\",\"\",\"de 0.02m est admis [SIA190:2017;4.2.11.1.2].\")","v":""}]
[null,"Actions déstabilisant",null,"FA",{"$f":"Calculs!BI180","v":0},"[kN/m]","Facteur",1.05]
[]
[null,"Contôle:",null,"1.05*FA",{"$f":"Calculs!BI182","v":0},"[kN/m]",{"$f":"Calculs!BK182","v":"OK"},null,null,null,null,"Sécurité structurale"]
[null,null,null,"0.9*Somme",{"$f":"Calculs!BI183","v":22.043699530661485},"[kN/m]",null,null,null,null,null,"U4/V4"]
[null,null,null,null,null,null,null,null,null,null,null,"qds",null,{"$f":"Calculs!BZ214","v":""},"[kN/m2]"]
[null,null,null,null,null,null,null,null,null,null,null,"qBl",null,{"$f":"Calculs!BZ215","v":""},"[kN/m2]"]
[null,"Sécurité structurale",null,null,null,null,null,null,null,null,null,"pwd",null,{"$f":"Calculs!BZ216","v":""},"[kN/m2]"]
[null,null,null,null,null,null,null,null,null,null,null,"pcr",null,{"$f":"Calculs!BZ217","v":""},"[kN/m2]"]
[null,null,"Sécurité structurale",null,null,null,null,null,null,null,null,"k",null,{"$f":"Calculs!BZ218","v":""},"[-]"]
[null,null,"U1/V1",null,null,null,{"$f":"IF(Calculs!BK37<0.1,\"\",\"Tuyau rigide. Limite de la formule de la sécurité structurale est dépassée!\")","v":""},null,null,null,null,"qBl/2*(1-2*pwd/k*pcr)",null,{"$f":"Calculs!BZ219","v":""},"[kN/m2]"]
[null,null,"qds",null,{"$f":"IF(Calculs!BK37<0.1,Calculs!BJ214,\"\")","v":118.20730002588662},"[kN/m2]"]
[null,null,"qBl",null,{"$f":"IF(Calculs!BK37<0.1,Calculs!BJ215,\"\")","v":265.74661327582709},"[kN/m2]",null,null,null,null,null,"Résultat",null,{"$f":"Calculs!BZ221","v":""}]
[null,null,"pwd",null,{"$f":"IF(Calculs!BK37<0.1,Calculs!BJ216,\"\")","v":0},"[kN/m2]"]
[null,null,"pcr",null,{"$f":"IF(Calculs!BK37<0.1,Calculs!BJ217,\"\")","v":19.62473416485474},"[kN/m2]",null,null,null,null,{"$f":"IF(N138=\"\",\"Vérification de la sécurité structurale que nécessaire lors de présence d'eau souterraine!\",\"\")","v":"Vérification de la sécurité structurale que nécessaire lors de présence d'eau souterraine!"}]
[null,null,"k",null,{"$f":"IF(Calculs!BK37<0.1,Calculs!BJ218,\"\")","v":1},"[-]"]
[null,null,"qBl/2*(1-2*pwd/k*pcr)",null,{"$f":"IF(Calculs!BK37<0.1,Calculs!BJ219,\"\")","v":132.87330663791354},"[kN/m2]"]
[]
[null,null,"Résultat",null,{"$f":"IF(Calculs!BK37<0.1,Calculs!BJ221,\"\")","v":"OK"}]
[]
[]
[]
[]
[]
[]
[null,"Aptitude au service",null,null,null,null,null,null,null,null,"Aptitude au service"]
[]
[null,null,null,null,null,null,null,null,null,null,null,null,"σRbz,adm",{"$f":"Calculs!BT325","v":-0.3},"N/mm2"]
[null,null,null,"σRbz,adm",{"$f":"Calculs!BN315","v":8},"N/mm2"]
[null,null,null,null,null,null,null,null,null,null,null,null,null,"Convention des contraintes:"]
[null,null,null,null,"Convention des contraintes:",null,null,null,null,null,null,null,null,"Traction négatif -"]
[null,null,null,null,"Traction négatif -",null,null,null,null,null,null,null,null,"Compression positif +"]
[null,null,null,null,"Compression positif +"]
[]
[null,"Contraintes Profil d'enrobage U1/V1",null,null,null,null,null,null,null,null,"Contraintes Profil d'enrobage U4/V4"]
[null,"Contraintes en [N/mm2]",null,"0°","45°","90°","135°","180°",null,null,"Contraintes en [N/mm2]",null,"0°","45°","90°","135°","180°"]
[null,"Effort normal",null,{"$f":"Calculs!BG322","v":0.90586704390081663},{"$f":"Calculs!BH322","v":1.1664377782595921},{"$f":"Calculs!BI322","v":1.2013554176982484},{"$f":"Calculs!BJ322","v":1.1676475608014285},{"$f":"Calculs!BK322","v":0.90644652989435281},null,null,"Effort normal",null,{"$f":"Calculs!BT329","v":0.12260650483359126},{"$f":"Calculs!BU329","v":0.18866978783011701},{"$f":"Calculs!BV329","v":0.25839801150902558},{"$f":"Calculs!BW329","v":0.19348869108703937},{"$f":"Calculs!BX329","v":0.12491476011503427}]
[null,"Moment extérieur",null,{"$f":"Calculs!BG323","v":2.6457097806578571},{"$f":"Calculs!BH323","v":-1.1907837207960086},{"$f":"Calculs!BI323","v":-0.24979937682967401},{"$f":"Calculs!BJ323","v":-1.2006559304960933},{"$f":"Calculs!BK323","v":2.6598043911273193},null,null,"Moment extérieur",null,{"$f":"Calculs!BT330","v":0.27571102182571205},{"$f":"Calculs!BU330","v":-3.2932733983549838E-3},{"$f":"Calculs!BV330","v":-0.27845295805623993},{"$f":"Calculs!BW330","v":-1.9205073723689238E-3},{"$f":"Calculs!BX330","v":0.28120158994352185}]
[null,"Moment intérieur",null,{"$f":"Calculs!BG324","v":-2.6457097806578571},{"$f":"Calculs!BH324","v":1.1907837207960086},{"$f":"Calculs!BI324","v":0.24979937682967401},{"$f":"Calculs!BJ324","v":1.2006559304960933},{"$f":"Calculs!BK324","v":-2.6598043911273193},null,null,"Moment intérieur",null,{"$f":"Calculs!BT331","v":-0.40902184556561677},{"$f":"Calculs!BU331","v":4.885625371185965E-3},{"$f":"Calculs!BV331","v":0.41308955316035595},{"$f":"Calculs!BW331","v":2.8491043436242275E-3},{"$f":"Calculs!BX331","v":-0.4171671938722577}]
[]
[null,"Contraintes extérieur",null,{"$f":"Calculs!BG326","v":3.5515768245586736},{"$f":"Calculs!BH326","v":-2.4345942536416532E-2},{"$f":"Calculs!BI326","v":0.95155604086857437},{"$f":"Calculs!BJ326","v":-3.3008369694664808E-2},{"$f":"Calculs!BK326","v":3.566250921021672},null,null,"Contraintes extérieur",null,{"$f":"Calculs!BT333","v":0.39831752665930331},{"$f":"Calculs!BU333","v":0.18537651443176204},{"$f":"Calculs!BV333","v":-2.0054946547214347E-2},{"$f":"Calculs!BW333","v":0.19156818371467044},{"$f":"Calculs!BX333","v":0.40611635005855612}]
[null,"Conraintes intérieur",null,{"$f":"Calculs!BG327","v":-1.7398427367570406},{"$f":"Calculs!BH327","v":2.3572214990556004},{"$f":"Calculs!BI327","v":1.4511547945279224},{"$f":"Calculs!BJ327","v":2.3683034912975218},{"$f":"Calculs!BK327","v":-1.7533578612329666},null,null,"Conraintes intérieur",null,{"$f":"Calculs!BT334","v":-0.28641534073202551},{"$f":"Calculs!BU334","v":0.19355541320130298},{"$f":"Calculs!BV334","v":0.67148756466938153},{"$f":"Calculs!BW334","v":0.1963377954306636},{"$f":"Calculs!BX334","v":-0.29225243375722343}]
[]
[null,"Contraintes extérieures",null,{"$f":"Calculs!BG329","v":"OK"},{"$f":"Calculs!BH329","v":"OK"},{"$f":"Calculs!BI329","v":"OK"},{"$f":"Calculs!BJ329","v":"OK"},{"$f":"Calculs!BK329","v":"OK"},null,null,"Contraintes extérieures",null,{"$f":"Calculs!BT336","v":"OK"},{"$f":"Calculs!BU336","v":"OK"},{"$f":"Calculs!BV336","v":"OK"},{"$f":"Calculs!BW336","v":"OK"},{"$f":"Calculs!BX336","v":"OK"}]
[null,"Conraintes intérieures",null,{"$f":"Calculs!BG330","v":"OK"},{"$f":"Calculs!BH330","v":"OK"},{"$f":"Calculs!BI330","v":"OK"},{"$f":"Calculs!BJ330","v":"OK"},{"$f":"Calculs!BK330","v":"OK"},null,null,"Conraintes intérieures",null,{"$f":"Calculs!BT337","v":"OK"},{"$f":"Calculs!BU337","v":"OK"},{"$f":"Calculs!BV337","v":"OK"},{"$f":"Calculs!BW337","v":"OK"},{"$f":"Calculs!BX337","v":"OK"}]

{"sheet":"PP-SN8 (D)","index":19,"n_rows":170,"n_cols":17,"rows_kept":170,"cut":false,"hidden":false,"merged":[[154,12,154,14],[155,12,155,14],[156,12,156,14],[168,1,168,2],[168,10,168,11],[169,1,169,2],[169,10,169,11],[155,3,155,5],[156,3,156,5],[157,3,157,5],[165,1,165,2],[165,10,165,11],[166,1,166,2],[166,10,166,11],[167,1,167,2],[167,10,167,11],[164,1,164,2],[164,10,164,11],[159,1,159,7],[159,10,159,16],[143,2,143,3],[135,2,135,5],[135,11,135,12],[136,2,136,3],[136,6,138,7],[136,11,136,14],[137,2,137,3],[137,11,137,12],[138,2,138,3],[139,2,139,3],[140,2,140,3],[141,2,141,3],[142,2,142,5],[139,10,139,15],[130,11,130,12],[131,11,131,12],[132,11,132,12],[133,11,133,12],[134,2,134,5],[134,11,134,12],[127,1,127,2],[128,1,128,2],[128,6,129,7],[128,11,128,14],[129,1,129,2],[129,11,129,14],[122,1,122,7],[123,1,123,2],[126,1,126,2],[124,1,125,2],[120,10,120,11],[118,5,119,5],[118,10,118,11],[119,10,119,11],[120,15,121,16],[121,10,121,11],[114,3,114,5],[114,10,114,16],[115,5,117,5],[115,6,117,7],[115,10,115,11],[116,10,117,11],[107,2,107,3],[107,11,107,12],[108,2,108,3],[108,11,108,12],[109,2,109,3],[109,11,109,12],[70,0,70,8],[105,2,105,3],[105,11,105,12],[106,2,106,3],[106,11,106,12],[77,9,77,17],[103,2,103,6],[103,11,103,15],[104,2,104,6],[104,11,104,15],[64,16,65,16],[8,0,9,8],[8,9,9,17],[57,7,58,7],[11,4,11,6],[25,13,25,15]]}
[null,"Projekt:",{"$f":"Accueil!P15","v":"VSA 2026"},null,null,"Ingenieur/in:",null,{"$f":"Accueil!AI15","v":0},null,null,"Projekt:",{"$f":"Accueil!$P$15","v":"VSA 2026"},null,null,"Ingenieur/in:",null,{"$f":"Accueil!$AI$15","v":0}]
[]
[null,"N°:",{"$f":"Accueil!P17","v":0},null,null,"Vernatworlticher:",null,{"$f":"Accueil!AI17","v":0},null,null,"N°:",{"$f":"Accueil!P17","v":0},null,null,"Vernatworlticher:",null,{"$f":"Accueil!$AI$17","v":0}]
[]
[null,"Ort:",{"$f":"Accueil!P21","v":0},null,null,"Bauherr:",null,{"$f":"Accueil!AI19","v":0},null,null,"Ort:",{"$f":"Accueil!$P$21","v":0},null,null,"Bauherr:",null,{"$f":"Accueil!$AI$19","v":0}]
[null,null,{"$f":"Accueil!P23","v":0},null,null,null,null,null,null,null,null,{"$f":"Accueil!$P$23","v":0}]
[]
[]
["Daten Normalverlegeprofil U1/V1",null,null,null,null,null,null,null,null,"Daten Normalverlegeprofil U4/V4"]
[]
[]
[null,"PP-Rohr",null,null,{"$f":"IF(Données!$AE$6>F14,\"di max.< di Eingabe!\",\"\")","v":""},null,null,null,null,null,"\"Fiktives\" Betonrohr"]
[]
[null,"Innendurchmesser",null,null,"di",{"$f":"Calculs!BK32","v":372.6},"mm",null,null,null,"Innendurchmesser",null,null,"di",{"$f":"Calculs!BR31/1000","v":0.4},"m"]
[null,"Radius",null,null,"rm",{"$f":"Calculs!BO32","v":193.15},"mm",null,null,null,"Radius",null,null,"rm",{"$f":"Calculs!BU31/1000","v":0.28249999999999997},"m"]
[null,"Wanddicke",null,null,"e",{"$f":"Calculs!BN32","v":13.7},"mm",null,null,null,"Wanddicke",null,null,"e",{"$f":"Calculs!BT31/1000","v":0.16500000000000001},"m"]
[null,"Querschnittsfläche",null,null,"A",{"$f":"Calculs!BJ316","v":1.37E-2},"m2",null,null,null,"Querschnittsfläche",null,null,"A",{"$f":"Calculs!BW316","v":0.16500000000000001},"m2"]
[null,"Widerstandsmoment",null,null,"W",{"$f":"Calculs!BJ317","v":3.1281666666666662E-5},"m3",null,null,null,"Widerstandsmoment",null,null,"W",{"$f":"Calculs!BW317","v":4.5374999999999999E-3},"m3"]
[null,"E-Modul",null,null,"ER,kurz",{"$f":"Calculs!B12","v":1250},"N/mm2",null,null,null,"E-Modul",null,null,"ER,kurz",{"$f":"Calculs!BS33","v":20000},"N/mm2"]
[]
[null,"Systemsteifigkeit",null,null,"SFkurz",{"$f":"Calculs!BK37","v":1.2390392847863333E-2},{"$f":"Calculs!BL37","v":"souple"},null,null,null,"Systemsteifigkeit",null,null,"SFkurz",{"$f":"Calculs!BR37","v":110.69397191899354},{"$f":"Calculs!BU37","v":"rigide"}]
[null,"Lastvergrösserungsfaktor",null,null,"f",{"$f":"Calculs!BM41","v":1.0354646647683148},null,null,null,null,"Lastvergrösserungsfaktor",null,null,"f",{"$f":"Calculs!BT41","v":1.2920353982300885}]
[null,"Krümmungseinfluss",null,null,"αka",{"$f":"Calculs!BG317","v":1},null,null,null,null,"Krümmungseinfluss",null,null,"αka",{"$f":"Calculs!BT317","v":0.80530973451327437}]
[null,null,null,null,"αki",{"$f":"Calculs!BG316","v":1},null,null,null,null,null,null,null,"αki",{"$f":"Calculs!BT316","v":1.1946902654867257}]
[]
[null,"Terrain",null,null,null,null,null,null,null,null,"PP-Rohr",null,null,{"$f":"IF(Données!$AE$6>O28,\"di max.< di Eingabe!\",\"\")","v":""}]
[]
[null,"Bodenqualität",null,null,null,{"$f":"Données!AE30","v":"Sol stable"},null,null,null,null,"Innendurchmesser",null,null,"di",{"$f":"Calculs!BK32","v":372.6},"mm"]
[null,"Feuchtraumgewicht des Baugrunds",null,null,"γ",{"$f":"Données!AE32","v":20},"kN/m3",null,null,null,"Radius",null,null,"rm",{"$f":"Calculs!BO32","v":193.15},"mm"]
[null,"Raumgewicht unter Auftrieb",null,null,"γ'",{"$f":"Données!AE34","v":11},"kN/m3",null,null,null,"Wanddicke",null,null,"e",{"$f":"Calculs!BN32","v":13.7},"mm"]
[null,"Verformungsmodul des Bodens",null,null,"EB",{"$f":"Données!AE38","v":5},"N/mm2"]
[null,"Erddruckbeiwert",null,null,"K",{"$f":"Données!AE40","v":0.5},null,null,null,null,"Terrain"]
[null,"Setzungs-Durchbiegungsziffer",null,null,"C2",{"$f":"Données!AE42","v":0.5}]
[null,"Hüllbeton",null,null,null,{"$f":"Données!AE50","v":"C16/20"},null,null,null,null,"Bodenqualität",null,null,null,{"$f":"Données!AE30","v":"Sol stable"}]
[null,"Lastminderung",null,null,"λmin",{"$f":"Données!AE44","v":"NON"},null,null,null,null,"Feuchtraumgewicht des Baugrunds",null,null,"γ",{"$f":"Données!AE32","v":20},"kN/m3"]
[null,null,null,null,null,null,null,null,null,null,"Raumgewicht unter Auftrieb",null,null,"γ'",{"$f":"Données!AE34","v":11},"kN/m3"]
[null,"Wasser",null,null,null,null,null,null,null,null,"Verformungsmodul des Bodens",null,null,"EB",{"$f":"Données!AE38","v":5},"N/mm2"]
[null,null,null,null,null,null,null,null,null,null,"Erddruckbeiwert",null,null,"K",{"$f":"Données!AE40","v":0.5}]
[null,"Grundwasser",null,null,null,{"$f":"Données!AE60","v":"Sans eau souterraine"},null,null,null,null,"Setzungs-Durchbiegungsziffer",null,null,"C2",{"$f":"Données!AE42","v":0.5}]
[null,"Grwundwasserspiegel",null,null,"hw",{"$f":"Données!AE62","v":1.3},"m",null,null,null,"Hüllbeton",null,null,null,{"$f":"Données!AE50","v":"C16/20"}]
[null,"Wasser im Rohr",null,null,null,{"$f":"Données!AE64","v":"Tuyau vide"},null,null,null,null,"Lastminderung",null,null,"λmin",{"$f":"Données!AE44","v":"NON"}]
[null,"Druck",null,null,"pEi",{"$f":"Données!AE66","v":10},"kN/m2"]
[null,null,null,null,null,null,null,null,null,null,"Wasser"]
[null,"Graben"]
[null,null,null,null,null,null,null,null,null,null,"Grundwasser",null,null,null,{"$f":"Données!AE60","v":"Sans eau souterraine"}]
[null,"Überdeckungshöhe",null,null,"H",{"$f":"Données!AE52","v":3},"m",null,null,null,"Grwundwasserspiegel",null,null,"hw",{"$f":"Données!AN68","v":0},"m"]
[null,"Grabentyp",null,null,null,{"$f":"Données!AE56","v":"Verticale (U)"},null,null,null,null,"Wasser im Rohr",null,null,null,{"$f":"Données!AE64","v":"Tuyau vide"}]
[null,"Grabenbreite",null,null,"B",{"$f":"Données!$AE$54","v":1.5},"m",null,null,null,"Druck",null,null,"pEi",{"$f":"Données!AE66","v":10},"kN/m2"]
[null,"Böschungsneigung",null,null,"β",{"$f":"Données!AE58","v":30},"°"]
[]
[]
[]
[]
[null,"Einwirkungen",null,null,null,null,null,null,null,null,"Graben"]
[]
[null,"Flächenlast",null,null,null,{"$f":"Données!AE8","v":"Pas de charge"},null,null,null,null,"Überdeckungshöhe",null,null,"H",{"$f":"Calculs!BU101","v":2.835},"m"]
[null,null,null,null,"qs",{"$f":"Calculs!BL128","v":0},"kN/m2",null,null,null,"Grabentyp",null,null,null,{"$f":"Données!$AE$56","v":"Verticale (U)"}]
[null,"Verkehr",null,null,null,{"$f":"Données!AE22","v":"Trafic routier"},null,{"$f":"IF(AND(Accueil!AZ15=\"Deutsch\",AND(OR(F58=\"Voie unique (ferroviaire)\",F58=\"Voies multiples (ferroviaire)\",F58=\"Voie étroite (ferroviaire)\",F58=\"Eingleisig (Bahnverkehr)\",F58=\"Mehrgleisig (Bahnverkehr)\",F58=\"Schmalspur (Bahnverkehr)\"),F46<2)),\"H zu klein!\",\"\")","v":""},null,null,"Grabenbreite",null,null,"B",{"$f":"Données!AE54","v":1.5},"m"]
[null,"Beiwert Strass- und Bahnvekehrslasten",null,null,"α",{"$f":"Calculs!BH98","v":0.9},null,null,null,null,"Böschungsneigung",null,null,"β",{"$f":"Données!AE58","v":30},"°"]
[null,"Dynamischer Beiwert",null,null,"Ψ",{"$f":"Calculs!BI98","v":1}]
[null,"Strassenverkehr und untergeordnete",null,null,"pvtotal",{"$f":"Calculs!BG114","v":24.562000000000001},"kN/m2",null,null,null,"Einwirkungen"]
[null,"Strassen",null,null,"pvRad",{"$f":"Calculs!BH114","v":4.9021999999999997},"kN/m2"]
[null,null,null,null,"∆pv",{"$f":"Calculs!BI114","v":19.659800000000001},"kN/m2",null,null,null,"Flächenlast",null,null,null,{"$f":"Données!AE8","v":"Pas de charge"}]
[null,"Strassenrand",null,null,"pvtotal",{"$f":"Calculs!BJ114","v":0},"kN/m2",null,null,null,null,null,null,"qs",{"$f":"Calculs!BW128","v":0},"kN/m2"]
[null,null,null,null,"pvRad",{"$f":"Calculs!BK114","v":0},"kN/m2",null,null,null,"Verkehr",null,null,null,{"$f":"Données!AE22","v":"Trafic routier"},null,{"$f":"IF(AND(Accueil!AZ15=\"Deutsch\",AND(OR(O65=\"Voie unique (ferroviaire)\",O65=\"Voies multiples (ferroviaire)\",O65=\"Voie étroite (ferroviaire)\",O65=\"Eingleisig (Bahnverkehr)\",O65=\"Mehrgleisig (Bahnverkehr)\",O65=\"Schmalspur (Bahnverkehr)\"),O56<2)),\"H zu klein!\",IF(AND(Accueil!AZ15=\"Deutsch\",AND(OR(O65=\"Trafic routier\",O65=\"Bord de route\",O65=\"Route d'importance secondaire\",O65=\"Strassenverkehr\",O65=\"Strassenrand\",O65=\"Untergeordnete Strasse\"),O56<1)),\"H zu klein!\",\"\"))","v":""}]
[null,null,null,null,"∆pv",{"$f":"Calculs!BL114","v":0},"kN/m2",null,null,null,"Beiwert Strass- und Bahnvekehrslasten",null,null,"α",{"$f":"Calculs!BT98","v":0.9}]
[null,"Bahnverkehr eingleisig",null,null,"peingleisig",{"$f":"Calculs!BN114","v":0},"kN/m2",null,null,null,"Dynamischer Beiwert",null,null,"Ψ",{"$f":"Calculs!BU98","v":1}]
[null,"Bahnverkehr mehrgleisig",null,null,"pmehrgleisig",{"$f":"Calculs!BO114","v":0},"kN/m2",null,null,null,"Strassenverkehr und untergeordnete",null,null,"pvtotal",{"$f":"Calculs!BS114","v":26.375859999999999},"kN/m2"]
[null,"Bahnverkehr schmalspur",null,null,"pschmal",{"$f":"Calculs!BP114","v":0},"kN/m2",null,null,null,"Strassen",null,null,"pvRad",{"$f":"Calculs!BT114","v":5.5099239999999998},"kN/m2"]
[null,null,null,null,null,null,null,null,null,null,null,null,null,"∆pv",{"$f":"Calculs!BU114","v":20.865935999999998},"kN/m2"]
["Resultate",null,null,null,null,null,null,null,null,null,"Strassenrand",null,null,"pvtotal",{"$f":"Calculs!BV114","v":0},"kN/m2"]
[null,null,null,null,null,null,null,null,null,null,null,null,null,"pvRad",{"$f":"Calculs!BW114","v":0},"kN/m2"]
[null,null,null,null,null,null,null,null,null,null,null,null,null,"∆pv",{"$f":"Calculs!BX114","v":0},"kN/m2"]
[null,null,null,null,null,null,null,null,null,null,"Bahnverkehr eingleisig",null,null,"peingleisig",{"$f":"Calculs!BZ114","v":0},"kN/m2"]
[null,null,null,null,null,null,null,null,null,null,"Bahnverkehr mehrgleisig",null,null,"pmehrgleisig",{"$f":"Calculs!CA114","v":0},"kN/m2"]
[null,null,null,null,null,null,null,null,null,null,"Bahnverkehr schmalspur",null,null,"pschmal",{"$f":"Calculs!CB114","v":0},"kN/m2"]
[]
[null,null,null,null,null,null,null,null,null,"Resultate"]
[]
[]
[]
[]
[]
[]
[]
[]
[]
[]
[]
[]
[]
[]
[]
[]
[]
[]
[]
[]
[]
[]
[]
[null,"Beanspruchungen",null,null,null,null,null,null,null,null,"Beanspruchungen"]
[]
[null,null,"Beanspruchungen",null,null,null,null,null,null,null,null,"Beanspruchungen"]
[null,null,"U1/V1",null,null,null,null,null,null,null,null,"U4/V4"]
[null,null,"Langzeit",null,"qs1",{"$f":"Calculs!BG198","v":62.127879886098889},"[kN/m2]",null,null,null,null,"Langzeit",null,"qs1",{"$f":"Calculs!CB198","v":113.89925205848927},"[kN/m2]"]
[null,null,"Kurzzeit",null,"qs2",{"$f":"Calculs!BK199","v":22.889774786435417},"[kN/m2]",null,null,null,null,"Kurzzeit",null,"qs2",{"$f":"Calculs!CB199","v":30.670690300884957},"[kN/m2]"]
[null,null,"Effektive Last auf Scheitel",null,"qser",{"$f":"Calculs!BK200","v":85.017654672534306},"[kN/m2]",null,null,null,null,"Effektive Last auf Scheitel",null,"qser",{"$f":"Calculs!CB200","v":144.56994235937424},"[kN/m2]"]
[null,null,"Erddruck",null,"qh",{"$f":"Calculs!BG202","v":96.404819783579114},"[kN/m2]",null,null,null,null,"Erddruck",null,"qh",{"$f":"Calculs!CB201","v":72.284971179687105},"[kN/m2]"]
[null,null,"Bemessungswert",null,"qds",{"$f":"Calculs!BK203","v":118.20730002588662},"[kN/m2]",null,null,null,null,"Bemessungswert",null,"qds",{"$f":"Calculs!CB202","v":199.77002573028795},"[kN/m2]"]
[]
[null,null,null,null,null,null,null,null,null,null,"Nachweise"]
[null,"Nachweise"]
[]
[null,null,null,"Verformungsnachweis (IOWA)",null,null,null,null,null,null,"Auftrieb"]
[null,null,null,null,"U1/V1",null,{"$f":"IF(Calculs!BK37<0.1,\"\",\"Steifes Rohr. Verformungsnachweis entfällt!\")","v":""},null,null,null,"Stabilisierend",null,"G + G' + Gsp",{"$f":"Calculs!BX177","v":42.534613187254998},"[kN/m]"]
[null,null,null,"x/d kurz",{"$f":"IF(Calculs!BK37<0.1,Calculs!BJ207,\"\")","v":1.3174961187265145E-2},null,null,null,null,null,null,null,"GR",{"$f":"Calculs!BX178","v":7.1786359430904811},"[kN/m]"]
[null,null,null,"x/d lang",{"$f":"IF(Calculs!BK37<0.1,Calculs!BJ208,\"\")","v":4.1107031934119499E-2},null,null,null,null,null,null,null,"Summe",{"$f":"Calculs!BX179","v":49.713249130345481},"[kN/m]","Faktor",0.9]
[null,null,null,"Summe",{"$f":"IF(Calculs!BK37<0.1,Calculs!BJ209,\"\")","v":5.4281993121384646E-2},{"$f":"IF(Calculs!BK37<0.1,Calculs!BK209,\"\")","v":"KO!"},null,null,null,null,"Destabilisierend",null,"FA",{"$f":"Calculs!BX180","v":0},"[kN/m]","Faktor",1.05]
[null,null,null,"Zugelassen",{"$f":"IF(Calculs!BK37<0.1,Calculs!BJ210,\"\")","v":0.05}]
[null,null,null,null,null,null,null,null,null,null,"Kontrolle:",null,"1.05*FA",{"$f":"Calculs!BX182","v":0},"[kN/m]",{"$f":"Calculs!BZ182","v":"OK"}]
[null,null,null,null,null,null,null,null,null,null,null,null,"0.9*Summe",{"$f":"Calculs!BX183","v":44.741924217310931},"[kN/m]"]
[null,"Auftrieb"]
[null,"Stabilisierend",null,"G + G' + Gsp",{"$f":"Calculs!BI177","v":24.343362938564084},"[kN/m]",null,null,null,null,"Tragfähigkeit"]
[null,null,null,"GR",{"$f":"Calculs!BI178","v":0.14963653994867818},"[kN/m]",null,null,null,null,{"$f":"IF(N138=\"\",\"\",\"Annahme: 5% des Bemessungswerts werden durch das PP-Rohr aufgenommen und eine initiale\")","v":""}]
[null,null,null,"Summe",{"$f":"Calculs!BI179","v":24.492999478512761},"[kN/m]","Faktor",0.9,null,null,{"$f":"IF(N138=\"\",\"\",\"Deformation von 0.02m [SIA190:2017;4.2.11.1.2].\")","v":""}]
[null,"Destabilisierend",null,"FA",{"$f":"Calculs!BI180","v":0},"[kN/m]","Faktor",1.05]
[]
[null,"Kontrolle:",null,"1.05*FA",{"$f":"Calculs!BI182","v":0},"[kN/m]",{"$f":"Calculs!BK182","v":"OK"},null,null,null,null,"Tragfähigkeit"]
[null,null,null,"0.9*Summe",{"$f":"Calculs!BI183","v":22.043699530661485},"[kN/m]",null,null,null,null,null,"U4/V4"]
[null,null,null,null,null,null,null,null,null,null,null,"qds",null,{"$f":"Calculs!BZ214","v":""},"[kN/m2]"]
[null,null,null,null,null,null,null,null,null,null,null,"qBl",null,{"$f":"Calculs!BZ215","v":""},"[kN/m2]"]
[null,"Tragfähigkeit",null,null,null,null,null,null,null,null,null,"pwd",null,{"$f":"Calculs!BZ216","v":""},"[kN/m2]"]
[null,null,null,null,null,null,null,null,null,null,null,"pcr",null,{"$f":"Calculs!BZ217","v":""},"[kN/m2]"]
[null,null,"Tragfähigkeit",null,null,null,null,null,null,null,null,"k",null,{"$f":"Calculs!BZ218","v":""},"[-]"]
[null,null,"U1/V1",null,null,null,null,null,null,null,null,"qBl/2*(1-2*pwd/k*pcr)",null,{"$f":"Calculs!BZ219","v":""},"[kN/m2]"]
[null,null,"qds",null,{"$f":"IF(Calculs!BK37<0.1,Calculs!BJ214,\"\")","v":118.20730002588662},"[kN/m2]",{"$f":"IF(Calculs!BK37<0.1,\"\",\"Steifes Rohr. Limite der Tragfähigkeitsformel überschritten!\")","v":""}]
[null,null,"qBl",null,{"$f":"IF(Calculs!BK37<0.1,Calculs!BJ215,\"\")","v":265.74661327582709},"[kN/m2]",null,null,null,null,null,"Resultate",null,{"$f":"Calculs!BZ221","v":""}]
[null,null,"pwd",null,{"$f":"IF(Calculs!BK37<0.1,Calculs!BJ216,\"\")","v":0},"[kN/m2]"]
[null,null,"pcr",null,{"$f":"IF(Calculs!BK37<0.1,Calculs!BJ217,\"\")","v":19.62473416485474},"[kN/m2]",null,null,null,null,{"$f":"IF(N138=\"\",\"Tragfähigkeitsnachweis nur nötig bei Grundwasser!\",\"\")","v":"Tragfähigkeitsnachweis nur nötig bei Grundwasser!"}]
[null,null,"k",null,{"$f":"IF(Calculs!BK37<0.1,Calculs!BJ218,\"\")","v":1},"[-]"]
[null,null,"qBl/2*(1-2*pwd/k*pcr)",null,{"$f":"IF(Calculs!BK37<0.1,Calculs!BJ219,\"\")","v":132.87330663791354},"[kN/m2]"]
[]
[null,null,"Resultate",null,{"$f":"IF(Calculs!BK37<0.1,Calculs!BJ221,\"\")","v":"OK"}]
[]
[]
[]
[]
[]
[]
[null,"Gebrauchstauglichkeit",null,null,null,null,null,null,null,null,"Gebrauchstauglichkeit"]
[]
[null,null,null,null,null,null,null,null,null,null,null,null,"σRbz,adm",{"$f":"Calculs!BT325","v":-0.3},"N/mm2"]
[null,null,null,"σRbz,adm",{"$f":"Calculs!BN315","v":8},"N/mm2"]
[null,null,null,null,null,null,null,null,null,null,null,null,"Spannungskonventionen:"]
[null,null,null,"Spannungskonventionen:",null,null,null,null,null,null,null,null,"Zug negatif -"]
[null,null,null,"Zug negatif -",null,null,null,null,null,null,null,null,"Druck positif +"]
[null,null,null,"Druck positif +"]
[]
[null,"Spannungen Verlegeprofil U1/V1",null,null,null,null,null,null,null,null,"Spannungen Verlegeprofil U4/V4"]
[null,"Spannungen in [N/mm2]",null,"0°","45°","90°","135°","180°",null,null,"Spannungen in [N/mm2]",null,"0°","45°","90°","135°","180°"]
[null,"Durch die Normalkraft",null,{"$f":"Calculs!BG322","v":0.90586704390081663},{"$f":"Calculs!BH322","v":1.1664377782595921},{"$f":"Calculs!BI322","v":1.2013554176982484},{"$f":"Calculs!BJ322","v":1.1676475608014285},{"$f":"Calculs!BK322","v":0.90644652989435281},null,null,"Durch die Normalkraft",null,{"$f":"Calculs!BT329","v":0.12260650483359126},{"$f":"Calculs!BU329","v":0.18866978783011701},{"$f":"Calculs!BV329","v":0.25839801150902558},{"$f":"Calculs!BW329","v":0.19348869108703937},{"$f":"Calculs!BX329","v":0.12491476011503427}]
[null,"Durch das Moment aussen",null,{"$f":"Calculs!BG323","v":2.6457097806578571},{"$f":"Calculs!BH323","v":-1.1907837207960086},{"$f":"Calculs!BI323","v":-0.24979937682967401},{"$f":"Calculs!BJ323","v":-1.2006559304960933},{"$f":"Calculs!BK323","v":2.6598043911273193},null,null,"Durch das Moment aussen",null,{"$f":"Calculs!BT330","v":0.27571102182571205},{"$f":"Calculs!BU330","v":-3.2932733983549838E-3},{"$f":"Calculs!BV330","v":-0.27845295805623993},{"$f":"Calculs!BW330","v":-1.9205073723689238E-3},{"$f":"Calculs!BX330","v":0.28120158994352185}]
[null,"Durch das Moment innen",null,{"$f":"Calculs!BG324","v":-2.6457097806578571},{"$f":"Calculs!BH324","v":1.1907837207960086},{"$f":"Calculs!BI324","v":0.24979937682967401},{"$f":"Calculs!BJ324","v":1.2006559304960933},{"$f":"Calculs!BK324","v":-2.6598043911273193},null,null,"Durch das Moment innen",null,{"$f":"Calculs!BT331","v":-0.40902184556561677},{"$f":"Calculs!BU331","v":4.885625371185965E-3},{"$f":"Calculs!BV331","v":0.41308955316035595},{"$f":"Calculs!BW331","v":2.8491043436242275E-3},{"$f":"Calculs!BX331","v":-0.4171671938722577}]
[]
[null,"Spannungen aussen",null,{"$f":"Calculs!BG326","v":3.5515768245586736},{"$f":"Calculs!BH326","v":-2.4345942536416532E-2},{"$f":"Calculs!BI326","v":0.95155604086857437},{"$f":"Calculs!BJ326","v":-3.3008369694664808E-2},{"$f":"Calculs!BK326","v":3.566250921021672},null,null,"Spannungen aussen",null,{"$f":"Calculs!BT333","v":0.39831752665930331},{"$f":"Calculs!BU333","v":0.18537651443176204},{"$f":"Calculs!BV333","v":-2.0054946547214347E-2},{"$f":"Calculs!BW333","v":0.19156818371467044},{"$f":"Calculs!BX333","v":0.40611635005855612}]
[null,"Spannungen innen","Spannungen innen",{"$f":"Calculs!BG327","v":-1.7398427367570406},{"$f":"Calculs!BH327","v":2.3572214990556004},{"$f":"Calculs!BI327","v":1.4511547945279224},{"$f":"Calculs!BJ327","v":2.3683034912975218},{"$f":"Calculs!BK327","v":-1.7533578612329666},null,null,"Spannungen innen","Spannungen innen",{"$f":"Calculs!BT334","v":-0.28641534073202551},{"$f":"Calculs!BU334","v":0.19355541320130298},{"$f":"Calculs!BV334","v":0.67148756466938153},{"$f":"Calculs!BW334","v":0.1963377954306636},{"$f":"Calculs!BX334","v":-0.29225243375722343}]
[]
[null,"Spannungen aussen",null,{"$f":"Calculs!BG329","v":"OK"},{"$f":"Calculs!BH329","v":"OK"},{"$f":"Calculs!BI329","v":"OK"},{"$f":"Calculs!BJ329","v":"OK"},{"$f":"Calculs!BK329","v":"OK"},null,null,"Spannungen aussen",null,{"$f":"Calculs!BT336","v":"OK"},{"$f":"Calculs!BU336","v":"OK"},{"$f":"Calculs!BV336","v":"OK"},{"$f":"Calculs!BW336","v":"OK"},{"$f":"Calculs!BX336","v":"OK"}]
[null,"Spannungen innen","Spannungen innen",{"$f":"Calculs!BG330","v":"OK"},{"$f":"Calculs!BH330","v":"OK"},{"$f":"Calculs!BI330","v":"OK"},{"$f":"Calculs!BJ330","v":"OK"},{"$f":"Calculs!BK330","v":"OK"},null,null,"Spannungen innen","Spannungen innen",{"$f":"Calculs!BT337","v":"OK"},{"$f":"Calculs!BU337","v":"OK"},{"$f":"Calculs!BV337","v":"OK"},{"$f":"Calculs!BW337","v":"OK"},{"$f":"Calculs!BX337","v":"OK"}]

{"sheet":"PP-SN12","index":20,"n_rows":170,"n_cols":17,"rows_kept":170,"cut":false,"hidden":false,"merged":[[168,1,168,2],[168,10,168,11],[169,1,169,2],[169,10,169,11],[165,1,165,2],[165,10,165,11],[166,1,166,2],[166,10,166,11],[167,1,167,2],[167,10,167,11],[162,1,162,2],[162,10,162,11],[163,1,163,2],[163,10,163,11],[164,1,164,2],[164,10,164,11],[161,1,161,2],[161,10,161,11],[138,2,138,3],[139,2,139,3],[140,2,140,3],[141,2,141,3],[142,2,142,5],[143,2,143,3],[159,1,159,7],[159,10,159,16],[160,1,160,2],[160,10,160,11],[136,6,138,7],[139,10,140,15],[135,2,135,5],[135,11,135,12],[136,2,136,3],[136,11,136,14],[137,2,137,3],[137,11,137,12],[130,11,130,12],[131,11,131,12],[132,11,132,12],[133,11,133,12],[134,2,134,5],[134,11,134,12],[127,1,127,2],[128,1,128,2],[128,6,129,7],[128,11,128,14],[129,1,129,2],[129,11,129,14],[126,1,126,2],[118,5,119,5],[118,10,118,11],[119,10,119,11],[120,10,120,11],[122,1,122,7],[123,1,123,2],[124,1,125,2],[120,15,121,16],[121,10,121,11],[115,6,117,7],[109,2,109,3],[109,11,109,12],[114,3,114,5],[114,10,114,16],[115,5,117,5],[115,10,115,11],[116,10,117,11],[106,2,106,3],[106,11,106,12],[107,2,107,3],[107,11,107,12],[108,2,108,3],[108,11,108,12],[103,2,103,6],[103,11,103,15],[104,2,104,6],[104,11,104,15],[105,2,105,3],[105,11,105,12],[77,9,77,17],[8,0,9,8],[8,9,9,17],[57,7,58,7],[64,16,65,16],[70,0,70,8],[11,4,11,6],[25,13,25,15]]}
[null,"Projet:",{"$f":"Accueil!P15","v":"VSA 2026"},null,null,"Ingénieur/e:",null,{"$f":"Accueil!AI15","v":0},null,null,"Projet:",{"$f":"Accueil!$P$15","v":"VSA 2026"},null,null,"Ingénieur/e:",null,{"$f":"Accueil!$AI$15","v":0}]
[]
[null,"N°:",{"$f":"Accueil!P17","v":0},null,null,"Responsable:",null,{"$f":"Accueil!AI17","v":0},null,null,"N°:",{"$f":"Accueil!P17","v":0},null,null,"Responsable:",null,{"$f":"Accueil!$AI$17","v":0}]
[]
[null,"Lieu:",{"$f":"Accueil!P21","v":0},null,null,"Maître d'ouvrage:",null,{"$f":"Accueil!AI19","v":0},null,null,"Lieu:",{"$f":"Accueil!$P$21","v":0},null,null,"Maître d'ouvrage:",null,{"$f":"Accueil!$AI$19","v":0}]
[null,null,{"$f":"Accueil!P23","v":0},null,null,null,null,null,null,null,null,{"$f":"Accueil!$P$23","v":0}]
[]
[]
["Données profil d'enrobage U1/V1",null,null,null,null,null,null,null,null,"Données profil d'enrobage U4/V4"]
[]
[]
[null,"Tuyau PP",null,null,{"$f":"IF(Données!$AE$6>F14,\"di max.< di introduit!\",\"\")","v":""},null,null,null,null,null,"Tuyau \"fictif\" en béton"]
[]
[null,"Diamètre intérieur ",null,null,"di",{"$f":"Calculs!CK32","v":369.4},"mm",null,null,null,"Diamètre intérieur ",null,null,"di",{"$f":"Calculs!CR31/1000","v":0.4},"m"]
[null,"Rayon moyen",null,null,"rm",{"$f":"Calculs!CO32","v":192.35},"mm",null,null,null,"Rayon moyen",null,null,"rm",{"$f":"Calculs!CU31/1000","v":0.28249999999999997},"m"]
[null,"Épaisseur de paroi",null,null,"e",{"$f":"Calculs!CN32","v":15.3},"mm",null,null,null,"Épaisseur de paroi",null,null,"e",{"$f":"Calculs!CT31/1000","v":0.16500000000000001},"m"]
[null,"Section",null,null,"A",{"$f":"Calculs!CJ316","v":1.5299999999999999E-2},"m2",null,null,null,"Section",null,null,"A",{"$f":"Calculs!CW316","v":0.16500000000000001},"m2"]
[null,"Module de flexion",null,null,"W",{"$f":"Calculs!CJ317","v":3.9015000000000005E-5},"m3",null,null,null,"Module de flexion",null,null,"W",{"$f":"Calculs!CW317","v":4.5374999999999999E-3},"m3"]
[null,"Module d'élasticité",null,null,"ER,court",{"$f":"Calculs!B12","v":1250},"N/mm2",null,null,null,"Module d'élasticité",null,null,"ER,court",{"$f":"Calculs!CS33","v":20000},"N/mm2"]
[]
[null,"Rigidité du système",null,null,"SFcourt",{"$f":"Calculs!CK37","v":1.7474519099907819E-2},{"$f":"Calculs!CL37","v":"souple"},null,null,null,"Rigidité du système",null,null,"SFcourt",{"$f":"Calculs!CR37","v":110.69397191899354},{"$f":"Calculs!CU37","v":"rigide"}]
[null,"Facteur de majoration de charge",null,null,"f",{"$f":"Calculs!CM41","v":1.0397712503249286},null,null,null,null,"Facteur de majoration de charge",null,null,"f",{"$f":"Calculs!CT41","v":1.2920353982300885}]
[null,"Effet de courbure:",null,null,"αka",{"$f":"Calculs!CG317","v":0.97348583311671433},null,null,null,null,"Effet de courbure:",null,null,"αka",{"$f":"Calculs!CT317","v":0.80530973451327437}]
[null,null,null,null,"αki",{"$f":"Calculs!CG316","v":1.0265141668832858},null,null,null,null,null,null,null,"αki",{"$f":"Calculs!CT316","v":1.1946902654867257}]
[]
[null,"Terrain",null,null,null,null,null,null,null,null,"Tuyau PP",null,null,{"$f":"IF(Données!$AE$6>O28,\"di max.< di introduit!\",\"\")","v":""}]
[]
[null,"Qualité du sol",null,null,null,{"$f":"Données!AE30","v":"Sol stable"},null,null,null,null,"Diamètre intérieur ",null,null,"di",{"$f":"Calculs!CK32","v":369.4},"mm"]
[null,"Poids volumique apparent hum.",null,null,"γ",{"$f":"Données!AE32","v":20},"kN/m3",null,null,null,"Rayon moyen",null,null,"rm",{"$f":"Calculs!CO32","v":192.35},"mm"]
[null,"Poids volumique déjaugé",null,null,"γ'",{"$f":"Données!AE34","v":11},"kN/m3",null,null,null,"Épaisseur de paroi",null,null,"e",{"$f":"Calculs!CN32","v":15.3},"mm"]
[null,"Module de déformation du sol",null,null,"EB",{"$f":"Données!AE38","v":5},"N/mm2"]
[null,"Coefficient de pression du terrain",null,null,"K",{"$f":"Données!AE40","v":0.5},null,null,null,null,"Terrain"]
[null,"Coefficient de flexion au tassement",null,null,"C2",{"$f":"Données!AE42","v":0.5}]
[null,"Type de béton d'enrobage",null,null,null,{"$f":"Données!AE50","v":"C16/20"},null,null,null,null,"Qualité du sol",null,null,null,{"$f":"Données!AE30","v":"Sol stable"}]
[null,"Réduction de charge",null,null,"λmin",{"$f":"Données!AE44","v":"NON"},null,null,null,null,"Poids volumique apparent hum.",null,null,"γ",{"$f":"Données!AE32","v":20},"kN/m3"]
[null,null,null,null,null,null,null,null,null,null,"Poids volumique déjaugé",null,null,"γ'",{"$f":"Données!AE34","v":11},"kN/m3"]
[null,"Eau",null,null,null,null,null,null,null,null,"Module de déformation du sol",null,null,"EB",{"$f":"Données!AE38","v":5},"N/mm2"]
[null,null,null,null,null,null,null,null,null,null,"Coefficient de pression du terrain",null,null,"K",{"$f":"Données!AE40","v":0.5}]
[null,"Eau souterraine",null,null,null,{"$f":"Données!AE60","v":"Sans eau souterraine"},null,null,null,null,"Coefficient de flexion au tassement",null,null,"C2",{"$f":"Données!AE42","v":0.5}]
[null,"Niveau d'eau souterraine",null,null,"hw",{"$f":"Données!AE62","v":1.3},"m",null,null,null,"Type de béton d'enrobage",null,null,null,{"$f":"Données!AE50","v":"C16/20"}]
[null,"Eau à l'intérieur du tuyau",null,null,null,{"$f":"Données!AE64","v":"Tuyau vide"},null,null,null,null,"Réduction de charge",null,null,"λmin",{"$f":"Données!AE44","v":"NON"}]
[null,"Pression",null,null,"pEi",{"$f":"Données!AE66","v":10},"kN/m2"]
[null,null,null,null,null,null,null,null,null,null,"Eau"]
[null,"Fouille"]
[null,null,null,null,null,null,null,null,null,null,"Eau souterraine",null,null,null,{"$f":"Données!AE60","v":"Sans eau souterraine"}]
[null,"Hauteur de couverture",null,null,"H",{"$f":"Données!AE52","v":3},"m",null,null,null,"Niveau d'eau souterraine",null,null,"hw",{"$f":"Données!AN68","v":0},"m"]
[null,"Type de fouille",null,null,null,{"$f":"Données!AE56","v":"Verticale (U)"},null,null,null,null,"Eau à l'intérieur du tuyau",null,null,null,{"$f":"Données!AE64","v":"Tuyau vide"}]
[null,"Largeur de fouille",null,null,"B",{"$f":"Données!$AE$54","v":1.5},"m",null,null,null,"Pression",null,null,"pEi",{"$f":"Données!AE66","v":10},"kN/m2"]
[null,"Angle de talus",null,null,"β",{"$f":"Données!AE58","v":30},"°"]
[]
[]
[]
[]
[null,"Actions",null,null,null,null,null,null,null,null,"Fouille"]
[]
[null,"Charge surfacique",null,null,null,{"$f":"Données!AE8","v":"Pas de charge"},null,null,null,null,"Hauteur de couverture",null,null,"H",{"$f":"Calculs!CU101","v":2.835},"m"]
[null,null,null,null,"qs",{"$f":"Calculs!CL128","v":0},"kN/m2",null,null,null,"Type de fouille",null,null,null,{"$f":"Données!$AE$56","v":"Verticale (U)"}]
[null,"Trafic ",null,null,null,{"$f":"Données!AE22","v":"Trafic routier"},null,{"$f":"IF(AND(Accueil!AZ15=\"Français\",AND(OR(F58=\"Voie unique (ferroviaire)\",F58=\"Voies multiples (ferroviaire)\",F58=\"Voie étroite (ferroviaire)\",F58=\"Eingleisig (Bahnverkehr)\",F58=\"Mehrgleisig (Bahnverkehr)\",F58=\"Schmalspur (Bahnverkehr)\"),F46<2)),\"H trop faible!\",\"\")","v":""},null,null,"Largeur de fouille",null,null,"B",{"$f":"Données!AE54","v":1.5},"m"]
[null,"Coefficient de charge",null,null,"α",{"$f":"Calculs!CH98","v":0.9},null,null,null,null,"Angle de talus",null,null,"β",{"$f":"Données!AE58","v":30},"°"]
[null,"Coefficient dynamique",null,null,"Ψ",{"$f":"Calculs!CI98","v":1}]
[null,"Trafic routier et route d'importance",null,null,"pvtotale",{"$f":"Calculs!CG114","v":24.562000000000001},"kN/m2",null,null,null,"Actions"]
[null,"secondaire",null,null,"pvroue",{"$f":"Calculs!CH114","v":4.9021999999999997},"kN/m2"]
[null,null,null,null,"∆pv",{"$f":"Calculs!CI114","v":19.659800000000001},"kN/m2",null,null,null,"Charge surfacique",null,null,null,{"$f":"Données!AE8","v":"Pas de charge"}]
[null,"Bord de route",null,null,"pvtotale",{"$f":"Calculs!CJ114","v":0},"kN/m2",null,null,null,null,null,null,"qs",{"$f":"Calculs!CW128","v":0},"kN/m2"]
[null,null,null,null,"pvroue",{"$f":"Calculs!CK114","v":0},"kN/m2",null,null,null,"Trafic ",null,null,null,{"$f":"Données!AE22","v":"Trafic routier"},null,{"$f":"IF(AND(Accueil!AZ15=\"Français\",AND(OR(O65=\"Voie unique (ferroviaire)\",O65=\"Voies multiples (ferroviaire)\",O65=\"Voie étroite (ferroviaire)\",O65=\"Eingleisig (Bahnverkehr)\",O65=\"Mehrgleisig (Bahnverkehr)\",O65=\"Schmalspur (Bahnverkehr)\"),O56<2)),\"H trop faible!\",IF(AND(Accueil!AZ15=\"Français\",AND(OR(O65=\"Trafic routier\",O65=\"Bord de route\",O65=\"Route d'importance secondaire\",O65=\"Strassenverkehr\",O65=\"Strassenrand\",O65=\"Untergeordnete Strasse\"),O56<1)),\"H trop faible!\",\"\"))","v":""}]
[null,null,null,null,"∆pv",{"$f":"Calculs!CL114","v":0},"kN/m2",null,null,null,"Coefficient de charge",null,null,"α",{"$f":"Calculs!CT98","v":0.9}]
[null,"Trafic ferroviaire voie unique",null,null,"punique",{"$f":"Calculs!CN114","v":0},"kN/m2",null,null,null,"Coefficient dynamique",null,null,"Ψ",{"$f":"Calculs!CU98","v":1}]
[null,"Trafic ferroviaire voies multiples",null,null,"pmultiples",{"$f":"Calculs!CO114","v":0},"kN/m2",null,null,null,"Trafic routier et route d'importance",null,null,"pvtotale",{"$f":"Calculs!CS114","v":26.375859999999999},"kN/m2"]
[null,"Trafic ferroviaire voie étroite",null,null,"pétroite",{"$f":"Calculs!CP114","v":0},"kN/m2",null,null,null,"secondaire",null,null,"pvroue",{"$f":"Calculs!CT114","v":5.5099239999999998},"kN/m2"]
[null,null,null,null,null,null,null,null,null,null,null,null,null,"∆pv",{"$f":"Calculs!CU114","v":20.865935999999998},"kN/m2"]
["Résultats",null,null,null,null,null,null,null,null,null,"Bord de route",null,null,"pvtotale",{"$f":"Calculs!CV114","v":0},"kN/m2"]
[null,null,null,null,null,null,null,null,null,null,null,null,null,"pvroue",{"$f":"Calculs!CW114","v":0},"kN/m2"]
[null,null,null,null,null,null,null,null,null,null,null,null,null,"∆pv",{"$f":"Calculs!CX114","v":0},"kN/m2"]
[null,null,null,null,null,null,null,null,null,null,"Trafic ferroviaire voie unique",null,null,"punique",{"$f":"Calculs!CZ114","v":0},"kN/m2"]
[null,null,null,null,null,null,null,null,null,null,"Trafic ferroviaire voies multiples",null,null,"pmultiples",{"$f":"Calculs!DA114","v":0},"kN/m2"]
[null,null,null,null,null,null,null,null,null,null,"Trafic ferroviaire voie étroite",null,null,"pétroite",{"$f":"Calculs!DB114","v":0},"kN/m2"]
[]
[null,null,null,null,null,null,null,null,null,"Résultats"]
[]
[]
[]
[]
[]
[]
[]
[]
[]
[]
[]
[]
[]
[]
[]
[]
[]
[]
[]
[]
[]
[]
[]
[null,"Sollicitations",null,null,null,null,null,null,null,null,"Sollicitations"]
[]
[null,null," Sollicitations",null,null,null,null,null,null,null,null," Sollicitations"]
[null,null,"U1/V1",null,null,null,null,null,null,null,null,"U4/V4"]
[null,null,"À long terme",null,"qs1",{"$f":"Calculs!CK198","v":62.386275019495713},"[kN/m2]",null,null,null,null,"À long terme",null,"qs1",{"$f":"Calculs!DB198","v":113.89925205848927},"[kN/m2]"]
[null,null,"À court terme",null,"qs2",{"$f":"Calculs!CK199","v":22.984975305432808},"[kN/m2]",null,null,null,null,"À court terme",null,"qs2",{"$f":"Calculs!DB199","v":30.670690300884957},"[kN/m2]"]
[null,null,"Charge eff. au sommet",null,"qser",{"$f":"Calculs!CK200","v":85.371250324928525},"[kN/m2]",null,null,null,null,"Charge eff. au sommet",null,"qser",{"$f":"Calculs!DB200","v":144.56994235937424},"[kN/m2]"]
[null,null,"Pression du terrain",null,"qh",{"$f":"Calculs!CG202","v":93.870426387650895},"[kN/m2]",null,null,null,null,"Pression du terrain",null,"qh",{"$f":"Calculs!DB201","v":72.284971179687105},"[kN/m2]"]
[null,null,"Charge de dim. au sommet",null,"qds",{"$f":"Calculs!CK203","v":118.69893423446842},"[kN/m2]",null,null,null,null,"Charge de dim. au sommet",null,"qds",{"$f":"Calculs!DB202","v":199.77002573028795},"[kN/m2]"]
[]
[null,null,null,null,null,null,null,null,null,null,"Vérifications"]
[null,"Vérifications"]
[]
[null,null,null,"Vérification de la déformation (IOWA)",null,null,null,null,null,null,"Poussée d'Archimède"]
[null,null,null,null,"U1/V1",null,{"$f":"IF(Calculs!CK37<0.1,\"\",\"Tuyau rigide. Pas nécessaire de vérifier la déformation!\")","v":""},null,null,null,"Actions stabilisant",null,"G + G' + Gsp",{"$f":"Calculs!CX177","v":42.534613187254998},"[kN/m]"]
[null,null,null,"x/d court",{"$f":"IF(Calculs!CK37<0.1,Calculs!CJ207,\"\")","v":1.2361577916450379E-2},null,null,null,null,null,null,null,"GR",{"$f":"Calculs!CX178","v":7.195419587683018},"[kN/m]"]
[null,null,null,"x/d long",{"$f":"(IF(Calculs!CK37<0.1,Calculs!CJ208,\"\"))","v":4.0493391896416125E-2},null,null,null,null,null,null,null,"Somme",{"$f":"Calculs!CX179","v":49.730032774938017},"[kN/m]","Facteur",0.9]
[null,null,null,"Somme",{"$f":"IF(Calculs!CK37<0.1,Calculs!CJ209,\"\")","v":5.2854969812866505E-2},{"$f":"IF(Calculs!CK37<0.1,Calculs!CK209,\"\")","v":"KO!"},null,null,null,null,"Actions déstabilisant",null,"FA",{"$f":"Calculs!CX180","v":0},"[kN/m]","Facteur",1.05]
[null,null,null,"Admissible",{"$f":"IF(Calculs!CK37<0.1,Calculs!CJ210,\"\")","v":0.05}]
[null,null,null,null,null,null,null,null,null,null,"Contôle:",null,"1.05*FA",{"$f":"Calculs!CX182","v":0},"[kN/m]",{"$f":"Calculs!CZ182","v":"OK"}]
[null,null,null,null,null,null,null,null,null,null,null,null,"0.9*Somme",{"$f":"Calculs!CX183","v":44.757029497444215},"[kN/m]"]
[null,"Poussée d'Archimède"]
[null,"Actions stabilisant",null,"G + G' + Gsp",{"$f":"Calculs!CI177","v":24.343362938564084},"[kN/m]",null,null,null,null,"Sécurité structurale"]
[null,null,null,"GR",{"$f":"Calculs!CI178","v":0.16642018454121632},"[kN/m]",null,null,null,null,{"$f":"IF(N138=\"\",\"\",\"Hypothèse: 5% de la charge de dimensionnement est reprise par le tuyau PP et une déformation initiale\")","v":""}]
[null,null,null,"Somme",{"$f":"Calculs!CI179","v":24.509783123105301},"[kN/m]","Facteur",0.9,null,null,{"$f":"IF(N138=\"\",\"\",\"de 0.02m est admis [SIA190:2017;4.2.11.1.2].\")","v":""}]
[null,"Actions déstabilisant",null,"FA",{"$f":"Calculs!CI180","v":0},"[kN/m]","Facteur",1.05]
[]
[null,"Contôle:",null,"1.05*FA",{"$f":"Calculs!CI182","v":0},"[kN/m]",{"$f":"Calculs!CK182","v":"OK"},null,null,null,null,"Sécurité structurale"]
[null,null,null,"0.9*Somme",{"$f":"Calculs!CI183","v":22.058804810794772},"[kN/m]",null,null,null,null,null,"U4/V4"]
[null,null,null,null,null,null,null,null,null,null,null,"qds",null,{"$f":"Calculs!CZ214","v":""},"[kN/m2]"]
[null,null,null,null,null,null,null,null,null,null,null,"qBl",null,{"$f":"Calculs!CZ215","v":""},"[kN/m2]"]
[null,"Sécurité structurale",null,null,null,null,null,null,null,null,null,"pwd",null,{"$f":"Calculs!CZ216","v":""},"[kN/m2]"]
[null,null,null,null,null,null,null,null,null,null,null,"pcr",null,{"$f":"Calculs!CZ217","v":""},"[kN/m2]"]
[null,null,"Sécurité structurale",null,null,null,null,null,null,null,null,"k",null,{"$f":"Calculs!CZ218","v":""},"[-]"]
[null,null,"U1/V1",null,null,null,null,null,null,null,null,"qBl/2*(1-2*pwd/k*pcr)",null,{"$f":"Calculs!CZ219","v":""},"[kN/m2]"]
[null,null,"qds",null,{"$f":"IF(Calculs!CK37<0.1,Calculs!CJ214,\"\")","v":118.69893423446842},"[kN/m2]",{"$f":"IF(Calculs!CK37<0.1,\"\",\"Tuyau rigide. Limite de la formule de la sécurité structurale est dépassée!\")","v":""}]
[null,null,"qBl",null,{"$f":"IF(Calculs!CK37<0.1,Calculs!CJ215,\"\")","v":299.92792341131866},"[kN/m2]",null,null,null,null,null,"Résultat",null,{"$f":"Calculs!CZ221","v":""}]
[null,null,"pwd",null,{"$f":"IF(Calculs!CK37<0.1,Calculs!CJ216,\"\")","v":0},"[kN/m2]"]
[null,null,"pcr",null,{"$f":"IF(Calculs!CK37<0.1,Calculs!CJ217,\"\")","v":28.029660875149901},"[kN/m2]",null,null,null,null,{"$f":"IF(N138=\"\",\"Vérification de la sécurité structurale que nécessaire lors de présence d'eau souterraine!\",\"\")","v":"Vérification de la sécurité structurale que nécessaire lors de présence d'eau souterraine!"}]
[null,null,"k",null,{"$f":"IF(Calculs!CK37<0.1,Calculs!CJ218,\"\")","v":1},"[-]"]
[null,null,"qBl/2*(1-2*pwd/k*pcr)",null,{"$f":"IF(Calculs!CK37<0.1,Calculs!CJ219,\"\")","v":149.96396170565933},"[kN/m2]"]
[]
[null,null,"Résultat",null,{"$f":"IF(Calculs!CK37<0.1,Calculs!CJ221,\"\")","v":"OK"}]
[]
[]
[]
[]
[]
[]
[null,"Aptitude au service",null,null,null,null,null,null,null,null,"Aptitude au service"]
[]
[null,null,null,null,null,null,null,null,null,null,null,null,"σRbz,adm",{"$f":"Calculs!CT325","v":-0.3},"N/mm2"]
[null,null,null,"σRbz,adm",{"$f":"Calculs!CN315","v":8},"N/mm2"]
[null,null,null,null,null,null,null,null,null,null,null,null,null,"Convention des contraintes:"]
[null,null,null,null,"Convention des contraintes:",null,null,null,null,null,null,null,null,"Traction négatif -"]
[null,null,null,null,"Traction négatif -",null,null,null,null,null,null,null,null,"Compression positif +"]
[null,null,null,null,"Compression positif +"]
[]
[null,"Contraintes Profil d'enrobage U1/V1",null,null,null,null,null,null,null,null,"Contraintes Profil d'enrobage U4/V4"]
[null,"Contraintes en [N/mm2]",null,"0°","45°","90°","135°","180°",null,null,"Contraintes en [N/mm2]",null,"0°","45°","90°","135°","180°"]
[null,"Effort normal",null,{"$f":"Calculs!CG322","v":0.78650358407081922},{"$f":"Calculs!CH322","v":1.0291562853508989},{"$f":"Calculs!CI322","v":1.0759977217925492},{"$f":"Calculs!CJ322","v":1.0303610571444393},{"$f":"Calculs!CK322","v":0.78708066991527526},null,null,"Effort normal",null,{"$f":"Calculs!CT329","v":0.12260380648417087},{"$f":"Calculs!CU329","v":0.18867686925334257},{"$f":"Calculs!CV329","v":0.25842344133302558},{"$f":"Calculs!CW329","v":0.19350703910188921},{"$f":"Calculs!CX329","v":0.12491745846445466}]
[null,"Moment extérieur",null,{"$f":"Calculs!CG323","v":2.5971906952605179},{"$f":"Calculs!CH323","v":-0.89697607819797731},{"$f":"Calculs!CI323","v":-0.79211273260641191},{"$f":"Calculs!CJ323","v":-0.90551038202986145},{"$f":"Calculs!CK323","v":2.6093751698404595},null,null,"Moment extérieur",null,{"$f":"Calculs!CT330","v":0.27575720089020206},{"$f":"Calculs!CU330","v":-3.3009730686965623E-3},{"$f":"Calculs!CV330","v":-0.27850554776525255},{"$f":"Calculs!CW330","v":-1.9249975169355307E-3},{"$f":"Calculs!CX330","v":0.28126060595149688}]
[null,"Moment intérieur",null,{"$f":"Calculs!CG324","v":-2.7386665034936679},{"$f":"Calculs!CH324","v":0.9458367243801904},{"$f":"Calculs!CI324","v":0.83526119654545283},{"$f":"Calculs!CJ324","v":0.95483591418849745},{"$f":"Calculs!CK324","v":-2.7515146984512615},null,null,"Moment intérieur",null,{"$f":"Calculs!CT331","v":-0.40909035296898105},{"$f":"Calculs!CU331","v":4.8970479590553393E-3},{"$f":"Calculs!CV331","v":0.41316757086053951},{"$f":"Calculs!CW331","v":2.855765547102161E-3},{"$f":"Calculs!CX331","v":-0.41725474509287996}]
[]
[null,"Contraintes extérieur",null,{"$f":"Calculs!CG326","v":3.3836942793313369},{"$f":"Calculs!CH326","v":0.13218020715292156},{"$f":"Calculs!CI326","v":0.28388498918613725},{"$f":"Calculs!CJ326","v":0.12485067511457781},{"$f":"Calculs!CK326","v":3.3964558397557347},null,null,"Contraintes extérieur",null,{"$f":"Calculs!CT333","v":0.39836100737437291},{"$f":"Calculs!CU333","v":0.18537589618464601},{"$f":"Calculs!CV333","v":-2.0082106432226965E-2},{"$f":"Calculs!CW333","v":0.19158204158495368},{"$f":"Calculs!CX333","v":0.40617806441595156}]
[null,"Conraintes intérieur",null,{"$f":"Calculs!CG327","v":-1.9521629194228487},{"$f":"Calculs!CH327","v":1.9749930097310893},{"$f":"Calculs!CI327","v":1.911258918338002},{"$f":"Calculs!CJ327","v":1.9851969713329367},{"$f":"Calculs!CK327","v":-1.9644340285359863},null,null,"Conraintes intérieur",null,{"$f":"Calculs!CT334","v":-0.2864865464848102},{"$f":"Calculs!CU334","v":0.19357391721239792},{"$f":"Calculs!CV334","v":0.6715910121935651},{"$f":"Calculs!CW334","v":0.19636280464899136},{"$f":"Calculs!CX334","v":-0.29233728662842529}]
[]
[null,"Contraintes extérieures",null,{"$f":"Calculs!CG329","v":"OK"},{"$f":"Calculs!CH329","v":"OK"},{"$f":"Calculs!CI329","v":"OK"},{"$f":"Calculs!CJ329","v":"OK"},{"$f":"Calculs!CK329","v":"OK"},null,null,"Contraintes extérieures",null,{"$f":"Calculs!CT336","v":"OK"},{"$f":"Calculs!CU336","v":"OK"},{"$f":"Calculs!CV336","v":"OK"},{"$f":"Calculs!CW336","v":"OK"},{"$f":"Calculs!CX336","v":"OK"}]
[null,"Conraintes intérieures",null,{"$f":"Calculs!CG330","v":"OK"},{"$f":"Calculs!CH330","v":"OK"},{"$f":"Calculs!CI330","v":"OK"},{"$f":"Calculs!CJ330","v":"OK"},{"$f":"Calculs!CK330","v":"OK"},null,null,"Conraintes intérieures",null,{"$f":"Calculs!CT337","v":"OK"},{"$f":"Calculs!CU337","v":"OK"},{"$f":"Calculs!CV337","v":"OK"},{"$f":"Calculs!CW337","v":"OK"},{"$f":"Calculs!CX337","v":"OK"}]

{"sheet":"PP-SN12 (D)","index":21,"n_rows":170,"n_cols":17,"rows_kept":170,"cut":false,"hidden":false,"merged":[[154,12,154,14],[155,12,155,14],[156,12,156,14],[168,1,168,2],[168,10,168,11],[169,1,169,2],[169,10,169,11],[155,3,155,5],[156,3,156,5],[157,3,157,5],[165,1,165,2],[165,10,165,11],[166,1,166,2],[166,10,166,11],[167,1,167,2],[167,10,167,11],[164,1,164,2],[164,10,164,11],[159,1,159,7],[159,10,159,16],[143,2,143,3],[135,2,135,5],[135,11,135,12],[136,2,136,3],[136,6,138,7],[136,11,136,14],[137,2,137,3],[137,11,137,12],[138,2,138,3],[139,2,139,3],[140,2,140,3],[141,2,141,3],[142,2,142,5],[139,10,139,15],[130,11,130,12],[131,11,131,12],[132,11,132,12],[133,11,133,12],[134,2,134,5],[134,11,134,12],[127,1,127,2],[128,1,128,2],[128,6,129,7],[128,11,128,14],[129,1,129,2],[129,11,129,14],[122,1,122,7],[123,1,123,2],[126,1,126,2],[124,1,125,2],[120,10,120,11],[118,5,119,5],[118,10,118,11],[119,10,119,11],[120,15,121,16],[121,10,121,11],[114,3,114,5],[114,10,114,16],[115,5,117,5],[115,6,117,7],[115,10,115,11],[116,10,117,11],[107,2,107,3],[107,11,107,12],[108,2,108,3],[108,11,108,12],[109,2,109,3],[109,11,109,12],[70,0,70,8],[105,2,105,3],[105,11,105,12],[106,2,106,3],[106,11,106,12],[77,9,77,17],[103,2,103,6],[103,11,103,15],[104,2,104,6],[104,11,104,15],[64,16,65,16],[8,0,9,8],[8,9,9,17],[57,7,58,7],[11,4,11,6],[25,13,25,15]]}
[null,"Projekt:",{"$f":"Accueil!P15","v":"VSA 2026"},null,null,"Ingenieur/in:",null,{"$f":"Accueil!AI15","v":0},null,null,"Projekt:",{"$f":"Accueil!$P$15","v":"VSA 2026"},null,null,"Ingenieur/in:",null,{"$f":"Accueil!$AI$15","v":0}]
[]
[null,"N°:",{"$f":"Accueil!P17","v":0},null,null,"Vernatworlticher:",null,{"$f":"Accueil!AI17","v":0},null,null,"N°:",{"$f":"Accueil!P17","v":0},null,null,"Vernatworlticher:",null,{"$f":"Accueil!$AI$17","v":0}]
[]
[null,"Ort:",{"$f":"Accueil!P21","v":0},null,null,"Bauherr:",null,{"$f":"Accueil!AI19","v":0},null,null,"Ort:",{"$f":"Accueil!$P$21","v":0},null,null,"Bauherr:",null,{"$f":"Accueil!$AI$19","v":0}]
[null,null,{"$f":"Accueil!P23","v":0},null,null,null,null,null,null,null,null,{"$f":"Accueil!$P$23","v":0}]
[]
[]
["Daten Normalverlegeprofil U1/V1",null,null,null,null,null,null,null,null,"Daten Normalverlegeprofil U4/V4"]
[]
[]
[null,"PP-Rohr",null,null,{"$f":"IF(Données!$AE$6>F14,\"di max.< di Eingabe!\",\"\")","v":""},null,null,null,null,null,"\"Fiktives\" Betonrohr"]
[]
[null,"Innendurchmesser",null,null,"di",{"$f":"Calculs!CK32","v":369.4},"mm",null,null,null,"Innendurchmesser",null,null,"di",{"$f":"Calculs!CR31/1000","v":0.4},"m"]
[null,"Radius",null,null,"rm",{"$f":"Calculs!CO32","v":192.35},"mm",null,null,null,"Radius",null,null,"rm",{"$f":"Calculs!CU31/1000","v":0.28249999999999997},"m"]
[null,"Wanddicke",null,null,"e",{"$f":"Calculs!CN32","v":15.3},"mm",null,null,null,"Wanddicke",null,null,"e",{"$f":"Calculs!CT31/1000","v":0.16500000000000001},"m"]
[null,"Querschnittsfläche",null,null,"A",{"$f":"Calculs!CJ316","v":1.5299999999999999E-2},"m2",null,null,null,"Querschnittsfläche",null,null,"A",{"$f":"Calculs!CW316","v":0.16500000000000001},"m2"]
[null,"Widerstandsmoment",null,null,"W",{"$f":"Calculs!CJ317","v":3.9015000000000005E-5},"m3",null,null,null,"Widerstandsmoment",null,null,"W",{"$f":"Calculs!CW317","v":4.5374999999999999E-3},"m3"]
[null,"E-Modul",null,null,"ER,kurz",{"$f":"Calculs!B12","v":1250},"N/mm2",null,null,null,"E-Modul",null,null,"ER,kurz",{"$f":"Calculs!CS33","v":20000},"N/mm2"]
[]
[null,"Systemsteifigkeit",null,null,"SFkurz",{"$f":"Calculs!CK37","v":1.7474519099907819E-2},{"$f":"Calculs!CL37","v":"souple"},null,null,null,"Systemsteifigkeit",null,null,"SFkurz",{"$f":"Calculs!CR37","v":110.69397191899354},{"$f":"Calculs!CU37","v":"rigide"}]
[null,"Lastvergrösserungsfaktor",null,null,"f",{"$f":"Calculs!CM41","v":1.0397712503249286},null,null,null,null,"Lastvergrösserungsfaktor",null,null,"f",{"$f":"Calculs!CT41","v":1.2920353982300885}]
[null,"Krümmungseinfluss",null,null,"αka",{"$f":"Calculs!CG317","v":0.97348583311671433},null,null,null,null,"Krümmungseinfluss",null,null,"αka",{"$f":"Calculs!CT317","v":0.80530973451327437}]
[null,null,null,null,"αki",{"$f":"Calculs!CG316","v":1.0265141668832858},null,null,null,null,null,null,null,"αki",{"$f":"Calculs!CT316","v":1.1946902654867257}]
[]
[null,"Terrain",null,null,null,null,null,null,null,null,"PP-Rohr",null,null,{"$f":"IF(Données!$AE$6>O28,\"di max.< di Eingabe!\",\"\")","v":""}]
[]
[null,"Bodenqualität",null,null,null,{"$f":"Données!AE30","v":"Sol stable"},null,null,null,null,"Innendurchmesser",null,null,"di",{"$f":"Calculs!CK32","v":369.4},"mm"]
[null,"Feuchtraumgewicht des Baugrunds",null,null,"γ",{"$f":"Données!AE32","v":20},"kN/m3",null,null,null,"Radius",null,null,"rm",{"$f":"Calculs!CO32","v":192.35},"mm"]
[null,"Raumgewicht unter Auftrieb",null,null,"γ'",{"$f":"Données!AE34","v":11},"kN/m3",null,null,null,"Wanddicke",null,null,"e",{"$f":"Calculs!CN32","v":15.3},"mm"]
[null,"Verformungsmodul des Bodens",null,null,"EB",{"$f":"Données!AE38","v":5},"N/mm2"]
[null,"Erddruckbeiwert",null,null,"K",{"$f":"Données!AE40","v":0.5},null,null,null,null,"Terrain"]
[null,"Setzungs-Durchbiegungsziffer",null,null,"C2",{"$f":"Données!AE42","v":0.5}]
[null,"Hüllbeton",null,null,null,{"$f":"Données!AE50","v":"C16/20"},null,null,null,null,"Bodenqualität",null,null,null,{"$f":"Données!AE30","v":"Sol stable"}]
[null,"Lastminderung",null,null,"λmin",{"$f":"Données!AE44","v":"NON"},null,null,null,null,"Feuchtraumgewicht des Baugrunds",null,null,"γ",{"$f":"Données!AE32","v":20},"kN/m3"]
[null,null,null,null,null,null,null,null,null,null,"Raumgewicht unter Auftrieb",null,null,"γ'",{"$f":"Données!AE34","v":11},"kN/m3"]
[null,"Wasser",null,null,null,null,null,null,null,null,"Verformungsmodul des Bodens",null,null,"EB",{"$f":"Données!AE38","v":5},"N/mm2"]
[null,null,null,null,null,null,null,null,null,null,"Erddruckbeiwert",null,null,"K",{"$f":"Données!AE40","v":0.5}]
[null,"Grundwasser",null,null,null,{"$f":"Données!AE60","v":"Sans eau souterraine"},null,null,null,null,"Setzungs-Durchbiegungsziffer",null,null,"C2",{"$f":"Données!AE42","v":0.5}]
[null,"Grwundwasserspiegel",null,null,"hw",{"$f":"Données!AE62","v":1.3},"m",null,null,null,"Hüllbeton",null,null,null,{"$f":"Données!AE50","v":"C16/20"}]
[null,"Wasser im Rohr",null,null,null,{"$f":"Données!AE64","v":"Tuyau vide"},null,null,null,null,"Lastminderung",null,null,"λmin",{"$f":"Données!AE44","v":"NON"}]
[null,"Druck",null,null,"pEi",{"$f":"Données!AE66","v":10},"kN/m2"]
[null,null,null,null,null,null,null,null,null,null,"Wasser"]
[null,"Graben"]
[null,null,null,null,null,null,null,null,null,null,"Grundwasser",null,null,null,{"$f":"Données!AE60","v":"Sans eau souterraine"}]
[null,"Überdeckungshöhe",null,null,"H",{"$f":"Données!AE52","v":3},"m",null,null,null,"Grwundwasserspiegel",null,null,"hw",{"$f":"Données!AN68","v":0},"m"]
[null,"Grabentyp",null,null,null,{"$f":"Données!AE56","v":"Verticale (U)"},null,null,null,null,"Wasser im Rohr",null,null,null,{"$f":"Données!AE64","v":"Tuyau vide"}]
[null,"Grabenbreite",null,null,"B",{"$f":"Données!$AE$54","v":1.5},"m",null,null,null,"Druck",null,null,"pEi",{"$f":"Données!AE66","v":10},"kN/m2"]
[null,"Böschungsneigung",null,null,"β",{"$f":"Données!AE58","v":30},"°"]
[]
[]
[]
[]
[null,"Einwirkungen",null,null,null,null,null,null,null,null,"Graben"]
[]
[null,"Flächenlast",null,null,null,{"$f":"Données!AE8","v":"Pas de charge"},null,null,null,null,"Überdeckungshöhe",null,null,"H",{"$f":"Calculs!CU101","v":2.835},"m"]
[null,null,null,null,"qs",{"$f":"Calculs!CL128","v":0},"kN/m2",null,null,null,"Grabentyp",null,null,null,{"$f":"Données!$AE$56","v":"Verticale (U)"}]
[null,"Verkehr",null,null,null,{"$f":"Données!AE22","v":"Trafic routier"},null,{"$f":"IF(AND(Accueil!AZ15=\"Deutsch\",AND(OR(F58=\"Voie unique (ferroviaire)\",F58=\"Voies multiples (ferroviaire)\",F58=\"Voie étroite (ferroviaire)\",F58=\"Eingleisig (Bahnverkehr)\",F58=\"Mehrgleisig (Bahnverkehr)\",F58=\"Schmalspur (Bahnverkehr)\"),F46<2)),\"H zu klein!\",\"\")","v":""},null,null,"Grabenbreite",null,null,"B",{"$f":"Données!AE54","v":1.5},"m"]
[null,"Beiwert Strass- und Bahnvekehrslasten",null,null,"α",{"$f":"Calculs!CH98","v":0.9},null,null,null,null,"Böschungsneigung",null,null,"β",{"$f":"Données!AE58","v":30},"°"]
[null,"Dynamischer Beiwert",null,null,"Ψ",{"$f":"Calculs!CI98","v":1}]
[null,"Strassenverkehr und untergeordnete",null,null,"pvtotal",{"$f":"Calculs!CG114","v":24.562000000000001},"kN/m2",null,null,null,"Einwirkungen"]
[null,"Strassen",null,null,"pvRad",{"$f":"Calculs!CH114","v":4.9021999999999997},"kN/m2"]
[null,null,null,null,"∆pv",{"$f":"Calculs!CI114","v":19.659800000000001},"kN/m2",null,null,null,"Flächenlast",null,null,null,{"$f":"Données!AE8","v":"Pas de charge"}]
[null,"Strassenrand",null,null,"pvtotal",{"$f":"Calculs!CJ114","v":0},"kN/m2",null,null,null,null,null,null,"qs",{"$f":"Calculs!CW128","v":0},"kN/m2"]
[null,null,null,null,"pvRad",{"$f":"Calculs!CK114","v":0},"kN/m2",null,null,null,"Verkehr",null,null,null,{"$f":"Données!AE22","v":"Trafic routier"},null,{"$f":"IF(AND(Accueil!AZ15=\"Deutsch\",AND(OR(O65=\"Voie unique (ferroviaire)\",O65=\"Voies multiples (ferroviaire)\",O65=\"Voie étroite (ferroviaire)\",O65=\"Eingleisig (Bahnverkehr)\",O65=\"Mehrgleisig (Bahnverkehr)\",O65=\"Schmalspur (Bahnverkehr)\"),O56<2)),\"H zu klein!\",IF(AND(Accueil!AZ15=\"Deutsch\",AND(OR(O65=\"Trafic routier\",O65=\"Bord de route\",O65=\"Route d'importance secondaire\",O65=\"Strassenverkehr\",O65=\"Strassenrand\",O65=\"Untergeordnete Strasse\"),O56<1)),\"H zu klein!\",\"\"))","v":""}]
[null,null,null,null,"∆pv",{"$f":"Calculs!CL114","v":0},"kN/m2",null,null,null,"Beiwert Strass- und Bahnvekehrslasten",null,null,"α",{"$f":"Calculs!CT98","v":0.9}]
[null,"Bahnverkehr eingleisig",null,null,"peingleisig",{"$f":"Calculs!CN114","v":0},"kN/m2",null,null,null,"Dynamischer Beiwert",null,null,"Ψ",{"$f":"Calculs!CU98","v":1}]
[null,"Bahnverkehr mehrgleisig",null,null,"pmehrgleisig",{"$f":"Calculs!CO114","v":0},"kN/m2",null,null,null,"Strassenverkehr und untergeordnete",null,null,"pvtotal",{"$f":"Calculs!CS114","v":26.375859999999999},"kN/m2"]
[null,"Bahnverkehr schmalspur",null,null,"pschmal",{"$f":"Calculs!CP114","v":0},"kN/m2",null,null,null,"Strassen",null,null,"pvRad",{"$f":"Calculs!CT114","v":5.5099239999999998},"kN/m2"]
[null,null,null,null,null,null,null,null,null,null,null,null,null,"∆pv",{"$f":"Calculs!CU114","v":20.865935999999998},"kN/m2"]
["Resultate",null,null,null,null,null,null,null,null,null,"Strassenrand",null,null,"pvtotal",{"$f":"Calculs!CV114","v":0},"kN/m2"]
[null,null,null,null,null,null,null,null,null,null,null,null,null,"pvRad",{"$f":"Calculs!CW114","v":0},"kN/m2"]
[null,null,null,null,null,null,null,null,null,null,null,null,null,"∆pv",{"$f":"Calculs!CX114","v":0},"kN/m2"]
[null,null,null,null,null,null,null,null,null,null,"Bahnverkehr eingleisig",null,null,"peingleisig",{"$f":"Calculs!CZ114","v":0},"kN/m2"]
[null,null,null,null,null,null,null,null,null,null,"Bahnverkehr mehrgleisig",null,null,"pmehrgleisig",{"$f":"Calculs!DA114","v":0},"kN/m2"]
[null,null,null,null,null,null,null,null,null,null,"Bahnverkehr schmalspur",null,null,"pschmal",{"$f":"Calculs!DB114","v":0},"kN/m2"]
[]
[null,null,null,null,null,null,null,null,null,"Resultate"]
[]
[]
[]
[]
[]
[]
[]
[]
[]
[]
[]
[]
[]
[]
[]
[]
[]
[]
[]
[]
[]
[]
[]
[null,"Beanspruchungen",null,null,null,null,null,null,null,null,"Beanspruchungen"]
[]
[null,null,"Beanspruchungen",null,null,null,null,null,null,null,null,"Beanspruchungen"]
[null,null,"U1/V1",null,null,null,null,null,null,null,null,"U4/V4"]
[null,null,"Langzeit",null,"qs1",{"$f":"Calculs!CK198","v":62.386275019495713},"[kN/m2]",null,null,null,null,"Langzeit",null,"qs1",{"$f":"Calculs!DB198","v":113.89925205848927},"[kN/m2]"]
[null,null,"Kurzzeit",null,"qs2",{"$f":"Calculs!CK199","v":22.984975305432808},"[kN/m2]",null,null,null,null,"Kurzzeit",null,"qs2",{"$f":"Calculs!DB199","v":30.670690300884957},"[kN/m2]"]
[null,null,"Effektive Last auf Scheitel",null,"qser",{"$f":"Calculs!CK200","v":85.371250324928525},"[kN/m2]",null,null,null,null,"Effektive Last auf Scheitel",null,"qser",{"$f":"Calculs!DB200","v":144.56994235937424},"[kN/m2]"]
[null,null,"Erddruck",null,"qh",{"$f":"Calculs!CG202","v":93.870426387650895},"[kN/m2]",null,null,null,null,"Erddruck",null,"qh",{"$f":"Calculs!DB201","v":72.284971179687105},"[kN/m2]"]
[null,null,"Bemessungswert",null,"qds",{"$f":"Calculs!CK203","v":118.69893423446842},"[kN/m2]",null,null,null,null,"Bemessungswert",null,"qds",{"$f":"Calculs!DB202","v":199.77002573028795},"[kN/m2]"]
[]
[null,null,null,null,null,null,null,null,null,null,"Nachweise"]
[null,"Nachweise"]
[]
[null,null,null,"Verformungsnachweis (IOWA)",null,null,null,null,null,null,"Auftrieb"]
[null,null,null,null,"U1/V1",null,{"$f":"IF(Calculs!CK37<0.1,\"\",\"Steifes Rohr. Verformungsnachweis entfällt!\")","v":""},null,null,null,"Stabilisierend",null,"G + G' + Gsp",{"$f":"Calculs!CX177","v":42.534613187254998},"[kN/m]"]
[null,null,null,"x/d kurz",{"$f":"IF(Calculs!CK37<0.1,Calculs!CJ207,\"\")","v":1.2361577916450379E-2},null,null,null,null,null,null,null,"GR",{"$f":"Calculs!CX178","v":7.195419587683018},"[kN/m]"]
[null,null,null,"x/d lang",{"$f":"(IF(Calculs!CK37<0.1,Calculs!CJ208,\"\"))","v":4.0493391896416125E-2},null,null,null,null,null,null,null,"Summe",{"$f":"Calculs!CX179","v":49.730032774938017},"[kN/m]","Faktor",0.9]
[null,null,null,"Summe",{"$f":"IF(Calculs!CK37<0.1,Calculs!CJ209,\"\")","v":5.2854969812866505E-2},{"$f":"IF(Calculs!CK37<0.1,Calculs!CK209,\"\")","v":"KO!"},null,null,null,null,"Destabilisierend",null,"FA",{"$f":"Calculs!CX180","v":0},"[kN/m]","Faktor",1.05]
[null,null,null,"Zugelassen",{"$f":"IF(Calculs!CK37<0.1,Calculs!CJ210,\"\")","v":0.05}]
[null,null,null,null,null,null,null,null,null,null,"Kontrolle:",null,"1.05*FA",{"$f":"Calculs!CX182","v":0},"[kN/m]",{"$f":"Calculs!CZ182","v":"OK"}]
[null,null,null,null,null,null,null,null,null,null,null,null,"0.9*Summe",{"$f":"Calculs!CX183","v":44.757029497444215},"[kN/m]"]
[null,"Auftrieb"]
[null,"Stabilisierend",null,"G + G' + Gsp",{"$f":"Calculs!CI177","v":24.343362938564084},"[kN/m]",null,null,null,null,"Tragfähigkeit"]
[null,null,null,"GR",{"$f":"Calculs!CI178","v":0.16642018454121632},"[kN/m]",null,null,null,null,{"$f":"IF(N138=\"\",\"\",\"Annahme: 5% des Bemessungswerts werden durch das PP-Rohr aufgenommen und eine initiale\")","v":""}]
[null,null,null,"Summe",{"$f":"Calculs!CI179","v":24.509783123105301},"[kN/m]","Faktor",0.9,null,null,{"$f":"IF(N138=\"\",\"\",\"Deformation von 0.02m [SIA190:2017;4.2.11.1.2].\")","v":""}]
[null,"Destabilisierend",null,"FA",{"$f":"Calculs!CI180","v":0},"[kN/m]","Faktor",1.05]
[]
[null,"Kontrolle:",null,"1.05*FA",{"$f":"Calculs!CI182","v":0},"[kN/m]",{"$f":"Calculs!CK182","v":"OK"},null,null,null,null,"Tragfähigkeit"]
[null,null,null,"0.9*Summe",{"$f":"Calculs!CI183","v":22.058804810794772},"[kN/m]",null,null,null,null,null,"U4/V4"]
[null,null,null,null,null,null,null,null,null,null,null,"qds",null,{"$f":"Calculs!CZ214","v":""},"[kN/m2]"]
[null,null,null,null,null,null,null,null,null,null,null,"qBl",null,{"$f":"Calculs!CZ215","v":""},"[kN/m2]"]
[null,"Tragfähigkeit",null,null,null,null,null,null,null,null,null,"pwd",null,{"$f":"Calculs!CZ216","v":""},"[kN/m2]"]
[null,null,null,null,null,null,null,null,null,null,null,"pcr",null,{"$f":"Calculs!CZ217","v":""},"[kN/m2]"]
[null,null,"Tragfähigkeit",null,null,null,null,null,null,null,null,"k",null,{"$f":"Calculs!CZ218","v":""},"[-]"]
[null,null,"U1/V1",null,null,null,null,null,null,null,null,"qBl/2*(1-2*pwd/k*pcr)",null,{"$f":"Calculs!CZ219","v":""},"[kN/m2]"]
[null,null,"qds",null,{"$f":"IF(Calculs!CK37<0.1,Calculs!CJ214,\"\")","v":118.69893423446842},"[kN/m2]",{"$f":"IF(Calculs!CK37<0.1,\"\",\"Steifes Rohr. Limite der Tragfähigkeitsformel überschritten!\")","v":""}]
[null,null,"qBl",null,{"$f":"IF(Calculs!CK37<0.1,Calculs!CJ215,\"\")","v":299.92792341131866},"[kN/m2]",null,null,null,null,null,"Resultate",null,{"$f":"Calculs!CZ221","v":""}]
[null,null,"pwd",null,{"$f":"IF(Calculs!CK37<0.1,Calculs!CJ216,\"\")","v":0},"[kN/m2]"]
[null,null,"pcr",null,{"$f":"IF(Calculs!CK37<0.1,Calculs!CJ217,\"\")","v":28.029660875149901},"[kN/m2]",null,null,null,null,{"$f":"IF(N138=\"\",\"Tragfähigkeitsnachweis nur nötig bei Grundwasser!\",\"\")","v":"Tragfähigkeitsnachweis nur nötig bei Grundwasser!"}]
[null,null,"k",null,{"$f":"IF(Calculs!CK37<0.1,Calculs!CJ218,\"\")","v":1},"[-]"]
[null,null,"qBl/2*(1-2*pwd/k*pcr)",null,{"$f":"IF(Calculs!CK37<0.1,Calculs!CJ219,\"\")","v":149.96396170565933},"[kN/m2]"]
[]
[null,null,"Resultate",null,{"$f":"IF(Calculs!CK37<0.1,Calculs!CJ221,\"\")","v":"OK"}]
[]
[]
[]
[]
[]
[]
[null,"Gebrauchstauglichkeit",null,null,null,null,null,null,null,null,"Gebrauchstauglichkeit"]
[]
[null,null,null,null,null,null,null,null,null,null,null,null,"σRbz,adm",{"$f":"Calculs!CT325","v":-0.3},"N/mm2"]
[null,null,null,"σRbz,adm",{"$f":"Calculs!CN315","v":8},"N/mm2"]
[null,null,null,null,null,null,null,null,null,null,null,null,"Spannungskonventionen:"]
[null,null,null,"Spannungskonventionen:",null,null,null,null,null,null,null,null,"Zug negatif -"]
[null,null,null,"Zug negatif -",null,null,null,null,null,null,null,null,"Druck positif +"]
[null,null,null,"Druck positif +"]
[]
[null,"Spannungen Verlegeprofil U1/V1",null,null,null,null,null,null,null,null,"Spannungen Verlegeprofil U4/V4"]
[null,"Spannungen in [N/mm2]",null,"0°","45°","90°","135°","180°",null,null,"Spannungen in [N/mm2]",null,"0°","45°","90°","135°","180°"]
[null,"Durch die Normalkraft",null,{"$f":"Calculs!CG322","v":0.78650358407081922},{"$f":"Calculs!CH322","v":1.0291562853508989},{"$f":"Calculs!CI322","v":1.0759977217925492},{"$f":"Calculs!CJ322","v":1.0303610571444393},{"$f":"Calculs!CK322","v":0.78708066991527526},null,null,"Durch die Normalkraft",null,{"$f":"Calculs!CT329","v":0.12260380648417087},{"$f":"Calculs!CU329","v":0.18867686925334257},{"$f":"Calculs!CV329","v":0.25842344133302558},{"$f":"Calculs!CW329","v":0.19350703910188921},{"$f":"Calculs!CX329","v":0.12491745846445466}]
[null,"Durch das Moment aussen",null,{"$f":"Calculs!CG323","v":2.5971906952605179},{"$f":"Calculs!CH323","v":-0.89697607819797731},{"$f":"Calculs!CI323","v":-0.79211273260641191},{"$f":"Calculs!CJ323","v":-0.90551038202986145},{"$f":"Calculs!CK323","v":2.6093751698404595},null,null,"Durch das Moment aussen",null,{"$f":"Calculs!CT330","v":0.27575720089020206},{"$f":"Calculs!CU330","v":-3.3009730686965623E-3},{"$f":"Calculs!CV330","v":-0.27850554776525255},{"$f":"Calculs!CW330","v":-1.9249975169355307E-3},{"$f":"Calculs!CX330","v":0.28126060595149688}]
[null,"Durch das Moment innen",null,{"$f":"Calculs!CG324","v":-2.7386665034936679},{"$f":"Calculs!CH324","v":0.9458367243801904},{"$f":"Calculs!CI324","v":0.83526119654545283},{"$f":"Calculs!CJ324","v":0.95483591418849745},{"$f":"Calculs!CK324","v":-2.7515146984512615},null,null,"Durch das Moment innen",null,{"$f":"Calculs!CT331","v":-0.40909035296898105},{"$f":"Calculs!CU331","v":4.8970479590553393E-3},{"$f":"Calculs!CV331","v":0.41316757086053951},{"$f":"Calculs!CW331","v":2.855765547102161E-3},{"$f":"Calculs!CX331","v":-0.41725474509287996}]
[]
[null,"Spannungen aussen",null,{"$f":"Calculs!CG326","v":3.3836942793313369},{"$f":"Calculs!CH326","v":0.13218020715292156},{"$f":"Calculs!CI326","v":0.28388498918613725},{"$f":"Calculs!CJ326","v":0.12485067511457781},{"$f":"Calculs!CK326","v":3.3964558397557347},null,null,"Spannungen aussen",null,{"$f":"Calculs!CT333","v":0.39836100737437291},{"$f":"Calculs!CU333","v":0.18537589618464601},{"$f":"Calculs!CV333","v":-2.0082106432226965E-2},{"$f":"Calculs!CW333","v":0.19158204158495368},{"$f":"Calculs!CX333","v":0.40617806441595156}]
[null,"Spannungen innen","Spannungen innen",{"$f":"Calculs!CG327","v":-1.9521629194228487},{"$f":"Calculs!CH327","v":1.9749930097310893},{"$f":"Calculs!CI327","v":1.911258918338002},{"$f":"Calculs!CJ327","v":1.9851969713329367},{"$f":"Calculs!CK327","v":-1.9644340285359863},null,null,"Spannungen innen","Spannungen innen",{"$f":"Calculs!CT334","v":-0.2864865464848102},{"$f":"Calculs!CU334","v":0.19357391721239792},{"$f":"Calculs!CV334","v":0.6715910121935651},{"$f":"Calculs!CW334","v":0.19636280464899136},{"$f":"Calculs!CX334","v":-0.29233728662842529}]
[]
[null,"Spannungen aussen",null,{"$f":"Calculs!CG329","v":"OK"},{"$f":"Calculs!CH329","v":"OK"},{"$f":"Calculs!CI329","v":"OK"},{"$f":"Calculs!CJ329","v":"OK"},{"$f":"Calculs!CK329","v":"OK"},null,null,"Spannungen aussen",null,{"$f":"Calculs!CT336","v":"OK"},{"$f":"Calculs!CU336","v":"OK"},{"$f":"Calculs!CV336","v":"OK"},{"$f":"Calculs!CW336","v":"OK"},{"$f":"Calculs!CX336","v":"OK"}]
[null,"Spannungen innen","Spannungen innen",{"$f":"Calculs!CG330","v":"OK"},{"$f":"Calculs!CH330","v":"OK"},{"$f":"Calculs!CI330","v":"OK"},{"$f":"Calculs!CJ330","v":"OK"},{"$f":"Calculs!CK330","v":"OK"},null,null,"Spannungen innen","Spannungen innen",{"$f":"Calculs!CT337","v":"OK"},{"$f":"Calculs!CU337","v":"OK"},{"$f":"Calculs!CV337","v":"OK"},{"$f":"Calculs!CW337","v":"OK"},{"$f":"Calculs!CX337","v":"OK"}]

{"sheet":"PP-SN16","index":22,"n_rows":170,"n_cols":17,"rows_kept":170,"cut":false,"hidden":false,"merged":[[168,1,168,2],[168,10,168,11],[169,1,169,2],[169,10,169,11],[165,1,165,2],[165,10,165,11],[166,1,166,2],[166,10,166,11],[167,1,167,2],[167,10,167,11],[162,1,162,2],[162,10,162,11],[163,1,163,2],[163,10,163,11],[164,1,164,2],[164,10,164,11],[161,1,161,2],[161,10,161,11],[138,2,138,3],[139,2,139,3],[140,2,140,3],[141,2,141,3],[142,2,142,5],[143,2,143,3],[159,1,159,7],[159,10,159,16],[160,1,160,2],[160,10,160,11],[136,6,138,7],[139,10,140,15],[135,2,135,5],[135,11,135,12],[136,2,136,3],[136,11,136,14],[137,2,137,3],[137,11,137,12],[130,11,130,12],[131,11,131,12],[132,11,132,12],[133,11,133,12],[134,2,134,5],[134,11,134,12],[127,1,127,2],[128,1,128,2],[128,6,129,7],[128,11,128,14],[129,1,129,2],[129,11,129,14],[126,1,126,2],[118,5,119,5],[118,10,118,11],[119,10,119,11],[120,10,120,11],[122,1,122,7],[123,1,123,2],[124,1,125,2],[120,15,121,16],[121,10,121,11],[109,2,109,3],[109,11,109,12],[114,3,114,5],[114,10,114,16],[115,5,117,5],[115,10,115,11],[116,10,117,11],[115,6,117,7],[106,2,106,3],[106,11,106,12],[107,2,107,3],[107,11,107,12],[108,2,108,3],[108,11,108,12],[103,2,103,6],[103,11,103,15],[104,2,104,6],[104,11,104,15],[105,2,105,3],[105,11,105,12],[77,9,77,17],[8,0,9,8],[8,9,9,17],[57,7,58,7],[64,16,65,16],[11,4,11,6],[25,13,25,15],[70,0,70,8]]}
[null,"Projet:",{"$f":"Accueil!P15","v":"VSA 2026"},null,null,"Ingénieur/e:",null,{"$f":"Accueil!AI15","v":0},null,null,"Projet:",{"$f":"Accueil!$P$15","v":"VSA 2026"},null,null,"Ingénieur/e:",null,{"$f":"Accueil!$AI$15","v":0}]
[]
[null,"N°:",{"$f":"Accueil!P17","v":0},null,null,"Responsable:",null,{"$f":"Accueil!AI17","v":0},null,null,"N°:",{"$f":"Accueil!P17","v":0},null,null,"Responsable:",null,{"$f":"Accueil!$AI$17","v":0}]
[]
[null,"Lieu:",{"$f":"Accueil!P21","v":0},null,null,"Maître d'ouvrage:",null,{"$f":"Accueil!AI19","v":0},null,null,"Lieu:",{"$f":"Accueil!$P$21","v":0},null,null,"Maître d'ouvrage:",null,{"$f":"Accueil!$AI$19","v":0}]
[null,null,{"$f":"Accueil!P23","v":0},null,null,null,null,null,null,null,null,{"$f":"Accueil!$P$23","v":0}]
[]
[]
["Données profil d'enrobage U1/V1",null,null,null,null,null,null,null,null,"Données profil d'enrobage U4/V4"]
[]
[]
[null,"Tuyau PP",null,null,{"$f":"IF(Données!$AE$6>F14,\"di max.< di introduit!\",\"\")","v":""},null,null,null,null,null,"Tuyau \"fictif\" en béton"]
[]
[null,"Diamètre intérieur ",null,null,"di",{"$f":"Calculs!DK32","v":363.6},"mm",null,null,null,"Diamètre intérieur ",null,null,"di",{"$f":"Calculs!DR31/1000","v":0.4},"m"]
[null,"Rayon moyen",null,null,"rm",{"$f":"Calculs!DO32","v":190.9},"mm",null,null,null,"Rayon moyen",null,null,"rm",{"$f":"Calculs!DU31/1000","v":0.28249999999999997},"m"]
[null,"Épaisseur de paroi",null,null,"e",{"$f":"Calculs!DN32","v":18.2},"mm",null,null,null,"Épaisseur de paroi",null,null,"e",{"$f":"Calculs!DT31/1000","v":0.16500000000000001},"m"]
[null,"Section",null,null,"A",{"$f":"Calculs!DJ316","v":1.8200000000000001E-2},"m2",null,null,null,"Section",null,null,"A",{"$f":"Calculs!DW316","v":0.16500000000000001},"m2"]
[null,"Module de flexion",null,null,"W",{"$f":"Calculs!DJ317","v":5.5206666666666654E-5},"m3",null,null,null,"Module de flexion",null,null,"W",{"$f":"Calculs!DW317","v":4.5374999999999999E-3},"m3"]
[null,"Module d'élasticité",null,null,"ER,court",{"$f":"Calculs!B12","v":1250},"N/mm2",null,null,null,"Module d'élasticité",null,null,"ER,court",{"$f":"Calculs!DS33","v":20000},"N/mm2"]
[]
[null,"Rigidité du système",null,null,"SFcourt",{"$f":"Calculs!DK37","v":3.0088732342031167E-2},{"$f":"Calculs!DL37","v":"souple"},null,null,null,"Rigidité du système",null,null,"SFcourt",{"$f":"Calculs!DR37","v":110.69397191899354},{"$f":"Calculs!DU37","v":"rigide"}]
[null,"Facteur de majoration de charge",null,null,"f",{"$f":"Calculs!DM41","v":1.0476689366160292},null,null,null,null,"Facteur de majoration de charge",null,null,"f",{"$f":"Calculs!DT41","v":1.2920353982300885}]
[null,"Effet de courbure:",null,null,"αka",{"$f":"Calculs!DG317","v":0.96822070892264711},null,null,null,null,"Effet de courbure:",null,null,"αka",{"$f":"Calculs!DT317","v":0.80530973451327437}]
[null,null,null,null,"αki",{"$f":"Calculs!DG316","v":1.0317792910773529},null,null,null,null,null,null,null,"αki",{"$f":"Calculs!DT316","v":1.1946902654867257}]
[]
[null,"Terrain",null,null,null,null,null,null,null,null,"Tuyau PP",null,null,{"$f":"IF(Données!$AE$6>O28,\"di max.< di introduit!\",\"\")","v":""}]
[]
[null,"Qualité du sol",null,null,null,{"$f":"Données!AE30","v":"Sol stable"},null,null,null,null,"Diamètre intérieur ",null,null,"di",{"$f":"Calculs!DK32","v":363.6},"mm"]
[null,"Poids volumique apparent hum.",null,null,"γ",{"$f":"Données!AE32","v":20},"kN/m3",null,null,null,"Rayon moyen",null,null,"rm",{"$f":"Calculs!DO32","v":190.9},"mm"]
[null,"Poids volumique déjaugé",null,null,"γ'",{"$f":"Données!AE34","v":11},"kN/m3",null,null,null,"Épaisseur de paroi",null,null,"e",{"$f":"Calculs!DN32","v":18.2},"mm"]
[null,"Module de déformation du sol",null,null,"EB",{"$f":"Données!AE38","v":5},"N/mm2"]
[null,"Coefficient de pression du terrain",null,null,"K",{"$f":"Données!AE40","v":0.5},null,null,null,null,"Terrain"]
[null,"Coefficient de flexion au tassement",null,null,"C2",{"$f":"Données!AE42","v":0.5}]
[null,"Type de béton d'enrobage",null,null,null,{"$f":"Données!AE50","v":"C16/20"},null,null,null,null,"Qualité du sol",null,null,null,{"$f":"Données!AE30","v":"Sol stable"}]
[null,"Réduction de charge",null,null,"λmin",{"$f":"Données!AE44","v":"NON"},null,null,null,null,"Poids volumique apparent hum.",null,null,"γ",{"$f":"Données!AE32","v":20},"kN/m3"]
[null,null,null,null,null,null,null,null,null,null,"Poids volumique déjaugé",null,null,"γ'",{"$f":"Données!AE34","v":11},"kN/m3"]
[null,"Eau",null,null,null,null,null,null,null,null,"Module de déformation du sol",null,null,"EB",{"$f":"Données!AE38","v":5},"N/mm2"]
[null,null,null,null,null,null,null,null,null,null,"Coefficient de pression du terrain",null,null,"K",{"$f":"Données!AE40","v":0.5}]
[null,"Eau souterraine",null,null,null,{"$f":"Données!AE60","v":"Sans eau souterraine"},null,null,null,null,"Coefficient de flexion au tassement",null,null,"C2",{"$f":"Données!AE42","v":0.5}]
[null,"Niveau d'eau souterraine",null,null,"hw",{"$f":"Données!AE62","v":1.3},"m",null,null,null,"Type de béton d'enrobage",null,null,null,{"$f":"Données!AE50","v":"C16/20"}]
[null,"Eau à l'intérieur du tuyau",null,null,null,{"$f":"Données!AE64","v":"Tuyau vide"},null,null,null,null,"Réduction de charge",null,null,"λmin",{"$f":"Données!AE44","v":"NON"}]
[null,"Pression",null,null,"pEi",{"$f":"Données!AE66","v":10},"kN/m2"]
[null,null,null,null,null,null,null,null,null,null,"Eau"]
[null,"Fouille"]
[null,null,null,null,null,null,null,null,null,null,"Eau souterraine",null,null,null,{"$f":"Données!AE60","v":"Sans eau souterraine"}]
[null,"Hauteur de couverture",null,null,"H",{"$f":"Données!AE52","v":3},"m",null,null,null,"Niveau d'eau souterraine",null,null,"hw",{"$f":"Données!AN68","v":0},"m"]
[null,"Type de fouille",null,null,null,{"$f":"Données!AE56","v":"Verticale (U)"},null,null,null,null,"Eau à l'intérieur du tuyau",null,null,null,{"$f":"Données!AE64","v":"Tuyau vide"}]
[null,"Largeur de fouille",null,null,"B",{"$f":"Données!$AE$54","v":1.5},"m",null,null,null,"Pression",null,null,"pEi",{"$f":"Données!AE66","v":10},"kN/m2"]
[null,"Angle de talus",null,null,"β",{"$f":"Données!AE58","v":30},"°"]
[]
[]
[]
[]
[null,"Actions",null,null,null,null,null,null,null,null,"Fouille"]
[]
[null,"Charge surfacique",null,null,null,{"$f":"Données!AE8","v":"Pas de charge"},null,null,null,null,"Hauteur de couverture",null,null,"H",{"$f":"Calculs!DU101","v":2.835},"m"]
[null,null,null,null,"qs",{"$f":"Calculs!DL128","v":0},"kN/m2",null,null,null,"Type de fouille",null,null,null,{"$f":"Données!$AE$56","v":"Verticale (U)"}]
[null,"Trafic ",null,null,null,{"$f":"Données!AE22","v":"Trafic routier"},null,{"$f":"IF(AND(Accueil!AZ15=\"Français\",AND(OR(F58=\"Voie unique (ferroviaire)\",F58=\"Voies multiples (ferroviaire)\",F58=\"Voie étroite (ferroviaire)\",F58=\"Eingleisig (Bahnverkehr)\",F58=\"Mehrgleisig (Bahnverkehr)\",F58=\"Schmalspur (Bahnverkehr)\"),F46<2)),\"H trop faible!\",\"\")","v":""},null,null,"Largeur de fouille",null,null,"B",{"$f":"Données!AE54","v":1.5},"m"]
[null,"Coefficient de charge",null,null,"α",{"$f":"Calculs!DH98","v":0.9},null,null,null,null,"Angle de talus",null,null,"β",{"$f":"Données!AE58","v":30},"°"]
[null,"Coefficient dynamique",null,null,"Ψ",{"$f":"Calculs!DI98","v":1}]
[null,"Trafic routier et route d'importance",null,null,"pvtotale",{"$f":"Calculs!DG114","v":24.562000000000001},"kN/m2",null,null,null,"Actions"]
[null,"secondaire",null,null,"pvroue",{"$f":"Calculs!DH114","v":4.9021999999999997},"kN/m2"]
[null,null,null,null,"∆pv",{"$f":"Calculs!DI114","v":19.659800000000001},"kN/m2",null,null,null,"Charge surfacique",null,null,null,{"$f":"Données!AE8","v":"Pas de charge"}]
[null,"Bord de route",null,null,"pvtotale",{"$f":"Calculs!DJ114","v":0},"kN/m2",null,null,null,null,null,null,"qs",{"$f":"Calculs!DW128","v":0},"kN/m2"]
[null,null,null,null,"pvroue",{"$f":"Calculs!DK114","v":0},"kN/m2",null,null,null,"Trafic ",null,null,null,{"$f":"Données!AE22","v":"Trafic routier"},null,{"$f":"IF(AND(Accueil!AZ15=\"Français\",AND(OR(O65=\"Voie unique (ferroviaire)\",O65=\"Voies multiples (ferroviaire)\",O65=\"Voie étroite (ferroviaire)\",O65=\"Eingleisig (Bahnverkehr)\",O65=\"Mehrgleisig (Bahnverkehr)\",O65=\"Schmalspur (Bahnverkehr)\"),O56<2)),\"H trop faible!\",IF(AND(Accueil!AZ15=\"Français\",AND(OR(O65=\"Trafic routier\",O65=\"Bord de route\",O65=\"Route d'importance secondaire\",O65=\"Strassenverkehr\",O65=\"Strassenrand\",O65=\"Untergeordnete Strasse\"),O56<1)),\"H trop faible!\",\"\"))","v":""}]
[null,null,null,null,"∆pv",{"$f":"Calculs!DL114","v":0},"kN/m2",null,null,null,"Coefficient de charge",null,null,"α",{"$f":"Calculs!DT98","v":0.9}]
[null,"Trafic ferroviaire voie unique",null,null,"punique",{"$f":"Calculs!DN114","v":0},"kN/m2",null,null,null,"Coefficient dynamique",null,null,"Ψ",{"$f":"Calculs!DU98","v":1}]
[null,"Trafic ferroviaire voies multiples",null,null,"pmultiples",{"$f":"Calculs!DO114","v":0},"kN/m2",null,null,null,"Trafic routier et route d'importance",null,null,"pvtotale",{"$f":"Calculs!DS114","v":26.375859999999999},"kN/m2"]
[null,"Trafic ferroviaire voie étroite",null,null,"pétroite",{"$f":"Calculs!DP114","v":0},"kN/m2",null,null,null,"secondaire",null,null,"pvroue",{"$f":"Calculs!DT114","v":5.5099239999999998},"kN/m2"]
[null,null,null,null,null,null,null,null,null,null,null,null,null,"∆pv",{"$f":"Calculs!DU114","v":20.865935999999998},"kN/m2"]
["Résultats",null,null,null,null,null,null,null,null,null,"Bord de route",null,null,"pvtotale",{"$f":"Calculs!DV114","v":0},"kN/m2"]
[null,null,null,null,null,null,null,null,null,null,null,null,null,"pvroue",{"$f":"Calculs!DW114","v":0},"kN/m2"]
[null,null,null,null,null,null,null,null,null,null,null,null,null,"∆pv",{"$f":"Calculs!DX114","v":0},"kN/m2"]
[null,null,null,null,null,null,null,null,null,null,"Trafic ferroviaire voie unique",null,null,"punique",{"$f":"Calculs!DZ114","v":0},"kN/m2"]
[null,null,null,null,null,null,null,null,null,null,"Trafic ferroviaire voies multiples",null,null,"pmultiples",{"$f":"Calculs!EA114","v":0},"kN/m2"]
[null,null,null,null,null,null,null,null,null,null,"Trafic ferroviaire voie étroite",null,null,"pétroite",{"$f":"Calculs!EB114","v":0},"kN/m2"]
[]
[null,null,null,null,null,null,null,null,null,"Résultats"]
[]
[]
[]
[]
[]
[]
[]
[]
[]
[]
[]
[]
[]
[]
[]
[]
[]
[]
[]
[]
[]
[]
[]
[null,"Sollicitations",null,null,null,null,null,null,null,null,"Sollicitations"]
[]
[null,null," Sollicitations",null,null,null,null,null,null,null,null," Sollicitations"]
[null,null,"U1/V1",null,null,null,null,null,null,null,null,"U4/V4"]
[null,null,"À long terme",null,"qs1",{"$f":"Calculs!DK198","v":62.860136196961754},"[kN/m2]",null,null,null,null,"À long terme",null,"qs1",{"$f":"Calculs!EB198","v":113.89925205848927},"[kN/m2]"]
[null,null,"À court terme",null,"qs2",{"$f":"Calculs!DK199","v":23.159559979046623},"[kN/m2]",null,null,null,null,"À court terme",null,"qs2",{"$f":"Calculs!EB199","v":30.670690300884957},"[kN/m2]"]
[null,null,"Charge eff. au sommet",null,"qser",{"$f":"Calculs!DK200","v":86.019696176008381},"[kN/m2]",null,null,null,null,"Charge eff. au sommet",null,"qser",{"$f":"Calculs!EB200","v":144.56994235937424},"[kN/m2]"]
[null,null,"Pression du terrain",null,"qh",{"$f":"Calculs!DG202","v":88.222603318139164},"[kN/m2]",null,null,null,null,"Pression du terrain",null,"qh",{"$f":"Calculs!EB201","v":72.284971179687105},"[kN/m2]"]
[null,null,"Charge de dim. au sommet",null,"qds",{"$f":"Calculs!DK203","v":119.60052383446831},"[kN/m2]",null,null,null,null,"Charge de dim. au sommet",null,"qds",{"$f":"Calculs!EB202","v":199.77002573028795},"[kN/m2]"]
[]
[null,null,null,null,null,null,null,null,null,null,"Vérifications"]
[null,"Vérifications"]
[]
[null,null,null,"Vérification de la déformation (IOWA)",null,null,null,null,null,null,"Poussée d'Archimède"]
[null,null,null,null,"U1/V1",null,{"$f":"IF(Calculs!DK37<0.1,\"\",\"Tuyau rigide. Pas nécessaire de vérifier la déformation!\")","v":""},null,null,null,"Actions stabilisant",null,"G + G' + Gsp",{"$f":"Calculs!DX177","v":42.534613187254998},"[kN/m]"]
[null,null,null,"x/d court",{"$f":"IF(Calculs!DK37<0.1,Calculs!DJ207,\"\")","v":1.0711457922728417E-2},null,null,null,null,null,null,null,"GR",{"$f":"Calculs!DX178","v":7.2254709634498289},"[kN/m]"]
[null,null,null,"x/d long",{"$f":"IF(Calculs!DK37<0.1,Calculs!DJ208,\"\")","v":3.8963431332980566E-2},null,null,null,null,null,null,null,"Somme",{"$f":"Calculs!DX179","v":49.760084150704827},"[kN/m]","Facteur",0.9]
[null,null,null,"Somme",{"$f":"IF(Calculs!DK37<0.1,Calculs!DJ209,\"\")","v":4.9674889255708982E-2},{"$f":"IF(Calculs!DK37<0.1,Calculs!DK209,\"\")","v":"OK"},null,null,null,null,"Actions déstabilisant",null,"FA",{"$f":"Calculs!DX180","v":0},"[kN/m]","Facteur",1.05]
[null,null,null,"Admissible",{"$f":"IF(Calculs!DK37<0.1,Calculs!DJ210,\"\")","v":0.05}]
[null,null,null,null,null,null,null,null,null,null,"Contôle:",null,"1.05*FA",{"$f":"Calculs!DX182","v":0},"[kN/m]",{"$f":"Calculs!DZ182","v":"OK"}]
[null,null,null,null,null,null,null,null,null,null,null,null,"0.9*Somme",{"$f":"Calculs!DX183","v":44.784075735634346},"[kN/m]"]
[null,"Poussée d'Archimède"]
[null,"Actions stabilisant",null,"G + G' + Gsp",{"$f":"Calculs!DI177","v":24.343362938564084},"[kN/m]",null,null,null,null,"Sécurité structurale"]
[null,null,null,"GR",{"$f":"Calculs!DI178","v":0.19647156030802748},"[kN/m]",null,null,null,null,{"$f":"IF(N138=\"\",\"\",\"Hypothèse: 5% de la charge de dimensionnement est reprise par le tuyau PP et une déformation initiale\")","v":""}]
[null,null,null,"Somme",{"$f":"Calculs!DI179","v":24.539834498872111},"[kN/m]","Facteur",0.9,null,null,{"$f":"IF(N138=\"\",\"\",\"de 0.02m est admis [SIA190:2017;4.2.11.1.2].\")","v":""}]
[null,"Actions déstabilisant",null,"FA",{"$f":"Calculs!DI180","v":0},"[kN/m]","Facteur",1.05]
[]
[null,"Contôle:",null,"1.05*FA",{"$f":"Calculs!DI182","v":0},"[kN/m]",{"$f":"Calculs!DK182","v":"OK"},null,null,null,null,"Sécurité structurale"]
[null,null,null,"0.9*Somme",{"$f":"Calculs!DI183","v":22.0858510489849},"[kN/m]",null,null,null,null,null,"U4/V4"]
[null,null,null,null,null,null,null,null,null,null,null,"qds",null,{"$f":"Calculs!DZ214","v":""},"[kN/m2]"]
[null,null,null,null,null,null,null,null,null,null,null,"qBl",null,{"$f":"Calculs!DZ215","v":""},"[kN/m2]"]
[null,"Sécurité structurale",null,null,null,null,null,null,null,null,null,"pwd",null,{"$f":"Calculs!DZ216","v":""},"[kN/m2]"]
[null,null,null,null,null,null,null,null,null,null,null,"pcr",null,{"$f":"Calculs!DZ217","v":""},"[kN/m2]"]
[null,null,"Sécurité structurale",null,null,null,null,null,null,null,null,"k",null,{"$f":"Calculs!DZ218","v":""},"[-]"]
[null,null,"U1/V1",null,null,null,null,null,null,null,null,"qBl/2*(1-2*pwd/k*pcr)",null,{"$f":"Calculs!DZ219","v":""},"[kN/m2]"]
[null,null,"qds",null,{"$f":"IF(Calculs!DK37<0.1,Calculs!DJ214,\"\")","v":119.60052383446831},"[kN/m2]",{"$f":"IF(Calculs!DK37<0.1,\"\",\"Tuyau rigide. Limite de la formule de la sécurité structurale est dépassée!\")","v":""}]
[null,null,"qBl",null,{"$f":"IF(Calculs!DK37<0.1,Calculs!DJ215,\"\")","v":361.07609924777097},"[kN/m2]",null,null,null,null,null,"Résultat",null,{"$f":"Calculs!DZ221","v":""}]
[null,null,"pwd",null,{"$f":"IF(Calculs!DK37<0.1,Calculs!DJ216,\"\")","v":0},"[kN/m2]"]
[null,null,"pcr",null,{"$f":"IF(Calculs!DK37<0.1,Calculs!DJ217,\"\")","v":49.643926402648205},"[kN/m2]",null,null,null,null,{"$f":"IF(N138=\"\",\"Vérification de la sécurité structurale que nécessaire lors de présence d'eau souterraine!\",\"\")","v":"Vérification de la sécurité structurale que nécessaire lors de présence d'eau souterraine!"}]
[null,null,"k",null,{"$f":"IF(Calculs!DK37<0.1,Calculs!DJ218,\"\")","v":1},"[-]"]
[null,null,"qBl/2*(1-2*pwd/k*pcr)",null,{"$f":"IF(Calculs!DK37<0.1,Calculs!DJ219,\"\")","v":180.53804962388548},"[kN/m2]"]
[]
[null,null,"Résultat",null,{"$f":"IF(Calculs!DK37<0.1,Calculs!DJ221,\"\")","v":"OK"}]
[]
[]
[]
[]
[]
[]
[null,"Aptitude au service",null,null,null,null,null,null,null,null,"Aptitude au service"]
[]
[null,null,null,null,null,null,null,null,null,null,null,null,"σRbz,adm",{"$f":"Calculs!DT325","v":-0.3},"N/mm2"]
[null,null,null,"σRbz,adm",{"$f":"Calculs!DN315","v":8},"N/mm2"]
[null,null,null,null,null,null,null,null,null,null,null,null,null,"Convention des contraintes:"]
[null,null,null,null,"Convention des contraintes:",null,null,null,null,null,null,null,null,"Traction négatif -"]
[null,null,null,null,"Traction négatif -",null,null,null,null,null,null,null,null,"Compression positif +"]
[null,null,null,null,"Compression positif +"]
[]
[null,"Contraintes Profil d'enrobage U1/V1",null,null,null,null,null,null,null,null,"Contraintes Profil d'enrobage U4/V4"]
[null,"Contraintes en [N/mm2]",null,"0°","45°","90°","135°","180°",null,null,"Contraintes en [N/mm2]",null,"0°","45°","90°","135°","180°"]
[null,"Effort normal",null,{"$f":"Calculs!DG322","v":0.61665638159681135},{"$f":"Calculs!DH322","v":0.83748308504928504},{"$f":"Calculs!DI322","v":0.90496032994153841},{"$f":"Calculs!DJ322","v":0.83867877486153786},{"$f":"Calculs!DK322","v":0.61722911717105966},null,null,"Effort normal",null,{"$f":"Calculs!DT329","v":0.12259897504771286},{"$f":"Calculs!DU329","v":0.18868954865138049},{"$f":"Calculs!DV329","v":0.25846897382702555},{"$f":"Calculs!DW329","v":0.19353989150684736},{"$f":"Calculs!DX329","v":0.12492228990091267}]
[null,"Moment extérieur",null,{"$f":"Calculs!DG323","v":2.621840278302181},{"$f":"Calculs!DH323","v":-0.58290029120099573},{"$f":"Calculs!DI323","v":-1.4483751461771599},{"$f":"Calculs!DJ323","v":-0.58992875399526323},{"$f":"Calculs!DK323","v":2.6318748549870308},null,null,"Moment extérieur",null,{"$f":"Calculs!DT330","v":0.2758398852208846},{"$f":"Calculs!DU330","v":-3.3147594477776856E-3},{"$f":"Calculs!DV330","v":-0.27859971045430942},{"$f":"Calculs!DW330","v":-1.9330371903731258E-3},{"$f":"Calculs!DX330","v":0.28136627502844458}]
[null,"Moment intérieur",null,{"$f":"Calculs!DG324","v":-2.7939502623061472},{"$f":"Calculs!DH324","v":0.62116462050616472},{"$f":"Calculs!DI324","v":1.5434533343121439},{"$f":"Calculs!DJ324","v":0.62865446480757636},{"$f":"Calculs!DK324","v":-2.8046435560177394},null,null,"Moment intérieur",null,{"$f":"Calculs!DT331","v":-0.40921301653647718},{"$f":"Calculs!DU331","v":4.9175002796701933E-3},{"$f":"Calculs!DV331","v":0.41330726276188762},{"$f":"Calculs!DW331","v":2.8676925351689229E-3},{"$f":"Calculs!DX331","v":-0.41741150691032985}]
[]
[null,"Contraintes extérieur",null,{"$f":"Calculs!DG326","v":3.2384966598989924},{"$f":"Calculs!DH326","v":0.2545827938482893},{"$f":"Calculs!DI326","v":-0.54341481623562149},{"$f":"Calculs!DJ326","v":0.24875002086627462},{"$f":"Calculs!DK326","v":3.2491039721580903},null,null,"Contraintes extérieur",null,{"$f":"Calculs!DT333","v":0.39843886026859743},{"$f":"Calculs!DU333","v":0.18537478920360281},{"$f":"Calculs!DV333","v":-2.0130736627283874E-2},{"$f":"Calculs!DW333","v":0.19160685431647423},{"$f":"Calculs!DX333","v":0.40628856492935728}]
[null,"Conraintes intérieur",null,{"$f":"Calculs!DG327","v":-2.1772938807093358},{"$f":"Calculs!DH327","v":1.4586477055554496},{"$f":"Calculs!DI327","v":2.4484136642536822},{"$f":"Calculs!DJ327","v":1.4673332396691143},{"$f":"Calculs!DK327","v":-2.1874144388466799},null,null,"Conraintes intérieur",null,{"$f":"Calculs!DT334","v":-0.28661404148876435},{"$f":"Calculs!DU334","v":0.19360704893105068},{"$f":"Calculs!DV334","v":0.67177623658891317},{"$f":"Calculs!DW334","v":0.19640758404201628},{"$f":"Calculs!DX334","v":-0.29248921700941721}]
[]
[null,"Contraintes extérieures",null,{"$f":"Calculs!DG329","v":"OK"},{"$f":"Calculs!DH329","v":"OK"},{"$f":"Calculs!DI329","v":"OK"},{"$f":"Calculs!DJ329","v":"OK"},{"$f":"Calculs!DK329","v":"OK"},null,null,"Contraintes extérieures",null,{"$f":"Calculs!DT336","v":"OK"},{"$f":"Calculs!DU336","v":"OK"},{"$f":"Calculs!DV336","v":"OK"},{"$f":"Calculs!DW336","v":"OK"},{"$f":"Calculs!DX336","v":"OK"}]
[null,"Conraintes intérieures",null,{"$f":"Calculs!DG330","v":"OK"},{"$f":"Calculs!DH330","v":"OK"},{"$f":"Calculs!DI330","v":"OK"},{"$f":"Calculs!DJ330","v":"OK"},{"$f":"Calculs!DK330","v":"OK"},null,null,"Conraintes intérieures",null,{"$f":"Calculs!DT337","v":"OK"},{"$f":"Calculs!DU337","v":"OK"},{"$f":"Calculs!DV337","v":"OK"},{"$f":"Calculs!DW337","v":"OK"},{"$f":"Calculs!DX337","v":"OK"}]

{"sheet":"PP-SN16 (D)","index":23,"n_rows":170,"n_cols":17,"rows_kept":170,"cut":false,"hidden":false,"merged":[[154,12,154,14],[155,12,155,14],[156,12,156,14],[168,1,168,2],[168,10,168,11],[169,1,169,2],[169,10,169,11],[155,3,155,5],[156,3,156,5],[157,3,157,5],[165,1,165,2],[165,10,165,11],[166,1,166,2],[166,10,166,11],[167,1,167,2],[167,10,167,11],[164,1,164,2],[164,10,164,11],[159,1,159,7],[159,10,159,16],[143,2,143,3],[135,2,135,5],[135,11,135,12],[136,2,136,3],[136,6,138,7],[136,11,136,14],[137,2,137,3],[137,11,137,12],[138,2,138,3],[139,2,139,3],[140,2,140,3],[141,2,141,3],[142,2,142,5],[139,10,139,15],[130,11,130,12],[131,11,131,12],[132,11,132,12],[133,11,133,12],[134,2,134,5],[134,11,134,12],[127,1,127,2],[128,1,128,2],[128,6,129,7],[128,11,128,14],[129,1,129,2],[129,11,129,14],[122,1,122,7],[123,1,123,2],[126,1,126,2],[124,1,125,2],[120,10,120,11],[118,5,119,5],[118,10,118,11],[119,10,119,11],[120,15,121,16],[121,10,121,11],[114,3,114,5],[114,10,114,16],[115,5,117,5],[115,6,117,7],[115,10,115,11],[116,10,117,11],[107,2,107,3],[107,11,107,12],[108,2,108,3],[108,11,108,12],[109,2,109,3],[109,11,109,12],[70,0,70,8],[105,2,105,3],[105,11,105,12],[106,2,106,3],[106,11,106,12],[77,9,77,17],[103,2,103,6],[103,11,103,15],[104,2,104,6],[104,11,104,15],[64,16,65,16],[8,0,9,8],[8,9,9,17],[57,7,58,7],[11,4,11,6],[25,13,25,15]]}
[null,"Projekt:",{"$f":"Accueil!P15","v":"VSA 2026"},null,null,"Ingenieur/in:",null,{"$f":"Accueil!AI15","v":0},null,null,"Projekt:",{"$f":"Accueil!$P$15","v":"VSA 2026"},null,null,"Ingenieur/in:",null,{"$f":"Accueil!$AI$15","v":0}]
[]
[null,"N°:",{"$f":"Accueil!P17","v":0},null,null,"Vernatworlticher:",null,{"$f":"Accueil!AI17","v":0},null,null,"N°:",{"$f":"Accueil!P17","v":0},null,null,"Vernatworlticher:",null,{"$f":"Accueil!$AI$17","v":0}]
[]
[null,"Ort:",{"$f":"Accueil!P21","v":0},null,null,"Bauherr:",null,{"$f":"Accueil!AI19","v":0},null,null,"Ort:",{"$f":"Accueil!$P$21","v":0},null,null,"Bauherr:",null,{"$f":"Accueil!$AI$19","v":0}]
[null,null,{"$f":"Accueil!P23","v":0},null,null,null,null,null,null,null,null,{"$f":"Accueil!$P$23","v":0}]
[]
[]
["Daten Normalverlegeprofil U1/V1",null,null,null,null,null,null,null,null,"Daten Normalverlegeprofil U4/V4"]
[]
[]
[null,"PP-Rohr",null,null,{"$f":"IF(Données!$AE$6>F14,\"di max.< di Eingabe!\",\"\")","v":""},null,null,null,null,null,"\"Fiktives\" Betonrohr"]
[]
[null,"Innendurchmesser",null,null,"di",{"$f":"Calculs!DK32","v":363.6},"mm",null,null,null,"Innendurchmesser",null,null,"di",{"$f":"Calculs!DR31/1000","v":0.4},"m"]
[null,"Radius",null,null,"rm",{"$f":"Calculs!DO32","v":190.9},"mm",null,null,null,"Radius",null,null,"rm",{"$f":"Calculs!DU31/1000","v":0.28249999999999997},"m"]
[null,"Wanddicke",null,null,"e",{"$f":"Calculs!DN32","v":18.2},"mm",null,null,null,"Wanddicke",null,null,"e",{"$f":"Calculs!DT31/1000","v":0.16500000000000001},"m"]
[null,"Querschnittsfläche",null,null,"A",{"$f":"Calculs!DJ316","v":1.8200000000000001E-2},"m2",null,null,null,"Querschnittsfläche",null,null,"A",{"$f":"Calculs!DW316","v":0.16500000000000001},"m2"]
[null,"Widerstandsmoment",null,null,"W",{"$f":"Calculs!DJ317","v":5.5206666666666654E-5},"m3",null,null,null,"Widerstandsmoment",null,null,"W",{"$f":"Calculs!DW317","v":4.5374999999999999E-3},"m3"]
[null,"E-Modul",null,null,"ER,kurz",{"$f":"Calculs!B12","v":1250},"N/mm2",null,null,null,"E-Modul",null,null,"ER,kurz",{"$f":"Calculs!DS33","v":20000},"N/mm2"]
[]
[null,"Systemsteifigkeit",null,null,"SFkurz",{"$f":"Calculs!DK37","v":3.0088732342031167E-2},{"$f":"Calculs!DL37","v":"souple"},null,null,null,"Systemsteifigkeit",null,null,"SFkurz",{"$f":"Calculs!DR37","v":110.69397191899354},{"$f":"Calculs!DU37","v":"rigide"}]
[null,"Lastvergrösserungsfaktor",null,null,"f",{"$f":"Calculs!DM41","v":1.0476689366160292},null,null,null,null,"Lastvergrösserungsfaktor",null,null,"f",{"$f":"Calculs!DT41","v":1.2920353982300885}]
[null,"Krümmungseinfluss",null,null,"αka",{"$f":"Calculs!DG317","v":0.96822070892264711},null,null,null,null,"Krümmungseinfluss",null,null,"αka",{"$f":"Calculs!DT317","v":0.80530973451327437}]
[null,null,null,null,"αki",{"$f":"Calculs!DG316","v":1.0317792910773529},null,null,null,null,null,null,null,"αki",{"$f":"Calculs!DT316","v":1.1946902654867257}]
[]
[null,"Terrain",null,null,null,null,null,null,null,null,"PP-Rohr",null,null,{"$f":"IF(Données!$AE$6>O28,\"di max.< di Eingabe!\",\"\")","v":""}]
[]
[null,"Bodenqualität",null,null,null,{"$f":"Données!AE30","v":"Sol stable"},null,null,null,null,"Innendurchmesser",null,null,"di",{"$f":"Calculs!DK32","v":363.6},"mm"]
[null,"Feuchtraumgewicht des Baugrunds",null,null,"γ",{"$f":"Données!AE32","v":20},"kN/m3",null,null,null,"Radius",null,null,"rm",{"$f":"Calculs!DO32","v":190.9},"mm"]
[null,"Raumgewicht unter Auftrieb",null,null,"γ'",{"$f":"Données!AE34","v":11},"kN/m3",null,null,null,"Wanddicke",null,null,"e",{"$f":"Calculs!DN32","v":18.2},"mm"]
[null,"Verformungsmodul des Bodens",null,null,"EB",{"$f":"Données!AE38","v":5},"N/mm2"]
[null,"Erddruckbeiwert",null,null,"K",{"$f":"Données!AE40","v":0.5},null,null,null,null,"Terrain"]
[null,"Setzungs-Durchbiegungsziffer",null,null,"C2",{"$f":"Données!AE42","v":0.5}]
[null,"Hüllbeton",null,null,null,{"$f":"Données!AE50","v":"C16/20"},null,null,null,null,"Bodenqualität",null,null,null,{"$f":"Données!AE30","v":"Sol stable"}]
[null,"Lastminderung",null,null,"λmin",{"$f":"Données!AE44","v":"NON"},null,null,null,null,"Feuchtraumgewicht des Baugrunds",null,null,"γ",{"$f":"Données!AE32","v":20},"kN/m3"]
[null,null,null,null,null,null,null,null,null,null,"Raumgewicht unter Auftrieb",null,null,"γ'",{"$f":"Données!AE34","v":11},"kN/m3"]
[null,"Wasser",null,null,null,null,null,null,null,null,"Verformungsmodul des Bodens",null,null,"EB",{"$f":"Données!AE38","v":5},"N/mm2"]
[null,null,null,null,null,null,null,null,null,null,"Erddruckbeiwert",null,null,"K",{"$f":"Données!AE40","v":0.5}]
[null,"Grundwasser",null,null,null,{"$f":"Données!AE60","v":"Sans eau souterraine"},null,null,null,null,"Setzungs-Durchbiegungsziffer",null,null,"C2",{"$f":"Données!AE42","v":0.5}]
[null,"Grwundwasserspiegel",null,null,"hw",{"$f":"Données!AE62","v":1.3},"m",null,null,null,"Hüllbeton",null,null,null,{"$f":"Données!AE50","v":"C16/20"}]
[null,"Wasser im Rohr",null,null,null,{"$f":"Données!AE64","v":"Tuyau vide"},null,null,null,null,"Lastminderung",null,null,"λmin",{"$f":"Données!AE44","v":"NON"}]
[null,"Druck",null,null,"pEi",{"$f":"Données!AE66","v":10},"kN/m2"]
[null,null,null,null,null,null,null,null,null,null,"Wasser"]
[null,"Graben"]
[null,null,null,null,null,null,null,null,null,null,"Grundwasser",null,null,null,{"$f":"Données!AE60","v":"Sans eau souterraine"}]
[null,"Überdeckungshöhe",null,null,"H",{"$f":"Données!AE52","v":3},"m",null,null,null,"Grwundwasserspiegel",null,null,"hw",{"$f":"Données!AN68","v":0},"m"]
[null,"Grabentyp",null,null,null,{"$f":"Données!AE56","v":"Verticale (U)"},null,null,null,null,"Wasser im Rohr",null,null,null,{"$f":"Données!AE64","v":"Tuyau vide"}]
[null,"Grabenbreite",null,null,"B",{"$f":"Données!$AE$54","v":1.5},"m",null,null,null,"Druck",null,null,"pEi",{"$f":"Données!AE66","v":10},"kN/m2"]
[null,"Böschungsneigung",null,null,"β",{"$f":"Données!AE58","v":30},"°"]
[]
[]
[]
[]
[null,"Einwirkungen",null,null,null,null,null,null,null,null,"Graben"]
[]
[null,"Flächenlast",null,null,null,{"$f":"Données!AE8","v":"Pas de charge"},null,null,null,null,"Überdeckungshöhe",null,null,"H",{"$f":"Calculs!DU101","v":2.835},"m"]
[null,null,null,null,"qs",{"$f":"Calculs!DL128","v":0},"kN/m2",null,null,null,"Grabentyp",null,null,null,{"$f":"Données!$AE$56","v":"Verticale (U)"}]
[null,"Verkehr",null,null,null,{"$f":"Données!AE22","v":"Trafic routier"},null,{"$f":"IF(AND(Accueil!AZ15=\"Deutsch\",AND(OR(F58=\"Voie unique (ferroviaire)\",F58=\"Voies multiples (ferroviaire)\",F58=\"Voie étroite (ferroviaire)\",F58=\"Eingleisig (Bahnverkehr)\",F58=\"Mehrgleisig (Bahnverkehr)\",F58=\"Schmalspur (Bahnverkehr)\"),F46<2)),\"H zu klein!\",\"\")","v":""},null,null,"Grabenbreite",null,null,"B",{"$f":"Données!AE54","v":1.5},"m"]
[null,"Beiwert Strass- und Bahnvekehrslasten",null,null,"α",{"$f":"Calculs!DH98","v":0.9},null,null,null,null,"Böschungsneigung",null,null,"β",{"$f":"Données!AE58","v":30},"°"]
[null,"Dynamischer Beiwert",null,null,"Ψ",{"$f":"Calculs!DI98","v":1}]
[null,"Strassenverkehr und untergeordnete",null,null,"pvtotal",{"$f":"Calculs!DG114","v":24.562000000000001},"kN/m2",null,null,null,"Einwirkungen"]
[null,"Strassen",null,null,"pvRad",{"$f":"Calculs!DH114","v":4.9021999999999997},"kN/m2"]
[null,null,null,null,"∆pv",{"$f":"Calculs!DI114","v":19.659800000000001},"kN/m2",null,null,null,"Flächenlast",null,null,null,{"$f":"Données!AE8","v":"Pas de charge"}]
[null,"Strassenrand",null,null,"pvtotal",{"$f":"Calculs!DJ114","v":0},"kN/m2",null,null,null,null,null,null,"qs",{"$f":"Calculs!DW128","v":0},"kN/m2"]
[null,null,null,null,"pvRad",{"$f":"Calculs!DK114","v":0},"kN/m2",null,null,null,"Verkehr",null,null,null,{"$f":"Données!AE22","v":"Trafic routier"},null,{"$f":"IF(AND(Accueil!AZ15=\"Deutsch\",AND(OR(O65=\"Voie unique (ferroviaire)\",O65=\"Voies multiples (ferroviaire)\",O65=\"Voie étroite (ferroviaire)\",O65=\"Eingleisig (Bahnverkehr)\",O65=\"Mehrgleisig (Bahnverkehr)\",O65=\"Schmalspur (Bahnverkehr)\"),O56<2)),\"H zu klein!\",IF(AND(Accueil!AZ15=\"Deutsch\",AND(OR(O65=\"Trafic routier\",O65=\"Bord de route\",O65=\"Route d'importance secondaire\",O65=\"Strassenverkehr\",O65=\"Strassenrand\",O65=\"Untergeordnete Strasse\"),O56<1)),\"H zu klein!\",\"\"))","v":""}]
[null,null,null,null,"∆pv",{"$f":"Calculs!DL114","v":0},"kN/m2",null,null,null,"Beiwert Strass- und Bahnvekehrslasten",null,null,"α",{"$f":"Calculs!DT98","v":0.9}]
[null,"Bahnverkehr eingleisig",null,null,"peingleisig",{"$f":"Calculs!DN114","v":0},"kN/m2",null,null,null,"Dynamischer Beiwert",null,null,"Ψ",{"$f":"Calculs!DU98","v":1}]
[null,"Bahnverkehr mehrgleisig",null,null,"pmehrgleisig",{"$f":"Calculs!DO114","v":0},"kN/m2",null,null,null,"Strassenverkehr und untergeordnete",null,null,"pvtotal",{"$f":"Calculs!DS114","v":26.375859999999999},"kN/m2"]
[null,"Bahnverkehr schmalspur",null,null,"pschmal",{"$f":"Calculs!DP114","v":0},"kN/m2",null,null,null,"Strassen",null,null,"pvRad",{"$f":"Calculs!DT114","v":5.5099239999999998},"kN/m2"]
[null,null,null,null,null,null,null,null,null,null,null,null,null,"∆pv",{"$f":"Calculs!DU114","v":20.865935999999998},"kN/m2"]
["Resultate",null,null,null,null,null,null,null,null,null,"Strassenrand",null,null,"pvtotal",{"$f":"Calculs!DV114","v":0},"kN/m2"]
[null,null,null,null,null,null,null,null,null,null,null,null,null,"pvRad",{"$f":"Calculs!DW114","v":0},"kN/m2"]
[null,null,null,null,null,null,null,null,null,null,null,null,null,"∆pv",{"$f":"Calculs!DX114","v":0},"kN/m2"]
[null,null,null,null,null,null,null,null,null,null,"Bahnverkehr eingleisig",null,null,"peingleisig",{"$f":"Calculs!DZ114","v":0},"kN/m2"]
[null,null,null,null,null,null,null,null,null,null,"Bahnverkehr mehrgleisig",null,null,"pmehrgleisig",{"$f":"Calculs!EA114","v":0},"kN/m2"]
[null,null,null,null,null,null,null,null,null,null,"Bahnverkehr schmalspur",null,null,"pschmal",{"$f":"Calculs!EB114","v":0},"kN/m2"]
[]
[null,null,null,null,null,null,null,null,null,"Resultate"]
[]
[]
[]
[]
[]
[]
[]
[]
[]
[]
[]
[]
[]
[]
[]
[]
[]
[]
[]
[]
[]
[]
[]
[null,"Beanspruchungen",null,null,null,null,null,null,null,null,"Beanspruchungen"]
[]
[null,null,"Beanspruchungen",null,null,null,null,null,null,null,null,"Beanspruchungen"]
[null,null,"U1/V1",null,null,null,null,null,null,null,null,"U4/V4"]
[null,null,"Langzeit",null,"qs1",{"$f":"Calculs!DK198","v":62.860136196961754},"[kN/m2]",null,null,null,null,"Langzeit",null,"qs1",{"$f":"Calculs!EB198","v":113.89925205848927},"[kN/m2]"]
[null,null,"Kurzzeit",null,"qs2",{"$f":"Calculs!DK199","v":23.159559979046623},"[kN/m2]",null,null,null,null,"Kurzzeit",null,"qs2",{"$f":"Calculs!EB199","v":30.670690300884957},"[kN/m2]"]
[null,null,"Effektive Last auf Scheitel",null,"qser",{"$f":"Calculs!DK200","v":86.019696176008381},"[kN/m2]",null,null,null,null,"Effektive Last auf Scheitel",null,"qser",{"$f":"Calculs!EB200","v":144.56994235937424},"[kN/m2]"]
[null,null,"Erddruck",null,"qh",{"$f":"Calculs!DG202","v":88.222603318139164},"[kN/m2]",null,null,null,null,"Erddruck",null,"qh",{"$f":"Calculs!EB201","v":72.284971179687105},"[kN/m2]"]
[null,null,"Bemessungswert",null,"qds",{"$f":"Calculs!DK203","v":119.60052383446831},"[kN/m2]",null,null,null,null,"Bemessungswert",null,"qds",{"$f":"Calculs!EB202","v":199.77002573028795},"[kN/m2]"]
[]
[null,null,null,null,null,null,null,null,null,null,"Nachweise"]
[null,"Nachweise"]
[]
[null,null,null,"Verformungsnachweis (IOWA)",null,null,null,null,null,null,"Auftrieb"]
[null,null,null,null,"U1/V1",null,{"$f":"IF(Calculs!DK37<0.1,\"\",\"Steifes Rohr. Verformungsnachweis entfällt!\")","v":""},null,null,null,"Stabilisierend",null,"G + G' + Gsp",{"$f":"Calculs!DX177","v":42.534613187254998},"[kN/m]"]
[null,null,null,"x/d kurz",{"$f":"IF(Calculs!DK37<0.1,Calculs!DJ207,\"\")","v":1.0711457922728417E-2},null,null,null,null,null,null,null,"GR",{"$f":"Calculs!DX178","v":7.2254709634498289},"[kN/m]"]
[null,null,null,"x/d lang",{"$f":"IF(Calculs!DK37<0.1,Calculs!DJ208,\"\")","v":3.8963431332980566E-2},null,null,null,null,null,null,null,"Summe",{"$f":"Calculs!DX179","v":49.760084150704827},"[kN/m]","Faktor",0.9]
[null,null,null,"Summe",{"$f":"IF(Calculs!DK37<0.1,Calculs!DJ209,\"\")","v":4.9674889255708982E-2},{"$f":"IF(Calculs!DK37<0.1,Calculs!DK209,\"\")","v":"OK"},null,null,null,null,"Destabilisierend",null,"FA",{"$f":"Calculs!DX180","v":0},"[kN/m]","Faktor",1.05]
[null,null,null,"Zugelassen",{"$f":"IF(Calculs!DK37<0.1,Calculs!DJ210,\"\")","v":0.05}]
[null,null,null,null,null,null,null,null,null,null,"Kontrolle:",null,"1.05*FA",{"$f":"Calculs!DX182","v":0},"[kN/m]",{"$f":"Calculs!DZ182","v":"OK"}]
[null,null,null,null,null,null,null,null,null,null,null,null,"0.9*Summe",{"$f":"Calculs!DX183","v":44.784075735634346},"[kN/m]"]
[null,"Auftrieb"]
[null,"Stabilisierend",null,"G + G' + Gsp",{"$f":"Calculs!DI177","v":24.343362938564084},"[kN/m]",null,null,null,null,"Tragfähigkeit"]
[null,null,null,"GR",{"$f":"Calculs!DI178","v":0.19647156030802748},"[kN/m]",null,null,null,null,{"$f":"IF(N138=\"\",\"\",\"Annahme: 5% des Bemessungswerts werden durch das PP-Rohr aufgenommen und eine initiale\")","v":""}]
[null,null,null,"Summe",{"$f":"Calculs!DI179","v":24.539834498872111},"[kN/m]","Faktor",0.9,null,null,{"$f":"IF(N138=\"\",\"\",\"Deformation von 0.02m [SIA190:2017;4.2.11.1.2].\")","v":""}]
[null,"Destabilisierend",null,"FA",{"$f":"Calculs!DI180","v":0},"[kN/m]","Faktor",1.05]
[]
[null,"Kontrolle:",null,"1.05*FA",{"$f":"Calculs!DI182","v":0},"[kN/m]",{"$f":"Calculs!DK182","v":"OK"},null,null,null,null,"Tragfähigkeit"]
[null,null,null,"0.9*Summe",{"$f":"Calculs!DI183","v":22.0858510489849},"[kN/m]",null,null,null,null,null,"U4/V4"]
[null,null,null,null,null,null,null,null,null,null,null,"qds",null,{"$f":"Calculs!DZ214","v":""},"[kN/m2]"]
[null,null,null,null,null,null,null,null,null,null,null,"qBl",null,{"$f":"Calculs!DZ215","v":""},"[kN/m2]"]
[null,"Tragfähigkeit",null,null,null,null,null,null,null,null,null,"pwd",null,{"$f":"Calculs!DZ216","v":""},"[kN/m2]"]
[null,null,null,null,null,null,null,null,null,null,null,"pcr",null,{"$f":"Calculs!DZ217","v":""},"[kN/m2]"]
[null,null,"Tragfähigkeit",null,null,null,null,null,null,null,null,"k",null,{"$f":"Calculs!DZ218","v":""},"[-]"]
[null,null,"U1/V1",null,null,null,null,null,null,null,null,"qBl/2*(1-2*pwd/k*pcr)",null,{"$f":"Calculs!DZ219","v":""},"[kN/m2]"]
[null,null,"qds",null,{"$f":"IF(Calculs!DK37<0.1,Calculs!DJ214,\"\")","v":119.60052383446831},"[kN/m2]",{"$f":"IF(Calculs!DK37<0.1,\"\",\"Steifes Rohr. Limite der Tragfähigkeitsformel überschritten!\")","v":""}]
[null,null,"qBl",null,{"$f":"IF(Calculs!DK37<0.1,Calculs!DJ215,\"\")","v":361.07609924777097},"[kN/m2]",null,null,null,null,null,"Resultate",null,{"$f":"Calculs!DZ221","v":""}]
[null,null,"pwd",null,{"$f":"IF(Calculs!DK37<0.1,Calculs!DJ216,\"\")","v":0},"[kN/m2]"]
[null,null,"pcr",null,{"$f":"IF(Calculs!DK37<0.1,Calculs!DJ217,\"\")","v":49.643926402648205},"[kN/m2]",null,null,null,null,{"$f":"IF(N138=\"\",\"Tragfähigkeitsnachweis nur nötig bei Grundwasser!\",\"\")","v":"Tragfähigkeitsnachweis nur nötig bei Grundwasser!"}]
[null,null,"k",null,{"$f":"IF(Calculs!DK37<0.1,Calculs!DJ218,\"\")","v":1},"[-]"]
[null,null,"qBl/2*(1-2*pwd/k*pcr)",null,{"$f":"IF(Calculs!DK37<0.1,Calculs!DJ219,\"\")","v":180.53804962388548},"[kN/m2]"]
[]
[null,null,"Resultate",null,{"$f":"IF(Calculs!DK37<0.1,Calculs!DJ221,\"\")","v":"OK"}]
[]
[]
[]
[]
[]
[]
[null,"Gebrauchstauglichkeit",null,null,null,null,null,null,null,null,"Gebrauchstauglichkeit"]
[]
[null,null,null,null,null,null,null,null,null,null,null,null,"σRbz,adm",{"$f":"Calculs!DT325","v":-0.3},"N/mm2"]
[null,null,null,"σRbz,adm",{"$f":"Calculs!DN315","v":8},"N/mm2"]
[null,null,null,null,null,null,null,null,null,null,null,null,"Spannungskonventionen:"]
[null,null,null,"Spannungskonventionen:",null,null,null,null,null,null,null,null,"Zug negatif -"]
[null,null,null,"Zug negatif -",null,null,null,null,null,null,null,null,"Druck positif +"]
[null,null,null,"Druck positif +"]
[]
[null,"Spannungen Verlegeprofil U1/V1",null,null,null,null,null,null,null,null,"Spannungen Verlegeprofil U4/V4"]
[null,"Spannungen in [N/mm2]",null,"0°","45°","90°","135°","180°",null,null,"Spannungen in [N/mm2]",null,"0°","45°","90°","135°","180°"]
[null,"Durch die Normalkraft",null,{"$f":"Calculs!DG322","v":0.61665638159681135},{"$f":"Calculs!DH322","v":0.83748308504928504},{"$f":"Calculs!DI322","v":0.90496032994153841},{"$f":"Calculs!DJ322","v":0.83867877486153786},{"$f":"Calculs!DK322","v":0.61722911717105966},null,null,"Durch die Normalkraft",null,{"$f":"Calculs!DT329","v":0.12259897504771286},{"$f":"Calculs!DU329","v":0.18868954865138049},{"$f":"Calculs!DV329","v":0.25846897382702555},{"$f":"Calculs!DW329","v":0.19353989150684736},{"$f":"Calculs!DX329","v":0.12492228990091267}]
[null,"Durch das Moment aussen",null,{"$f":"Calculs!DG323","v":2.621840278302181},{"$f":"Calculs!DH323","v":-0.58290029120099573},{"$f":"Calculs!DI323","v":-1.4483751461771599},{"$f":"Calculs!DJ323","v":-0.58992875399526323},{"$f":"Calculs!DK323","v":2.6318748549870308},null,null,"Durch das Moment aussen",null,{"$f":"Calculs!DT330","v":0.2758398852208846},{"$f":"Calculs!DU330","v":-3.3147594477776856E-3},{"$f":"Calculs!DV330","v":-0.27859971045430942},{"$f":"Calculs!DW330","v":-1.9330371903731258E-3},{"$f":"Calculs!DX330","v":0.28136627502844458}]
[null,"Durch das Moment innen",null,{"$f":"Calculs!DG324","v":-2.7939502623061472},{"$f":"Calculs!DH324","v":0.62116462050616472},{"$f":"Calculs!DI324","v":1.5434533343121439},{"$f":"Calculs!DJ324","v":0.62865446480757636},{"$f":"Calculs!DK324","v":-2.8046435560177394},null,null,"Durch das Moment innen",null,{"$f":"Calculs!DT331","v":-0.40921301653647718},{"$f":"Calculs!DU331","v":4.9175002796701933E-3},{"$f":"Calculs!DV331","v":0.41330726276188762},{"$f":"Calculs!DW331","v":2.8676925351689229E-3},{"$f":"Calculs!DX331","v":-0.41741150691032985}]
[]
[null,"Spannungen aussen",null,{"$f":"Calculs!DG326","v":3.2384966598989924},{"$f":"Calculs!DH326","v":0.2545827938482893},{"$f":"Calculs!DI326","v":-0.54341481623562149},{"$f":"Calculs!DJ326","v":0.24875002086627462},{"$f":"Calculs!DK326","v":3.2491039721580903},null,null,"Spannungen aussen",null,{"$f":"Calculs!DT333","v":0.39843886026859743},{"$f":"Calculs!DU333","v":0.18537478920360281},{"$f":"Calculs!DV333","v":-2.0130736627283874E-2},{"$f":"Calculs!DW333","v":0.19160685431647423},{"$f":"Calculs!DX333","v":0.40628856492935728}]
[null,"Spannungen innen","Spannungen innen",{"$f":"Calculs!DG327","v":-2.1772938807093358},{"$f":"Calculs!DH327","v":1.4586477055554496},{"$f":"Calculs!DI327","v":2.4484136642536822},{"$f":"Calculs!DJ327","v":1.4673332396691143},{"$f":"Calculs!DK327","v":-2.1874144388466799},null,null,"Spannungen innen","Spannungen innen",{"$f":"Calculs!DT334","v":-0.28661404148876435},{"$f":"Calculs!DU334","v":0.19360704893105068},{"$f":"Calculs!DV334","v":0.67177623658891317},{"$f":"Calculs!DW334","v":0.19640758404201628},{"$f":"Calculs!DX334","v":-0.29248921700941721}]
[]
[null,"Spannungen aussen",null,{"$f":"Calculs!DG329","v":"OK"},{"$f":"Calculs!DH329","v":"OK"},{"$f":"Calculs!DI329","v":"OK"},{"$f":"Calculs!DJ329","v":"OK"},{"$f":"Calculs!DK329","v":"OK"},null,null,"Spannungen aussen",null,{"$f":"Calculs!DT336","v":"OK"},{"$f":"Calculs!DU336","v":"OK"},{"$f":"Calculs!DV336","v":"OK"},{"$f":"Calculs!DW336","v":"OK"},{"$f":"Calculs!DX336","v":"OK"}]
[null,"Spannungen innen","Spannungen innen",{"$f":"Calculs!DG330","v":"OK"},{"$f":"Calculs!DH330","v":"OK"},{"$f":"Calculs!DI330","v":"OK"},{"$f":"Calculs!DJ330","v":"OK"},{"$f":"Calculs!DK330","v":"OK"},null,null,"Spannungen innen","Spannungen innen",{"$f":"Calculs!DT337","v":"OK"},{"$f":"Calculs!DU337","v":"OK"},{"$f":"Calculs!DV337","v":"OK"},{"$f":"Calculs!DW337","v":"OK"},{"$f":"Calculs!DX337","v":"OK"}]

{"sheet":"PVC-SN2","index":24,"n_rows":170,"n_cols":17,"rows_kept":170,"cut":false,"hidden":false,"merged":[[168,1,168,2],[168,10,168,11],[169,1,169,2],[169,10,169,11],[165,1,165,2],[165,10,165,11],[166,1,166,2],[166,10,166,11],[167,1,167,2],[167,10,167,11],[162,1,162,2],[162,10,162,11],[163,1,163,2],[163,10,163,11],[164,1,164,2],[164,10,164,11],[161,1,161,2],[161,10,161,11],[138,2,138,3],[139,2,139,3],[140,2,140,3],[141,2,141,3],[142,2,142,5],[143,2,143,3],[159,1,159,7],[159,10,159,16],[160,1,160,2],[160,10,160,11],[136,6,138,7],[139,10,140,15],[135,2,135,5],[135,11,135,12],[136,2,136,3],[136,11,136,14],[137,2,137,3],[137,11,137,12],[130,11,130,12],[131,11,131,12],[132,11,132,12],[133,11,133,12],[134,2,134,5],[134,11,134,12],[120,15,121,16],[121,10,121,11],[127,1,127,2],[128,1,128,2],[128,6,129,7],[128,11,128,14],[129,1,129,2],[129,11,129,14],[126,1,126,2],[123,1,123,2],[124,1,125,2],[118,5,119,5],[118,10,118,11],[119,10,119,11],[120,10,120,11],[122,1,122,7],[109,2,109,3],[109,11,109,12],[114,3,114,5],[114,10,114,16],[115,5,117,5],[115,10,115,11],[116,10,117,11],[115,6,117,7],[106,2,106,3],[106,11,106,12],[107,2,107,3],[107,11,107,12],[108,2,108,3],[108,11,108,12],[103,2,103,6],[103,11,103,15],[104,2,104,6],[104,11,104,15],[105,2,105,3],[105,11,105,12],[77,9,77,17],[8,0,9,8],[8,9,9,17],[57,7,58,7],[64,16,65,16],[11,4,11,6],[25,13,25,15],[70,0,70,8]]}
[null,"Projet:",{"$f":"Accueil!P15","v":"VSA 2026"},null,null,"Ingénieur/e:",null,{"$f":"Accueil!AI15","v":0},null,null,"Projet:",{"$f":"Accueil!$P$15","v":"VSA 2026"},null,null,"Ingénieur/e:",null,{"$f":"Accueil!$AI$15","v":0}]
[]
[null,"N°:",{"$f":"Accueil!P17","v":0},null,null,"Responsable:",null,{"$f":"Accueil!AI17","v":0},null,null,"N°:",{"$f":"Accueil!P17","v":0},null,null,"Responsable:",null,{"$f":"Accueil!$AI$17","v":0}]
[]
[null,"Lieu:",{"$f":"Accueil!P21","v":0},null,null,"Maître d'ouvrage:",null,{"$f":"Accueil!AI19","v":0},null,null,"Lieu:",{"$f":"Accueil!$P$21","v":0},null,null,"Maître d'ouvrage:",null,{"$f":"Accueil!$AI$19","v":0}]
[null,null,{"$f":"Accueil!P23","v":0},null,null,null,null,null,null,null,null,{"$f":"Accueil!$P$23","v":0}]
[]
[]
["Données profil d'enrobage U1/V1",null,null,null,null,null,null,null,null,"Données profil d'enrobage U4/V4"]
[]
[]
[null,"Tuyau PVC",null,null,{"$f":"IF(Données!$AE$6>F14,\"di max.< di introduit!\",\"\")","v":""},null,null,null,null,null,"Tuyau \"fictif\" en béton"]
[]
[null,"Diamètre intérieur ",null,null,"di",{"$f":"Calculs!EK32","v":302.60000000000002},"mm",null,null,null,"Diamètre intérieur ",null,null,"di",{"$f":"Calculs!ER31/1000","v":0.315},"m"]
[null,"Rayon moyen",null,null,"rm",{"$f":"Calculs!EO32","v":154.4},"mm",null,null,null,"Rayon moyen",null,null,"rm",{"$f":"Calculs!EU31/1000","v":0.23250000000000001},"m"]
[null,"Épaisseur de paroi",null,null,"e",{"$f":"Calculs!EN32","v":6.2},"mm",null,null,null,"Épaisseur de paroi",null,null,"e",{"$f":"Calculs!ET31/1000","v":0.15},"m"]
[null,"Section",null,null,"A",{"$f":"Calculs!EJ316","v":6.1999999999999998E-3},"m2",null,null,null,"Section",null,null,"A",{"$f":"Calculs!EW316","v":0.15},"m2"]
[null,"Module de flexion",null,null,"W",{"$f":"Calculs!EJ317","v":6.4066666666666683E-6},"m3",null,null,null,"Module de flexion",null,null,"W",{"$f":"Calculs!EW317","v":3.7499999999999999E-3},"m3"]
[null,"Module d'élasticité",null,null,"ER,court",{"$f":"Calculs!B10","v":3000},"N/mm2",null,null,null,"Module d'élasticité",null,null,"ER,court",{"$f":"Calculs!ES33","v":20000},"N/mm2"]
[]
[null,"Rigidité du système",null,null,"SFcourt",{"$f":"Calculs!EK37","v":5.3957514293367431E-3},{"$f":"Calculs!EL37","v":"souple"},null,null,null,"Rigidité du système",null,null,"SFcourt",{"$f":"Calculs!ER37","v":149.18748764541115},{"$f":"Calculs!ES37","v":"rigide"}]
[null,"Facteur de majoration de charge",null,null,"f",{"$f":"Calculs!EM41","v":1},null,null,null,null,"Facteur de majoration de charge",null,null,"f",{"$f":"Calculs!ET41","v":1.3225806451612903}]
[null,"Effet de courbure:",null,null,"αka",{"$f":"Calculs!EG317","v":1},null,null,null,null,"Effet de courbure:",null,null,"αka",{"$f":"Calculs!ET317","v":0.78494623655913975}]
[null,null,null,null,"αki",{"$f":"Calculs!EG316","v":1},null,null,null,null,null,null,null,"αki",{"$f":"Calculs!ET316","v":1.2150537634408602}]
[]
[null,"Terrain",null,null,null,null,null,null,null,null,"Tuyau PVC",null,null,{"$f":"IF(Données!$AE$6>O28,\"di max.< di introduit!\",\"\")","v":""}]
[]
[null,"Qualité du sol",null,null,null,{"$f":"Données!AE30","v":"Sol stable"},null,null,null,null,"Diamètre intérieur ",null,null,"di",{"$f":"Calculs!EK32","v":302.60000000000002},"mm"]
[null,"Poids volumique apparent hum.",null,null,"γ",{"$f":"Données!AE32","v":20},"kN/m3",null,null,null,"Rayon moyen",null,null,"rm",{"$f":"Calculs!EO32","v":154.4},"mm"]
[null,"Poids volumique déjaugé",null,null,"γ'",{"$f":"Données!AE34","v":11},"kN/m3",null,null,null,"Épaisseur de paroi",null,null,"e",{"$f":"Calculs!EN32","v":6.2},"mm"]
[null,"Module de déformation du sol",null,null,"EB",{"$f":"Données!AE38","v":5},"N/mm2"]
[null,"Coefficient de pression du terrain",null,null,"K",{"$f":"Données!AE40","v":0.5},null,null,null,null,"Terrain"]
[null,"Coefficient de flexion au tassement",null,null,"C2",{"$f":"Données!AE42","v":0.5}]
[null,"Type de béton d'enrobage",null,null,null,{"$f":"Données!AE50","v":"C16/20"},null,null,null,null,"Qualité du sol",null,null,null,{"$f":"Données!AE30","v":"Sol stable"}]
[null,"Réduction de charge",null,null,"λmin",{"$f":"Données!AE44","v":"NON"},null,null,null,null,"Poids volumique apparent hum.",null,null,"γ",{"$f":"Données!AE32","v":20},"kN/m3"]
[null,null,null,null,null,null,null,null,null,null,"Poids volumique déjaugé",null,null,"γ'",{"$f":"Données!AE34","v":11},"kN/m3"]
[null,"Eau",null,null,null,null,null,null,null,null,"Module de déformation du sol",null,null,"EB",{"$f":"Données!AE38","v":5},"N/mm2"]
[null,null,null,null,null,null,null,null,null,null,"Coefficient de pression du terrain",null,null,"K",{"$f":"Données!AE40","v":0.5}]
[null,"Eau souterraine",null,null,null,{"$f":"Données!AE60","v":"Sans eau souterraine"},null,null,null,null,"Coefficient de flexion au tassement",null,null,"C2",{"$f":"Données!AE42","v":0.5}]
[null,"Niveau d'eau souterraine",null,null,"hw",{"$f":"Données!AE62","v":1.3},"m",null,null,null,"Type de béton d'enrobage",null,null,null,{"$f":"Données!AE50","v":"C16/20"}]
[null,"Eau à l'intérieur du tuyau",null,null,null,{"$f":"Données!AE64","v":"Tuyau vide"},null,null,null,null,"Réduction de charge",null,null,"λmin",{"$f":"Données!AE44","v":"NON"}]
[null,"Pression",null,null,"pEi",{"$f":"Données!AE66","v":10},"kN/m2"]
[null,null,null,null,null,null,null,null,null,null,"Eau"]
[null,"Fouille"]
[null,null,null,null,null,null,null,null,null,null,"Eau souterraine",null,null,null,{"$f":"Données!AE60","v":"Sans eau souterraine"}]
[null,"Hauteur de couverture",null,null,"H",{"$f":"Données!AE52","v":3},"m",null,null,null,"Niveau d'eau souterraine",null,null,"hw",{"$f":"Données!AN68","v":0},"m"]
[null,"Type de fouille",null,null,null,{"$f":"Données!AE56","v":"Verticale (U)"},null,null,null,null,"Eau à l'intérieur du tuyau",null,null,null,{"$f":"Données!AE64","v":"Tuyau vide"}]
[null,"Largeur de fouille",null,null,"B",{"$f":"Données!$AE$54","v":1.5},"m",null,null,null,"Pression",null,null,"pEi",{"$f":"Données!AE66","v":10},"kN/m2"]
[null,"Angle de talus",null,null,"β",{"$f":"Données!AE58","v":30},"°"]
[]
[]
[]
[]
[null,"Actions",null,null,null,null,null,null,null,null,"Fouille"]
[]
[null,"Charge surfacique",null,null,null,{"$f":"Données!AE8","v":"Pas de charge"},null,null,null,null,"Hauteur de couverture",null,null,"H",{"$f":"Calculs!EU101","v":2.85},"m"]
[null,null,null,null,"qs",{"$f":"Calculs!EL128","v":0},"kN/m2",null,null,null,"Type de fouille",null,null,null,{"$f":"Données!$AE$56","v":"Verticale (U)"}]
[null,"Trafic ",null,null,null,{"$f":"Données!AE22","v":"Trafic routier"},null,{"$f":"IF(AND(Accueil!AZ15=\"Français\",AND(OR(F58=\"Voie unique (ferroviaire)\",F58=\"Voies multiples (ferroviaire)\",F58=\"Voie étroite (ferroviaire)\",F58=\"Eingleisig (Bahnverkehr)\",F58=\"Mehrgleisig (Bahnverkehr)\",F58=\"Schmalspur (Bahnverkehr)\"),F46<2)),\"H trop faible!\",\"\")","v":""},null,null,"Largeur de fouille",null,null,"B",{"$f":"Données!AE54","v":1.5},"m"]
[null,"Coefficient de charge",null,null,"α",{"$f":"Calculs!EH98","v":0.9},null,null,null,null,"Angle de talus",null,null,"β",{"$f":"Données!AE58","v":30},"°"]
[null,"Coefficient dynamique",null,null,"Ψ",{"$f":"Calculs!EI98","v":1}]
[null,"Trafic routier et route d'importance",null,null,"pvtotale",{"$f":"Calculs!EG114","v":24.562000000000001},"kN/m2",null,null,null,"Actions"]
[null,"secondaire",null,null,"pvroue",{"$f":"Calculs!EH114","v":4.9021999999999997},"kN/m2"]
[null,null,null,null,"∆pv",{"$f":"Calculs!EI114","v":19.659800000000001},"kN/m2",null,null,null,"Charge surfacique",null,null,null,{"$f":"Données!AE8","v":"Pas de charge"}]
[null,"Bord de route",null,null,"pvtotale",{"$f":"Calculs!EJ114","v":0},"kN/m2",null,null,null,null,null,null,"qs",{"$f":"Calculs!EW128","v":0},"kN/m2"]
[null,null,null,null,"pvroue",{"$f":"Calculs!EK114","v":0},"kN/m2",null,null,null,"Trafic ",null,null,null,{"$f":"Données!AE22","v":"Trafic routier"},null,{"$f":"IF(AND(Accueil!AZ15=\"Français\",AND(OR(O65=\"Voie unique (ferroviaire)\",O65=\"Voies multiples (ferroviaire)\",O65=\"Voie étroite (ferroviaire)\",O65=\"Eingleisig (Bahnverkehr)\",O65=\"Mehrgleisig (Bahnverkehr)\",O65=\"Schmalspur (Bahnverkehr)\"),O56<2)),\"H trop faible!\",IF(AND(Accueil!AZ15=\"Français\",AND(OR(O65=\"Trafic routier\",O65=\"Bord de route\",O65=\"Route d'importance secondaire\",O65=\"Strassenverkehr\",O65=\"Strassenrand\",O65=\"Untergeordnete Strasse\"),O56<1)),\"H trop faible!\",\"\"))","v":""}]
[null,null,null,null,"∆pv",{"$f":"Calculs!EL114","v":0},"kN/m2",null,null,null,"Coefficient de charge",null,null,"α",{"$f":"Calculs!ET98","v":0.9}]
[null,"Trafic ferroviaire voie unique",null,null,"punique",{"$f":"Calculs!EN114","v":0},"kN/m2",null,null,null,"Coefficient dynamique",null,null,"Ψ",{"$f":"Calculs!EU98","v":1}]
[null,"Trafic ferroviaire voies multiples",null,null,"pmultiples",{"$f":"Calculs!EO114","v":0},"kN/m2",null,null,null,"Trafic routier et route d'importance",null,null,"pvtotale",{"$f":"Calculs!ES114","v":26.200299999999999},"kN/m2"]
[null,"Trafic ferroviaire voie étroite",null,null,"pétroite",{"$f":"Calculs!EP114","v":0},"kN/m2",null,null,null,"secondaire",null,null,"pvroue",{"$f":"Calculs!ET114","v":5.4489399999999995},"kN/m2"]
[null,null,null,null,null,null,null,null,null,null,null,null,null,"∆pv",{"$f":"Calculs!EU114","v":20.751359999999998},"kN/m2"]
["Résultats",null,null,null,null,null,null,null,null,null,"Bord de route",null,null,"pvtotale",{"$f":"Calculs!EV114","v":0},"kN/m2"]
[null,null,null,null,null,null,null,null,null,null,null,null,null,"pvroue",{"$f":"Calculs!EW114","v":0},"kN/m2"]
[null,null,null,null,null,null,null,null,null,null,null,null,null,"∆pv",{"$f":"Calculs!EX114","v":0},"kN/m2"]
[null,null,null,null,null,null,null,null,null,null,"Trafic ferroviaire voie unique",null,null,"punique",{"$f":"Calculs!EZ114","v":0},"kN/m2"]
[null,null,null,null,null,null,null,null,null,null,"Trafic ferroviaire voies multiples",null,null,"pmultiples",{"$f":"Calculs!FA114","v":0},"kN/m2"]
[null,null,null,null,null,null,null,null,null,null,"Trafic ferroviaire voie étroite",null,null,"pétroite",{"$f":"Calculs!FB114","v":0},"kN/m2"]
[]
[null,null,null,null,null,null,null,null,null,"Résultats"]
[]
[]
[]
[]
[]
[]
[]
[]
[]
[]
[]
[]
[]
[]
[]
[]
[]
[]
[]
[]
[]
[]
[]
[null,"Sollicitations",null,null,null,null,null,null,null,null,"Sollicitations"]
[]
[null,null," Sollicitations",null,null,null,null,null,null,null,null," Sollicitations"]
[null,null,"U1/V1",null,null,null,null,null,null,null,null,"U4/V4"]
[null,null,"À long terme",null,"qs1",{"$f":"Calculs!EK198","v":60},"[kN/m2]",null,null,null,null,"À long terme",null,"qs1",{"$f":"Calculs!FB198","v":117.2088539695707},"[kN/m2]"]
[null,null,"À court terme",null,"qs2",{"$f":"Calculs!EK199","v":22.105800000000002},"[kN/m2]",null,null,null,null,"À court terme",null,"qs2",{"$f":"Calculs!FB199","v":31.186808709677415},"[kN/m2]"]
[null,null,"Charge eff. au sommet",null,"qser",{"$f":"Calculs!EK200","v":82.105800000000002},"[kN/m2]",null,null,null,null,"Charge eff. au sommet",null,"qser",{"$f":"Calculs!FB200","v":148.39566267924812},"[kN/m2]"]
[null,null,"Pression du terrain",null,"qh",{"$f":"Calculs!EG202","v":95.83010027856659},"[kN/m2]",null,null,null,null,"Pression du terrain",null,"qh",{"$f":"Calculs!FB201","v":74.197831339624059},"[kN/m2]"]
[null,null,"Charge de dim. au sommet",null,"qds",{"$f":"Calculs!EK203","v":114.15870000000001},"[kN/m2]",null,null,null,null,"Charge de dim. au sommet",null,"qds",{"$f":"Calculs!FB202","v":205.01216592343658},"[kN/m2]"]
[]
[null,null,null,null,null,null,null,null,null,null,"Vérifications"]
[null,"Vérifications"]
[]
[null,null,null,"Vérification de la déformation (IOWA)",null,null,null,null,null,null,"Poussée d'Archimède"]
[null,null,null,null,"U1/V1",null,{"$f":"IF(Calculs!EK37<0.1,\"\",\"Tuyau rigide. Pas nécessaire de vérifier la déformation!\")","v":""},null,null,null,"Actions stabilisant",null,"G + G' + Gsp",{"$f":"Calculs!EX177","v":35.866677796490002},"[kN/m]"]
[null,null,null,"x/d court",{"$f":"IF(Calculs!EK37<0.1,Calculs!EJ207,\"\")","v":1.4084630574132421E-2},null,null,null,null,null,null,null,"GR",{"$f":"Calculs!EX178","v":5.3432328489413106},"[kN/m]"]
[null,null,null,"x/d long",{"$f":"IF(Calculs!EK37<0.1,Calculs!EJ208,\"\")","v":3.9873759222357787E-2},null,null,null,null,null,null,null,"Somme",{"$f":"Calculs!EX179","v":41.209910645431314},"[kN/m]","Facteur",0.9]
[null,null,null,"Somme",{"$f":"IF(Calculs!EK37<0.1,Calculs!EJ209,\"\")","v":5.395838979649021E-2},{"$f":"IF(Calculs!EK37<0.1,Calculs!EK209,\"\")","v":"KO!"},null,null,null,null,"Actions déstabilisant",null,"FA",{"$f":"Calculs!EX180","v":0},"[kN/m]","Facteur",1.05]
[null,null,null,"Admissible",{"$f":"IF(Calculs!EK37<0.1,Calculs!EJ210,\"\")","v":0.05}]
[null,null,null,null,null,null,null,null,null,null,"Contôle:",null,"1.05*FA",{"$f":"Calculs!EX182","v":0},"[kN/m]",{"$f":"Calculs!EZ182","v":"OK"}]
[null,null,null,null,null,null,null,null,null,null,null,null,"0.9*Somme",{"$f":"Calculs!EX183","v":37.088919580888181},"[kN/m]"]
[null,"Poussée d'Archimède"]
[null,"Actions stabilisant",null,"G + G' + Gsp",{"$f":"Calculs!EI177","v":19.11293867236888},"[kN/m]",null,null,null,null,"Sécurité structurale"]
[null,null,null,"GR",{"$f":"Calculs!EI178","v":8.4206746831996249E-2},"[kN/m]",null,null,null,null,{"$f":"IF(N138=\"\",\"\",\"Hypothèse: 5% de la charge de dimensionnement est reprise par le tuyau PVC et une déformation initiale\")","v":""}]
[null,null,null,"Somme",{"$f":"Calculs!EI179","v":19.197145419200876},"[kN/m]","Facteur",0.9,null,null,{"$f":"IF(N138=\"\",\"\",\"de 0.02m est admis [SIA190:2017;4.2.11.1.2].\")","v":""}]
[null,"Actions déstabilisant",null,"FA",{"$f":"Calculs!EI180","v":0},"[kN/m]","Facteur",1.05]
[]
[null,"Contôle:",null,"1.05*FA",{"$f":"Calculs!EI182","v":0},"[kN/m]",{"$f":"Calculs!EK182","v":"OK"},null,null,null,null,"Sécurité structurale"]
[null,null,null,"0.9*Somme",{"$f":"Calculs!EI183","v":17.277430877280789},"[kN/m]",null,null,null,null,null,"U4/V4"]
[null,null,null,null,null,null,null,null,null,null,null,"qds",null,{"$f":"Calculs!EZ214","v":""},"[kN/m2]"]
[null,null,null,null,null,null,null,null,null,null,null,"qBl",null,{"$f":"Calculs!EZ215","v":""},"[kN/m2]"]
[null,"Sécurité structurale",null,null,null,null,null,null,null,null,null,"pwd",null,{"$f":"Calculs!EZ216","v":""},"[kN/m2]"]
[null,null,null,null,null,null,null,null,null,null,null,"pcr",null,{"$f":"Calculs!EZ217","v":""},"[kN/m2]"]
[null,null,"Sécurité structurale",null,null,null,null,null,null,null,null,"k",null,{"$f":"Calculs!EZ218","v":""},"[-]"]
[null,null,"U1/V1",null,null,null,null,null,null,null,null,"qBl/2*(1-2*pwd/k*pcr)",null,{"$f":"Calculs!EZ219","v":""},"[kN/m2]"]
[null,null,"qds",null,{"$f":"IF(Calculs!EK37<0.1,Calculs!EJ214,\"\")","v":114.15870000000001},"[kN/m2]",{"$f":"IF(Calculs!EK37<0.1,\"\",\"Tuyau rigide. Limite de la formule de la sécurité structurale est dépassée!\")","v":""}]
[null,null,"qBl",null,{"$f":"IF(Calculs!EK37<0.1,Calculs!EJ215,\"\")","v":256.67954063521012},"[kN/m2]",null,null,null,null,null,"Résultat",null,{"$f":"Calculs!EZ221","v":""}]
[null,null,"pwd",null,{"$f":"IF(Calculs!EK37<0.1,Calculs!EJ216,\"\")","v":0},"[kN/m2]"]
[null,null,"pcr",null,{"$f":"IF(Calculs!EK37<0.1,Calculs!EJ217,\"\")","v":17.530067822281012},"[kN/m2]",null,null,null,null,{"$f":"IF(N138=\"\",\"Vérification de la sécurité structurale que nécessaire lors de présence d'eau souterraine!\",\"\")","v":"Vérification de la sécurité structurale que nécessaire lors de présence d'eau souterraine!"}]
[null,null,"k",null,{"$f":"IF(Calculs!EK37<0.1,Calculs!EJ218,\"\")","v":1},"[-]"]
[null,null,"qBl/2*(1-2*pwd/k*pcr)",null,{"$f":"IF(Calculs!EK37<0.1,Calculs!EJ219,\"\")","v":128.33977031760506},"[kN/m2]"]
[]
[null,null,"Résultat",null,{"$f":"IF(Calculs!EK37<0.1,Calculs!EJ221,\"\")","v":"OK"}]
[]
[]
[]
[]
[]
[]
[null,"Aptitude au service",null,null,null,null,null,null,null,null,"Aptitude au service"]
[]
[null,null,null,null,null,null,null,null,null,null,null,null,"σRbz,adm",{"$f":"Calculs!ET325","v":-0.3},"N/mm2"]
[null,null,null,"σRbz,adm",{"$f":"Calculs!EN315","v":20},"N/mm2"]
[null,null,null,null,null,null,null,null,null,null,null,null,null,"Convention des contraintes:"]
[null,null,null,null,"Convention des contraintes:",null,null,null,null,null,null,null,null,"Traction négatif -"]
[null,null,null,null,"Traction négatif -",null,null,null,null,null,null,null,null,"Compression positif +"]
[null,null,null,null,"Compression positif +"]
[]
[null,"Contraintes Profil d'enrobage U1/V1",null,null,null,null,null,null,null,null,"Contraintes Profil d'enrobage U4/V4"]
[null,"Contraintes en [N/mm2]",null,"0°","45°","90°","135°","180°",null,null,"Contraintes en [N/mm2]",null,"0°","45°","90°","135°","180°"]
[null,"Effort normal",null,{"$f":"Calculs!EG322","v":1.5907050111036547},{"$f":"Calculs!EH322","v":2.0177408081665726},{"$f":"Calculs!EI322","v":2.048094718699355},{"$f":"Calculs!EJ322","v":2.0192451461551451},{"$f":"Calculs!EK322","v":1.5914255891941589},null,null,"Effort normal",null,{"$f":"Calculs!ET329","v":0.11406168886065955},{"$f":"Calculs!EU329","v":0.17498984012656793},{"$f":"Calculs!EV329","v":0.23891868605907463},{"$f":"Calculs!EW329","v":0.17893534935988478},{"$f":"Calculs!EX329","v":0.11595158829217506}]
[null,"Moment extérieur",null,{"$f":"Calculs!EG323","v":5.9223900903844973},{"$f":"Calculs!EH323","v":-3.6976402537087609},{"$f":"Calculs!EI323","v":1.5147992153443004},{"$f":"Calculs!EJ323","v":-3.7193239813044308},{"$f":"Calculs!EK323","v":5.9533480727685486},null,null,"Moment extérieur",null,{"$f":"Calculs!ET330","v":0.2241573066886775},{"$f":"Calculs!EU330","v":-2.3793415876335686E-3},{"$f":"Calculs!EV330","v":-0.22613831528249584},{"$f":"Calculs!EW330","v":-1.3875383266742775E-3},{"$f":"Calculs!EX330","v":0.22812416138982855}]
[null,"Moment intérieur",null,{"$f":"Calculs!EG324","v":-5.9223900903844973},{"$f":"Calculs!EH324","v":3.6976402537087609},{"$f":"Calculs!EI324","v":-1.5147992153443004},{"$f":"Calculs!EJ324","v":3.7193239813044308},{"$f":"Calculs!EK324","v":-5.9533480727685486},null,null,"Moment intérieur",null,{"$f":"Calculs!ET331","v":-0.34698322816192551},{"$f":"Calculs!EU331","v":3.6830904027752506E-3},{"$f":"Calculs!EV331","v":0.35004972091674014},{"$f":"Calculs!EW331","v":2.1478333001944297E-3},{"$f":"Calculs!EX331","v":-0.35312370187740588}]
[]
[null,"Contraintes extérieur",null,{"$f":"Calculs!EG326","v":7.513095101488152},{"$f":"Calculs!EH326","v":-1.6798994455421883},{"$f":"Calculs!EI326","v":3.5628939340436556},{"$f":"Calculs!EJ326","v":-1.7000788351492857},{"$f":"Calculs!EK326","v":7.5447736619627079},null,null,"Contraintes extérieur",null,{"$f":"Calculs!ET333","v":0.33821899554933704},{"$f":"Calculs!EU333","v":0.17261049853893437},{"$f":"Calculs!EV333","v":1.2780370776578787E-2},{"$f":"Calculs!EW333","v":0.17754781103321052},{"$f":"Calculs!EX333","v":0.34407574968200361}]
[null,"Conraintes intérieur",null,{"$f":"Calculs!EG327","v":-4.3316850792808426},{"$f":"Calculs!EH327","v":5.715381061875334},{"$f":"Calculs!EI327","v":0.5332955033550546},{"$f":"Calculs!EJ327","v":5.7385691274595754},{"$f":"Calculs!EK327","v":-4.3619224835743893},null,null,"Conraintes intérieur",null,{"$f":"Calculs!ET334","v":-0.23292153930126597},{"$f":"Calculs!EU334","v":0.17867293052934319},{"$f":"Calculs!EV334","v":0.58896840697581476},{"$f":"Calculs!EW334","v":0.18108318266007922},{"$f":"Calculs!EX334","v":-0.23717211358523083}]
[]
[null,"Contraintes extérieures",null,{"$f":"Calculs!EG329","v":"OK"},{"$f":"Calculs!EH329","v":"OK"},{"$f":"Calculs!EI329","v":"OK"},{"$f":"Calculs!EJ329","v":"OK"},{"$f":"Calculs!EK329","v":"OK"},null,null,"Contraintes extérieures",null,{"$f":"Calculs!ET336","v":"OK"},{"$f":"Calculs!EU336","v":"OK"},{"$f":"Calculs!EV336","v":"OK"},{"$f":"Calculs!EW336","v":"OK"},{"$f":"Calculs!EX336","v":"OK"}]
[null,"Conraintes intérieures",null,{"$f":"Calculs!EG330","v":"OK"},{"$f":"Calculs!EH330","v":"OK"},{"$f":"Calculs!EI330","v":"OK"},{"$f":"Calculs!EJ330","v":"OK"},{"$f":"Calculs!EK330","v":"OK"},null,null,"Conraintes intérieures",null,{"$f":"Calculs!ET337","v":"OK"},{"$f":"Calculs!EU337","v":"OK"},{"$f":"Calculs!EV337","v":"OK"},{"$f":"Calculs!EW337","v":"OK"},{"$f":"Calculs!EX337","v":"OK"}]

{"sheet":"PVC-SN2 (D)","index":25,"n_rows":170,"n_cols":17,"rows_kept":170,"cut":false,"hidden":false,"merged":[[154,12,154,14],[155,12,155,14],[156,12,156,14],[168,1,168,2],[168,10,168,11],[169,1,169,2],[169,10,169,11],[155,3,155,5],[156,3,156,5],[157,3,157,5],[165,1,165,2],[165,10,165,11],[166,1,166,2],[166,10,166,11],[167,1,167,2],[167,10,167,11],[164,1,164,2],[164,10,164,11],[159,1,159,7],[159,10,159,16],[143,2,143,3],[135,2,135,5],[135,11,135,12],[136,2,136,3],[136,6,138,7],[136,11,136,14],[137,2,137,3],[137,11,137,12],[138,2,138,3],[139,2,139,3],[140,2,140,3],[141,2,141,3],[142,2,142,5],[139,10,139,15],[130,11,130,12],[131,11,131,12],[132,11,132,12],[133,11,133,12],[134,2,134,5],[134,11,134,12],[127,1,127,2],[128,1,128,2],[128,6,129,7],[128,11,128,14],[129,1,129,2],[129,11,129,14],[122,1,122,7],[123,1,123,2],[126,1,126,2],[124,1,125,2],[120,10,120,11],[118,5,119,5],[118,10,118,11],[119,10,119,11],[120,15,121,16],[121,10,121,11],[114,3,114,5],[114,10,114,16],[115,5,117,5],[115,6,117,7],[115,10,115,11],[116,10,117,11],[107,2,107,3],[107,11,107,12],[108,2,108,3],[108,11,108,12],[109,2,109,3],[109,11,109,12],[70,0,70,8],[105,2,105,3],[105,11,105,12],[106,2,106,3],[106,11,106,12],[77,9,77,17],[103,2,103,6],[103,11,103,15],[104,2,104,6],[104,11,104,15],[64,16,65,16],[8,0,9,8],[8,9,9,17],[57,7,58,7],[11,4,11,6],[25,13,25,15]]}
[null,"Projekt:",{"$f":"Accueil!P15","v":"VSA 2026"},null,null,"Ingenieur/in:",null,{"$f":"Accueil!AI15","v":0},null,null,"Projekt:",{"$f":"Accueil!$P$15","v":"VSA 2026"},null,null,"Ingenieur/in:",null,{"$f":"Accueil!$AI$15","v":0}]
[]
[null,"N°:",{"$f":"Accueil!P17","v":0},null,null,"Vernatworlticher:",null,{"$f":"Accueil!AI17","v":0},null,null,"N°:",{"$f":"Accueil!P17","v":0},null,null,"Vernatworlticher:",null,{"$f":"Accueil!$AI$17","v":0}]
[]
[null,"Ort:",{"$f":"Accueil!P21","v":0},null,null,"Bauherr:",null,{"$f":"Accueil!AI19","v":0},null,null,"Ort:",{"$f":"Accueil!$P$21","v":0},null,null,"Bauherr:",null,{"$f":"Accueil!$AI$19","v":0}]
[null,null,{"$f":"Accueil!P23","v":0},null,null,null,null,null,null,null,null,{"$f":"Accueil!$P$23","v":0}]
[]
[]
["Daten Normalverlegeprofil U1/V1",null,null,null,null,null,null,null,null,"Daten Normalverlegeprofil U4/V4"]
[]
[]
[null,"PVC-Rohr",null,null,{"$f":"IF(Données!$AE$6>F14,\"di max.< di Eingabe!\",\"\")","v":""},null,null,null,null,null,"\"Fiktives\" Betonrohr"]
[]
[null,"Innendurchmesser",null,null,"di",{"$f":"Calculs!EK32","v":302.60000000000002},"mm",null,null,null,"Innendurchmesser",null,null,"di",{"$f":"Calculs!ER31/1000","v":0.315},"m"]
[null,"Radius",null,null,"rm",{"$f":"Calculs!EO32","v":154.4},"mm",null,null,null,"Radius",null,null,"rm",{"$f":"Calculs!EU31/1000","v":0.23250000000000001},"m"]
[null,"Wanddicke",null,null,"e",{"$f":"Calculs!EN32","v":6.2},"mm",null,null,null,"Wanddicke",null,null,"e",{"$f":"Calculs!ET31/1000","v":0.15},"m"]
[null,"Querschnittsfläche",null,null,"A",{"$f":"Calculs!EJ316","v":6.1999999999999998E-3},"m2",null,null,null,"Querschnittsfläche",null,null,"A",{"$f":"Calculs!EW316","v":0.15},"m2"]
[null,"Widerstandsmoment",null,null,"W",{"$f":"Calculs!EJ317","v":6.4066666666666683E-6},"m3",null,null,null,"Widerstandsmoment",null,null,"W",{"$f":"Calculs!EW317","v":3.7499999999999999E-3},"m3"]
[null,"E-Modul",null,null,"ER,kurz",{"$f":"Calculs!B10","v":3000},"N/mm2",null,null,null,"E-Modul",null,null,"ER,kurz",{"$f":"Calculs!ES33","v":20000},"N/mm2"]
[]
[null,"Systemsteifigkeit",null,null,"SFkurz",{"$f":"Calculs!EK37","v":5.3957514293367431E-3},{"$f":"Calculs!EL37","v":"souple"},null,null,null,"Systemsteifigkeit",null,null,"SFkurz",{"$f":"Calculs!ER37","v":149.18748764541115},{"$f":"Calculs!ES37","v":"rigide"}]
[null,"Lastvergrösserungsfaktor",null,null,"f",{"$f":"Calculs!EM41","v":1},null,null,null,null,"Lastvergrösserungsfaktor",null,null,"f",{"$f":"Calculs!ET41","v":1.3225806451612903}]
[null,"Krümmungseinfluss",null,null,"αka",{"$f":"Calculs!EG317","v":1},null,null,null,null,"Krümmungseinfluss",null,null,"αka",{"$f":"Calculs!ET317","v":0.78494623655913975}]
[null,null,null,null,"αki",{"$f":"Calculs!EG316","v":1},null,null,null,null,null,null,null,"αki",{"$f":"Calculs!ET316","v":1.2150537634408602}]
[]
[null,"Terrain",null,null,null,null,null,null,null,null,"PVC-Rohr",null,null,{"$f":"IF(Données!$AE$6>O28,\"di max.< di Eingabe!\",\"\")","v":""}]
[]
[null,"Bodenqualität",null,null,null,{"$f":"Données!AE30","v":"Sol stable"},null,null,null,null,"Innendurchmesser",null,null,"di",{"$f":"Calculs!EK32","v":302.60000000000002},"mm"]
[null,"Feuchtraumgewicht des Baugrunds",null,null,"γ",{"$f":"Données!AE32","v":20},"kN/m3",null,null,null,"Radius",null,null,"rm",{"$f":"Calculs!EO32","v":154.4},"mm"]
[null,"Raumgewicht unter Auftrieb",null,null,"γ'",{"$f":"Données!AE34","v":11},"kN/m3",null,null,null,"Wanddicke",null,null,"e",{"$f":"Calculs!EN32","v":6.2},"mm"]
[null,"Verformungsmodul des Bodens",null,null,"EB",{"$f":"Données!AE38","v":5},"N/mm2"]
[null,"Erddruckbeiwert",null,null,"K",{"$f":"Données!AE40","v":0.5},null,null,null,null,"Terrain"]
[null,"Setzungs-Durchbiegungsziffer",null,null,"C2",{"$f":"Données!AE42","v":0.5}]
[null,"Hüllbeton",null,null,null,{"$f":"Données!AE50","v":"C16/20"},null,null,null,null,"Bodenqualität",null,null,null,{"$f":"Données!AE30","v":"Sol stable"}]
[null,"Lastminderung",null,null,"λmin",{"$f":"Données!AE44","v":"NON"},null,null,null,null,"Feuchtraumgewicht des Baugrunds",null,null,"γ",{"$f":"Données!AE32","v":20},"kN/m3"]
[null,null,null,null,null,null,null,null,null,null,"Raumgewicht unter Auftrieb",null,null,"γ'",{"$f":"Données!AE34","v":11},"kN/m3"]
[null,"Wasser",null,null,null,null,null,null,null,null,"Verformungsmodul des Bodens",null,null,"EB",{"$f":"Données!AE38","v":5},"N/mm2"]
[null,null,null,null,null,null,null,null,null,null,"Erddruckbeiwert",null,null,"K",{"$f":"Données!AE40","v":0.5}]
[null,"Grundwasser",null,null,null,{"$f":"Données!AE60","v":"Sans eau souterraine"},null,null,null,null,"Setzungs-Durchbiegungsziffer",null,null,"C2",{"$f":"Données!AE42","v":0.5}]
[null,"Grwundwasserspiegel",null,null,"hw",{"$f":"Données!AE62","v":1.3},"m",null,null,null,"Hüllbeton",null,null,null,{"$f":"Données!AE50","v":"C16/20"}]
[null,"Wasser im Rohr",null,null,null,{"$f":"Données!AE64","v":"Tuyau vide"},null,null,null,null,"Lastminderung",null,null,"λmin",{"$f":"Données!AE44","v":"NON"}]
[null,"Druck",null,null,"pEi",{"$f":"Données!AE66","v":10},"kN/m2"]
[null,null,null,null,null,null,null,null,null,null,"Wasser"]
[null,"Graben"]
[null,null,null,null,null,null,null,null,null,null,"Grundwasser",null,null,null,{"$f":"Données!AE60","v":"Sans eau souterraine"}]
[null,"Überdeckungshöhe",null,null,"H",{"$f":"Données!AE52","v":3},"m",null,null,null,"Grwundwasserspiegel",null,null,"hw",{"$f":"Données!AN68","v":0},"m"]
[null,"Grabentyp",null,null,null,{"$f":"Données!AE56","v":"Verticale (U)"},null,null,null,null,"Wasser im Rohr",null,null,null,{"$f":"Données!AE64","v":"Tuyau vide"}]
[null,"Grabenbreite",null,null,"B",{"$f":"Données!$AE$54","v":1.5},"m",null,null,null,"Druck",null,null,"pEi",{"$f":"Données!AE66","v":10},"kN/m2"]
[null,"Böschungsneigung",null,null,"β",{"$f":"Données!AE58","v":30},"°"]
[]
[]
[]
[]
[null,"Einwirkungen",null,null,null,null,null,null,null,null,"Graben"]
[]
[null,"Flächenlast",null,null,null,{"$f":"Données!AE8","v":"Pas de charge"},null,null,null,null,"Überdeckungshöhe",null,null,"H",{"$f":"Calculs!EU101","v":2.85},"m"]
[null,null,null,null,"qs",{"$f":"Calculs!EL128","v":0},"kN/m2",null,null,null,"Grabentyp",null,null,null,{"$f":"Données!$AE$56","v":"Verticale (U)"}]
[null,"Verkehr",null,null,null,{"$f":"Données!AE22","v":"Trafic routier"},null,{"$f":"IF(AND(Accueil!AZ15=\"Deutsch\",AND(OR(F58=\"Voie unique (ferroviaire)\",F58=\"Voies multiples (ferroviaire)\",F58=\"Voie étroite (ferroviaire)\",F58=\"Eingleisig (Bahnverkehr)\",F58=\"Mehrgleisig (Bahnverkehr)\",F58=\"Schmalspur (Bahnverkehr)\"),F46<2)),\"H zu klein!\",\"\")","v":""},null,null,"Grabenbreite",null,null,"B",{"$f":"Données!AE54","v":1.5},"m"]
[null,"Beiwert Strass- und Bahnvekehrslasten",null,null,"α",{"$f":"Calculs!EH98","v":0.9},null,null,null,null,"Böschungsneigung",null,null,"β",{"$f":"Données!AE58","v":30},"°"]
[null,"Dynamischer Beiwert",null,null,"Ψ",{"$f":"Calculs!EI98","v":1}]
[null,"Strassenverkehr und untergeordnete",null,null,"pvtotal",{"$f":"Calculs!EG114","v":24.562000000000001},"kN/m2",null,null,null,"Einwirkungen"]
[null,"Strassen",null,null,"pvRad",{"$f":"Calculs!EH114","v":4.9021999999999997},"kN/m2"]
[null,null,null,null,"∆pv",{"$f":"Calculs!EI114","v":19.659800000000001},"kN/m2",null,null,null,"Flächenlast",null,null,null,{"$f":"Données!AE8","v":"Pas de charge"}]
[null,"Strassenrand",null,null,"pvtotal",{"$f":"Calculs!EJ114","v":0},"kN/m2",null,null,null,null,null,null,"qs",{"$f":"Calculs!EW128","v":0},"kN/m2"]
[null,null,null,null,"pvRad",{"$f":"Calculs!EK114","v":0},"kN/m2",null,null,null,"Verkehr",null,null,null,{"$f":"Données!AE22","v":"Trafic routier"},null,{"$f":"IF(AND(Accueil!AZ15=\"Deutsch\",AND(OR(O65=\"Voie unique (ferroviaire)\",O65=\"Voies multiples (ferroviaire)\",O65=\"Voie étroite (ferroviaire)\",O65=\"Eingleisig (Bahnverkehr)\",O65=\"Mehrgleisig (Bahnverkehr)\",O65=\"Schmalspur (Bahnverkehr)\"),O56<2)),\"H zu klein!\",IF(AND(Accueil!AZ15=\"Deutsch\",AND(OR(O65=\"Trafic routier\",O65=\"Bord de route\",O65=\"Route d'importance secondaire\",O65=\"Strassenverkehr\",O65=\"Strassenrand\",O65=\"Untergeordnete Strasse\"),O56<1)),\"H zu klein!\",\"\"))","v":""}]
[null,null,null,null,"∆pv",{"$f":"Calculs!EL114","v":0},"kN/m2",null,null,null,"Beiwert Strass- und Bahnvekehrslasten",null,null,"α",{"$f":"Calculs!ET98","v":0.9}]
[null,"Bahnverkehr eingleisig",null,null,"peingleisig",{"$f":"Calculs!EN114","v":0},"kN/m2",null,null,null,"Dynamischer Beiwert",null,null,"Ψ",{"$f":"Calculs!EU98","v":1}]
[null,"Bahnverkehr mehrgleisig",null,null,"pmehrgleisig",{"$f":"Calculs!EO114","v":0},"kN/m2",null,null,null,"Strassenverkehr und untergeordnete",null,null,"pvtotal",{"$f":"Calculs!ES114","v":26.200299999999999},"kN/m2"]
[null,"Bahnverkehr schmalspur",null,null,"pschmal",{"$f":"Calculs!EP114","v":0},"kN/m2",null,null,null,"Strassen",null,null,"pvRad",{"$f":"Calculs!ET114","v":5.4489399999999995},"kN/m2"]
[null,null,null,null,null,null,null,null,null,null,null,null,null,"∆pv",{"$f":"Calculs!EU114","v":20.751359999999998},"kN/m2"]
["Resultate",null,null,null,null,null,null,null,null,null,"Strassenrand",null,null,"pvtotal",{"$f":"Calculs!EV114","v":0},"kN/m2"]
[null,null,null,null,null,null,null,null,null,null,null,null,null,"pvRad",{"$f":"Calculs!EW114","v":0},"kN/m2"]
[null,null,null,null,null,null,null,null,null,null,null,null,null,"∆pv",{"$f":"Calculs!EX114","v":0},"kN/m2"]
[null,null,null,null,null,null,null,null,null,null,"Bahnverkehr eingleisig",null,null,"peingleisig",{"$f":"Calculs!EZ114","v":0},"kN/m2"]
[null,null,null,null,null,null,null,null,null,null,"Bahnverkehr mehrgleisig",null,null,"pmehrgleisig",{"$f":"Calculs!FA114","v":0},"kN/m2"]
[null,null,null,null,null,null,null,null,null,null,"Bahnverkehr schmalspur",null,null,"pschmal",{"$f":"Calculs!FB114","v":0},"kN/m2"]
[]
[null,null,null,null,null,null,null,null,null,"Resultate"]
[]
[]
[]
[]
[]
[]
[]
[]
[]
[]
[]
[]
[]
[]
[]
[]
[]
[]
[]
[]
[]
[]
[]
[null,"Beanspruchungen",null,null,null,null,null,null,null,null,"Beanspruchungen"]
[]
[null,null,"Beanspruchungen",null,null,null,null,null,null,null,null,"Beanspruchungen"]
[null,null,"U1/V1",null,null,null,null,null,null,null,null,"U4/V4"]
[null,null,"Langzeit",null,"qs1",{"$f":"Calculs!EK198","v":60},"[kN/m2]",null,null,null,null,"Langzeit",null,"qs1",{"$f":"Calculs!FB198","v":117.2088539695707},"[kN/m2]"]
[null,null,"Kurzzeit",null,"qs2",{"$f":"Calculs!EK199","v":22.105800000000002},"[kN/m2]",null,null,null,null,"Kurzzeit",null,"qs2",{"$f":"Calculs!FB199","v":31.186808709677415},"[kN/m2]"]
[null,null,"Effektive Last auf Scheitel",null,"qser",{"$f":"Calculs!EK200","v":82.105800000000002},"[kN/m2]",null,null,null,null,"Effektive Last auf Scheitel",null,"qser",{"$f":"Calculs!FB200","v":148.39566267924812},"[kN/m2]"]
[null,null,"Erddruck",null,"qh",{"$f":"Calculs!EG202","v":95.83010027856659},"[kN/m2]",null,null,null,null,"Erddruck",null,"qh",{"$f":"Calculs!FB201","v":74.197831339624059},"[kN/m2]"]
[null,null,"Bemessungswert",null,"qds",{"$f":"Calculs!EK203","v":114.15870000000001},"[kN/m2]",null,null,null,null,"Bemessungswert",null,"qds",{"$f":"Calculs!FB202","v":205.01216592343658},"[kN/m2]"]
[]
[null,null,null,null,null,null,null,null,null,null,"Nachweise"]
[null,"Nachweise"]
[]
[null,null,null,"Verformungsnachweis (IOWA)",null,null,null,null,null,null,"Auftrieb"]
[null,null,null,null,"U1/V1",null,{"$f":"IF(Calculs!EK37<0.1,\"\",\"Steifes Rohr. Verformungsnachweis entfällt!\")","v":""},null,null,null,"Stabilisierend",null,"G + G' + Gsp",{"$f":"Calculs!EX177","v":35.866677796490002},"[kN/m]"]
[null,null,null,"x/d kurz",{"$f":"IF(Calculs!EK37<0.1,Calculs!EJ207,\"\")","v":1.4084630574132421E-2},null,null,null,null,null,null,null,"GR",{"$f":"Calculs!EX178","v":5.3432328489413106},"[kN/m]"]
[null,null,null,"x/d lang",{"$f":"IF(Calculs!EK37<0.1,Calculs!EJ208,\"\")","v":3.9873759222357787E-2},null,null,null,null,null,null,null,"Summe",{"$f":"Calculs!EX179","v":41.209910645431314},"[kN/m]","Faktor",0.9]
[null,null,null,"Summe",{"$f":"IF(Calculs!EK37<0.1,Calculs!EJ209,\"\")","v":5.395838979649021E-2},{"$f":"IF(Calculs!EK37<0.1,Calculs!EK209,\"\")","v":"KO!"},null,null,null,null,"Destabilisierend",null,"FA",{"$f":"Calculs!EX180","v":0},"[kN/m]","Faktor",1.05]
[null,null,null,"Zugelassen",{"$f":"IF(Calculs!EK37<0.1,Calculs!EJ210,\"\")","v":0.05}]
[null,null,null,null,null,null,null,null,null,null,"Kontrolle:",null,"1.05*FA",{"$f":"Calculs!EX182","v":0},"[kN/m]",{"$f":"Calculs!EZ182","v":"OK"}]
[null,null,null,null,null,null,null,null,null,null,null,null,"0.9*Summe",{"$f":"Calculs!EX183","v":37.088919580888181},"[kN/m]"]
[null,"Auftrieb"]
[null,"Stabilisierend",null,"G + G' + Gsp",{"$f":"Calculs!EI177","v":19.11293867236888},"[kN/m]",null,null,null,null,"Tragfähigkeit"]
[null,null,null,"GR",{"$f":"Calculs!EI178","v":8.4206746831996249E-2},"[kN/m]",null,null,null,null,{"$f":"IF(N138=\"\",\"\",\"Annahme: 5% des Bemessungswerts werden durch das PVC-Rohr aufgenommen und eine initiale\")","v":""}]
[null,null,null,"Summe",{"$f":"Calculs!EI179","v":19.197145419200876},"[kN/m]","Faktor",0.9,null,null,{"$f":"IF(N138=\"\",\"\",\"Deformation von 0.02m [SIA190:2017;4.2.11.1.2].\")","v":""}]
[null,"Destabilisierend",null,"FA",{"$f":"Calculs!EI180","v":0},"[kN/m]","Faktor",1.05]
[]
[null,"Kontrolle:",null,"1.05*FA",{"$f":"Calculs!EI182","v":0},"[kN/m]",{"$f":"Calculs!EK182","v":"OK"},null,null,null,null,"Tragfähigkeit"]
[null,null,null,"0.9*Summe",{"$f":"Calculs!EI183","v":17.277430877280789},"[kN/m]",null,null,null,null,null,"U4/V4"]
[null,null,null,null,null,null,null,null,null,null,null,"qds",null,{"$f":"Calculs!EZ214","v":""},"[kN/m2]"]
[null,null,null,null,null,null,null,null,null,null,null,"qBl",null,{"$f":"Calculs!EZ215","v":""},"[kN/m2]"]
[null,"Tragfähigkeit",null,null,null,null,null,null,null,null,null,"pwd",null,{"$f":"Calculs!EZ216","v":""},"[kN/m2]"]
[null,null,null,null,null,null,null,null,null,null,null,"pcr",null,{"$f":"Calculs!EZ217","v":""},"[kN/m2]"]
[null,null,"Tragfähigkeit",null,null,null,null,null,null,null,null,"k",null,{"$f":"Calculs!EZ218","v":""},"[-]"]
[null,null,"U1/V1",null,null,null,null,null,null,null,null,"qBl/2*(1-2*pwd/k*pcr)",null,{"$f":"Calculs!EZ219","v":""},"[kN/m2]"]
[null,null,"qds",null,{"$f":"IF(Calculs!EK37<0.1,Calculs!EJ214,\"\")","v":114.15870000000001},"[kN/m2]",{"$f":"IF(Calculs!EK37<0.1,\"\",\"Steifes Rohr. Limite der Tragfähigkeitsformel überschritten!\")","v":""}]
[null,null,"qBl",null,{"$f":"IF(Calculs!EK37<0.1,Calculs!EJ215,\"\")","v":256.67954063521012},"[kN/m2]",null,null,null,null,null,"Resultate",null,{"$f":"Calculs!EZ221","v":""}]
[null,null,"pwd",null,{"$f":"IF(Calculs!EK37<0.1,Calculs!EJ216,\"\")","v":0},"[kN/m2]"]
[null,null,"pcr",null,{"$f":"IF(Calculs!EK37<0.1,Calculs!EJ217,\"\")","v":17.530067822281012},"[kN/m2]",null,null,null,null,{"$f":"IF(N138=\"\",\"Tragfähigkeitsnachweis nur nötig bei Grundwasser!\",\"\")","v":"Tragfähigkeitsnachweis nur nötig bei Grundwasser!"}]
[null,null,"k",null,{"$f":"IF(Calculs!EK37<0.1,Calculs!EJ218,\"\")","v":1},"[-]"]
[null,null,"qBl/2*(1-2*pwd/k*pcr)",null,{"$f":"IF(Calculs!EK37<0.1,Calculs!EJ219,\"\")","v":128.33977031760506},"[kN/m2]"]
[]
[null,null,"Resultate",null,{"$f":"IF(Calculs!EK37<0.1,Calculs!EJ221,\"\")","v":"OK"}]
[]
[]
[]
[]
[]
[]
[null,"Gebrauchstauglichkeit",null,null,null,null,null,null,null,null,"Gebrauchstauglichkeit"]
[]
[null,null,null,null,null,null,null,null,null,null,null,null,"σRbz,adm",{"$f":"Calculs!ET325","v":-0.3},"N/mm2"]
[null,null,null,"σRbz,adm",{"$f":"Calculs!EN315","v":20},"N/mm2"]
[null,null,null,null,null,null,null,null,null,null,null,null,"Spannungskonventionen:"]
[null,null,null,"Spannungskonventionen:",null,null,null,null,null,null,null,null,"Zug negatif -"]
[null,null,null,"Zug negatif -",null,null,null,null,null,null,null,null,"Druck positif +"]
[null,null,null,"Druck positif +"]
[]
[null,"Spannungen Verlegeprofil U1/V1",null,null,null,null,null,null,null,null,"Spannungen Verlegeprofil U4/V4"]
[null,"Spannungen in [N/mm2]",null,"0°","45°","90°","135°","180°",null,null,"Spannungen in [N/mm2]",null,"0°","45°","90°","135°","180°"]
[null,"Durch die Normalkraft",null,{"$f":"Calculs!EG322","v":1.5907050111036547},{"$f":"Calculs!EH322","v":2.0177408081665726},{"$f":"Calculs!EI322","v":2.048094718699355},{"$f":"Calculs!EJ322","v":2.0192451461551451},{"$f":"Calculs!EK322","v":1.5914255891941589},null,null,"Durch die Normalkraft",null,{"$f":"Calculs!ET329","v":0.11406168886065955},{"$f":"Calculs!EU329","v":0.17498984012656793},{"$f":"Calculs!EV329","v":0.23891868605907463},{"$f":"Calculs!EW329","v":0.17893534935988478},{"$f":"Calculs!EX329","v":0.11595158829217506}]
[null,"Durch das Moment aussen",null,{"$f":"Calculs!EG323","v":5.9223900903844973},{"$f":"Calculs!EH323","v":-3.6976402537087609},{"$f":"Calculs!EI323","v":1.5147992153443004},{"$f":"Calculs!EJ323","v":-3.7193239813044308},{"$f":"Calculs!EK323","v":5.9533480727685486},null,null,"Durch das Moment aussen",null,{"$f":"Calculs!ET330","v":0.2241573066886775},{"$f":"Calculs!EU330","v":-2.3793415876335686E-3},{"$f":"Calculs!EV330","v":-0.22613831528249584},{"$f":"Calculs!EW330","v":-1.3875383266742775E-3},{"$f":"Calculs!EX330","v":0.22812416138982855}]
[null,"Durch das Moment innen",null,{"$f":"Calculs!EG324","v":-5.9223900903844973},{"$f":"Calculs!EH324","v":3.6976402537087609},{"$f":"Calculs!EI324","v":-1.5147992153443004},{"$f":"Calculs!EJ324","v":3.7193239813044308},{"$f":"Calculs!EK324","v":-5.9533480727685486},null,null,"Durch das Moment innen",null,{"$f":"Calculs!ET331","v":-0.34698322816192551},{"$f":"Calculs!EU331","v":3.6830904027752506E-3},{"$f":"Calculs!EV331","v":0.35004972091674014},{"$f":"Calculs!EW331","v":2.1478333001944297E-3},{"$f":"Calculs!EX331","v":-0.35312370187740588}]
[]
[null,"Spannungen aussen",null,{"$f":"Calculs!EG326","v":7.513095101488152},{"$f":"Calculs!EH326","v":-1.6798994455421883},{"$f":"Calculs!EI326","v":3.5628939340436556},{"$f":"Calculs!EJ326","v":-1.7000788351492857},{"$f":"Calculs!EK326","v":7.5447736619627079},null,null,"Spannungen aussen",null,{"$f":"Calculs!ET333","v":0.33821899554933704},{"$f":"Calculs!EU333","v":0.17261049853893437},{"$f":"Calculs!EV333","v":1.2780370776578787E-2},{"$f":"Calculs!EW333","v":0.17754781103321052},{"$f":"Calculs!EX333","v":0.34407574968200361}]
[null,"Spannungen innen","Spannungen innen",{"$f":"Calculs!EG327","v":-4.3316850792808426},{"$f":"Calculs!EH327","v":5.715381061875334},{"$f":"Calculs!EI327","v":0.5332955033550546},{"$f":"Calculs!EJ327","v":5.7385691274595754},{"$f":"Calculs!EK327","v":-4.3619224835743893},null,null,"Spannungen innen","Spannungen innen",{"$f":"Calculs!ET334","v":-0.23292153930126597},{"$f":"Calculs!EU334","v":0.17867293052934319},{"$f":"Calculs!EV334","v":0.58896840697581476},{"$f":"Calculs!EW334","v":0.18108318266007922},{"$f":"Calculs!EX334","v":-0.23717211358523083}]
[]
[null,"Spannungen aussen",null,{"$f":"Calculs!EG329","v":"OK"},{"$f":"Calculs!EH329","v":"OK"},{"$f":"Calculs!EI329","v":"OK"},{"$f":"Calculs!EJ329","v":"OK"},{"$f":"Calculs!EK329","v":"OK"},null,null,"Spannungen aussen",null,{"$f":"Calculs!ET336","v":"OK"},{"$f":"Calculs!EU336","v":"OK"},{"$f":"Calculs!EV336","v":"OK"},{"$f":"Calculs!EW336","v":"OK"},{"$f":"Calculs!EX336","v":"OK"}]
[null,"Spannungen innen","Spannungen innen",{"$f":"Calculs!EG330","v":"OK"},{"$f":"Calculs!EH330","v":"OK"},{"$f":"Calculs!EI330","v":"OK"},{"$f":"Calculs!EJ330","v":"OK"},{"$f":"Calculs!EK330","v":"OK"},null,null,"Spannungen innen","Spannungen innen",{"$f":"Calculs!ET337","v":"OK"},{"$f":"Calculs!EU337","v":"OK"},{"$f":"Calculs!EV337","v":"OK"},{"$f":"Calculs!EW337","v":"OK"},{"$f":"Calculs!EX337","v":"OK"}]

{"sheet":"PVC-SN4","index":26,"n_rows":170,"n_cols":17,"rows_kept":170,"cut":false,"hidden":false,"merged":[[77,9,77,17],[8,0,9,8],[8,9,9,17],[57,7,58,7],[64,16,65,16],[70,0,70,8],[11,4,11,6],[25,13,25,15],[103,2,103,6],[103,11,103,15],[104,2,104,6],[104,11,104,15],[105,2,105,3],[105,11,105,12],[106,2,106,3],[106,11,106,12],[107,2,107,3],[107,11,107,12],[108,2,108,3],[108,11,108,12],[120,15,121,16],[121,10,121,11],[109,2,109,3],[109,11,109,12],[114,3,114,5],[114,10,114,16],[115,5,117,5],[115,10,115,11],[116,10,117,11],[115,6,117,7],[126,1,126,2],[118,5,119,5],[118,10,118,11],[119,10,119,11],[120,10,120,11],[122,1,122,7],[123,1,123,2],[124,1,125,2],[127,1,127,2],[128,1,128,2],[128,6,129,7],[128,11,128,14],[129,1,129,2],[129,11,129,14],[130,11,130,12],[131,11,131,12],[132,11,132,12],[133,11,133,12],[134,2,134,5],[134,11,134,12],[135,2,135,5],[135,11,135,12],[136,2,136,3],[136,11,136,14],[137,2,137,3],[137,11,137,12],[136,6,138,7],[161,1,161,2],[161,10,161,11],[138,2,138,3],[139,2,139,3],[140,2,140,3],[141,2,141,3],[142,2,142,5],[143,2,143,3],[159,1,159,7],[159,10,159,16],[160,1,160,2],[160,10,160,11],[139,10,140,15],[162,1,162,2],[162,10,162,11],[163,1,163,2],[163,10,163,11],[164,1,164,2],[164,10,164,11],[168,1,168,2],[168,10,168,11],[169,1,169,2],[169,10,169,11],[165,1,165,2],[165,10,165,11],[166,1,166,2],[166,10,166,11],[167,1,167,2],[167,10,167,11]]}
[null,"Projet:",{"$f":"Accueil!P15","v":"VSA 2026"},null,null,"Ingénieur/e:",null,{"$f":"Accueil!AI15","v":0},null,null,"Projet:",{"$f":"Accueil!$P$15","v":"VSA 2026"},null,null,"Ingénieur/e:",null,{"$f":"Accueil!$AI$15","v":0}]
[]
[null,"N°:",{"$f":"Accueil!P17","v":0},null,null,"Responsable:",null,{"$f":"Accueil!AI17","v":0},null,null,"N°:",{"$f":"Accueil!P17","v":0},null,null,"Responsable:",null,{"$f":"Accueil!$AI$17","v":0}]
[]
[null,"Lieu:",{"$f":"Accueil!P21","v":0},null,null,"Maître d'ouvrage:",null,{"$f":"Accueil!AI19","v":0},null,null,"Lieu:",{"$f":"Accueil!$P$21","v":0},null,null,"Maître d'ouvrage:",null,{"$f":"Accueil!$AI$19","v":0}]
[null,null,{"$f":"Accueil!P23","v":0},null,null,null,null,null,null,null,null,{"$f":"Accueil!$P$23","v":0}]
[]
[]
["Données profil d'enrobage U1/V1",null,null,null,null,null,null,null,null,"Données profil d'enrobage U4/V4"]
[]
[]
[null,"Tuyau PVC",null,null,{"$f":"IF(Données!$AE$6>F14,\"di max.< di introduit!\",\"\")","v":""},null,null,null,null,null,"Tuyau \"fictif\" en béton"]
[]
[null,"Diamètre intérieur ",null,null,"di",{"$f":"Calculs!FK32","v":337.6},"mm",null,null,null,"Diamètre intérieur ",null,null,"di",{"$f":"Calculs!FR31/1000","v":0.35499999999999998},"m"]
[null,"Rayon moyen",null,null,"rm",{"$f":"Calculs!FO32","v":173.15},"mm",null,null,null,"Rayon moyen",null,null,"rm",{"$f":"Calculs!FU31/1000","v":0.2525},"m"]
[null,"Épaisseur de paroi",null,null,"e",{"$f":"Calculs!FN32","v":8.6999999999999993},"mm",null,null,null,"Épaisseur de paroi",null,null,"e",{"$f":"Calculs!FT31/1000","v":0.15},"m"]
[null,"Section",null,null,"A",{"$f":"Calculs!FJ316","v":8.6999999999999994E-3},"m2",null,null,null,"Section",null,null,"A",{"$f":"Calculs!FW316","v":0.15},"m2"]
[null,"Module de flexion",null,null,"W",{"$f":"Calculs!FJ317","v":1.2614999999999997E-5},"m3",null,null,null,"Module de flexion",null,null,"W",{"$f":"Calculs!FW317","v":3.7499999999999999E-3},"m3"]
[null,"Module d'élasticité",null,null,"ER,court",{"$f":"Calculs!B12","v":1250},"N/mm2",null,null,null,"Module d'élasticité",null,null,"ER,court",{"$f":"Calculs!FS33","v":20000},"N/mm2"]
[]
[null,"Rigidité du système",null,null,"SFcourt",{"$f":"Calculs!FK37","v":1.0570828432223662E-2},{"$f":"Calculs!FL37","v":"souple"},null,null,null,"Rigidité du système",null,null,"SFcourt",{"$f":"Calculs!FR37","v":116.47081775131731},{"$f":"Calculs!FS37","v":"rigide"}]
[null,"Facteur de majoration de charge",null,null,"f",{"$f":"Calculs!FM41","v":1.0251227259601501},null,null,null,null,"Facteur de majoration de charge",null,null,"f",{"$f":"Calculs!FT41","v":1.2970297029702971}]
[null,"Effet de courbure:",null,null,"αka",{"$f":"Calculs!FG317","v":1},null,null,null,null,"Effet de courbure:",null,null,"αka",{"$f":"Calculs!FT317","v":0.80198019801980203}]
[null,null,null,null,"αki",{"$f":"Calculs!FG316","v":1},null,null,null,null,null,null,null,"αki",{"$f":"Calculs!FT316","v":1.198019801980198}]
[]
[null,"Terrain",null,null,null,null,null,null,null,null,"Tuyau PVC",null,null,{"$f":"IF(Données!$AE$6>O28,\"di max.< di introduit!\",\"\")","v":""}]
[]
[null,"Qualité du sol",null,null,null,{"$f":"Données!AE30","v":"Sol stable"},null,null,null,null,"Diamètre intérieur ",null,null,"di",{"$f":"Calculs!FK32","v":337.6},"mm"]
[null,"Poids volumique apparent hum.",null,null,"γ",{"$f":"Données!AE32","v":20},"kN/m3",null,null,null,"Rayon moyen",null,null,"rm",{"$f":"Calculs!FO32","v":173.15},"mm"]
[null,"Poids volumique déjaugé",null,null,"γ'",{"$f":"Données!AE34","v":11},"kN/m3",null,null,null,"Épaisseur de paroi",null,null,"e",{"$f":"Calculs!FN32","v":8.6999999999999993},"mm"]
[null,"Module de déformation du sol",null,null,"EB",{"$f":"Données!AE38","v":5},"N/mm2"]
[null,"Coefficient de pression du terrain",null,null,"K",{"$f":"Données!AE40","v":0.5},null,null,null,null,"Terrain"]
[null,"Coefficient de flexion au tassement",null,null,"C2",{"$f":"Données!AE42","v":0.5}]
[null,"Type de béton d'enrobage",null,null,null,{"$f":"Données!AE50","v":"C16/20"},null,null,null,null,"Qualité du sol",null,null,null,{"$f":"Données!AE30","v":"Sol stable"}]
[null,"Réduction de charge",null,null,"λmin",{"$f":"Données!AE44","v":"NON"},null,null,null,null,"Poids volumique apparent hum.",null,null,"γ",{"$f":"Données!AE32","v":20},"kN/m3"]
[null,null,null,null,null,null,null,null,null,null,"Poids volumique déjaugé",null,null,"γ'",{"$f":"Données!AE34","v":11},"kN/m3"]
[null,"Eau",null,null,null,null,null,null,null,null,"Module de déformation du sol",null,null,"EB",{"$f":"Données!AE38","v":5},"N/mm2"]
[null,null,null,null,null,null,null,null,null,null,"Coefficient de pression du terrain",null,null,"K",{"$f":"Données!AE40","v":0.5}]
[null,"Eau souterraine",null,null,null,{"$f":"Données!AE60","v":"Sans eau souterraine"},null,null,null,null,"Coefficient de flexion au tassement",null,null,"C2",{"$f":"Données!AE42","v":0.5}]
[null,"Niveau d'eau souterraine",null,null,"hw",{"$f":"Données!AE62","v":1.3},"m",null,null,null,"Type de béton d'enrobage",null,null,null,{"$f":"Données!AE50","v":"C16/20"}]
[null,"Eau à l'intérieur du tuyau",null,null,null,{"$f":"Données!AE64","v":"Tuyau vide"},null,null,null,null,"Réduction de charge",null,null,"λmin",{"$f":"Données!AE44","v":"NON"}]
[null,"Pression",null,null,"pEi",{"$f":"Données!AE66","v":10},"kN/m2"]
[null,null,null,null,null,null,null,null,null,null,"Eau"]
[null,"Fouille"]
[null,null,null,null,null,null,null,null,null,null,"Eau souterraine",null,null,null,{"$f":"Données!AE60","v":"Sans eau souterraine"}]
[null,"Hauteur de couverture",null,null,"H",{"$f":"Données!AE52","v":3},"m",null,null,null,"Niveau d'eau souterraine",null,null,"hw",{"$f":"Données!AN68","v":0},"m"]
[null,"Type de fouille",null,null,null,{"$f":"Données!AE56","v":"Verticale (U)"},null,null,null,null,"Eau à l'intérieur du tuyau",null,null,null,{"$f":"Données!AE64","v":"Tuyau vide"}]
[null,"Largeur de fouille",null,null,"B",{"$f":"Données!$AE$54","v":1.5},"m",null,null,null,"Pression",null,null,"pEi",{"$f":"Données!AE66","v":10},"kN/m2"]
[null,"Angle de talus",null,null,"β",{"$f":"Données!AE58","v":30},"°"]
[]
[]
[]
[]
[null,"Actions",null,null,null,null,null,null,null,null,"Fouille"]
[]
[null,"Charge surfacique",null,null,null,{"$f":"Données!AE8","v":"Pas de charge"},null,null,null,null,"Hauteur de couverture",null,null,"H",{"$f":"Calculs!FU101","v":2.85},"m"]
[null,null,null,null,"qs",{"$f":"Calculs!FL128","v":0},"kN/m2",null,null,null,"Type de fouille",null,null,null,{"$f":"Données!$AE$56","v":"Verticale (U)"}]
[null,"Trafic ",null,null,null,{"$f":"Données!AE22","v":"Trafic routier"},null,{"$f":"IF(AND(Accueil!AZ15=\"Français\",AND(OR(F58=\"Voie unique (ferroviaire)\",F58=\"Voies multiples (ferroviaire)\",F58=\"Voie étroite (ferroviaire)\",F58=\"Eingleisig (Bahnverkehr)\",F58=\"Mehrgleisig (Bahnverkehr)\",F58=\"Schmalspur (Bahnverkehr)\"),F46<2)),\"H trop faible!\",\"\")","v":""},null,null,"Largeur de fouille",null,null,"B",{"$f":"Données!AE54","v":1.5},"m"]
[null,"Coefficient de charge",null,null,"α",{"$f":"Calculs!FH98","v":0.9},null,null,null,null,"Angle de talus",null,null,"β",{"$f":"Données!AE58","v":30},"°"]
[null,"Coefficient dynamique",null,null,"Ψ",{"$f":"Calculs!FI98","v":1}]
[null,"Trafic routier et route d'importance",null,null,"pvtotale",{"$f":"Calculs!FG114","v":24.562000000000001},"kN/m2",null,null,null,"Actions"]
[null,"secondaire",null,null,"pvroue",{"$f":"Calculs!FH114","v":4.9021999999999997},"kN/m2"]
[null,null,null,null,"∆pv",{"$f":"Calculs!FI114","v":19.659800000000001},"kN/m2",null,null,null,"Charge surfacique",null,null,null,{"$f":"Données!AE8","v":"Pas de charge"}]
[null,"Bord de route",null,null,"pvtotale",{"$f":"Calculs!FJ114","v":0},"kN/m2",null,null,null,null,null,null,"qs",{"$f":"Calculs!FW128","v":0},"kN/m2"]
[null,null,null,null,"pvroue",{"$f":"Calculs!FK114","v":0},"kN/m2",null,null,null,"Trafic ",null,null,null,{"$f":"Données!AE22","v":"Trafic routier"},null,{"$f":"IF(AND(Accueil!AZ15=\"Français\",AND(OR(O65=\"Voie unique (ferroviaire)\",O65=\"Voies multiples (ferroviaire)\",O65=\"Voie étroite (ferroviaire)\",O65=\"Eingleisig (Bahnverkehr)\",O65=\"Mehrgleisig (Bahnverkehr)\",O65=\"Schmalspur (Bahnverkehr)\"),O56<2)),\"H trop faible!\",IF(AND(Accueil!AZ15=\"Français\",AND(OR(O65=\"Trafic routier\",O65=\"Bord de route\",O65=\"Route d'importance secondaire\",O65=\"Strassenverkehr\",O65=\"Strassenrand\",O65=\"Untergeordnete Strasse\"),O56<1)),\"H trop faible!\",\"\"))","v":""}]
[null,null,null,null,"∆pv",{"$f":"Calculs!FL114","v":0},"kN/m2",null,null,null,"Coefficient de charge",null,null,"α",{"$f":"Calculs!FT98","v":0.9}]
[null,"Trafic ferroviaire voie unique",null,null,"punique",{"$f":"Calculs!FN114","v":0},"kN/m2",null,null,null,"Coefficient dynamique",null,null,"Ψ",{"$f":"Calculs!FU98","v":1}]
[null,"Trafic ferroviaire voies multiples",null,null,"pmultiples",{"$f":"Calculs!FO114","v":0},"kN/m2",null,null,null,"Trafic routier et route d'importance",null,null,"pvtotale",{"$f":"Calculs!FS114","v":26.200299999999999},"kN/m2"]
[null,"Trafic ferroviaire voie étroite",null,null,"pétroite",{"$f":"Calculs!FP114","v":0},"kN/m2",null,null,null,"secondaire",null,null,"pvroue",{"$f":"Calculs!FT114","v":5.4489399999999995},"kN/m2"]
[null,null,null,null,null,null,null,null,null,null,null,null,null,"∆pv",{"$f":"Calculs!FU114","v":20.751359999999998},"kN/m2"]
["Résultats",null,null,null,null,null,null,null,null,null,"Bord de route",null,null,"pvtotale",{"$f":"Calculs!FV114","v":0},"kN/m2"]
[null,null,null,null,null,null,null,null,null,null,null,null,null,"pvroue",{"$f":"Calculs!FW114","v":0},"kN/m2"]
[null,null,null,null,null,null,null,null,null,null,null,null,null,"∆pv",{"$f":"Calculs!FX114","v":0},"kN/m2"]
[null,null,null,null,null,null,null,null,null,null,"Trafic ferroviaire voie unique",null,null,"punique",{"$f":"Calculs!FZ114","v":0},"kN/m2"]
[null,null,null,null,null,null,null,null,null,null,"Trafic ferroviaire voies multiples",null,null,"pmultiples",{"$f":"Calculs!GA114","v":0},"kN/m2"]
[null,null,null,null,null,null,null,null,null,null,"Trafic ferroviaire voie étroite",null,null,"pétroite",{"$f":"Calculs!GB114","v":0},"kN/m2"]
[]
[null,null,null,null,null,null,null,null,null,"Résultats"]
[]
[]
[]
[]
[]
[]
[]
[]
[]
[]
[]
[]
[]
[]
[]
[]
[]
[]
[]
[]
[]
[]
[]
[null,"Sollicitations",null,null,null,null,null,null,null,null,"Sollicitations"]
[]
[null,null," Sollicitations",null,null,null,null,null,null,null,null," Sollicitations"]
[null,null,"U1/V1",null,null,null,null,null,null,null,null,"U4/V4"]
[null,null,"À long terme",null,"qs1",{"$f":"Calculs!FK198","v":61.507363557609004},"[kN/m2]",null,null,null,null,"À long terme",null,"qs1",{"$f":"Calculs!GB198","v":114.94449552533848},"[kN/m2]"]
[null,null,"À court terme",null,"qs2",{"$f":"Calculs!FK199","v":22.661157955529887},"[kN/m2]",null,null,null,null,"À court terme",null,"qs2",{"$f":"Calculs!GB199","v":30.584310594059406},"[kN/m2]"]
[null,null,"Charge eff. au sommet",null,"qser",{"$f":"Calculs!FK200","v":84.168521513138899},"[kN/m2]",null,null,null,null,"Charge eff. au sommet",null,"qser",{"$f":"Calculs!GB200","v":145.5288061193979},"[kN/m2]"]
[null,null,"Pression du terrain",null,"qh",{"$f":"Calculs!FG202","v":93.47994540825276},"[kN/m2]",null,null,null,null,"Pression du terrain",null,"qh",{"$f":"Calculs!GB201","v":72.764403059698935},"[kN/m2]"]
[null,null,"Charge de dim. au sommet",null,"qds",{"$f":"Calculs!FK203","v":117.02667773606699},"[kN/m2]",null,null,null,null,"Charge de dim. au sommet",null,"qds",{"$f":"Calculs!GB202","v":201.05153485029606},"[kN/m2]"]
[]
[null,null,null,null,null,null,null,null,null,null,"Vérifications"]
[null,"Vérifications"]
[]
[null,null,null,"Vérification de la déformation (IOWA)",null,null,null,null,null,null,"Poussée d'Archimède"]
[null,null,null,null,"U1/V1",null,{"$f":"IF(Calculs!FK37<0.1,\"\",\"Tuyau rigide. Pas nécessaire de vérifier la déformation!\")","v":""},null,null,null,"Actions stabilisant",null,"G + G' + Gsp",{"$f":"Calculs!FX177","v":38.2556955294841},"[kN/m]"]
[null,null,null,"x/d court",{"$f":"IF(Calculs!FK37<0.1,Calculs!FJ207,\"\")","v":1.3379677350969045E-2},null,null,null,null,null,null,null,"GR",{"$f":"Calculs!FX178","v":5.8439257489035104},"[kN/m]"]
[null,null,null,"x/d long",{"$f":"IF(Calculs!FK37<0.1,Calculs!FJ208,\"\")","v":3.9255427045569682E-2},null,null,null,null,null,null,null,"Somme",{"$f":"Calculs!FX179","v":44.099621278387609},"[kN/m]","Facteur",0.9]
[null,null,null,"Somme",{"$f":"IF(Calculs!FK37<0.1,Calculs!FJ209,\"\")","v":5.2635104396538727E-2},{"$f":"IF(Calculs!FK37<0.1,Calculs!FK209,\"\")","v":"KO!"},null,null,null,null,"Actions déstabilisant",null,"FA",{"$f":"Calculs!FX180","v":0},"[kN/m]","Facteur",1.05]
[null,null,null,"Admissible",{"$f":"IF(Calculs!FK37<0.1,Calculs!FJ210,\"\")","v":0.05}]
[null,null,null,null,null,null,null,null,null,null,"Contôle:",null,"1.05*FA",{"$f":"Calculs!FX182","v":0},"[kN/m]",{"$f":"Calculs!FZ182","v":"OK"}]
[null,null,null,null,null,null,null,null,null,null,null,null,"0.9*Somme",{"$f":"Calculs!FX183","v":39.689659150548849},"[kN/m]"]
[null,"Poussée d'Archimède"]
[null,"Actions stabilisant",null,"G + G' + Gsp",{"$f":"Calculs!FI177","v":21.570451964578364},"[kN/m]",null,null,null,null,"Sécurité structurale"]
[null,null,null,"GR",{"$f":"Calculs!FI178","v":0.13251030467726607},"[kN/m]",null,null,null,null,{"$f":"IF(N138=\"\",\"\",\"Hypothèse: 5% de la charge de dimensionnement est reprise par le tuyau PVC et une déformation initiale\")","v":""}]
[null,null,null,"Somme",{"$f":"Calculs!FI179","v":21.702962269255629},"[kN/m]","Facteur",0.9,null,null,{"$f":"IF(N138=\"\",\"\",\"de 0.02m est admis [SIA190:2017;4.2.11.1.2].\")","v":""}]
[null,"Actions déstabilisant",null,"FA",{"$f":"Calculs!FI180","v":0},"[kN/m]","Facteur",1.05]
[]
[null,"Contôle:",null,"1.05*FA",{"$f":"Calculs!FI182","v":0},"[kN/m]",{"$f":"Calculs!FK182","v":"OK"},null,null,null,null,"Sécurité structurale"]
[null,null,null,"0.9*Somme",{"$f":"Calculs!FI183","v":19.532666042330067},"[kN/m]",null,null,null,null,null,"U4/V4"]
[null,null,null,null,null,null,null,null,null,null,null,"qds",null,{"$f":"Calculs!FZ214","v":""},"[kN/m2]"]
[null,null,null,null,null,null,null,null,null,null,null,"qBl",null,{"$f":"Calculs!FZ215","v":""},"[kN/m2]"]
[null,"Sécurité structurale",null,null,null,null,null,null,null,null,null,"pwd",null,{"$f":"Calculs!FZ216","v":""},"[kN/m2]"]
[null,null,null,null,null,null,null,null,null,null,null,"pcr",null,{"$f":"Calculs!FZ217","v":""},"[kN/m2]"]
[null,null,"Sécurité structurale",null,null,null,null,null,null,null,null,"k",null,{"$f":"Calculs!FZ218","v":""},"[-]"]
[null,null,"U1/V1",null,null,null,null,null,null,null,null,"qBl/2*(1-2*pwd/k*pcr)",null,{"$f":"Calculs!FZ219","v":""},"[kN/m2]"]
[null,null,"qds",null,{"$f":"IF(Calculs!FK37<0.1,Calculs!FJ214,\"\")","v":117.02667773606699},"[kN/m2]",{"$f":"IF(Calculs!FK37<0.1,\"\",\"Tuyau rigide. Limite de la formule de la sécurité structurale est dépassée!\")","v":""}]
[null,null,"qBl",null,{"$f":"IF(Calculs!FK37<0.1,Calculs!FJ215,\"\")","v":324.87190803906464},"[kN/m2]",null,null,null,null,null,"Résultat",null,{"$f":"Calculs!FZ221","v":""}]
[null,null,"pwd",null,{"$f":"IF(Calculs!FK37<0.1,Calculs!FJ216,\"\")","v":0},"[kN/m2]"]
[null,null,"pcr",null,{"$f":"IF(Calculs!FK37<0.1,Calculs!FJ217,\"\")","v":34.748457483336907},"[kN/m2]",null,null,null,null,{"$f":"IF(N138=\"\",\"Vérification de la sécurité structurale que nécessaire lors de présence d'eau souterraine!\",\"\")","v":"Vérification de la sécurité structurale que nécessaire lors de présence d'eau souterraine!"}]
[null,null,"k",null,{"$f":"IF(Calculs!FK37<0.1,Calculs!FJ218,\"\")","v":1},"[-]"]
[null,null,"qBl/2*(1-2*pwd/k*pcr)",null,{"$f":"IF(Calculs!FK37<0.1,Calculs!FJ219,\"\")","v":162.43595401953232},"[kN/m2]"]
[]
[null,null,"Résultat",null,{"$f":"IF(Calculs!FK37<0.1,Calculs!FJ221,\"\")","v":"OK"}]
[]
[]
[]
[]
[]
[]
[null,"Aptitude au service",null,null,null,null,null,null,null,null,"Aptitude au service"]
[]
[null,null,null,null,null,null,null,null,null,null,null,null,"σRbz,adm",{"$f":"Calculs!FT325","v":-0.3},"N/mm2"]
[null,null,null,"σRbz,adm",{"$f":"Calculs!FN315","v":20},"N/mm2"]
[null,null,null,null,null,null,null,null,null,null,null,null,null,"Convention des contraintes:"]
[null,null,null,null,"Convention des contraintes:",null,null,null,null,null,null,null,null,"Traction négatif -"]
[null,null,null,null,"Traction négatif -",null,null,null,null,null,null,null,null,"Compression positif +"]
[null,null,null,null,"Compression positif +"]
[]
[null,"Contraintes Profil d'enrobage U1/V1",null,null,null,null,null,null,null,null,"Contraintes Profil d'enrobage U4/V4"]
[null,"Contraintes en [N/mm2]",null,"0°","45°","90°","135°","180°",null,null,"Contraintes en [N/mm2]",null,"0°","45°","90°","135°","180°"]
[null,"Effort normal",null,{"$f":"Calculs!FG322","v":1.2399685137977801},{"$f":"Calculs!FH322","v":1.6138899860171512},{"$f":"Calculs!FI322","v":1.6789548452455176},{"$f":"Calculs!FJ322","v":1.6155770075373665},{"$f":"Calculs!FK322","v":1.2407765973234977},null,null,"Effort normal",null,{"$f":"Calculs!FT329","v":0.12145324799035542},{"$f":"Calculs!FU329","v":0.18644237979900571},{"$f":"Calculs!FV329","v":0.25471338932522647},{"$f":"Calculs!FW329","v":0.19075760686340087},{"$f":"Calculs!FX329","v":0.123520242310631}]
[null,"Moment extérieur",null,{"$f":"Calculs!FG323","v":6.1422187342156453},{"$f":"Calculs!FH323","v":-2.3007901170088538},{"$f":"Calculs!FI323","v":-1.512820322367201},{"$f":"Calculs!FJ323","v":-2.3202238745197223},{"$f":"Calculs!FK323","v":6.1699644213915885},null,null,"Moment extérieur",null,{"$f":"Calculs!FT330","v":0.26535345185586129},{"$f":"Calculs!FU330","v":-2.8874837125332279E-3},{"$f":"Calculs!FV330","v":-0.26775753291709653},{"$f":"Calculs!FW330","v":-1.6838668056789298E-3},{"$f":"Calculs!FX330","v":0.27016748461143181}]
[null,"Moment intérieur",null,{"$f":"Calculs!FG324","v":-6.1422187342156453},{"$f":"Calculs!FH324","v":2.3007901170088538},{"$f":"Calculs!FI324","v":1.512820322367201},{"$f":"Calculs!FJ324","v":2.3202238745197223},{"$f":"Calculs!FK324","v":-6.1699644213915885},null,null,"Moment intérieur",null,{"$f":"Calculs!FT331","v":-0.3963921935130767},{"$f":"Calculs!FU331","v":4.3134015952656854E-3},{"$f":"Calculs!FV331","v":0.39998347509837867},{"$f":"Calculs!FW331","v":2.5154059689771668E-3},{"$f":"Calculs!FX331","v":-0.40358352639485495}]
[]
[null,"Contraintes extérieur",null,{"$f":"Calculs!FG326","v":7.382187248013425},{"$f":"Calculs!FH326","v":-0.68690013099170266},{"$f":"Calculs!FI326","v":0.16613452287831665},{"$f":"Calculs!FJ326","v":-0.70464686698235579},{"$f":"Calculs!FK326","v":7.4107410187150862},null,null,"Contraintes extérieur",null,{"$f":"Calculs!FT333","v":0.38680669984621674},{"$f":"Calculs!FU333","v":0.18355489608647249},{"$f":"Calculs!FV333","v":-1.3044143591870061E-2},{"$f":"Calculs!FW333","v":0.18907374005772196},{"$f":"Calculs!FX333","v":0.39368772692206278}]
[null,"Conraintes intérieur",null,{"$f":"Calculs!FG327","v":-4.9022502204178657},{"$f":"Calculs!FH327","v":3.9146801030260052},{"$f":"Calculs!FI327","v":3.1917751676127186},{"$f":"Calculs!FJ327","v":3.9358008820570891},{"$f":"Calculs!FK327","v":-4.9291878240680909},null,null,"Conraintes intérieur",null,{"$f":"Calculs!FT334","v":-0.27493894552272125},{"$f":"Calculs!FU334","v":0.19075578139427141},{"$f":"Calculs!FV334","v":0.65469686442360508},{"$f":"Calculs!FW334","v":0.19327301283237805},{"$f":"Calculs!FX334","v":-0.28006328408422398}]
[]
[null,"Contraintes extérieures",null,{"$f":"Calculs!FG329","v":"OK"},{"$f":"Calculs!FH329","v":"OK"},{"$f":"Calculs!FI329","v":"OK"},{"$f":"Calculs!FJ329","v":"OK"},{"$f":"Calculs!FK329","v":"OK"},null,null,"Contraintes extérieures",null,{"$f":"Calculs!FT336","v":"OK"},{"$f":"Calculs!FU336","v":"OK"},{"$f":"Calculs!FV336","v":"OK"},{"$f":"Calculs!FW336","v":"OK"},{"$f":"Calculs!FX336","v":"OK"}]
[null,"Conraintes intérieures",null,{"$f":"Calculs!FG330","v":"OK"},{"$f":"Calculs!FH330","v":"OK"},{"$f":"Calculs!FI330","v":"OK"},{"$f":"Calculs!FJ330","v":"OK"},{"$f":"Calculs!FK330","v":"OK"},null,null,"Conraintes intérieures",null,{"$f":"Calculs!FT337","v":"OK"},{"$f":"Calculs!FU337","v":"OK"},{"$f":"Calculs!FV337","v":"OK"},{"$f":"Calculs!FW337","v":"OK"},{"$f":"Calculs!FX337","v":"OK"}]

{"sheet":"PVC-SN4 (D)","index":27,"n_rows":170,"n_cols":17,"rows_kept":170,"cut":false,"hidden":false,"merged":[[154,12,154,14],[155,12,155,14],[156,12,156,14],[168,1,168,2],[168,10,168,11],[169,1,169,2],[169,10,169,11],[155,3,155,5],[156,3,156,5],[157,3,157,5],[165,1,165,2],[165,10,165,11],[166,1,166,2],[166,10,166,11],[167,1,167,2],[167,10,167,11],[164,1,164,2],[164,10,164,11],[159,1,159,7],[159,10,159,16],[143,2,143,3],[135,2,135,5],[135,11,135,12],[136,2,136,3],[136,6,138,7],[136,11,136,14],[137,2,137,3],[137,11,137,12],[138,2,138,3],[139,2,139,3],[140,2,140,3],[141,2,141,3],[142,2,142,5],[139,10,139,15],[130,11,130,12],[131,11,131,12],[132,11,132,12],[133,11,133,12],[134,2,134,5],[134,11,134,12],[127,1,127,2],[128,1,128,2],[128,6,129,7],[128,11,128,14],[129,1,129,2],[129,11,129,14],[122,1,122,7],[123,1,123,2],[126,1,126,2],[124,1,125,2],[120,10,120,11],[118,5,119,5],[118,10,118,11],[119,10,119,11],[120,15,121,16],[121,10,121,11],[114,3,114,5],[114,10,114,16],[115,5,117,5],[115,6,117,7],[115,10,115,11],[116,10,117,11],[107,2,107,3],[107,11,107,12],[108,2,108,3],[108,11,108,12],[109,2,109,3],[109,11,109,12],[70,0,70,8],[105,2,105,3],[105,11,105,12],[106,2,106,3],[106,11,106,12],[77,9,77,17],[103,2,103,6],[103,11,103,15],[104,2,104,6],[104,11,104,15],[64,16,65,16],[8,0,9,8],[8,9,9,17],[57,7,58,7],[11,4,11,6],[25,13,25,15]]}
[null,"Projekt:",{"$f":"Accueil!P15","v":"VSA 2026"},null,null,"Ingenieur/in:",null,{"$f":"Accueil!AI15","v":0},null,null,"Projekt:",{"$f":"Accueil!$P$15","v":"VSA 2026"},null,null,"Ingenieur/in:",null,{"$f":"Accueil!$AI$15","v":0}]
[]
[null,"N°:",{"$f":"Accueil!P17","v":0},null,null,"Vernatworlticher:",null,{"$f":"Accueil!AI17","v":0},null,null,"N°:",{"$f":"Accueil!P17","v":0},null,null,"Vernatworlticher:",null,{"$f":"Accueil!$AI$17","v":0}]
[]
[null,"Ort:",{"$f":"Accueil!P21","v":0},null,null,"Bauherr:",null,{"$f":"Accueil!AI19","v":0},null,null,"Ort:",{"$f":"Accueil!$P$21","v":0},null,null,"Bauherr:",null,{"$f":"Accueil!$AI$19","v":0}]
[null,null,{"$f":"Accueil!P23","v":0},null,null,null,null,null,null,null,null,{"$f":"Accueil!$P$23","v":0}]
[]
[]
["Daten Normalverlegeprofil U1/V1",null,null,null,null,null,null,null,null,"Daten Normalverlegeprofil U4/V4"]
[]
[]
[null,"PVC-Rohr",null,null,{"$f":"IF(Données!$AE$6>F14,\"di max.< di Eingabe!\",\"\")","v":""},null,null,null,null,null,"\"Fiktives\" Betonrohr"]
[]
[null,"Innendurchmesser",null,null,"di",{"$f":"Calculs!FK32","v":337.6},"mm",null,null,null,"Innendurchmesser",null,null,"di",{"$f":"Calculs!FR31/1000","v":0.35499999999999998},"m"]
[null,"Radius",null,null,"rm",{"$f":"Calculs!FO32","v":173.15},"mm",null,null,null,"Radius",null,null,"rm",{"$f":"Calculs!FU31/1000","v":0.2525},"m"]
[null,"Wanddicke",null,null,"e",{"$f":"Calculs!FN32","v":8.6999999999999993},"mm",null,null,null,"Wanddicke",null,null,"e",{"$f":"Calculs!FT31/1000","v":0.15},"m"]
[null,"Querschnittsfläche",null,null,"A",{"$f":"Calculs!FJ316","v":8.6999999999999994E-3},"m2",null,null,null,"Querschnittsfläche",null,null,"A",{"$f":"Calculs!FW316","v":0.15},"m2"]
[null,"Widerstandsmoment",null,null,"W",{"$f":"Calculs!FJ317","v":1.2614999999999997E-5},"m3",null,null,null,"Widerstandsmoment",null,null,"W",{"$f":"Calculs!FW317","v":3.7499999999999999E-3},"m3"]
[null,"E-Modul",null,null,"ER,kurz",{"$f":"Calculs!B12","v":1250},"N/mm2",null,null,null,"E-Modul",null,null,"ER,kurz",{"$f":"Calculs!FS33","v":20000},"N/mm2"]
[]
[null,"Systemsteifigkeit",null,null,"SFkurz",{"$f":"Calculs!FK37","v":1.0570828432223662E-2},{"$f":"Calculs!FL37","v":"souple"},null,null,null,"Systemsteifigkeit",null,null,"SFkurz",{"$f":"Calculs!FR37","v":116.47081775131731},{"$f":"Calculs!FS37","v":"rigide"}]
[null,"Lastvergrösserungsfaktor",null,null,"f",{"$f":"Calculs!FM41","v":1.0251227259601501},null,null,null,null,"Lastvergrösserungsfaktor",null,null,"f",{"$f":"Calculs!FT41","v":1.2970297029702971}]
[null,"Krümmungseinfluss",null,null,"αka",{"$f":"Calculs!FG317","v":1},null,null,null,null,"Krümmungseinfluss",null,null,"αka",{"$f":"Calculs!FT317","v":0.80198019801980203}]
[null,null,null,null,"αki",{"$f":"Calculs!FG316","v":1},null,null,null,null,null,null,null,"αki",{"$f":"Calculs!FT316","v":1.198019801980198}]
[]
[null,"Terrain",null,null,null,null,null,null,null,null,"PVC-Rohr",null,null,{"$f":"IF(Données!$AE$6>O28,\"di max.< di Eingabe!\",\"\")","v":""}]
[]
[null,"Bodenqualität",null,null,null,{"$f":"Données!AE30","v":"Sol stable"},null,null,null,null,"Innendurchmesser",null,null,"di",{"$f":"Calculs!FK32","v":337.6},"mm"]
[null,"Feuchtraumgewicht des Baugrunds",null,null,"γ",{"$f":"Données!AE32","v":20},"kN/m3",null,null,null,"Radius",null,null,"rm",{"$f":"Calculs!FO32","v":173.15},"mm"]
[null,"Raumgewicht unter Auftrieb",null,null,"γ'",{"$f":"Données!AE34","v":11},"kN/m3",null,null,null,"Wanddicke",null,null,"e",{"$f":"Calculs!FN32","v":8.6999999999999993},"mm"]
[null,"Verformungsmodul des Bodens",null,null,"EB",{"$f":"Données!AE38","v":5},"N/mm2"]
[null,"Erddruckbeiwert",null,null,"K",{"$f":"Données!AE40","v":0.5},null,null,null,null,"Terrain"]
[null,"Setzungs-Durchbiegungsziffer",null,null,"C2",{"$f":"Données!AE42","v":0.5}]
[null,"Hüllbeton",null,null,null,{"$f":"Données!AE50","v":"C16/20"},null,null,null,null,"Bodenqualität",null,null,null,{"$f":"Données!AE30","v":"Sol stable"}]
[null,"Lastminderung",null,null,"λmin",{"$f":"Données!AE44","v":"NON"},null,null,null,null,"Feuchtraumgewicht des Baugrunds",null,null,"γ",{"$f":"Données!AE32","v":20},"kN/m3"]
[null,null,null,null,null,null,null,null,null,null,"Raumgewicht unter Auftrieb",null,null,"γ'",{"$f":"Données!AE34","v":11},"kN/m3"]
[null,"Wasser",null,null,null,null,null,null,null,null,"Verformungsmodul des Bodens",null,null,"EB",{"$f":"Données!AE38","v":5},"N/mm2"]
[null,null,null,null,null,null,null,null,null,null,"Erddruckbeiwert",null,null,"K",{"$f":"Données!AE40","v":0.5}]
[null,"Grundwasser",null,null,null,{"$f":"Données!AE60","v":"Sans eau souterraine"},null,null,null,null,"Setzungs-Durchbiegungsziffer",null,null,"C2",{"$f":"Données!AE42","v":0.5}]
[null,"Grwundwasserspiegel",null,null,"hw",{"$f":"Données!AE62","v":1.3},"m",null,null,null,"Hüllbeton",null,null,null,{"$f":"Données!AE50","v":"C16/20"}]
[null,"Wasser im Rohr",null,null,null,{"$f":"Données!AE64","v":"Tuyau vide"},null,null,null,null,"Lastminderung",null,null,"λmin",{"$f":"Données!AE44","v":"NON"}]
[null,"Druck",null,null,"pEi",{"$f":"Données!AE66","v":10},"kN/m2"]
[null,null,null,null,null,null,null,null,null,null,"Wasser"]
[null,"Graben"]
[null,null,null,null,null,null,null,null,null,null,"Grundwasser",null,null,null,{"$f":"Données!AE60","v":"Sans eau souterraine"}]
[null,"Überdeckungshöhe",null,null,"H",{"$f":"Données!AE52","v":3},"m",null,null,null,"Grwundwasserspiegel",null,null,"hw",{"$f":"Données!AN68","v":0},"m"]
[null,"Grabentyp",null,null,null,{"$f":"Données!AE56","v":"Verticale (U)"},null,null,null,null,"Wasser im Rohr",null,null,null,{"$f":"Données!AE64","v":"Tuyau vide"}]
[null,"Grabenbreite",null,null,"B",{"$f":"Données!$AE$54","v":1.5},"m",null,null,null,"Druck",null,null,"pEi",{"$f":"Données!AE66","v":10},"kN/m2"]
[null,"Böschungsneigung",null,null,"β",{"$f":"Données!AE58","v":30},"°"]
[]
[]
[]
[]
[null,"Einwirkungen",null,null,null,null,null,null,null,null,"Graben"]
[]
[null,"Flächenlast",null,null,null,{"$f":"Données!AE8","v":"Pas de charge"},null,null,null,null,"Überdeckungshöhe",null,null,"H",{"$f":"Calculs!FU101","v":2.85},"m"]
[null,null,null,null,"qs",{"$f":"Calculs!FL128","v":0},"kN/m2",null,null,null,"Grabentyp",null,null,null,{"$f":"Données!$AE$56","v":"Verticale (U)"}]
[null,"Verkehr",null,null,null,{"$f":"Données!AE22","v":"Trafic routier"},null,{"$f":"IF(AND(Accueil!AZ15=\"Deutsch\",AND(OR(F58=\"Voie unique (ferroviaire)\",F58=\"Voies multiples (ferroviaire)\",F58=\"Voie étroite (ferroviaire)\",F58=\"Eingleisig (Bahnverkehr)\",F58=\"Mehrgleisig (Bahnverkehr)\",F58=\"Schmalspur (Bahnverkehr)\"),F46<2)),\"H zu klein!\",\"\")","v":""},null,null,"Grabenbreite",null,null,"B",{"$f":"Données!AE54","v":1.5},"m"]
[null,"Beiwert Strass- und Bahnvekehrslasten",null,null,"α",{"$f":"Calculs!FH98","v":0.9},null,null,null,null,"Böschungsneigung",null,null,"β",{"$f":"Données!AE58","v":30},"°"]
[null,"Dynamischer Beiwert",null,null,"Ψ",{"$f":"Calculs!FI98","v":1}]
[null,"Strassenverkehr und untergeordnete",null,null,"pvtotal",{"$f":"Calculs!FG114","v":24.562000000000001},"kN/m2",null,null,null,"Einwirkungen"]
[null,"Strassen",null,null,"pvRad",{"$f":"Calculs!FH114","v":4.9021999999999997},"kN/m2"]
[null,null,null,null,"∆pv",{"$f":"Calculs!FI114","v":19.659800000000001},"kN/m2",null,null,null,"Flächenlast",null,null,null,{"$f":"Données!AE8","v":"Pas de charge"}]
[null,"Strassenrand",null,null,"pvtotal",{"$f":"Calculs!FJ114","v":0},"kN/m2",null,null,null,null,null,null,"qs",{"$f":"Calculs!FW128","v":0},"kN/m2"]
[null,null,null,null,"pvRad",{"$f":"Calculs!FK114","v":0},"kN/m2",null,null,null,"Verkehr",null,null,null,{"$f":"Données!AE22","v":"Trafic routier"},null,{"$f":"IF(AND(Accueil!AZ15=\"Deutsch\",AND(OR(O65=\"Voie unique (ferroviaire)\",O65=\"Voies multiples (ferroviaire)\",O65=\"Voie étroite (ferroviaire)\",O65=\"Eingleisig (Bahnverkehr)\",O65=\"Mehrgleisig (Bahnverkehr)\",O65=\"Schmalspur (Bahnverkehr)\"),O56<2)),\"H zu klein!\",IF(AND(Accueil!AZ15=\"Deutsch\",AND(OR(O65=\"Trafic routier\",O65=\"Bord de route\",O65=\"Route d'importance secondaire\",O65=\"Strassenverkehr\",O65=\"Strassenrand\",O65=\"Untergeordnete Strasse\"),O56<1)),\"H zu klein!\",\"\"))","v":""}]
[null,null,null,null,"∆pv",{"$f":"Calculs!FL114","v":0},"kN/m2",null,null,null,"Beiwert Strass- und Bahnvekehrslasten",null,null,"α",{"$f":"Calculs!FT98","v":0.9}]
[null,"Bahnverkehr eingleisig",null,null,"peingleisig",{"$f":"Calculs!FN114","v":0},"kN/m2",null,null,null,"Dynamischer Beiwert",null,null,"Ψ",{"$f":"Calculs!FU98","v":1}]
[null,"Bahnverkehr mehrgleisig",null,null,"pmehrgleisig",{"$f":"Calculs!FO114","v":0},"kN/m2",null,null,null,"Strassenverkehr und untergeordnete",null,null,"pvtotal",{"$f":"Calculs!FS114","v":26.200299999999999},"kN/m2"]
[null,"Bahnverkehr schmalspur",null,null,"pschmal",{"$f":"Calculs!FP114","v":0},"kN/m2",null,null,null,"Strassen",null,null,"pvRad",{"$f":"Calculs!FT114","v":5.4489399999999995},"kN/m2"]
[null,null,null,null,null,null,null,null,null,null,null,null,null,"∆pv",{"$f":"Calculs!FU114","v":20.751359999999998},"kN/m2"]
["Resultate",null,null,null,null,null,null,null,null,null,"Strassenrand",null,null,"pvtotal",{"$f":"Calculs!FV114","v":0},"kN/m2"]
[null,null,null,null,null,null,null,null,null,null,null,null,null,"pvRad",{"$f":"Calculs!FW114","v":0},"kN/m2"]
[null,null,null,null,null,null,null,null,null,null,null,null,null,"∆pv",{"$f":"Calculs!FX114","v":0},"kN/m2"]
[null,null,null,null,null,null,null,null,null,null,"Bahnverkehr eingleisig",null,null,"peingleisig",{"$f":"Calculs!FZ114","v":0},"kN/m2"]
[null,null,null,null,null,null,null,null,null,null,"Bahnverkehr mehrgleisig",null,null,"pmehrgleisig",{"$f":"Calculs!GA114","v":0},"kN/m2"]
[null,null,null,null,null,null,null,null,null,null,"Bahnverkehr schmalspur",null,null,"pschmal",{"$f":"Calculs!GB114","v":0},"kN/m2"]
[]
[null,null,null,null,null,null,null,null,null,"Resultate"]
[]
[]
[]
[]
[]
[]
[]
[]
[]
[]
[]
[]
[]
[]
[]
[]
[]
[]
[]
[]
[]
[]
[]
[null,"Beanspruchungen",null,null,null,null,null,null,null,null,"Beanspruchungen"]
[]
[null,null,"Beanspruchungen",null,null,null,null,null,null,null,null,"Beanspruchungen"]
[null,null,"U1/V1",null,null,null,null,null,null,null,null,"U4/V4"]
[null,null,"Langzeit",null,"qs1",{"$f":"Calculs!FK198","v":61.507363557609004},"[kN/m2]",null,null,null,null,"Langzeit",null,"qs1",{"$f":"Calculs!GB198","v":114.94449552533848},"[kN/m2]"]
[null,null,"Kurzzeit",null,"qs2",{"$f":"Calculs!FK199","v":22.661157955529887},"[kN/m2]",null,null,null,null,"Kurzzeit",null,"qs2",{"$f":"Calculs!GB199","v":30.584310594059406},"[kN/m2]"]
[null,null,"Effektive Last auf Scheitel",null,"qser",{"$f":"Calculs!FK200","v":84.168521513138899},"[kN/m2]",null,null,null,null,"Effektive Last auf Scheitel",null,"qser",{"$f":"Calculs!GB200","v":145.5288061193979},"[kN/m2]"]
[null,null,"Erddruck",null,"qh",{"$f":"Calculs!FG202","v":93.47994540825276},"[kN/m2]",null,null,null,null,"Erddruck",null,"qh",{"$f":"Calculs!GB201","v":72.764403059698935},"[kN/m2]"]
[null,null,"Bemessungswert",null,"qds",{"$f":"Calculs!FK203","v":117.02667773606699},"[kN/m2]",null,null,null,null,"Bemessungswert",null,"qds",{"$f":"Calculs!GB202","v":201.05153485029606},"[kN/m2]"]
[]
[null,null,null,null,null,null,null,null,null,null,"Nachweise"]
[null,"Nachweise"]
[]
[null,null,null,"Verformungsnachweis (IOWA)",null,null,null,null,null,null,"Auftrieb"]
[null,null,null,null,"U1/V1",null,{"$f":"IF(Calculs!FK37<0.1,\"\",\"Steifes Rohr. Verformungsnachweis entfällt!\")","v":""},null,null,null,"Stabilisierend",null,"G + G' + Gsp",{"$f":"Calculs!FX177","v":38.2556955294841},"[kN/m]"]
[null,null,null,"x/d kurz",{"$f":"IF(Calculs!FK37<0.1,Calculs!FJ207,\"\")","v":1.3379677350969045E-2},null,null,null,null,null,null,null,"GR",{"$f":"Calculs!FX178","v":5.8439257489035104},"[kN/m]"]
[null,null,null,"x/d lang",{"$f":"IF(Calculs!FK37<0.1,Calculs!FJ208,\"\")","v":3.9255427045569682E-2},null,null,null,null,null,null,null,"Summe",{"$f":"Calculs!FX179","v":44.099621278387609},"[kN/m]","Faktor",0.9]
[null,null,null,"Summe",{"$f":"IF(Calculs!FK37<0.1,Calculs!FJ209,\"\")","v":5.2635104396538727E-2},{"$f":"IF(Calculs!FK37<0.1,Calculs!FK209,\"\")","v":"KO!"},null,null,null,null,"Destabilisierend",null,"FA",{"$f":"Calculs!FX180","v":0},"[kN/m]","Faktor",1.05]
[null,null,null,"Zugelassen",{"$f":"IF(Calculs!FK37<0.1,Calculs!FJ210,\"\")","v":0.05}]
[null,null,null,null,null,null,null,null,null,null,"Kontrolle:",null,"1.05*FA",{"$f":"Calculs!FX182","v":0},"[kN/m]",{"$f":"Calculs!FZ182","v":"OK"}]
[null,null,null,null,null,null,null,null,null,null,null,null,"0.9*Summe",{"$f":"Calculs!FX183","v":39.689659150548849},"[kN/m]"]
[null,"Auftrieb"]
[null,"Stabilisierend",null,"G + G' + Gsp",{"$f":"Calculs!FI177","v":21.570451964578364},"[kN/m]",null,null,null,null,"Tragfähigkeit"]
[null,null,null,"GR",{"$f":"Calculs!FI178","v":0.13251030467726607},"[kN/m]",null,null,null,null,{"$f":"IF(N138=\"\",\"\",\"Annahme: 5% des Bemessungswerts werden durch das PVC-Rohr aufgenommen und eine initiale\")","v":""}]
[null,null,null,"Summe",{"$f":"Calculs!FI179","v":21.702962269255629},"[kN/m]","Faktor",0.9,null,null,{"$f":"IF(N138=\"\",\"\",\"Deformation von 0.02m [SIA190:2017;4.2.11.1.2].\")","v":""}]
[null,"Destabilisierend",null,"FA",{"$f":"Calculs!FI180","v":0},"[kN/m]","Faktor",1.05]
[]
[null,"Kontrolle:",null,"1.05*FA",{"$f":"Calculs!FI182","v":0},"[kN/m]",{"$f":"Calculs!FK182","v":"OK"},null,null,null,null,"Tragfähigkeit"]
[null,null,null,"0.9*Summe",{"$f":"Calculs!FI183","v":19.532666042330067},"[kN/m]",null,null,null,null,null,"U4/V4"]
[null,null,null,null,null,null,null,null,null,null,null,"qds",null,{"$f":"Calculs!FZ214","v":""},"[kN/m2]"]
[null,null,null,null,null,null,null,null,null,null,null,"qBl",null,{"$f":"Calculs!FZ215","v":""},"[kN/m2]"]
[null,"Tragfähigkeit",null,null,null,null,null,null,null,null,null,"pwd",null,{"$f":"Calculs!FZ216","v":""},"[kN/m2]"]
[null,null,null,null,null,null,null,null,null,null,null,"pcr",null,{"$f":"Calculs!FZ217","v":""},"[kN/m2]"]
[null,null,"Tragfähigkeit",null,null,null,null,null,null,null,null,"k",null,{"$f":"Calculs!FZ218","v":""},"[-]"]
[null,null,"U1/V1",null,null,null,null,null,null,null,null,"qBl/2*(1-2*pwd/k*pcr)",null,{"$f":"Calculs!FZ219","v":""},"[kN/m2]"]
[null,null,"qds",null,{"$f":"IF(Calculs!FK37<0.1,Calculs!FJ214,\"\")","v":117.02667773606699},"[kN/m2]",{"$f":"IF(Calculs!FK37<0.1,\"\",\"Steifes Rohr. Limite der Tragfähigkeitsformel überschritten!\")","v":""}]
[null,null,"qBl",null,{"$f":"IF(Calculs!FK37<0.1,Calculs!FJ215,\"\")","v":324.87190803906464},"[kN/m2]",null,null,null,null,null,"Resultate",null,{"$f":"Calculs!FZ221","v":""}]
[null,null,"pwd",null,{"$f":"IF(Calculs!FK37<0.1,Calculs!FJ216,\"\")","v":0},"[kN/m2]"]
[null,null,"pcr",null,{"$f":"IF(Calculs!FK37<0.1,Calculs!FJ217,\"\")","v":34.748457483336907},"[kN/m2]",null,null,null,null,{"$f":"IF(N138=\"\",\"Tragfähigkeitsnachweis nur nötig bei Grundwasser!\",\"\")","v":"Tragfähigkeitsnachweis nur nötig bei Grundwasser!"}]
[null,null,"k",null,{"$f":"IF(Calculs!FK37<0.1,Calculs!FJ218,\"\")","v":1},"[-]"]
[null,null,"qBl/2*(1-2*pwd/k*pcr)",null,{"$f":"IF(Calculs!FK37<0.1,Calculs!FJ219,\"\")","v":162.43595401953232},"[kN/m2]"]
[]
[null,null,"Resultate",null,{"$f":"IF(Calculs!FK37<0.1,Calculs!FJ221,\"\")","v":"OK"}]
[]
[]
[]
[]
[]
[]
[null,"Gebrauchstauglichkeit",null,null,null,null,null,null,null,null,"Gebrauchstauglichkeit"]
[]
[null,null,null,null,null,null,null,null,null,null,null,null,"σRbz,adm",{"$f":"Calculs!FT325","v":-0.3},"N/mm2"]
[null,null,null,"σRbz,adm",{"$f":"Calculs!FN315","v":20},"N/mm2"]
[null,null,null,null,null,null,null,null,null,null,null,null,"Spannungskonventionen:"]
[null,null,null,"Spannungskonventionen:",null,null,null,null,null,null,null,null,"Zug negatif -"]
[null,null,null,"Zug negatif -",null,null,null,null,null,null,null,null,"Druck positif +"]
[null,null,null,"Druck positif +"]
[]
[null,"Spannungen Verlegeprofil U1/V1",null,null,null,null,null,null,null,null,"Spannungen Verlegeprofil U4/V4"]
[null,"Spannungen in [N/mm2]",null,"0°","45°","90°","135°","180°",null,null,"Spannungen in [N/mm2]",null,"0°","45°","90°","135°","180°"]
[null,"Durch die Normalkraft",null,{"$f":"Calculs!FG322","v":1.2399685137977801},{"$f":"Calculs!FH322","v":1.6138899860171512},{"$f":"Calculs!FI322","v":1.6789548452455176},{"$f":"Calculs!FJ322","v":1.6155770075373665},{"$f":"Calculs!FK322","v":1.2407765973234977},null,null,"Durch die Normalkraft",null,{"$f":"Calculs!FT329","v":0.12145324799035542},{"$f":"Calculs!FU329","v":0.18644237979900571},{"$f":"Calculs!FV329","v":0.25471338932522647},{"$f":"Calculs!FW329","v":0.19075760686340087},{"$f":"Calculs!FX329","v":0.123520242310631}]
[null,"Durch das Moment aussen",null,{"$f":"Calculs!FG323","v":6.1422187342156453},{"$f":"Calculs!FH323","v":-2.3007901170088538},{"$f":"Calculs!FI323","v":-1.512820322367201},{"$f":"Calculs!FJ323","v":-2.3202238745197223},{"$f":"Calculs!FK323","v":6.1699644213915885},null,null,"Durch das Moment aussen",null,{"$f":"Calculs!FT330","v":0.26535345185586129},{"$f":"Calculs!FU330","v":-2.8874837125332279E-3},{"$f":"Calculs!FV330","v":-0.26775753291709653},{"$f":"Calculs!FW330","v":-1.6838668056789298E-3},{"$f":"Calculs!FX330","v":0.27016748461143181}]
[null,"Durch das Moment innen",null,{"$f":"Calculs!FG324","v":-6.1422187342156453},{"$f":"Calculs!FH324","v":2.3007901170088538},{"$f":"Calculs!FI324","v":1.512820322367201},{"$f":"Calculs!FJ324","v":2.3202238745197223},{"$f":"Calculs!FK324","v":-6.1699644213915885},null,null,"Durch das Moment innen",null,{"$f":"Calculs!FT331","v":-0.3963921935130767},{"$f":"Calculs!FU331","v":4.3134015952656854E-3},{"$f":"Calculs!FV331","v":0.39998347509837867},{"$f":"Calculs!FW331","v":2.5154059689771668E-3},{"$f":"Calculs!FX331","v":-0.40358352639485495}]
[]
[null,"Spannungen aussen",null,{"$f":"Calculs!FG326","v":7.382187248013425},{"$f":"Calculs!FH326","v":-0.68690013099170266},{"$f":"Calculs!FI326","v":0.16613452287831665},{"$f":"Calculs!FJ326","v":-0.70464686698235579},{"$f":"Calculs!FK326","v":7.4107410187150862},null,null,"Spannungen aussen",null,{"$f":"Calculs!FT333","v":0.38680669984621674},{"$f":"Calculs!FU333","v":0.18355489608647249},{"$f":"Calculs!FV333","v":-1.3044143591870061E-2},{"$f":"Calculs!FW333","v":0.18907374005772196},{"$f":"Calculs!FX333","v":0.39368772692206278}]
[null,"Spannungen innen","Spannungen innen",{"$f":"Calculs!FG327","v":-4.9022502204178657},{"$f":"Calculs!FH327","v":3.9146801030260052},{"$f":"Calculs!FI327","v":3.1917751676127186},{"$f":"Calculs!FJ327","v":3.9358008820570891},{"$f":"Calculs!FK327","v":-4.9291878240680909},null,null,"Spannungen innen","Spannungen innen",{"$f":"Calculs!FT334","v":-0.27493894552272125},{"$f":"Calculs!FU334","v":0.19075578139427141},{"$f":"Calculs!FV334","v":0.65469686442360508},{"$f":"Calculs!FW334","v":0.19327301283237805},{"$f":"Calculs!FX334","v":-0.28006328408422398}]
[]
[null,"Spannungen aussen",null,{"$f":"Calculs!FG329","v":"OK"},{"$f":"Calculs!FH329","v":"OK"},{"$f":"Calculs!FI329","v":"OK"},{"$f":"Calculs!FJ329","v":"OK"},{"$f":"Calculs!FK329","v":"OK"},null,null,"Spannungen aussen",null,{"$f":"Calculs!FT336","v":"OK"},{"$f":"Calculs!FU336","v":"OK"},{"$f":"Calculs!FV336","v":"OK"},{"$f":"Calculs!FW336","v":"OK"},{"$f":"Calculs!FX336","v":"OK"}]
[null,"Spannungen innen","Spannungen innen",{"$f":"Calculs!FG330","v":"OK"},{"$f":"Calculs!FH330","v":"OK"},{"$f":"Calculs!FI330","v":"OK"},{"$f":"Calculs!FJ330","v":"OK"},{"$f":"Calculs!FK330","v":"OK"},null,null,"Spannungen innen","Spannungen innen",{"$f":"Calculs!FT337","v":"OK"},{"$f":"Calculs!FU337","v":"OK"},{"$f":"Calculs!FV337","v":"OK"},{"$f":"Calculs!FW337","v":"OK"},{"$f":"Calculs!FX337","v":"OK"}]

{"sheet":"PVC-SN8","index":28,"n_rows":170,"n_cols":18,"rows_kept":170,"cut":false,"hidden":false,"merged":[[77,9,77,17],[8,0,9,8],[8,9,9,17],[57,7,58,7],[64,16,65,16],[70,0,70,8],[11,4,11,6],[25,13,25,15],[103,2,103,6],[103,11,103,15],[104,2,104,6],[104,11,104,15],[105,2,105,3],[105,11,105,12],[106,2,106,3],[106,11,106,12],[107,2,107,3],[107,11,107,12],[108,2,108,3],[108,11,108,12],[120,15,121,16],[109,2,109,3],[109,11,109,12],[114,3,114,5],[115,5,117,5],[115,10,115,11],[116,10,117,11],[115,6,117,7],[114,10,114,16],[126,1,126,2],[118,5,119,5],[118,10,118,11],[119,10,119,11],[120,10,120,11],[122,1,122,7],[123,1,123,2],[124,1,125,2],[121,10,121,11],[127,1,127,2],[128,1,128,2],[128,6,129,7],[128,11,128,14],[129,1,129,2],[129,11,129,14],[130,11,130,12],[131,11,131,12],[132,11,132,12],[133,11,133,12],[134,2,134,5],[134,11,134,12],[135,2,135,5],[135,11,135,12],[136,2,136,3],[136,11,136,14],[137,2,137,3],[137,11,137,12],[136,6,138,7],[161,1,161,2],[161,10,161,11],[138,2,138,3],[139,2,139,3],[140,2,140,3],[141,2,141,3],[142,2,142,5],[143,2,143,3],[159,1,159,7],[160,1,160,2],[160,10,160,11],[159,10,159,16],[139,10,140,15],[162,1,162,2],[162,10,162,11],[163,1,163,2],[163,10,163,11],[164,1,164,2],[164,10,164,11],[168,1,168,2],[168,10,168,11],[169,1,169,2],[169,10,169,11],[165,1,165,2],[165,10,165,11],[166,1,166,2],[166,10,166,11],[167,1,167,2],[167,10,167,11]]}
[null,"Projet:",{"$f":"Accueil!P15","v":"VSA 2026"},null,null,"Ingénieur/e:",null,{"$f":"Accueil!AI15","v":0},null,null,"Projet:",{"$f":"Accueil!$P$15","v":"VSA 2026"},null,null,"Ingénieur/e:",null,{"$f":"Accueil!$AI$15","v":0}]
[]
[null,"N°:",{"$f":"Accueil!P17","v":0},null,null,"Responsable:",null,{"$f":"Accueil!AI17","v":0},null,null,"N°:",{"$f":"Accueil!P17","v":0},null,null,"Responsable:",null,{"$f":"Accueil!$AI$17","v":0}]
[]
[null,"Lieu:",{"$f":"Accueil!P21","v":0},null,null,"Maître d'ouvrage:",null,{"$f":"Accueil!AI19","v":0},null,null,"Lieu:",{"$f":"Accueil!$P$21","v":0},null,null,"Maître d'ouvrage:",null,{"$f":"Accueil!$AI$19","v":0}]
[null,null,{"$f":"Accueil!P23","v":0},null,null,null,null,null,null,null,null,{"$f":"Accueil!$P$23","v":0}]
[]
[]
["Données profil d'enrobage U1/V1",null,null,null,null,null,null,null,null,"Données profil d'enrobage U4/V4"]
[]
[]
[null,"Tuyau PVC",null,null,{"$f":"IF(Données!$AE$6>F14,\"di max.< di introduit!\",\"\")","v":""},null,null,null,null,null,"Tuyau \"fictif\" en béton"]
[]
[null,"Diamètre intérieur ",null,null,"di",{"$f":"Calculs!GK32","v":334.2},"mm",null,null,null,"Diamètre intérieur ",null,null,"di",{"$f":"Calculs!GR31/1000","v":0.35499999999999998},"m"]
[null,"Rayon moyen",null,null,"rm",{"$f":"Calculs!GO32","v":172.3},"mm",null,null,null,"Rayon moyen",null,null,"rm",{"$f":"Calculs!GU31/1000","v":0.2525},"m",null,{"$f":"IF(Accueil!$AZ$15=\"Français\",\"Retour\",IF(Accueil!$AZ$15=\"Deutsch\",\"Zurück\",IF(Accueil!$AZ$15=\"Italiano\",\"\")))","v":"Retour"}]
[null,"Épaisseur de paroi",null,null,"e",{"$f":"Calculs!GN32","v":10.4},"mm",null,null,null,"Épaisseur de paroi",null,null,"e",{"$f":"Calculs!GT31/1000","v":0.15},"m"]
[null,"Section",null,null,"A",{"$f":"Calculs!GJ316","v":1.04E-2},"m2",null,null,null,"Section",null,null,"A",{"$f":"Calculs!GW316","v":0.15},"m2"]
[null,"Module de flexion",null,null,"W",{"$f":"Calculs!GJ317","v":1.8026666666666668E-5},"m3",null,null,null,"Module de flexion",null,null,"W",{"$f":"Calculs!GW317","v":3.7499999999999999E-3},"m3"]
[null,"Module d'élasticité",null,null,"ER,court",{"$f":"Calculs!B12","v":1250},"N/mm2",null,null,null,"Module d'élasticité",null,null,"ER,court",{"$f":"Calculs!GS33","v":20000},"N/mm2"]
[]
[null,"Rigidité du système",null,null,"SFcourt",{"$f":"Calculs!GK37","v":1.8325799871525609E-2},{"$f":"Calculs!GL37","v":"souple"},null,null,null,"Rigidité du système",null,null,"SFcourt",{"$f":"Calculs!GR37","v":116.47081775131731},{"$f":"Calculs!GS37","v":"rigide"}]
[null,"Facteur de majoration de charge",null,null,"f",{"$f":"Calculs!GM41","v":1.0301799187463725},null,null,null,null,"Facteur de majoration de charge",null,null,"f",{"$f":"Calculs!GT41","v":1.2970297029702971}]
[null,"Effet de courbure:",null,null,"αka",{"$f":"Calculs!GG317","v":1},null,null,null,null,"Effet de courbure:",null,null,"αka",{"$f":"Calculs!GT317","v":0.80198019801980203}]
[null,null,null,null,"αki",{"$f":"Calculs!GG316","v":1},null,null,null,null,null,null,null,"αki",{"$f":"Calculs!GT316","v":1.198019801980198}]
[]
[null,"Terrain",null,null,null,null,null,null,null,null,"Tuyau PVC",null,null,{"$f":"IF(Données!$AE$6>O28,\"di max.< di introduit!\",\"\")","v":""}]
[]
[null,"Qualité du sol",null,null,null,{"$f":"Données!AE30","v":"Sol stable"},null,null,null,null,"Diamètre intérieur ",null,null,"di",{"$f":"Calculs!GK32","v":334.2},"mm"]
[null,"Poids volumique apparent hum.",null,null,"γ",{"$f":"Données!AE32","v":20},"kN/m3",null,null,null,"Rayon moyen",null,null,"rm",{"$f":"Calculs!GO32","v":172.3},"mm"]
[null,"Poids volumique déjaugé",null,null,"γ'",{"$f":"Données!AE34","v":11},"kN/m3",null,null,null,"Épaisseur de paroi",null,null,"e",{"$f":"Calculs!GN32","v":10.4},"mm"]
[null,"Module de déformation du sol",null,null,"EB",{"$f":"Données!AE38","v":5},"N/mm2"]
[null,"Coefficient de pression du terrain",null,null,"K",{"$f":"Données!AE40","v":0.5},null,null,null,null,"Terrain"]
[null,"Coefficient de flexion au tassement",null,null,"C2",{"$f":"Données!AE42","v":0.5}]
[null,"Type de béton d'enrobage",null,null,null,{"$f":"Données!AE50","v":"C16/20"},null,null,null,null,"Qualité du sol",null,null,null,{"$f":"Données!AE30","v":"Sol stable"}]
[null,"Réduction de charge",null,null,"λmin",{"$f":"Données!AE44","v":"NON"},null,null,null,null,"Poids volumique apparent hum.",null,null,"γ",{"$f":"Données!AE32","v":20},"kN/m3"]
[null,null,null,null,null,null,null,null,null,null,"Poids volumique déjaugé",null,null,"γ'",{"$f":"Données!AE34","v":11},"kN/m3"]
[null,"Eau",null,null,null,null,null,null,null,null,"Module de déformation du sol",null,null,"EB",{"$f":"Données!AE38","v":5},"N/mm2"]
[null,null,null,null,null,null,null,null,null,null,"Coefficient de pression du terrain",null,null,"K",{"$f":"Données!AE40","v":0.5}]
[null,"Eau souterraine",null,null,null,{"$f":"Données!AE60","v":"Sans eau souterraine"},null,null,null,null,"Coefficient de flexion au tassement",null,null,"C2",{"$f":"Données!AE42","v":0.5}]
[null,"Niveau d'eau souterraine",null,null,"hw",{"$f":"Données!AE62","v":1.3},"m",null,null,null,"Type de béton d'enrobage",null,null,null,{"$f":"Données!AE50","v":"C16/20"}]
[null,"Eau à l'intérieur du tuyau",null,null,null,{"$f":"Données!AE64","v":"Tuyau vide"},null,null,null,null,"Réduction de charge",null,null,"λmin",{"$f":"Données!AE44","v":"NON"}]
[null,"Pression",null,null,"pEi",{"$f":"Données!AE66","v":10},"kN/m2"]
[null,null,null,null,null,null,null,null,null,null,"Eau"]
[null,"Fouille"]
[null,null,null,null,null,null,null,null,null,null,"Eau souterraine",null,null,null,{"$f":"Données!AE60","v":"Sans eau souterraine"}]
[null,"Hauteur de couverture",null,null,"H",{"$f":"Données!AE52","v":3},"m",null,null,null,"Niveau d'eau souterraine",null,null,"hw",{"$f":"Données!AN68","v":0},"m"]
[null,"Type de fouille",null,null,null,{"$f":"Données!AE56","v":"Verticale (U)"},null,null,null,null,"Eau à l'intérieur du tuyau",null,null,null,{"$f":"Données!AE64","v":"Tuyau vide"}]
[null,"Largeur de fouille",null,null,"B",{"$f":"Données!$AE$54","v":1.5},"m",null,null,null,"Pression",null,null,"pEi",{"$f":"Données!AE66","v":10},"kN/m2"]
[null,"Angle de talus",null,null,"β",{"$f":"Données!AE58","v":30},"°"]
[]
[]
[]
[]
[null,"Actions",null,null,null,null,null,null,null,null,"Fouille"]
[]
[null,"Charge surfacique",null,null,null,{"$f":"Données!AE8","v":"Pas de charge"},null,null,null,null,"Hauteur de couverture",null,null,"H",{"$f":"Calculs!GU101","v":2.85},"m"]
[null,null,null,null,"qs",{"$f":"Calculs!GL128","v":0},"kN/m2",null,null,null,"Type de fouille",null,null,null,{"$f":"Données!$AE$56","v":"Verticale (U)"}]
[null,"Trafic ",null,null,null,{"$f":"Données!AE22","v":"Trafic routier"},null,{"$f":"IF(AND(Accueil!AZ15=\"Français\",AND(OR(F58=\"Voie unique (ferroviaire)\",F58=\"Voies multiples (ferroviaire)\",F58=\"Voie étroite (ferroviaire)\",F58=\"Eingleisig (Bahnverkehr)\",F58=\"Mehrgleisig (Bahnverkehr)\",F58=\"Schmalspur (Bahnverkehr)\"),F46<2)),\"H trop faible!\",\"\")","v":""},null,null,"Largeur de fouille",null,null,"B",{"$f":"Données!AE54","v":1.5},"m"]
[null,"Coefficient de charge",null,null,"α",{"$f":"Calculs!GH98","v":0.9},null,null,null,null,"Angle de talus",null,null,"β",{"$f":"Données!AE58","v":30},"°"]
[null,"Coefficient dynamique",null,null,"Ψ",{"$f":"Calculs!GI98","v":1}]
[null,"Trafic routier et route d'importance",null,null,"pvtotale",{"$f":"Calculs!GG114","v":24.562000000000001},"kN/m2",null,null,null,"Actions"]
[null,"secondaire",null,null,"pvroue",{"$f":"Calculs!GH114","v":4.9021999999999997},"kN/m2"]
[null,null,null,null,"∆pv",{"$f":"Calculs!GI114","v":19.659800000000001},"kN/m2",null,null,null,"Charge surfacique",null,null,null,{"$f":"Données!AE8","v":"Pas de charge"}]
[null,"Bord de route",null,null,"pvtotale",{"$f":"Calculs!GJ114","v":0},"kN/m2",null,null,null,null,null,null,"qs",{"$f":"Calculs!GW128","v":0},"kN/m2"]
[null,null,null,null,"pvroue",{"$f":"Calculs!GK114","v":0},"kN/m2",null,null,null,"Trafic ",null,null,null,{"$f":"Données!AE22","v":"Trafic routier"},null,{"$f":"IF(AND(Accueil!AZ15=\"Français\",AND(OR(O65=\"Voie unique (ferroviaire)\",O65=\"Voies multiples (ferroviaire)\",O65=\"Voie étroite (ferroviaire)\",O65=\"Eingleisig (Bahnverkehr)\",O65=\"Mehrgleisig (Bahnverkehr)\",O65=\"Schmalspur (Bahnverkehr)\"),O56<2)),\"H trop faible!\",IF(AND(Accueil!AZ15=\"Français\",AND(OR(O65=\"Trafic routier\",O65=\"Bord de route\",O65=\"Route d'importance secondaire\",O65=\"Strassenverkehr\",O65=\"Strassenrand\",O65=\"Untergeordnete Strasse\"),O56<1)),\"H trop faible!\",\"\"))","v":""}]
[null,null,null,null,"∆pv",{"$f":"Calculs!GL114","v":0},"kN/m2",null,null,null,"Coefficient de charge",null,null,"α",{"$f":"Calculs!GT98","v":0.9}]
[null,"Trafic ferroviaire voie unique",null,null,"punique",{"$f":"Calculs!GN114","v":0},"kN/m2",null,null,null,"Coefficient dynamique",null,null,"Ψ",{"$f":"Calculs!GU98","v":1}]
[null,"Trafic ferroviaire voies multiples",null,null,"pmultiples",{"$f":"Calculs!GO114","v":0},"kN/m2",null,null,null,"Trafic routier et route d'importance",null,null,"pvtotale",{"$f":"Calculs!GS114","v":26.200299999999999},"kN/m2"]
[null,"Trafic ferroviaire voie étroite",null,null,"pétroite",{"$f":"Calculs!GP114","v":0},"kN/m2",null,null,null,"secondaire",null,null,"pvroue",{"$f":"Calculs!GT114","v":5.4489399999999995},"kN/m2"]
[null,null,null,null,null,null,null,null,null,null,null,null,null,"∆pv",{"$f":"Calculs!GU114","v":20.751359999999998},"kN/m2"]
["Résultats",null,null,null,null,null,null,null,null,null,"Bord de route",null,null,"pvtotale",{"$f":"Calculs!GV114","v":0},"kN/m2"]
[null,null,null,null,null,null,null,null,null,null,null,null,null,"pvroue",{"$f":"Calculs!GW114","v":0},"kN/m2"]
[null,null,null,null,null,null,null,null,null,null,null,null,null,"∆pv",{"$f":"Calculs!GX114","v":0},"kN/m2"]
[null,null,null,null,null,null,null,null,null,null,"Trafic ferroviaire voie unique",null,null,"punique",{"$f":"Calculs!GZ114","v":0},"kN/m2"]
[null,null,null,null,null,null,null,null,null,null,"Trafic ferroviaire voies multiples",null,null,"pmultiples",{"$f":"Calculs!HA114","v":0},"kN/m2"]
[null,null,null,null,null,null,null,null,null,null,"Trafic ferroviaire voie étroite",null,null,"pétroite",{"$f":"Calculs!HB114","v":0},"kN/m2"]
[]
[null,null,null,null,null,null,null,null,null,"Résultats"]
[]
[]
[]
[]
[]
[]
[]
[]
[]
[]
[]
[]
[]
[]
[]
[]
[]
[]
[]
[]
[]
[]
[]
[null,"Sollicitations",null,null,null,null,null,null,null,null,"Sollicitations"]
[]
[null,null," Sollicitations",null,null,null,null,null,null,null,null," Sollicitations"]
[null,null,"U1/V1",null,null,null,null,null,null,null,null,"U4/V4"]
[null,null,"À long terme",null,"qs1",{"$f":"Calculs!GK198","v":61.810795124782352},"[kN/m2]",null,null,null,null,"À long terme",null,"qs1",{"$f":"Calculs!HB198","v":114.94449552533848},"[kN/m2]"]
[null,null,"À court terme",null,"qs2",{"$f":"Calculs!GK199","v":22.772951247823563},"[kN/m2]",null,null,null,null,"À court terme",null,"qs2",{"$f":"Calculs!HB199","v":30.584310594059406},"[kN/m2]"]
[null,null,"Charge eff. au sommet",null,"qser",{"$f":"Calculs!GK200","v":84.583746372605916},"[kN/m2]",null,null,null,null,"Charge eff. au sommet",null,"qser",{"$f":"Calculs!HB200","v":145.5288061193979},"[kN/m2]"]
[null,null,"Pression du terrain",null,"qh",{"$f":"Calculs!GG202","v":87.648945385890329},"[kN/m2]",null,null,null,null,"Pression du terrain",null,"qh",{"$f":"Calculs!HB201","v":72.764403059698935},"[kN/m2]"]
[null,null,"Charge de dim. au sommet",null,"qds",{"$f":"Calculs!GK203","v":117.60400029019154},"[kN/m2]",null,null,null,null,"Charge de dim. au sommet",null,"qds",{"$f":"Calculs!HB202","v":201.05153485029606},"[kN/m2]"]
[]
[null,null,null,null,null,null,null,null,null,null,"Vérifications"]
[null,"Vérifications"]
[]
[null,null,null,"Vérification de la déformation (IOWA)",null,null,null,null,null,null,"Poussée d'Archimède"]
[null,null,null,null,"U1/V1",null,{"$f":"IF(Calculs!GK37<0.1,\"\",\"Tuyau rigide. Pas nécessaire de vérifier la déformation!\")","v":""},null,null,null,"Actions stabilisant",null,"G + G' + Gsp",{"$f":"Calculs!GX177","v":38.2556955294841},"[kN/m]"]
[null,null,null,"x/d court",{"$f":"IF(Calculs!GK37<0.1,Calculs!GJ207,\"\")","v":1.2114437008185173E-2},null,null,null,null,null,null,null,"GR",{"$f":"Calculs!GX178","v":5.8690409600452211},"[kN/m]"]
[null,null,null,"x/d long",{"$f":"IF(Calculs!GK37<0.1,Calculs!GJ208,\"\")","v":3.7237446655041369E-2},null,null,null,null,null,null,null,"Somme",{"$f":"Calculs!GX179","v":44.124736489529319},"[kN/m]","Facteur",0.9]
[null,null,null,"Somme",{"$f":"IF(Calculs!GK37<0.1,Calculs!GJ209,\"\")","v":4.9351883663226542E-2},{"$f":"IF(Calculs!GK37<0.1,Calculs!GK209,\"\")","v":"OK"},null,null,null,null,"Actions déstabilisant",null,"FA",{"$f":"Calculs!GX180","v":0},"[kN/m]","Facteur",1.05]
[null,null,null,"Admissible",{"$f":"IF(Calculs!GK37<0.1,Calculs!GJ210,\"\")","v":0.05}]
[null,null,null,null,null,null,null,null,null,null,"Contôle:",null,"1.05*FA",{"$f":"Calculs!GX182","v":0},"[kN/m]",{"$f":"Calculs!GZ182","v":"OK"}]
[null,null,null,null,null,null,null,null,null,null,null,null,"0.9*Somme",{"$f":"Calculs!GX183","v":39.712262840576386},"[kN/m]"]
[null,"Poussée d'Archimède"]
[null,"Actions stabilisant",null,"G + G' + Gsp",{"$f":"Calculs!GI177","v":21.570451964578364},"[kN/m]",null,null,null,null,"Sécurité structurale"]
[null,null,null,"GR",{"$f":"Calculs!GI178","v":0.15762551581897744},"[kN/m]",null,null,null,null,{"$f":"IF(N138=\"\",\"\",\"Hypothèse: 5% de la charge de dimensionnement est reprise par le tuyau PVC et une déformation initiale\")","v":""}]
[null,null,null,"Somme",{"$f":"Calculs!GI179","v":21.728077480397342},"[kN/m]","Facteur",0.9,null,null,{"$f":"IF(N138=\"\",\"\",\"de 0.02m est admis [SIA190:2017;4.2.11.1.2].\")","v":""}]
[null,"Actions déstabilisant",null,"FA",{"$f":"Calculs!GI180","v":0},"[kN/m]","Facteur",1.05]
[]
[null,"Contôle:",null,"1.05*FA",{"$f":"Calculs!GI182","v":0},"[kN/m]",{"$f":"Calculs!GK182","v":"OK"},null,null,null,null,"Sécurité structurale"]
[null,null,null,"0.9*Somme",{"$f":"Calculs!GI183","v":19.555269732357608},"[kN/m]",null,null,null,null,null,"U4/V4"]
[null,null,null,null,null,null,null,null,null,null,null,"qds",null,{"$f":"Calculs!GZ214","v":""},"[kN/m2]"]
[null,null,null,null,null,null,null,null,null,null,null,"qBl",null,{"$f":"Calculs!GZ215","v":""},"[kN/m2]"]
[null,"Sécurité structurale",null,null,null,null,null,null,null,null,null,"pwd",null,{"$f":"Calculs!GZ216","v":""},"[kN/m2]"]
[null,null,null,null,null,null,null,null,null,null,null,"pcr",null,{"$f":"Calculs!GZ217","v":""},"[kN/m2]"]
[null,null,"Sécurité structurale",null,null,null,null,null,null,null,null,"k",null,{"$f":"Calculs!GZ218","v":""},"[-]"]
[null,null,"U1/V1",null,null,null,null,null,null,null,null,"qBl/2*(1-2*pwd/k*pcr)",null,{"$f":"Calculs!GZ219","v":""},"[kN/m2]"]
[null,null,"qds",null,{"$f":"IF(Calculs!GK37<0.1,Calculs!GJ214,\"\")","v":117.60400029019154},"[kN/m2]",{"$f":"IF(Calculs!GK37<0.1,\"\",\"Tuyau rigide. Limite de la formule de la sécurité structurale est dépassée!\")","v":""}]
[null,null,"qBl",null,{"$f":"IF(Calculs!GK37<0.1,Calculs!GJ215,\"\")","v":390.69421288067815},"[kN/m2]",null,null,null,null,null,"Résultat",null,{"$f":"Calculs!GZ221","v":""}]
[null,null,"pwd",null,{"$f":"IF(Calculs!GK37<0.1,Calculs!GJ216,\"\")","v":0},"[kN/m2]"]
[null,null,"pcr",null,{"$f":"IF(Calculs!GK37<0.1,Calculs!GJ217,\"\")","v":62.020772988020454},"[kN/m2]",null,null,null,null,{"$f":"IF(N138=\"\",\"Vérification de la sécurité structurale que nécessaire lors de présence d'eau souterraine!\",\"\")","v":"Vérification de la sécurité structurale que nécessaire lors de présence d'eau souterraine!"}]
[null,null,"k",null,{"$f":"IF(Calculs!GK37<0.1,Calculs!GJ218,\"\")","v":1},"[-]"]
[null,null,"qBl/2*(1-2*pwd/k*pcr)",null,{"$f":"IF(Calculs!GK37<0.1,Calculs!GJ219,\"\")","v":195.34710644033908},"[kN/m2]"]
[]
[null,null,"Résultat",null,{"$f":"IF(Calculs!GK37<0.1,Calculs!GJ221,\"\")","v":"OK"}]
[]
[]
[]
[]
[]
[]
[null,"Aptitude au service",null,null,null,null,null,null,null,null,"Aptitude au service"]
[]
[null,null,null,null,null,null,null,null,null,null,null,null,"σRbz,adm",{"$f":"Calculs!GT325","v":-0.3},"N/mm2"]
[null,null,null,"σRbz,adm",{"$f":"Calculs!GN315","v":20},"N/mm2"]
[null,null,null,null,null,null,null,null,null,null,null,null,null,"Convention des contraintes:"]
[null,null,null,null,"Convention des contraintes:",null,null,null,null,null,null,null,null,"Traction négatif -"]
[null,null,null,null,"Traction négatif -",null,null,null,null,null,null,null,null,"Compression positif +"]
[null,null,null,null,"Compression positif +"]
[]
[null,"Contraintes Profil d'enrobage U1/V1",null,null,null,null,null,null,null,null,"Contraintes Profil d'enrobage U4/V4"]
[null,"Contraintes en [N/mm2]",null,"0°","45°","90°","135°","180°",null,null,"Contraintes en [N/mm2]",null,"0°","45°","90°","135°","180°"]
[null,"Effort normal",null,{"$f":"Calculs!GG322","v":0.96771771000478812},{"$f":"Calculs!GH322","v":1.3068106256889989},{"$f":"Calculs!GI322","v":1.4051140356830769},{"$f":"Calculs!GJ322","v":1.3084893655557797},{"$f":"Calculs!GK322","v":0.96852182661744279},null,null,"Effort normal",null,{"$f":"Calculs!GT329","v":0.12144880637002921},{"$f":"Calculs!GU329","v":0.18645403618164447},{"$f":"Calculs!GV329","v":0.25475524810834649},{"$f":"Calculs!GW329","v":0.19078780862863062},{"$f":"Calculs!GX329","v":0.12352468393095722}]
[null,"Moment extérieur",null,{"$f":"Calculs!GG323","v":6.34107002999564},{"$f":"Calculs!GH323","v":-1.4931294683935292},{"$f":"Calculs!GI323","v":-3.3357364896073958},{"$f":"Calculs!GJ323","v":-1.509227332462268},{"$f":"Calculs!GK323","v":6.3640530429514373},null,null,"Moment extérieur",null,{"$f":"Calculs!GT330","v":0.26542787785724065},{"$f":"Calculs!GU330","v":-2.8998931383583475E-3},{"$f":"Calculs!GV330","v":-0.2678422908436317},{"$f":"Calculs!GW330","v":-1.6911034941955918E-3},{"$f":"Calculs!GX330","v":0.27026259969311311}]
[null,"Moment intérieur",null,{"$f":"Calculs!GG324","v":-6.34107002999564},{"$f":"Calculs!GH324","v":1.4931294683935292},{"$f":"Calculs!GI324","v":3.3357364896073958},{"$f":"Calculs!GJ324","v":1.509227332462268},{"$f":"Calculs!GK324","v":-6.3640530429514373},null,null,"Moment intérieur",null,{"$f":"Calculs!GT331","v":-0.39650337309538408},{"$f":"Calculs!GU331","v":4.3319391326093826E-3},{"$f":"Calculs!GV331","v":0.40011008879110405},{"$f":"Calculs!GW331","v":2.5262163308353899E-3},{"$f":"Calculs!GX331","v":-0.40372561188724304}]
[]
[null,"Contraintes extérieur",null,{"$f":"Calculs!GG326","v":7.3087877400004277},{"$f":"Calculs!GH326","v":-0.18631884270453036},{"$f":"Calculs!GI326","v":-1.9306224539243189},{"$f":"Calculs!GJ326","v":-0.20073796690648837},{"$f":"Calculs!GK326","v":7.3325748695688802},null,null,"Contraintes extérieur",null,{"$f":"Calculs!GT333","v":0.38687668422726984},{"$f":"Calculs!GU333","v":0.18355414304328613},{"$f":"Calculs!GV333","v":-1.3087042735285215E-2},{"$f":"Calculs!GW333","v":0.18909670513443502},{"$f":"Calculs!GX333","v":0.39378728362407034}]
[null,"Conraintes intérieur",null,{"$f":"Calculs!GG327","v":-5.3733523199908522},{"$f":"Calculs!GH327","v":2.7999400940825279},{"$f":"Calculs!GI327","v":4.7408505252904725},{"$f":"Calculs!GJ327","v":2.8177166980180477},{"$f":"Calculs!GK327","v":-5.3955312163339944},null,null,"Conraintes intérieur",null,{"$f":"Calculs!GT334","v":-0.27505456672535489},{"$f":"Calculs!GU334","v":0.19078597531425384},{"$f":"Calculs!GV334","v":0.65486533689945059},{"$f":"Calculs!GW334","v":0.19331402495946601},{"$f":"Calculs!GX334","v":-0.28020092795628582}]
[]
[null,"Contraintes extérieures",null,{"$f":"Calculs!GG329","v":"OK"},{"$f":"Calculs!GH329","v":"OK"},{"$f":"Calculs!GI329","v":"OK"},{"$f":"Calculs!GJ329","v":"OK"},{"$f":"Calculs!GK329","v":"OK"},null,null,"Contraintes extérieures",null,{"$f":"Calculs!GT336","v":"OK"},{"$f":"Calculs!GU336","v":"OK"},{"$f":"Calculs!GV336","v":"OK"},{"$f":"Calculs!GW336","v":"OK"},{"$f":"Calculs!GX336","v":"OK"}]
[null,"Conraintes intérieures",null,{"$f":"Calculs!GG330","v":"OK"},{"$f":"Calculs!GH330","v":"OK"},{"$f":"Calculs!GI330","v":"OK"},{"$f":"Calculs!GJ330","v":"OK"},{"$f":"Calculs!GK330","v":"OK"},null,null,"Conraintes intérieures",null,{"$f":"Calculs!GT337","v":"OK"},{"$f":"Calculs!GU337","v":"OK"},{"$f":"Calculs!GV337","v":"OK"},{"$f":"Calculs!GW337","v":"OK"},{"$f":"Calculs!GX337","v":"OK"}]

{"sheet":"PVC-SN8 (D)","index":29,"n_rows":170,"n_cols":18,"rows_kept":170,"cut":false,"hidden":false,"merged":[[168,1,168,2],[168,10,168,11],[169,1,169,2],[169,10,169,11],[155,3,155,5],[156,3,156,5],[157,3,157,5],[165,1,165,2],[165,10,165,11],[166,1,166,2],[166,10,166,11],[167,1,167,2],[167,10,167,11],[164,1,164,2],[164,10,164,11],[143,2,143,3],[159,1,159,7],[159,10,159,16],[154,12,154,14],[155,12,155,14],[156,12,156,14],[142,2,142,5],[133,11,133,12],[134,2,134,5],[134,11,134,12],[135,2,135,5],[135,11,135,12],[136,2,136,3],[136,6,138,7],[136,11,136,14],[137,2,137,3],[137,11,137,12],[138,2,138,3],[139,2,139,3],[140,2,140,3],[141,2,141,3],[139,10,139,15],[132,11,132,12],[122,1,122,7],[123,1,123,2],[124,1,125,2],[126,1,126,2],[127,1,127,2],[128,1,128,2],[128,6,129,7],[128,11,128,14],[129,1,129,2],[129,11,129,14],[130,11,130,12],[131,11,131,12],[118,5,119,5],[118,10,118,11],[119,10,119,11],[120,10,120,11],[120,15,121,16],[121,10,121,11],[109,2,109,3],[109,11,109,12],[114,3,114,5],[114,10,114,16],[115,5,117,5],[115,6,117,7],[115,10,115,11],[116,10,117,11],[106,11,106,12],[107,2,107,3],[107,11,107,12],[108,2,108,3],[108,11,108,12],[106,2,106,3],[105,2,105,3],[105,11,105,12],[8,0,9,8],[8,9,9,17],[57,7,58,7],[64,16,65,16],[70,0,70,8],[77,9,77,17],[103,2,103,6],[103,11,103,15],[104,2,104,6],[104,11,104,15],[11,4,11,6],[25,13,25,15]]}
[null,"Projekt:",{"$f":"Accueil!P15","v":"VSA 2026"},null,null,"Ingenieur/in:",null,{"$f":"Accueil!AI15","v":0},null,null,"Projekt:",{"$f":"Accueil!$P$15","v":"VSA 2026"},null,null,"Ingenieur/in:",null,{"$f":"Accueil!$AI$15","v":0}]
[]
[null,"N°:",{"$f":"Accueil!P17","v":0},null,null,"Vernatworlticher:",null,{"$f":"Accueil!AI17","v":0},null,null,"N°:",{"$f":"Accueil!P17","v":0},null,null,"Vernatworlticher:",null,{"$f":"Accueil!$AI$17","v":0}]
[]
[null,"Ort:",{"$f":"Accueil!P21","v":0},null,null,"Bauherr:",null,{"$f":"Accueil!AI19","v":0},null,null,"Ort:",{"$f":"Accueil!$P$21","v":0},null,null,"Bauherr:",null,{"$f":"Accueil!$AI$19","v":0}]
[null,null,{"$f":"Accueil!P23","v":0},null,null,null,null,null,null,null,null,{"$f":"Accueil!$P$23","v":0}]
[]
[]
["Daten Normalverlegeprofil U1/V1",null,null,null,null,null,null,null,null,"Daten Normalverlegeprofil U4/V4"]
[]
[]
[null,"PVC-Rohr",null,null,{"$f":"IF(Données!$AE$6>F14,\"di max.< di Eingabe!\",\"\")","v":""},null,null,null,null,null,"\"Fiktives\" Betonrohr"]
[]
[null,"Innendurchmesser",null,null,"di",{"$f":"Calculs!GK32","v":334.2},"mm",null,null,null,"Innendurchmesser",null,null,"di",{"$f":"Calculs!GR31/1000","v":0.35499999999999998},"m"]
[null,"Radius",null,null,"rm",{"$f":"Calculs!GO32","v":172.3},"mm",null,null,null,"Radius",null,null,"rm",{"$f":"Calculs!GU31/1000","v":0.2525},"m",null,{"$f":"IF(Accueil!$AZ$15=\"Français\",\"Retour\",IF(Accueil!$AZ$15=\"Deutsch\",\"Zurück\",IF(Accueil!$AZ$15=\"Italiano\",\"\")))","v":"Retour"}]
[null,"Wanddicke",null,null,"e",{"$f":"Calculs!GN32","v":10.4},"mm",null,null,null,"Wanddicke",null,null,"e",{"$f":"Calculs!GT31/1000","v":0.15},"m"]
[null,"Querschnittsfläche",null,null,"A",{"$f":"Calculs!GJ316","v":1.04E-2},"m2",null,null,null,"Querschnittsfläche",null,null,"A",{"$f":"Calculs!GW316","v":0.15},"m2"]
[null,"Widerstandsmoment",null,null,"W",{"$f":"Calculs!GJ317","v":1.8026666666666668E-5},"m3",null,null,null,"Widerstandsmoment",null,null,"W",{"$f":"Calculs!GW317","v":3.7499999999999999E-3},"m3"]
[null,"E-Modul",null,null,"ER,kurz",{"$f":"Calculs!B12","v":1250},"N/mm2",null,null,null,"E-Modul",null,null,"ER,kurz",{"$f":"Calculs!GS33","v":20000},"N/mm2"]
[]
[null,"Systemsteifigkeit",null,null,"SFkurz",{"$f":"Calculs!GK37","v":1.8325799871525609E-2},{"$f":"Calculs!GL37","v":"souple"},null,null,null,"Systemsteifigkeit",null,null,"SFkurz",{"$f":"Calculs!GR37","v":116.47081775131731},{"$f":"Calculs!GS37","v":"rigide"}]
[null,"Lastvergrösserungsfaktor",null,null,"f",{"$f":"Calculs!GM41","v":1.0301799187463725},null,null,null,null,"Lastvergrösserungsfaktor",null,null,"f",{"$f":"Calculs!GT41","v":1.2970297029702971}]
[null,"Krümmungseinfluss",null,null,"αka",{"$f":"Calculs!GG317","v":1},null,null,null,null,"Krümmungseinfluss",null,null,"αka",{"$f":"Calculs!GT317","v":0.80198019801980203}]
[null,null,null,null,"αki",{"$f":"Calculs!GG316","v":1},null,null,null,null,null,null,null,"αki",{"$f":"Calculs!GT316","v":1.198019801980198}]
[]
[null,"Terrain",null,null,null,null,null,null,null,null,"PVC-Rohr",null,null,{"$f":"IF(Données!$AE$6>O28,\"di max.< di Eingabe!\",\"\")","v":""}]
[]
[null,"Bodenqualität",null,null,null,{"$f":"Données!AE30","v":"Sol stable"},null,null,null,null,"Innendurchmesser",null,null,"di",{"$f":"Calculs!GK32","v":334.2},"mm"]
[null,"Feuchtraumgewicht des Baugrunds",null,null,"γ",{"$f":"Données!AE32","v":20},"kN/m3",null,null,null,"Radius",null,null,"rm",{"$f":"Calculs!GO32","v":172.3},"mm"]
[null,"Raumgewicht unter Auftrieb",null,null,"γ'",{"$f":"Données!AE34","v":11},"kN/m3",null,null,null,"Wanddicke",null,null,"e",{"$f":"Calculs!GN32","v":10.4},"mm"]
[null,"Verformungsmodul des Bodens",null,null,"EB",{"$f":"Données!AE38","v":5},"N/mm2"]
[null,"Erddruckbeiwert",null,null,"K",{"$f":"Données!AE40","v":0.5},null,null,null,null,"Terrain"]
[null,"Setzungs-Durchbiegungsziffer",null,null,"C2",{"$f":"Données!AE42","v":0.5}]
[null,"Hüllbeton",null,null,null,{"$f":"Données!AE50","v":"C16/20"},null,null,null,null,"Bodenqualität",null,null,null,{"$f":"Données!AE30","v":"Sol stable"}]
[null,"Lastminderung",null,null,"λmin",{"$f":"Données!AE44","v":"NON"},null,null,null,null,"Feuchtraumgewicht des Baugrunds",null,null,"γ",{"$f":"Données!AE32","v":20},"kN/m3"]
[null,null,null,null,null,null,null,null,null,null,"Raumgewicht unter Auftrieb",null,null,"γ'",{"$f":"Données!AE34","v":11},"kN/m3"]
[null,"Wasser",null,null,null,null,null,null,null,null,"Verformungsmodul des Bodens",null,null,"EB",{"$f":"Données!AE38","v":5},"N/mm2"]
[null,null,null,null,null,null,null,null,null,null,"Erddruckbeiwert",null,null,"K",{"$f":"Données!AE40","v":0.5}]
[null,"Grundwasser",null,null,null,{"$f":"Données!AE60","v":"Sans eau souterraine"},null,null,null,null,"Setzungs-Durchbiegungsziffer",null,null,"C2",{"$f":"Données!AE42","v":0.5}]
[null,"Grwundwasserspiegel",null,null,"hw",{"$f":"Données!AE62","v":1.3},"m",null,null,null,"Hüllbeton",null,null,null,{"$f":"Données!AE50","v":"C16/20"}]
[null,"Wasser im Rohr",null,null,null,{"$f":"Données!AE64","v":"Tuyau vide"},null,null,null,null,"Lastminderung",null,null,"λmin",{"$f":"Données!AE44","v":"NON"}]
[null,"Druck",null,null,"pEi",{"$f":"Données!AE66","v":10},"kN/m2"]
[null,null,null,null,null,null,null,null,null,null,"Wasser"]
[null,"Graben"]
[null,null,null,null,null,null,null,null,null,null,"Grundwasser",null,null,null,{"$f":"Données!AE60","v":"Sans eau souterraine"}]
[null,"Überdeckungshöhe",null,null,"H",{"$f":"Données!AE52","v":3},"m",null,null,null,"Grwundwasserspiegel",null,null,"hw",{"$f":"Données!AN68","v":0},"m"]
[null,"Grabentyp",null,null,null,{"$f":"Données!AE56","v":"Verticale (U)"},null,null,null,null,"Wasser im Rohr",null,null,null,{"$f":"Données!AE64","v":"Tuyau vide"}]
[null,"Grabenbreite",null,null,"B",{"$f":"Données!$AE$54","v":1.5},"m",null,null,null,"Druck",null,null,"pEi",{"$f":"Données!AE66","v":10},"kN/m2"]
[null,"Böschungsneigung",null,null,"β",{"$f":"Données!AE58","v":30},"°"]
[]
[]
[]
[]
[null,"Einwirkungen",null,null,null,null,null,null,null,null,"Graben"]
[]
[null,"Flächenlast",null,null,null,{"$f":"Données!AE8","v":"Pas de charge"},null,null,null,null,"Überdeckungshöhe",null,null,"H",{"$f":"Calculs!GU101","v":2.85},"m"]
[null,null,null,null,"qs",{"$f":"Calculs!GL128","v":0},"kN/m2",null,null,null,"Grabentyp",null,null,null,{"$f":"Données!$AE$56","v":"Verticale (U)"}]
[null,"Verkehr",null,null,null,{"$f":"Données!AE22","v":"Trafic routier"},null,{"$f":"IF(AND(Accueil!AZ15=\"Deutsch\",AND(OR(F58=\"Voie unique (ferroviaire)\",F58=\"Voies multiples (ferroviaire)\",F58=\"Voie étroite (ferroviaire)\",F58=\"Eingleisig (Bahnverkehr)\",F58=\"Mehrgleisig (Bahnverkehr)\",F58=\"Schmalspur (Bahnverkehr)\"),F46<2)),\"H zu klein!\",\"\")","v":""},null,null,"Grabenbreite",null,null,"B",{"$f":"Données!AE54","v":1.5},"m"]
[null,"Beiwert Strass- und Bahnvekehrslasten",null,null,"α",{"$f":"Calculs!GH98","v":0.9},null,null,null,null,"Böschungsneigung",null,null,"β",{"$f":"Données!AE58","v":30},"°"]
[null,"Dynamischer Beiwert",null,null,"Ψ",{"$f":"Calculs!GI98","v":1}]
[null,"Strassenverkehr und untergeordnete",null,null,"pvtotal",{"$f":"Calculs!GG114","v":24.562000000000001},"kN/m2",null,null,null,"Einwirkungen"]
[null,"Strassen",null,null,"pvRad",{"$f":"Calculs!GH114","v":4.9021999999999997},"kN/m2"]
[null,null,null,null,"∆pv",{"$f":"Calculs!GI114","v":19.659800000000001},"kN/m2",null,null,null,"Flächenlast",null,null,null,{"$f":"Données!AE8","v":"Pas de charge"}]
[null,"Strassenrand",null,null,"pvtotal",{"$f":"Calculs!GJ114","v":0},"kN/m2",null,null,null,null,null,null,"qs",{"$f":"Calculs!GW128","v":0},"kN/m2"]
[null,null,null,null,"pvRad",{"$f":"Calculs!GK114","v":0},"kN/m2",null,null,null,"Verkehr",null,null,null,{"$f":"Données!AE22","v":"Trafic routier"},null,{"$f":"IF(AND(Accueil!AZ15=\"Deutsch\",AND(OR(O65=\"Voie unique (ferroviaire)\",O65=\"Voies multiples (ferroviaire)\",O65=\"Voie étroite (ferroviaire)\",O65=\"Eingleisig (Bahnverkehr)\",O65=\"Mehrgleisig (Bahnverkehr)\",O65=\"Schmalspur (Bahnverkehr)\"),O56<2)),\"H zu klein!\",IF(AND(Accueil!AZ15=\"Deutsch\",AND(OR(O65=\"Trafic routier\",O65=\"Bord de route\",O65=\"Route d'importance secondaire\",O65=\"Strassenverkehr\",O65=\"Strassenrand\",O65=\"Untergeordnete Strasse\"),O56<1)),\"H zu klein!\",\"\"))","v":""}]
[null,null,null,null,"∆pv",{"$f":"Calculs!GL114","v":0},"kN/m2",null,null,null,"Beiwert Strass- und Bahnvekehrslasten",null,null,"α",{"$f":"Calculs!GT98","v":0.9}]
[null,"Bahnverkehr eingleisig",null,null,"peingleisig",{"$f":"Calculs!GN114","v":0},"kN/m2",null,null,null,"Dynamischer Beiwert",null,null,"Ψ",{"$f":"Calculs!GU98","v":1}]
[null,"Bahnverkehr mehrgleisig",null,null,"pmehrgleisig",{"$f":"Calculs!GO114","v":0},"kN/m2",null,null,null,"Strassenverkehr und untergeordnete",null,null,"pvtotal",{"$f":"Calculs!GS114","v":26.200299999999999},"kN/m2"]
[null,"Bahnverkehr schmalspur",null,null,"pschmal",{"$f":"Calculs!GP114","v":0},"kN/m2",null,null,null,"Strassen",null,null,"pvRad",{"$f":"Calculs!GT114","v":5.4489399999999995},"kN/m2"]
[null,null,null,null,null,null,null,null,null,null,null,null,null,"∆pv",{"$f":"Calculs!GU114","v":20.751359999999998},"kN/m2"]
["Resultate",null,null,null,null,null,null,null,null,null,"Strassenrand",null,null,"pvtotal",{"$f":"Calculs!GV114","v":0},"kN/m2"]
[null,null,null,null,null,null,null,null,null,null,null,null,null,"pvRad",{"$f":"Calculs!GW114","v":0},"kN/m2"]
[null,null,null,null,null,null,null,null,null,null,null,null,null,"∆pv",{"$f":"Calculs!GX114","v":0},"kN/m2"]
[null,null,null,null,null,null,null,null,null,null,"Bahnverkehr eingleisig",null,null,"peingleisig",{"$f":"Calculs!GZ114","v":0},"kN/m2"]
[null,null,null,null,null,null,null,null,null,null,"Bahnverkehr mehrgleisig",null,null,"pmehrgleisig",{"$f":"Calculs!HA114","v":0},"kN/m2"]
[null,null,null,null,null,null,null,null,null,null,"Bahnverkehr schmalspur",null,null,"pschmal",{"$f":"Calculs!HB114","v":0},"kN/m2"]
[]
[null,null,null,null,null,null,null,null,null,"Resultate"]
[]
[]
[]
[]
[]
[]
[]
[]
[]
[]
[]
[]
[]
[]
[]
[]
[]
[]
[]
[]
[]
[]
[]
[null,"Beanspruchungen",null,null,null,null,null,null,null,null,"Beanspruchungen"]
[]
[null,null,"Beanspruchungen",null,null,null,null,null,null,null,null,"Beanspruchungen"]
[null,null,"U1/V1",null,null,null,null,null,null,null,null,"U4/V4"]
[null,null,"Langzeit",null,"qs1",{"$f":"Calculs!GK198","v":61.810795124782352},"[kN/m2]",null,null,null,null,"Langzeit",null,"qs1",{"$f":"Calculs!HB198","v":114.94449552533848},"[kN/m2]"]
[null,null,"Kurzzeit",null,"qs2",{"$f":"Calculs!GK199","v":22.772951247823563},"[kN/m2]",null,null,null,null,"Kurzzeit",null,"qs2",{"$f":"Calculs!HB199","v":30.584310594059406},"[kN/m2]"]
[null,null,"Effektive Last auf Scheitel",null,"qser",{"$f":"Calculs!GK200","v":84.583746372605916},"[kN/m2]",null,null,null,null,"Effektive Last auf Scheitel",null,"qser",{"$f":"Calculs!HB200","v":145.5288061193979},"[kN/m2]"]
[null,null,"Erddruck",null,"qh",{"$f":"Calculs!GG202","v":87.648945385890329},"[kN/m2]",null,null,null,null,"Erddruck",null,"qh",{"$f":"Calculs!HB201","v":72.764403059698935},"[kN/m2]"]
[null,null,"Bemessungswert",null,"qds",{"$f":"Calculs!GK203","v":117.60400029019154},"[kN/m2]",null,null,null,null,"Bemessungswert",null,"qds",{"$f":"Calculs!HB202","v":201.05153485029606},"[kN/m2]"]
[]
[null,null,null,null,null,null,null,null,null,null,"Nachweise"]
[null,"Nachweise"]
[]
[null,null,null,"Verformungsnachweis (IOWA)",null,null,null,null,null,null,"Auftrieb"]
[null,null,null,null,"U1/V1",null,{"$f":"IF(Calculs!GK37<0.1,\"\",\"Steifes Rohr. Verformungsnachweis entfällt!\")","v":""},null,null,null,"Stabilisierend",null,"G + G' + Gsp",{"$f":"Calculs!GX177","v":38.2556955294841},"[kN/m]"]
[null,null,null,"x/d kurz",{"$f":"IF(Calculs!GK37<0.1,Calculs!GJ207,\"\")","v":1.2114437008185173E-2},null,null,null,null,null,null,null,"GR",{"$f":"Calculs!GX178","v":5.8690409600452211},"[kN/m]"]
[null,null,null,"x/d lang",{"$f":"IF(Calculs!GK37<0.1,Calculs!GJ208,\"\")","v":3.7237446655041369E-2},null,null,null,null,null,null,null,"Summe",{"$f":"Calculs!GX179","v":44.124736489529319},"[kN/m]","Faktor",0.9]
[null,null,null,"Summe",{"$f":"IF(Calculs!GK37<0.1,Calculs!GJ209,\"\")","v":4.9351883663226542E-2},{"$f":"IF(Calculs!GK37<0.1,Calculs!GK209,\"\")","v":"OK"},null,null,null,null,"Destabilisierend",null,"FA",{"$f":"Calculs!GX180","v":0},"[kN/m]","Faktor",1.05]
[null,null,null,"Zugelassen",{"$f":"IF(Calculs!GK37<0.1,Calculs!GJ210,\"\")","v":0.05}]
[null,null,null,null,null,null,null,null,null,null,"Kontrolle:",null,"1.05*FA",{"$f":"Calculs!GX182","v":0},"[kN/m]",{"$f":"Calculs!GZ182","v":"OK"}]
[null,null,null,null,null,null,null,null,null,null,null,null,"0.9*Summe",{"$f":"Calculs!GX183","v":39.712262840576386},"[kN/m]"]
[null,"Auftrieb"]
[null,"Stabilisierend",null,"G + G' + Gsp",{"$f":"Calculs!GI177","v":21.570451964578364},"[kN/m]",null,null,null,null,"Tragfähigkeit"]
[null,null,null,"GR",{"$f":"Calculs!GI178","v":0.15762551581897744},"[kN/m]",null,null,null,null,{"$f":"IF(N138=\"\",\"\",\"Annahme: 5% des Bemessungswerts werden durch das PVC-Rohr aufgenommen und eine initiale\")","v":""}]
[null,null,null,"Summe",{"$f":"Calculs!GI179","v":21.728077480397342},"[kN/m]","Faktor",0.9,null,null,{"$f":"IF(N138=\"\",\"\",\"Deformation von 0.02m [SIA190:2017;4.2.11.1.2].\")","v":""}]
[null,"Destabilisierend",null,"FA",{"$f":"Calculs!GI180","v":0},"[kN/m]","Faktor",1.05]
[]
[null,"Kontrolle:",null,"1.05*FA",{"$f":"Calculs!GI182","v":0},"[kN/m]",{"$f":"Calculs!GK182","v":"OK"},null,null,null,null,"Tragfähigkeit"]
[null,null,null,"0.9*Summe",{"$f":"Calculs!GI183","v":19.555269732357608},"[kN/m]",null,null,null,null,null,"U4/V4"]
[null,null,null,null,null,null,null,null,null,null,null,"qds",null,{"$f":"Calculs!GZ214","v":""},"[kN/m2]"]
[null,null,null,null,null,null,null,null,null,null,null,"qBl",null,{"$f":"Calculs!GZ215","v":""},"[kN/m2]"]
[null,"Tragfähigkeit",null,null,null,null,null,null,null,null,null,"pwd",null,{"$f":"Calculs!GZ216","v":""},"[kN/m2]"]
[null,null,null,null,null,null,null,null,null,null,null,"pcr",null,{"$f":"Calculs!GZ217","v":""},"[kN/m2]"]
[null,null,"Tragfähigkeit",null,null,null,null,null,null,null,null,"k",null,{"$f":"Calculs!GZ218","v":""},"[-]"]
[null,null,"U1/V1",null,null,null,null,null,null,null,null,"qBl/2*(1-2*pwd/k*pcr)",null,{"$f":"Calculs!GZ219","v":""},"[kN/m2]"]
[null,null,"qds",null,{"$f":"IF(Calculs!GK37<0.1,Calculs!GJ214,\"\")","v":117.60400029019154},"[kN/m2]",{"$f":"IF(Calculs!GK37<0.1,\"\",\"Steifes Rohr. Limite der Tragfähigkeitsformel überschritten!\")","v":""}]
[null,null,"qBl",null,{"$f":"IF(Calculs!GK37<0.1,Calculs!GJ215,\"\")","v":390.69421288067815},"[kN/m2]",null,null,null,null,null,"Resultate",null,{"$f":"Calculs!GZ221","v":""}]
[null,null,"pwd",null,{"$f":"IF(Calculs!GK37<0.1,Calculs!GJ216,\"\")","v":0},"[kN/m2]"]
[null,null,"pcr",null,{"$f":"IF(Calculs!GK37<0.1,Calculs!GJ217,\"\")","v":62.020772988020454},"[kN/m2]",null,null,null,null,{"$f":"IF(N138=\"\",\"Tragfähigkeitsnachweis nur nötig bei Grundwasser!\",\"\")","v":"Tragfähigkeitsnachweis nur nötig bei Grundwasser!"}]
[null,null,"k",null,{"$f":"IF(Calculs!GK37<0.1,Calculs!GJ218,\"\")","v":1},"[-]"]
[null,null,"qBl/2*(1-2*pwd/k*pcr)",null,{"$f":"IF(Calculs!GK37<0.1,Calculs!GJ219,\"\")","v":195.34710644033908},"[kN/m2]"]
[]
[null,null,"Resultate",null,{"$f":"IF(Calculs!GK37<0.1,Calculs!GJ221,\"\")","v":"OK"}]
[]
[]
[]
[]
[]
[]
[null,"Gebrauchstauglichkeit",null,null,null,null,null,null,null,null,"Gebrauchstauglichkeit"]
[]
[null,null,null,null,null,null,null,null,null,null,null,null,"σRbz,adm",{"$f":"Calculs!GT325","v":-0.3},"N/mm2"]
[null,null,null,"σRbz,adm",{"$f":"Calculs!GN315","v":20},"N/mm2"]
[null,null,null,null,null,null,null,null,null,null,null,null,"Spannungskonventionen:"]
[null,null,null,"Spannungskonventionen:",null,null,null,null,null,null,null,null,"Zug negatif -"]
[null,null,null,"Zug negatif -",null,null,null,null,null,null,null,null,"Druck positif +"]
[null,null,null,"Druck positif +"]
[]
[null,"Spannungen Verlegeprofil U1/V1",null,null,null,null,null,null,null,null,"Spannungen Verlegeprofil U4/V4"]
[null,"Spannungen in [N/mm2]",null,"0°","45°","90°","135°","180°",null,null,"Spannungen in [N/mm2]",null,"0°","45°","90°","135°","180°"]
[null,"Durch die Normalkraft",null,{"$f":"Calculs!GG322","v":0.96771771000478812},{"$f":"Calculs!GH322","v":1.3068106256889989},{"$f":"Calculs!GI322","v":1.4051140356830769},{"$f":"Calculs!GJ322","v":1.3084893655557797},{"$f":"Calculs!GK322","v":0.96852182661744279},null,null,"Durch die Normalkraft",null,{"$f":"Calculs!GT329","v":0.12144880637002921},{"$f":"Calculs!GU329","v":0.18645403618164447},{"$f":"Calculs!GV329","v":0.25475524810834649},{"$f":"Calculs!GW329","v":0.19078780862863062},{"$f":"Calculs!GX329","v":0.12352468393095722}]
[null,"Durch das Moment aussen",null,{"$f":"Calculs!GG323","v":6.34107002999564},{"$f":"Calculs!GH323","v":-1.4931294683935292},{"$f":"Calculs!GI323","v":-3.3357364896073958},{"$f":"Calculs!GJ323","v":-1.509227332462268},{"$f":"Calculs!GK323","v":6.3640530429514373},null,null,"Durch das Moment aussen",null,{"$f":"Calculs!GT330","v":0.26542787785724065},{"$f":"Calculs!GU330","v":-2.8998931383583475E-3},{"$f":"Calculs!GV330","v":-0.2678422908436317},{"$f":"Calculs!GW330","v":-1.6911034941955918E-3},{"$f":"Calculs!GX330","v":0.27026259969311311}]
[null,"Durch das Moment innen",null,{"$f":"Calculs!GG324","v":-6.34107002999564},{"$f":"Calculs!GH324","v":1.4931294683935292},{"$f":"Calculs!GI324","v":3.3357364896073958},{"$f":"Calculs!GJ324","v":1.509227332462268},{"$f":"Calculs!GK324","v":-6.3640530429514373},null,null,"Durch das Moment innen",null,{"$f":"Calculs!GT331","v":-0.39650337309538408},{"$f":"Calculs!GU331","v":4.3319391326093826E-3},{"$f":"Calculs!GV331","v":0.40011008879110405},{"$f":"Calculs!GW331","v":2.5262163308353899E-3},{"$f":"Calculs!GX331","v":-0.40372561188724304}]
[]
[null,"Spannungen aussen",null,{"$f":"Calculs!GG326","v":7.3087877400004277},{"$f":"Calculs!GH326","v":-0.18631884270453036},{"$f":"Calculs!GI326","v":-1.9306224539243189},{"$f":"Calculs!GJ326","v":-0.20073796690648837},{"$f":"Calculs!GK326","v":7.3325748695688802},null,null,"Spannungen aussen",null,{"$f":"Calculs!GT333","v":0.38687668422726984},{"$f":"Calculs!GU333","v":0.18355414304328613},{"$f":"Calculs!GV333","v":-1.3087042735285215E-2},{"$f":"Calculs!GW333","v":0.18909670513443502},{"$f":"Calculs!GX333","v":0.39378728362407034}]
[null,"Spannungen innen","Spannungen innen",{"$f":"Calculs!GG327","v":-5.3733523199908522},{"$f":"Calculs!GH327","v":2.7999400940825279},{"$f":"Calculs!GI327","v":4.7408505252904725},{"$f":"Calculs!GJ327","v":2.8177166980180477},{"$f":"Calculs!GK327","v":-5.3955312163339944},null,null,"Spannungen innen","Spannungen innen",{"$f":"Calculs!GT334","v":-0.27505456672535489},{"$f":"Calculs!GU334","v":0.19078597531425384},{"$f":"Calculs!GV334","v":0.65486533689945059},{"$f":"Calculs!GW334","v":0.19331402495946601},{"$f":"Calculs!GX334","v":-0.28020092795628582}]
[]
[null,"Spannungen aussen",null,{"$f":"Calculs!GG329","v":"OK"},{"$f":"Calculs!GH329","v":"OK"},{"$f":"Calculs!GI329","v":"OK"},{"$f":"Calculs!GJ329","v":"OK"},{"$f":"Calculs!GK329","v":"OK"},null,null,"Spannungen aussen",null,{"$f":"Calculs!GT336","v":"OK"},{"$f":"Calculs!GU336","v":"OK"},{"$f":"Calculs!GV336","v":"OK"},{"$f":"Calculs!GW336","v":"OK"},{"$f":"Calculs!GX336","v":"OK"}]
[null,"Spannungen innen","Spannungen innen",{"$f":"Calculs!GG330","v":"OK"},{"$f":"Calculs!GH330","v":"OK"},{"$f":"Calculs!GI330","v":"OK"},{"$f":"Calculs!GJ330","v":"OK"},{"$f":"Calculs!GK330","v":"OK"},null,null,"Spannungen innen","Spannungen innen",{"$f":"Calculs!GT337","v":"OK"},{"$f":"Calculs!GU337","v":"OK"},{"$f":"Calculs!GV337","v":"OK"},{"$f":"Calculs!GW337","v":"OK"},{"$f":"Calculs!GX337","v":"OK"}]

{"sheet":"PE-SN2","index":30,"n_rows":170,"n_cols":18,"rows_kept":170,"cut":false,"hidden":false,"merged":[[168,1,168,2],[168,10,168,11],[169,1,169,2],[169,10,169,11],[165,1,165,2],[165,10,165,11],[166,1,166,2],[166,10,166,11],[167,1,167,2],[167,10,167,11],[162,1,162,2],[162,10,162,11],[163,1,163,2],[163,10,163,11],[164,1,164,2],[164,10,164,11],[161,1,161,2],[161,10,161,11],[138,2,138,3],[139,2,139,3],[140,2,140,3],[141,2,141,3],[142,2,142,5],[143,2,143,3],[159,1,159,7],[159,10,159,16],[160,1,160,2],[160,10,160,11],[139,10,140,15],[133,11,133,12],[134,2,134,5],[134,11,134,12],[135,2,135,5],[135,11,135,12],[136,2,136,3],[136,6,138,7],[136,11,136,14],[137,2,137,3],[137,11,137,12],[132,11,132,12],[122,1,122,7],[123,1,123,2],[124,1,125,2],[126,1,126,2],[127,1,127,2],[128,1,128,2],[128,6,129,7],[128,11,128,14],[129,1,129,2],[129,11,129,14],[130,11,130,12],[131,11,131,12],[118,5,119,5],[118,10,118,11],[119,10,119,11],[120,10,120,11],[120,15,121,16],[121,10,121,11],[109,2,109,3],[109,11,109,12],[114,3,114,5],[114,10,114,16],[115,5,117,5],[115,6,117,7],[115,10,115,11],[116,10,117,11],[106,2,106,3],[106,11,106,12],[107,2,107,3],[107,11,107,12],[108,2,108,3],[108,11,108,12],[105,2,105,3],[105,11,105,12],[8,0,9,8],[8,9,9,17],[57,7,58,7],[64,16,65,16],[70,0,70,8],[77,9,77,17],[103,2,103,6],[103,11,103,15],[104,2,104,6],[104,11,104,15],[11,4,11,6],[25,13,25,15]]}
[null,"Projet:",{"$f":"Accueil!P15","v":"VSA 2026"},null,null,"Ingénieur/e:",null,{"$f":"Accueil!AI15","v":0},null,null,"Projet:",{"$f":"Accueil!$P$15","v":"VSA 2026"},null,null,"Ingénieur/e:",null,{"$f":"Accueil!$AI$15","v":0}]
[]
[null,"N°:",{"$f":"Accueil!P17","v":0},null,null,"Responsable:",null,{"$f":"Accueil!AI17","v":0},null,null,"N°:",{"$f":"Accueil!P17","v":0},null,null,"Responsable:",null,{"$f":"Accueil!$AI$17","v":0}]
[]
[null,"Lieu:",{"$f":"Accueil!P21","v":0},null,null,"Maître d'ouvrage:",null,{"$f":"Accueil!AI19","v":0},null,null,"Lieu:",{"$f":"Accueil!$P$21","v":0},null,null,"Maître d'ouvrage:",null,{"$f":"Accueil!$AI$19","v":0}]
[null,null,{"$f":"Accueil!P23","v":0},null,null,null,null,null,null,null,null,{"$f":"Accueil!$P$23","v":0}]
[]
[]
["Données profil d'enrobage U1/V1",null,null,null,null,null,null,null,null,"Données profil d'enrobage U4/V4"]
[]
[]
[null,"Tuyau PE",null,null,{"$f":"IF(Données!$AE$6>F14,\"di max.< di introduit!\",\"\")","v":""},null,null,null,null,null,"Tuyau \"fictif\" en béton"]
[]
[null,"Diamètre intérieur ",null,null,"di",{"$f":"Calculs!HK32","v":333.2},"mm",null,null,null,"Diamètre intérieur ",null,null,"di",{"$f":"Calculs!HR31/1000","v":0.35499999999999998},"m"]
[null,"Rayon moyen",null,null,"rm",{"$f":"Calculs!HO32","v":172.05},"mm",null,null,null,"Rayon moyen",null,null,"rm",{"$f":"Calculs!HU31/1000","v":0.2525},"m",null,{"$f":"IF(Accueil!$AZ$15=\"Français\",\"Retour\",IF(Accueil!$AZ$15=\"Deutsch\",\"Zurück\",IF(Accueil!$AZ$15=\"Italiano\",\"\")))","v":"Retour"}]
[null,"Épaisseur de paroi",null,null,"e",{"$f":"Calculs!HN32","v":10.9},"mm",null,null,null,"Épaisseur de paroi",null,null,"e",{"$f":"Calculs!HT31/1000","v":0.15},"m"]
[null,"Section",null,null,"A",{"$f":"Calculs!HJ316","v":1.09E-2},"m2",null,null,null,"Section",null,null,"A",{"$f":"Calculs!HW316","v":0.15},"m2"]
[null,"Module de flexion",null,null,"W",{"$f":"Calculs!GJ317","v":1.8026666666666668E-5},"m3",null,null,null,"Module de flexion",null,null,"W",{"$f":"Calculs!HW317","v":3.7499999999999999E-3},"m3"]
[null,"Module d'élasticité",null,null,"ER,court",{"$f":"Calculs!B11","v":1000},"N/mm2",null,null,null,"Module d'élasticité",null,null,"ER,court",{"$f":"Calculs!HS33","v":20000},"N/mm2"]
[]
[null,"Rigidité du système",null,null,"SFcourt",{"$f":"Calculs!HK37","v":7.0633863570637558E-3},{"$f":"Calculs!HL37","v":"souple"},null,null,null,"Rigidité du système",null,null,"SFcourt",{"$f":"Calculs!HR37","v":116.47081775131731},{"$f":"Calculs!HS37","v":"rigide"}]
[null,"Facteur de majoration de charge",null,null,"f",{"$f":"Calculs!HM41","v":1.0316768381284509},null,null,null,null,"Facteur de majoration de charge",null,null,"f",{"$f":"Calculs!HT41","v":1.2970297029702971}]
[null,"Effet de courbure:",null,null,"αka",{"$f":"Calculs!HG316","v":1},null,null,null,null,"Effet de courbure:",null,null,"αka",{"$f":"Calculs!HT317","v":0.80198019801980203}]
[null,null,null,null,"αki",{"$f":"Calculs!HG317","v":1},null,null,null,null,null,null,null,"αki",{"$f":"Calculs!HT316","v":1.198019801980198}]
[]
[null,"Terrain",null,null,null,null,null,null,null,null,"Tuyau PE",null,null,{"$f":"IF(Données!$AE$6>O28,\"di max.< di introduit!\",\"\")","v":""}]
[]
[null,"Qualité du sol",null,null,null,{"$f":"Données!AE30","v":"Sol stable"},null,null,null,null,"Diamètre intérieur ",null,null,"di",{"$f":"Calculs!HK32","v":333.2},"mm"]
[null,"Poids volumique apparent hum.",null,null,"γ",{"$f":"Données!AE32","v":20},"kN/m3",null,null,null,"Rayon moyen",null,null,"rm",{"$f":"Calculs!HO32","v":172.05},"mm"]
[null,"Poids volumique déjaugé",null,null,"γ'",{"$f":"Données!AE34","v":11},"kN/m3",null,null,null,"Épaisseur de paroi",null,null,"e",{"$f":"Calculs!HN32","v":10.9},"mm"]
[null,"Module de déformation du sol",null,null,"EB",{"$f":"Données!AE38","v":5},"N/mm2"]
[null,"Coefficient de pression du terrain",null,null,"K",{"$f":"Données!AE40","v":0.5},null,null,null,null,"Terrain"]
[null,"Coefficient de flexion au tassement",null,null,"C2",{"$f":"Données!AE42","v":0.5}]
[null,"Type de béton d'enrobage",null,null,null,{"$f":"Données!AE50","v":"C16/20"},null,null,null,null,"Qualité du sol",null,null,null,{"$f":"Données!AE30","v":"Sol stable"}]
[null,"Réduction de charge",null,null,"λmin",{"$f":"Données!AE44","v":"NON"},null,null,null,null,"Poids volumique apparent hum.",null,null,"γ",{"$f":"Données!AE32","v":20},"kN/m3"]
[null,null,null,null,null,null,null,null,null,null,"Poids volumique déjaugé",null,null,"γ'",{"$f":"Données!AE34","v":11},"kN/m3"]
[null,"Eau",null,null,null,null,null,null,null,null,"Module de déformation du sol",null,null,"EB",{"$f":"Données!AE38","v":5},"N/mm2"]
[null,null,null,null,null,null,null,null,null,null,"Coefficient de pression du terrain",null,null,"K",{"$f":"Données!AE40","v":0.5}]
[null,"Eau souterraine",null,null,null,{"$f":"Données!AE60","v":"Sans eau souterraine"},null,null,null,null,"Coefficient de flexion au tassement",null,null,"C2",{"$f":"Données!AE42","v":0.5}]
[null,"Niveau d'eau souterraine",null,null,"hw",{"$f":"Données!AE62","v":1.3},"m",null,null,null,"Type de béton d'enrobage",null,null,null,{"$f":"Données!AE50","v":"C16/20"}]
[null,"Eau à l'intérieur du tuyau",null,null,null,{"$f":"Données!AE64","v":"Tuyau vide"},null,null,null,null,"Réduction de charge",null,null,"λmin",{"$f":"Données!AE44","v":"NON"}]
[null,"Pression",null,null,"pEi",{"$f":"Données!AE66","v":10},"kN/m2"]
[null,null,null,null,null,null,null,null,null,null,"Eau"]
[null,"Fouille"]
[null,null,null,null,null,null,null,null,null,null,"Eau souterraine",null,null,null,{"$f":"Données!AE60","v":"Sans eau souterraine"}]
[null,"Hauteur de couverture",null,null,"H",{"$f":"Données!AE52","v":3},"m",null,null,null,"Niveau d'eau souterraine",null,null,"hw",{"$f":"Données!AN68","v":0},"m"]
[null,"Type de fouille",null,null,null,{"$f":"Données!AE56","v":"Verticale (U)"},null,null,null,null,"Eau à l'intérieur du tuyau",null,null,null,{"$f":"Données!AE64","v":"Tuyau vide"}]
[null,"Largeur de fouille",null,null,"B",{"$f":"Données!$AE$54","v":1.5},"m",null,null,null,"Pression",null,null,"pEi",{"$f":"Données!AE66","v":10},"kN/m2"]
[null,"Angle de talus",null,null,"β",{"$f":"Données!AE58","v":30},"°"]
[]
[]
[]
[]
[null,"Actions",null,null,null,null,null,null,null,null,"Fouille"]
[]
[null,"Charge surfacique",null,null,null,{"$f":"Données!AE8","v":"Pas de charge"},null,null,null,null,"Hauteur de couverture",null,null,"H",{"$f":"Calculs!HU101","v":2.85},"m"]
[null,null,null,null,"qs",{"$f":"Calculs!HL128","v":0},"kN/m2",null,null,null,"Type de fouille",null,null,null,{"$f":"Données!$AE$56","v":"Verticale (U)"}]
[null,"Trafic ",null,null,null,{"$f":"Données!AE22","v":"Trafic routier"},null,{"$f":"IF(AND(Accueil!AZ15=\"Français\",AND(OR(F58=\"Voie unique (ferroviaire)\",F58=\"Voies multiples (ferroviaire)\",F58=\"Voie étroite (ferroviaire)\",F58=\"Eingleisig (Bahnverkehr)\",F58=\"Mehrgleisig (Bahnverkehr)\",F58=\"Schmalspur (Bahnverkehr)\"),F46<2)),\"H trop faible!\",\"\")","v":""},null,null,"Largeur de fouille",null,null,"B",{"$f":"Données!AE54","v":1.5},"m"]
[null,"Coefficient de charge",null,null,"α",{"$f":"Calculs!HH98","v":0.9},null,null,null,null,"Angle de talus",null,null,"β",{"$f":"Données!AE58","v":30},"°"]
[null,"Coefficient dynamique",null,null,"Ψ",{"$f":"Calculs!HI98","v":1}]
[null,"Trafic routier et route d'importance",null,null,"pvtotale",{"$f":"Calculs!HG114","v":24.562000000000001},"kN/m2",null,null,null,"Actions"]
[null,"secondaire",null,null,"pvroue",{"$f":"Calculs!HH114","v":4.9021999999999997},"kN/m2"]
[null,null,null,null,"∆pv",{"$f":"Calculs!HI114","v":19.659800000000001},"kN/m2",null,null,null,"Charge surfacique",null,null,null,{"$f":"Données!AE8","v":"Pas de charge"}]
[null,"Bord de route",null,null,"pvtotale",{"$f":"Calculs!HJ114","v":0},"kN/m2",null,null,null,null,null,null,"qs",{"$f":"Calculs!HW128","v":0},"kN/m2"]
[null,null,null,null,"pvroue",{"$f":"Calculs!HK114","v":0},"kN/m2",null,null,null,"Trafic ",null,null,null,{"$f":"Données!AE22","v":"Trafic routier"},null,{"$f":"IF(AND(Accueil!AZ15=\"Français\",AND(OR(O65=\"Voie unique (ferroviaire)\",O65=\"Voies multiples (ferroviaire)\",O65=\"Voie étroite (ferroviaire)\",O65=\"Eingleisig (Bahnverkehr)\",O65=\"Mehrgleisig (Bahnverkehr)\",O65=\"Schmalspur (Bahnverkehr)\"),O56<2)),\"H trop faible!\",IF(AND(Accueil!AZ15=\"Français\",AND(OR(O65=\"Trafic routier\",O65=\"Bord de route\",O65=\"Route d'importance secondaire\",O65=\"Strassenverkehr\",O65=\"Strassenrand\",O65=\"Untergeordnete Strasse\"),O56<1)),\"H trop faible!\",\"\"))","v":""}]
[null,null,null,null,"∆pv",{"$f":"Calculs!HL114","v":0},"kN/m2",null,null,null,"Coefficient de charge",null,null,"α",{"$f":"Calculs!HT98","v":0.9}]
[null,"Trafic ferroviaire voie unique",null,null,"punique",{"$f":"Calculs!HN114","v":0},"kN/m2",null,null,null,"Coefficient dynamique",null,null,"Ψ",{"$f":"Calculs!HU98","v":1}]
[null,"Trafic ferroviaire voies multiples",null,null,"pmultiples",{"$f":"Calculs!HO114","v":0},"kN/m2",null,null,null,"Trafic routier et route d'importance",null,null,"pvtotale",{"$f":"Calculs!HS114","v":26.200299999999999},"kN/m2"]
[null,"Trafic ferroviaire voie étroite",null,null,"pétroite",{"$f":"Calculs!HP114","v":0},"kN/m2",null,null,null,"secondaire",null,null,"pvroue",{"$f":"Calculs!HT114","v":5.4489399999999995},"kN/m2"]
[null,null,null,null,null,null,null,null,null,null,null,null,null,"∆pv",{"$f":"Calculs!HU114","v":20.751359999999998},"kN/m2"]
["Résultats",null,null,null,null,null,null,null,null,null,"Bord de route",null,null,"pvtotale",{"$f":"Calculs!HV114","v":0},"kN/m2"]
[null,null,null,null,null,null,null,null,null,null,null,null,null,"pvroue",{"$f":"Calculs!HW114","v":0},"kN/m2"]
[null,null,null,null,null,null,null,null,null,null,null,null,null,"∆pv",{"$f":"Calculs!HX114","v":0},"kN/m2"]
[null,null,null,null,null,null,null,null,null,null,"Trafic ferroviaire voie unique",null,null,"punique",{"$f":"Calculs!HZ114","v":0},"kN/m2"]
[null,null,null,null,null,null,null,null,null,null,"Trafic ferroviaire voies multiples",null,null,"pmultiples",{"$f":"Calculs!IA114","v":0},"kN/m2"]
[null,null,null,null,null,null,null,null,null,null,"Trafic ferroviaire voie étroite",null,null,"pétroite",{"$f":"Calculs!IB114","v":0},"kN/m2"]
[]
[null,null,null,null,null,null,null,null,null,"Résultats"]
[]
[]
[]
[]
[]
[]
[]
[]
[]
[]
[]
[]
[]
[]
[]
[]
[]
[]
[]
[]
[]
[]
[]
[null,"Sollicitations",null,null,null,null,null,null,null,null,"Sollicitations"]
[]
[null,null," Sollicitations",null,null,null,null,null,null,null,null," Sollicitations"]
[null,null,"U1/V1",null,null,null,null,null,null,null,null,"U4/V4"]
[null,null,"À long terme",null,"qs1",{"$f":"Calculs!HK198","v":61.900610287707053},"[kN/m2]",null,null,null,null,"À long terme",null,"qs1",{"$f":"Calculs!IB198","v":114.94449552533848},"[kN/m2]"]
[null,null,"À court terme",null,"qs2",{"$f":"Calculs!HK199","v":22.806041848299909},"[kN/m2]",null,null,null,null,"À court terme",null,"qs2",{"$f":"Calculs!IB199","v":30.584310594059406},"[kN/m2]"]
[null,null,"Charge eff. au sommet",null,"qser",{"$f":"Calculs!HK200","v":84.706652136006966},"[kN/m2]",null,null,null,null,"Charge eff. au sommet",null,"qser",{"$f":"Calculs!IB200","v":145.5288061193979},"[kN/m2]"]
[null,null,"Pression du terrain",null,"qh",{"$f":"Calculs!HG202","v":99.326411718028538},"[kN/m2]",null,null,null,null,"Pression du terrain",null,"qh",{"$f":"Calculs!IB201","v":72.764403059698935},"[kN/m2]"]
[null,null,"Charge de dim. au sommet",null,"qds",{"$f":"Calculs!HK203","v":117.77488666085438},"[kN/m2]",null,null,null,null,"Charge de dim. au sommet",null,"qds",{"$f":"Calculs!IB202","v":201.05153485029606},"[kN/m2]"]
[]
[null,null,null,null,null,null,null,null,null,null,"Vérifications"]
[null,"Vérifications"]
[]
[null,null,null,"Vérification de la déformation (IOWA)",null,null,null,null,null,null,"Poussée d'Archimède"]
[null,null,null,null,"U1/V1",null,{"$f":"IF(Calculs!HK37<0.1,\"\",\"Tuyau rigide. Pas nécessaire de vérifier la déformation!\")","v":""},null,null,null,"Actions stabilisant",null,"G + G' + Gsp",{"$f":"Calculs!HX177","v":38.2556955294841},"[kN/m]"]
[null,null,null,"x/d court",{"$f":"IF(Calculs!HK37<0.1,Calculs!HJ207,\"\")","v":1.4169456618545377E-2},null,null,null,null,null,null,null,"GR",{"$f":"Calculs!HX178","v":5.8233552756502247},"[kN/m]"]
[null,null,null,"x/d long",{"$f":"IF(Calculs!HK37<0.1,Calculs!HJ208,\"\")","v":4.1757577006470689E-2},null,null,null,null,null,null,null,"Somme",{"$f":"Calculs!HX179","v":44.079050805134322},"[kN/m]","Facteur",0.9]
[null,null,null,"Somme",{"$f":"IF(Calculs!HK37<0.1,Calculs!HJ209,\"\")","v":5.5927033625016068E-2},{"$f":"IF(Calculs!HK37<0.1,Calculs!HK209,\"\")","v":"KO!"},null,null,null,null,"Actions déstabilisant",null,"FA",{"$f":"Calculs!HX180","v":0},"[kN/m]","Facteur",1.05]
[null,null,null,"Admissible",{"$f":"IF(Calculs!HK37<0.1,Calculs!HJ210,\"\")","v":0.05}]
[null,null,null,null,null,null,null,null,null,null,"Contôle:",null,"1.05*FA",{"$f":"Calculs!HX182","v":0},"[kN/m]",{"$f":"Calculs!HZ182","v":"OK"}]
[null,null,null,null,null,null,null,null,null,null,null,null,"0.9*Somme",{"$f":"Calculs!HX183","v":39.671145724620892},"[kN/m]"]
[null,"Poussée d'Archimède"]
[null,"Actions stabilisant",null,"G + G' + Gsp",{"$f":"Calculs!HI177","v":21.570451964578364},"[kN/m]",null,null,null,null,"Sécurité structurale"]
[null,null,null,"GR",{"$f":"Calculs!HI178","v":0.11193983142398067},"[kN/m]",null,null,null,null,{"$f":"IF(N138=\"\",\"\",\"Hypothèse: 5% de la charge de dimensionnement est reprise par le tuyau PE et une déformation initiale\")","v":""}]
[null,null,null,"Somme",{"$f":"Calculs!HI179","v":21.682391796002346},"[kN/m]","Facteur",0.9,null,null,{"$f":"IF(N138=\"\",\"\",\"de 0.02m est admis [SIA190:2017;4.2.11.1.2].\")","v":""}]
[null,"Actions déstabilisant",null,"FA",{"$f":"Calculs!HI180","v":0},"[kN/m]","Facteur",1.05]
[]
[null,"Contôle:",null,"1.05*FA",{"$f":"Calculs!HI182","v":0},"[kN/m]",{"$f":"Calculs!HK182","v":"OK"},null,null,null,null,"Sécurité structurale"]
[null,null,null,"0.9*Somme",{"$f":"Calculs!HI183","v":19.514152616402111},"[kN/m]",null,null,null,null,null,"U4/V4"]
[null,null,null,null,null,null,null,null,null,null,null,"qds",null,{"$f":"Calculs!HZ214","v":""},"[kN/m2]"]
[null,null,null,null,null,null,null,null,null,null,null,"qBl",null,{"$f":"Calculs!HZ215","v":""},"[kN/m2]"]
[null,"Sécurité structurale",null,null,null,null,null,null,null,null,null,"pwd",null,{"$f":"Calculs!HZ216","v":""},"[kN/m2]"]
[null,null,null,null,null,null,null,null,null,null,null,"pcr",null,{"$f":"Calculs!HZ217","v":""},"[kN/m2]"]
[null,null,"Sécurité structurale",null,null,null,null,null,null,null,null,"k",null,{"$f":"Calculs!HZ218","v":""},"[-]"]
[null,null,"U1/V1",null,null,null,null,null,null,null,null,"qBl/2*(1-2*pwd/k*pcr)",null,{"$f":"Calculs!HZ219","v":""},"[kN/m2]"]
[null,null,"qds",null,{"$f":"IF(Calculs!HK37<0.1,Calculs!HJ214,\"\")","v":117.77488666085438},"[kN/m2]",{"$f":"IF(Calculs!HK37<0.1,\"\",\"Tuyau rigide. Limite de la formule de la sécurité structurale est dépassée!\")","v":""}]
[null,null,"qBl",null,{"$f":"IF(Calculs!HK37<0.1,Calculs!HJ215,\"\")","v":220.19248032706295},"[kN/m2]",null,null,null,null,null,"Résultat",null,{"$f":"Calculs!HZ221","v":""}]
[null,null,"pwd",null,{"$f":"IF(Calculs!HK37<0.1,Calculs!HJ216,\"\")","v":0},"[kN/m2]"]
[null,null,"pcr",null,{"$f":"IF(Calculs!HK37<0.1,Calculs!HJ217,\"\")","v":11.484958415113212},"[kN/m2]",null,null,null,null,{"$f":"IF(N138=\"\",\"Vérification de la sécurité structurale que nécessaire lors de présence d'eau souterraine!\",\"\")","v":"Vérification de la sécurité structurale que nécessaire lors de présence d'eau souterraine!"}]
[null,null,"k",null,{"$f":"IF(Calculs!HK37<0.1,Calculs!HJ218,\"\")","v":1},"[-]"]
[null,null,"qBl/2*(1-2*pwd/k*pcr)",null,{"$f":"IF(Calculs!HK37<0.1,Calculs!HJ219,\"\")","v":110.09624016353148},"[kN/m2]"]
[]
[null,null,"Résultat",null,{"$f":"IF(Calculs!HK37<0.1,Calculs!HJ221,\"\")","v":"KO!"}]
[]
[]
[]
[]
[]
[]
[null,"Aptitude au service",null,null,null,null,null,null,null,null,"Aptitude au service"]
[]
[null,null,null,null,null,null,null,null,null,null,null,null,"σRbz,adm",{"$f":"Calculs!HT325","v":-0.3},"N/mm2"]
[null,null,null,"σRbz,adm",{"$f":"Calculs!HN315","v":14},"N/mm2"]
[null,null,null,null,null,null,null,null,null,null,null,null,null,"Convention des contraintes:"]
[null,null,null,null,"Convention des contraintes:",null,null,null,null,null,null,null,null,"Traction négatif -"]
[null,null,null,null,"Traction négatif -",null,null,null,null,null,null,null,null,"Compression positif +"]
[null,null,null,null,"Compression positif +"]
[]
[null,"Contraintes Profil d'enrobage U1/V1",null,null,null,null,null,null,null,null,"Contraintes Profil d'enrobage U4/V4"]
[null,"Contraintes en [N/mm2]",null,"0°","45°","90°","135°","180°",null,null,"Contraintes en [N/mm2]",null,"0°","45°","90°","135°","180°"]
[null,"Effort normal",null,{"$f":"Calculs!HG322","v":1.044985282599644},{"$f":"Calculs!HH322","v":1.322542614182135},{"$f":"Calculs!HI322","v":1.3396114241556878},{"$f":"Calculs!HJ322","v":1.323680106240736},{"$f":"Calculs!HK322","v":1.0455301414423885},null,null,"Effort normal",null,{"$f":"Calculs!HT329","v":0.12145688587464817},{"$f":"Calculs!HU329","v":0.18643283270398239},{"$f":"Calculs!HV329","v":0.25467910512296643},{"$f":"Calculs!HW329","v":0.19073287027646341},{"$f":"Calculs!HX329","v":0.12351660442633824}]
[null,"Moment extérieur",null,{"$f":"Calculs!HG323","v":2.3255479226331537},{"$f":"Calculs!HH323","v":-1.5390051382988605},{"$f":"Calculs!HI323","v":0.7703059995974546},{"$f":"Calculs!HJ323","v":-1.5493973854298551},{"$f":"Calculs!HK323","v":2.3403849935285019},null,null,"Moment extérieur",null,{"$f":"Calculs!HT330","v":0.26529249365558655},{"$f":"Calculs!HU330","v":-2.8773198416987829E-3},{"$f":"Calculs!HV330","v":-0.26768811241129392},{"$f":"Calculs!HW330","v":-1.6779396364135061E-3},{"$f":"Calculs!HX330","v":0.27008958113561893}]
[null,"Moment intérieur",null,{"$f":"Calculs!HG324","v":-2.3255479226331537},{"$f":"Calculs!HH324","v":1.5390051382988605},{"$f":"Calculs!HI324","v":-0.7703059995974546},{"$f":"Calculs!HJ324","v":1.5493973854298551},{"$f":"Calculs!HK324","v":-2.3403849935285019},null,null,"Moment intérieur",null,{"$f":"Calculs!HT331","v":-0.39630113249785154},{"$f":"Calculs!HU331","v":4.2982185289574407E-3},{"$f":"Calculs!HV331","v":0.39987977286131554},{"$f":"Calculs!HW331","v":2.5065518025436323E-3},{"$f":"Calculs!HX331","v":-0.40346715206678868}]
[]
[null,"Contraintes extérieur",null,{"$f":"Calculs!HG326","v":3.3705332052327979},{"$f":"Calculs!HH326","v":-0.21646252411672551},{"$f":"Calculs!HI326","v":2.1099174237531422},{"$f":"Calculs!HJ326","v":-0.2257172791891191},{"$f":"Calculs!HK326","v":3.3859151349708903},null,null,"Contraintes extérieur",null,{"$f":"Calculs!HT333","v":0.38674937953023469},{"$f":"Calculs!HU333","v":0.18355551286228361},{"$f":"Calculs!HV333","v":-1.300900728832749E-2},{"$f":"Calculs!HW333","v":0.18905493064004991},{"$f":"Calculs!HX333","v":0.39360618556195714}]
[null,"Conraintes intérieur",null,{"$f":"Calculs!HG327","v":-1.2805626400335097},{"$f":"Calculs!HH327","v":2.8615477524809956},{"$f":"Calculs!HI327","v":0.56930542455823319},{"$f":"Calculs!HJ327","v":2.8730774916705908},{"$f":"Calculs!HK327","v":-1.2948548520861134},null,null,"Conraintes intérieur",null,{"$f":"Calculs!HT334","v":-0.27484424662320339},{"$f":"Calculs!HU334","v":0.19073105123293985},{"$f":"Calculs!HV334","v":0.65455887798428192},{"$f":"Calculs!HW334","v":0.19323942207900704},{"$f":"Calculs!HX334","v":-0.27995054764045046}]
[]
[null,"Contraintes extérieures",null,{"$f":"Calculs!HG329","v":"OK"},{"$f":"Calculs!HH329","v":"OK"},{"$f":"Calculs!HI329","v":"OK"},{"$f":"Calculs!HJ329","v":"OK"},{"$f":"Calculs!HK329","v":"OK"},null,null,"Contraintes extérieures",null,{"$f":"Calculs!HT336","v":"OK"},{"$f":"Calculs!HU336","v":"OK"},{"$f":"Calculs!HV336","v":"OK"},{"$f":"Calculs!HW336","v":"OK"},{"$f":"Calculs!HX336","v":"OK"}]
[null,"Conraintes intérieures",null,{"$f":"Calculs!HG330","v":"OK"},{"$f":"Calculs!HH330","v":"OK"},{"$f":"Calculs!HI330","v":"OK"},{"$f":"Calculs!HJ330","v":"OK"},{"$f":"Calculs!HK330","v":"OK"},null,null,"Conraintes intérieures",null,{"$f":"Calculs!HT337","v":"OK"},{"$f":"Calculs!HU337","v":"OK"},{"$f":"Calculs!HV337","v":"OK"},{"$f":"Calculs!HW337","v":"OK"},{"$f":"Calculs!HX337","v":"OK"}]

{"sheet":"PE-SN2 (D)","index":31,"n_rows":170,"n_cols":18,"rows_kept":170,"cut":false,"hidden":false,"merged":[[168,1,168,2],[168,10,168,11],[169,1,169,2],[169,10,169,11],[155,3,155,5],[156,3,156,5],[157,3,157,5],[165,1,165,2],[165,10,165,11],[166,1,166,2],[166,10,166,11],[167,1,167,2],[167,10,167,11],[164,1,164,2],[164,10,164,11],[143,2,143,3],[159,1,159,7],[159,10,159,16],[154,12,154,14],[155,12,155,14],[156,12,156,14],[142,2,142,5],[133,11,133,12],[134,2,134,5],[134,11,134,12],[135,2,135,5],[135,11,135,12],[136,2,136,3],[136,6,138,7],[136,11,136,14],[137,2,137,3],[137,11,137,12],[138,2,138,3],[139,2,139,3],[140,2,140,3],[141,2,141,3],[139,10,139,15],[132,11,132,12],[122,1,122,7],[123,1,123,2],[124,1,125,2],[126,1,126,2],[127,1,127,2],[128,1,128,2],[128,6,129,7],[128,11,128,14],[129,1,129,2],[129,11,129,14],[130,11,130,12],[131,11,131,12],[118,5,119,5],[118,10,118,11],[119,10,119,11],[120,10,120,11],[120,15,121,16],[121,10,121,11],[109,2,109,3],[109,11,109,12],[114,3,114,5],[114,10,114,16],[115,5,117,5],[115,6,117,7],[115,10,115,11],[116,10,117,11],[106,11,106,12],[107,2,107,3],[107,11,107,12],[108,2,108,3],[108,11,108,12],[106,2,106,3],[105,2,105,3],[105,11,105,12],[8,0,9,8],[8,9,9,17],[57,7,58,7],[64,16,65,16],[70,0,70,8],[77,9,77,17],[103,2,103,6],[103,11,103,15],[104,2,104,6],[104,11,104,15],[11,4,11,6],[25,13,25,15]]}
[null,"Projekt:",{"$f":"Accueil!P15","v":"VSA 2026"},null,null,"Ingenieur/in:",null,{"$f":"Accueil!AI15","v":0},null,null,"Projekt:",{"$f":"Accueil!$P$15","v":"VSA 2026"},null,null,"Ingenieur/in:",null,{"$f":"Accueil!$AI$15","v":0}]
[]
[null,"N°:",{"$f":"Accueil!P17","v":0},null,null,"Vernatworlticher:",null,{"$f":"Accueil!AI17","v":0},null,null,"N°:",{"$f":"Accueil!P17","v":0},null,null,"Vernatworlticher:",null,{"$f":"Accueil!$AI$17","v":0}]
[]
[null,"Ort:",{"$f":"Accueil!P21","v":0},null,null,"Bauherr:",null,{"$f":"Accueil!AI19","v":0},null,null,"Ort:",{"$f":"Accueil!$P$21","v":0},null,null,"Bauherr:",null,{"$f":"Accueil!$AI$19","v":0}]
[null,null,{"$f":"Accueil!P23","v":0},null,null,null,null,null,null,null,null,{"$f":"Accueil!$P$23","v":0}]
[]
[]
["Daten Normalverlegeprofil U1/V1",null,null,null,null,null,null,null,null,"Daten Normalverlegeprofil U4/V4"]
[]
[]
[null,"PE-Rohr",null,null,{"$f":"IF(Données!$AE$6>F14,\"di max.< di Eingabe!\",\"\")","v":""},null,null,null,null,null,"\"Fiktives\" Betonrohr"]
[]
[null,"Innendurchmesser",null,null,"di",{"$f":"Calculs!HK32","v":333.2},"mm",null,null,null,"Innendurchmesser",null,null,"di",{"$f":"Calculs!HR31/1000","v":0.35499999999999998},"m"]
[null,"Radius",null,null,"rm",{"$f":"Calculs!HO32","v":172.05},"mm",null,null,null,"Radius",null,null,"rm",{"$f":"Calculs!HU31/1000","v":0.2525},"m",null,{"$f":"IF(Accueil!$AZ$15=\"Français\",\"Retour\",IF(Accueil!$AZ$15=\"Deutsch\",\"Zurück\",IF(Accueil!$AZ$15=\"Italiano\",\"\")))","v":"Retour"}]
[null,"Wanddicke",null,null,"e",{"$f":"Calculs!HN32","v":10.9},"mm",null,null,null,"Wanddicke",null,null,"e",{"$f":"Calculs!HT31/1000","v":0.15},"m"]
[null,"Querschnittsfläche",null,null,"A",{"$f":"Calculs!HJ316","v":1.09E-2},"m2",null,null,null,"Querschnittsfläche",null,null,"A",{"$f":"Calculs!HW316","v":0.15},"m2"]
[null,"Widerstandsmoment",null,null,"W",{"$f":"Calculs!GJ317","v":1.8026666666666668E-5},"m3",null,null,null,"Widerstandsmoment",null,null,"W",{"$f":"Calculs!HW317","v":3.7499999999999999E-3},"m3"]
[null,"E-Modul",null,null,"ER,kurz",{"$f":"Calculs!B11","v":1000},"N/mm2",null,null,null,"E-Modul",null,null,"ER,kurz",{"$f":"Calculs!HS33","v":20000},"N/mm2"]
[]
[null,"Systemsteifigkeit",null,null,"SFkurz",{"$f":"Calculs!HK37","v":7.0633863570637558E-3},{"$f":"Calculs!HL37","v":"souple"},null,null,null,"Systemsteifigkeit",null,null,"SFkurz",{"$f":"Calculs!HR37","v":116.47081775131731},{"$f":"Calculs!HS37","v":"rigide"}]
[null,"Lastvergrösserungsfaktor",null,null,"f",{"$f":"Calculs!HM41","v":1.0316768381284509},null,null,null,null,"Lastvergrösserungsfaktor",null,null,"f",{"$f":"Calculs!HT41","v":1.2970297029702971}]
[null,"Krümmungseinfluss",null,null,"αka",{"$f":"Calculs!HG316","v":1},null,null,null,null,"Krümmungseinfluss",null,null,"αka",{"$f":"Calculs!HT317","v":0.80198019801980203}]
[null,null,null,null,"αki",{"$f":"Calculs!HG317","v":1},null,null,null,null,null,null,null,"αki",{"$f":"Calculs!HT316","v":1.198019801980198}]
[]
[null,"Terrain",null,null,null,null,null,null,null,null,"PE-Rohr",null,null,{"$f":"IF(Données!$AE$6>O28,\"di max.< di Eingabe!\",\"\")","v":""}]
[]
[null,"Bodenqualität",null,null,null,{"$f":"Données!AE30","v":"Sol stable"},null,null,null,null,"Innendurchmesser",null,null,"di",{"$f":"Calculs!HK32","v":333.2},"mm"]
[null,"Feuchtraumgewicht des Baugrunds",null,null,"γ",{"$f":"Données!AE32","v":20},"kN/m3",null,null,null,"Radius",null,null,"rm",{"$f":"Calculs!HO32","v":172.05},"mm"]
[null,"Raumgewicht unter Auftrieb",null,null,"γ'",{"$f":"Données!AE34","v":11},"kN/m3",null,null,null,"Wanddicke",null,null,"e",{"$f":"Calculs!HN32","v":10.9},"mm"]
[null,"Verformungsmodul des Bodens",null,null,"EB",{"$f":"Données!AE38","v":5},"N/mm2"]
[null,"Erddruckbeiwert",null,null,"K",{"$f":"Données!AE40","v":0.5},null,null,null,null,"Terrain"]
[null,"Setzungs-Durchbiegungsziffer",null,null,"C2",{"$f":"Données!AE42","v":0.5}]
[null,"Hüllbeton",null,null,null,{"$f":"Données!AE50","v":"C16/20"},null,null,null,null,"Bodenqualität",null,null,null,{"$f":"Données!AE30","v":"Sol stable"}]
[null,"Lastminderung",null,null,"λmin",{"$f":"Données!AE44","v":"NON"},null,null,null,null,"Feuchtraumgewicht des Baugrunds",null,null,"γ",{"$f":"Données!AE32","v":20},"kN/m3"]
[null,null,null,null,null,null,null,null,null,null,"Raumgewicht unter Auftrieb",null,null,"γ'",{"$f":"Données!AE34","v":11},"kN/m3"]
[null,"Wasser",null,null,null,null,null,null,null,null,"Verformungsmodul des Bodens",null,null,"EB",{"$f":"Données!AE38","v":5},"N/mm2"]
[null,null,null,null,null,null,null,null,null,null,"Erddruckbeiwert",null,null,"K",{"$f":"Données!AE40","v":0.5}]
[null,"Grundwasser",null,null,null,{"$f":"Données!AE60","v":"Sans eau souterraine"},null,null,null,null,"Setzungs-Durchbiegungsziffer",null,null,"C2",{"$f":"Données!AE42","v":0.5}]
[null,"Grwundwasserspiegel",null,null,"hw",{"$f":"Données!AE62","v":1.3},"m",null,null,null,"Hüllbeton",null,null,null,{"$f":"Données!AE50","v":"C16/20"}]
[null,"Wasser im Rohr",null,null,null,{"$f":"Données!AE64","v":"Tuyau vide"},null,null,null,null,"Lastminderung",null,null,"λmin",{"$f":"Données!AE44","v":"NON"}]
[null,"Druck",null,null,"pEi",{"$f":"Données!AE66","v":10},"kN/m2"]
[null,null,null,null,null,null,null,null,null,null,"Wasser"]
[null,"Graben"]
[null,null,null,null,null,null,null,null,null,null,"Grundwasser",null,null,null,{"$f":"Données!AE60","v":"Sans eau souterraine"}]
[null,"Überdeckungshöhe",null,null,"H",{"$f":"Données!AE52","v":3},"m",null,null,null,"Grwundwasserspiegel",null,null,"hw",{"$f":"Données!AN68","v":0},"m"]
[null,"Grabentyp",null,null,null,{"$f":"Données!AE56","v":"Verticale (U)"},null,null,null,null,"Wasser im Rohr",null,null,null,{"$f":"Données!AE64","v":"Tuyau vide"}]
[null,"Grabenbreite",null,null,"B",{"$f":"Données!$AE$54","v":1.5},"m",null,null,null,"Druck",null,null,"pEi",{"$f":"Données!AE66","v":10},"kN/m2"]
[null,"Böschungsneigung",null,null,"β",{"$f":"Données!AE58","v":30},"°"]
[]
[]
[]
[]
[null,"Einwirkungen",null,null,null,null,null,null,null,null,"Graben"]
[]
[null,"Flächenlast",null,null,null,{"$f":"Données!AE8","v":"Pas de charge"},null,null,null,null,"Überdeckungshöhe",null,null,"H",{"$f":"Calculs!HU101","v":2.85},"m"]
[null,null,null,null,"qs",{"$f":"Calculs!HL128","v":0},"kN/m2",null,null,null,"Grabentyp",null,null,null,{"$f":"Données!$AE$56","v":"Verticale (U)"}]
[null,"Verkehr",null,null,null,{"$f":"Données!AE22","v":"Trafic routier"},null,{"$f":"IF(AND(Accueil!AZ15=\"Deutsch\",AND(OR(F58=\"Voie unique (ferroviaire)\",F58=\"Voies multiples (ferroviaire)\",F58=\"Voie étroite (ferroviaire)\",F58=\"Eingleisig (Bahnverkehr)\",F58=\"Mehrgleisig (Bahnverkehr)\",F58=\"Schmalspur (Bahnverkehr)\"),F46<2)),\"H zu klein!\",\"\")","v":""},null,null,"Grabenbreite",null,null,"B",{"$f":"Données!AE54","v":1.5},"m"]
[null,"Beiwert Strass- und Bahnvekehrslasten",null,null,"α",{"$f":"Calculs!HH98","v":0.9},null,null,null,null,"Böschungsneigung",null,null,"β",{"$f":"Données!AE58","v":30},"°"]
[null,"Dynamischer Beiwert",null,null,"Ψ",{"$f":"Calculs!HI98","v":1}]
[null,"Strassenverkehr und untergeordnete",null,null,"pvtotal",{"$f":"Calculs!HG114","v":24.562000000000001},"kN/m2",null,null,null,"Einwirkungen"]
[null,"Strassen",null,null,"pvRad",{"$f":"Calculs!HH114","v":4.9021999999999997},"kN/m2"]
[null,null,null,null,"∆pv",{"$f":"Calculs!HI114","v":19.659800000000001},"kN/m2",null,null,null,"Flächenlast",null,null,null,{"$f":"Données!AE8","v":"Pas de charge"}]
[null,"Strassenrand",null,null,"pvtotal",{"$f":"Calculs!HJ114","v":0},"kN/m2",null,null,null,null,null,null,"qs",{"$f":"Calculs!HW128","v":0},"kN/m2"]
[null,null,null,null,"pvRad",{"$f":"Calculs!HK114","v":0},"kN/m2",null,null,null,"Verkehr",null,null,null,{"$f":"Données!AE22","v":"Trafic routier"},null,{"$f":"IF(AND(Accueil!AZ15=\"Deutsch\",AND(OR(O65=\"Voie unique (ferroviaire)\",O65=\"Voies multiples (ferroviaire)\",O65=\"Voie étroite (ferroviaire)\",O65=\"Eingleisig (Bahnverkehr)\",O65=\"Mehrgleisig (Bahnverkehr)\",O65=\"Schmalspur (Bahnverkehr)\"),O56<2)),\"H zu klein!\",IF(AND(Accueil!AZ15=\"Deutsch\",AND(OR(O65=\"Trafic routier\",O65=\"Bord de route\",O65=\"Route d'importance secondaire\",O65=\"Strassenverkehr\",O65=\"Strassenrand\",O65=\"Untergeordnete Strasse\"),O56<1)),\"H zu klein!\",\"\"))","v":""}]
[null,null,null,null,"∆pv",{"$f":"Calculs!HL114","v":0},"kN/m2",null,null,null,"Beiwert Strass- und Bahnvekehrslasten",null,null,"α",{"$f":"Calculs!HT98","v":0.9}]
[null,"Bahnverkehr eingleisig",null,null,"peingleisig",{"$f":"Calculs!HN114","v":0},"kN/m2",null,null,null,"Dynamischer Beiwert",null,null,"Ψ",{"$f":"Calculs!HU98","v":1}]
[null,"Bahnverkehr mehrgleisig",null,null,"pmehrgleisig",{"$f":"Calculs!HO114","v":0},"kN/m2",null,null,null,"Strassenverkehr und untergeordnete",null,null,"pvtotal",{"$f":"Calculs!HS114","v":26.200299999999999},"kN/m2"]
[null,"Bahnverkehr schmalspur",null,null,"pschmal",{"$f":"Calculs!HP114","v":0},"kN/m2",null,null,null,"Strassen",null,null,"pvRad",{"$f":"Calculs!HT114","v":5.4489399999999995},"kN/m2"]
[null,null,null,null,null,null,null,null,null,null,null,null,null,"∆pv",{"$f":"Calculs!HU114","v":20.751359999999998},"kN/m2"]
["Resultate",null,null,null,null,null,null,null,null,null,"Strassenrand",null,null,"pvtotal",{"$f":"Calculs!HV114","v":0},"kN/m2"]
[null,null,null,null,null,null,null,null,null,null,null,null,null,"pvRad",{"$f":"Calculs!HW114","v":0},"kN/m2"]
[null,null,null,null,null,null,null,null,null,null,null,null,null,"∆pv",{"$f":"Calculs!HX114","v":0},"kN/m2"]
[null,null,null,null,null,null,null,null,null,null,"Bahnverkehr eingleisig",null,null,"peingleisig",{"$f":"Calculs!HZ114","v":0},"kN/m2"]
[null,null,null,null,null,null,null,null,null,null,"Bahnverkehr mehrgleisig",null,null,"pmehrgleisig",{"$f":"Calculs!IA114","v":0},"kN/m2"]
[null,null,null,null,null,null,null,null,null,null,"Bahnverkehr schmalspur",null,null,"pschmal",{"$f":"Calculs!IB114","v":0},"kN/m2"]
[]
[null,null,null,null,null,null,null,null,null,"Resultate"]
[]
[]
[]
[]
[]
[]
[]
[]
[]
[]
[]
[]
[]
[]
[]
[]
[]
[]
[]
[]
[]
[]
[]
[null,"Beanspruchungen",null,null,null,null,null,null,null,null,"Beanspruchungen"]
[]
[null,null,"Beanspruchungen",null,null,null,null,null,null,null,null,"Beanspruchungen"]
[null,null,"U1/V1",null,null,null,null,null,null,null,null,"U4/V4"]
[null,null,"Langzeit",null,"qs1",{"$f":"Calculs!HK198","v":61.900610287707053},"[kN/m2]",null,null,null,null,"Langzeit",null,"qs1",{"$f":"Calculs!IB198","v":114.94449552533848},"[kN/m2]"]
[null,null,"Kurzzeit",null,"qs2",{"$f":"Calculs!HK199","v":22.806041848299909},"[kN/m2]",null,null,null,null,"Kurzzeit",null,"qs2",{"$f":"Calculs!IB199","v":30.584310594059406},"[kN/m2]"]
[null,null,"Effektive Last auf Scheitel",null,"qser",{"$f":"Calculs!HK200","v":84.706652136006966},"[kN/m2]",null,null,null,null,"Effektive Last auf Scheitel",null,"qser",{"$f":"Calculs!IB200","v":145.5288061193979},"[kN/m2]"]
[null,null,"Erddruck",null,"qh",{"$f":"Calculs!HG202","v":99.326411718028538},"[kN/m2]",null,null,null,null,"Erddruck",null,"qh",{"$f":"Calculs!IB201","v":72.764403059698935},"[kN/m2]"]
[null,null,"Bemessungswert",null,"qds",{"$f":"Calculs!HK203","v":117.77488666085438},"[kN/m2]",null,null,null,null,"Bemessungswert",null,"qds",{"$f":"Calculs!IB202","v":201.05153485029606},"[kN/m2]"]
[]
[null,null,null,null,null,null,null,null,null,null,"Nachweise"]
[null,"Nachweise"]
[]
[null,null,null,"Verformungsnachweis (IOWA)",null,null,null,null,null,null,"Auftrieb"]
[null,null,null,null,"U1/V1",null,{"$f":"IF(Calculs!GK37<0.1,\"\",\"Steifes Rohr. Verformungsnachweis entfällt!\")","v":""},null,null,null,"Stabilisierend",null,"G + G' + Gsp",{"$f":"Calculs!HX177","v":38.2556955294841},"[kN/m]"]
[null,null,null,"x/d kurz",{"$f":"IF(Calculs!HK37<0.1,Calculs!HJ207,\"\")","v":1.4169456618545377E-2},null,null,null,null,null,null,null,"GR",{"$f":"Calculs!HX178","v":5.8233552756502247},"[kN/m]"]
[null,null,null,"x/d lang",{"$f":"IF(Calculs!HK37<0.1,Calculs!HJ208,\"\")","v":4.1757577006470689E-2},null,null,null,null,null,null,null,"Summe",{"$f":"Calculs!HX179","v":44.079050805134322},"[kN/m]","Faktor",0.9]
[null,null,null,"Summe",{"$f":"IF(Calculs!HK37<0.1,Calculs!HJ209,\"\")","v":5.5927033625016068E-2},{"$f":"IF(Calculs!HK37<0.1,Calculs!HK209,\"\")","v":"KO!"},null,null,null,null,"Destabilisierend",null,"FA",{"$f":"Calculs!HX180","v":0},"[kN/m]","Faktor",1.05]
[null,null,null,"Zugelassen",{"$f":"IF(Calculs!HK37<0.1,Calculs!HJ210,\"\")","v":0.05}]
[null,null,null,null,null,null,null,null,null,null,"Kontrolle:",null,"1.05*FA",{"$f":"Calculs!HX182","v":0},"[kN/m]",{"$f":"Calculs!HZ182","v":"OK"}]
[null,null,null,null,null,null,null,null,null,null,null,null,"0.9*Summe",{"$f":"Calculs!HX183","v":39.671145724620892},"[kN/m]"]
[null,"Auftrieb"]
[null,"Stabilisierend",null,"G + G' + Gsp",{"$f":"Calculs!HI177","v":21.570451964578364},"[kN/m]",null,null,null,null,"Tragfähigkeit"]
[null,null,null,"GR",{"$f":"Calculs!HI178","v":0.11193983142398067},"[kN/m]",null,null,null,null,{"$f":"IF(N138=\"\",\"\",\"Annahme: 5% des Bemessungswerts werden durch das PE-Rohr aufgenommen und eine initiale\")","v":""}]
[null,null,null,"Summe",{"$f":"Calculs!HI179","v":21.682391796002346},"[kN/m]","Faktor",0.9,null,null,{"$f":"IF(N138=\"\",\"\",\"Deformation von 0.02m [SIA190:2017;4.2.11.1.2].\")","v":""}]
[null,"Destabilisierend",null,"FA",{"$f":"Calculs!HI180","v":0},"[kN/m]","Faktor",1.05]
[]
[null,"Kontrolle:",null,"1.05*FA",{"$f":"Calculs!HI182","v":0},"[kN/m]",{"$f":"Calculs!HK182","v":"OK"},null,null,null,null,"Tragfähigkeit"]
[null,null,null,"0.9*Summe",{"$f":"Calculs!HI183","v":19.514152616402111},"[kN/m]",null,null,null,null,null,"U4/V4"]
[null,null,null,null,null,null,null,null,null,null,null,"qds",null,{"$f":"Calculs!HZ214","v":""},"[kN/m2]"]
[null,null,null,null,null,null,null,null,null,null,null,"qBl",null,{"$f":"Calculs!HZ215","v":""},"[kN/m2]"]
[null,"Tragfähigkeit",null,null,null,null,null,null,null,null,null,"pwd",null,{"$f":"Calculs!HZ216","v":""},"[kN/m2]"]
[null,null,null,null,null,null,null,null,null,null,null,"pcr",null,{"$f":"Calculs!HZ217","v":""},"[kN/m2]"]
[null,null,"Tragfähigkeit",null,null,null,null,null,null,null,null,"k",null,{"$f":"Calculs!HZ218","v":""},"[-]"]
[null,null,"U1/V1",null,null,null,null,null,null,null,null,"qBl/2*(1-2*pwd/k*pcr)",null,{"$f":"Calculs!HZ219","v":""},"[kN/m2]"]
[null,null,"qds",null,{"$f":"IF(Calculs!HK37<0.1,Calculs!HJ214,\"\")","v":117.77488666085438},"[kN/m2]",{"$f":"IF(Calculs!GK37<0.1,\"\",\"Steifes Rohr. Limite der Tragfähigkeitsformel überschritten!\")","v":""}]
[null,null,"qBl",null,{"$f":"IF(Calculs!HK37<0.1,Calculs!HJ215,\"\")","v":220.19248032706295},"[kN/m2]",null,null,null,null,null,"Resultate",null,{"$f":"Calculs!HZ221","v":""}]
[null,null,"pwd",null,{"$f":"IF(Calculs!HK37<0.1,Calculs!HJ216,\"\")","v":0},"[kN/m2]"]
[null,null,"pcr",null,{"$f":"IF(Calculs!HK37<0.1,Calculs!HJ217,\"\")","v":11.484958415113212},"[kN/m2]",null,null,null,null,{"$f":"IF(N138=\"\",\"Tragfähigkeitsnachweis nur nötig bei Grundwasser!\",\"\")","v":"Tragfähigkeitsnachweis nur nötig bei Grundwasser!"}]
[null,null,"k",null,{"$f":"IF(Calculs!HK37<0.1,Calculs!HJ218,\"\")","v":1},"[-]"]
[null,null,"qBl/2*(1-2*pwd/k*pcr)",null,{"$f":"IF(Calculs!HK37<0.1,Calculs!HJ219,\"\")","v":110.09624016353148},"[kN/m2]"]
[]
[null,null,"Resultate",null,{"$f":"IF(Calculs!HK37<0.1,Calculs!HJ221,\"\")","v":"KO!"}]
[]
[]
[]
[]
[]
[]
[null,"Gebrauchstauglichkeit",null,null,null,null,null,null,null,null,"Gebrauchstauglichkeit"]
[]
[null,null,null,null,null,null,null,null,null,null,null,null,"σRbz,adm",{"$f":"Calculs!HT325","v":-0.3},"N/mm2"]
[null,null,null,"σRbz,adm",{"$f":"Calculs!HN315","v":14},"N/mm2"]
[null,null,null,null,null,null,null,null,null,null,null,null,"Spannungskonventionen:"]
[null,null,null,"Spannungskonventionen:",null,null,null,null,null,null,null,null,"Zug negatif -"]
[null,null,null,"Zug negatif -",null,null,null,null,null,null,null,null,"Druck positif +"]
[null,null,null,"Druck positif +"]
[]
[null,"Spannungen Verlegeprofil U1/V1",null,null,null,null,null,null,null,null,"Spannungen Verlegeprofil U4/V4"]
[null,"Spannungen in [N/mm2]",null,"0°","45°","90°","135°","180°",null,null,"Spannungen in [N/mm2]",null,"0°","45°","90°","135°","180°"]
[null,"Durch die Normalkraft",null,{"$f":"Calculs!HG322","v":1.044985282599644},{"$f":"Calculs!HH322","v":1.322542614182135},{"$f":"Calculs!HI322","v":1.3396114241556878},{"$f":"Calculs!HJ322","v":1.323680106240736},{"$f":"Calculs!HK322","v":1.0455301414423885},null,null,"Durch die Normalkraft",null,{"$f":"Calculs!HT329","v":0.12145688587464817},{"$f":"Calculs!HU329","v":0.18643283270398239},{"$f":"Calculs!HV329","v":0.25467910512296643},{"$f":"Calculs!HW329","v":0.19073287027646341},{"$f":"Calculs!HX329","v":0.12351660442633824}]
[null,"Durch das Moment aussen",null,{"$f":"Calculs!HG323","v":2.3255479226331537},{"$f":"Calculs!HH323","v":-1.5390051382988605},{"$f":"Calculs!HI323","v":0.7703059995974546},{"$f":"Calculs!HJ323","v":-1.5493973854298551},{"$f":"Calculs!HK323","v":2.3403849935285019},null,null,"Durch das Moment aussen",null,{"$f":"Calculs!HT330","v":0.26529249365558655},{"$f":"Calculs!HU330","v":-2.8773198416987829E-3},{"$f":"Calculs!HV330","v":-0.26768811241129392},{"$f":"Calculs!HW330","v":-1.6779396364135061E-3},{"$f":"Calculs!HX330","v":0.27008958113561893}]
[null,"Durch das Moment innen",null,{"$f":"Calculs!HG324","v":-2.3255479226331537},{"$f":"Calculs!HH324","v":1.5390051382988605},{"$f":"Calculs!HI324","v":-0.7703059995974546},{"$f":"Calculs!HJ324","v":1.5493973854298551},{"$f":"Calculs!HK324","v":-2.3403849935285019},null,null,"Durch das Moment innen",null,{"$f":"Calculs!HT331","v":-0.39630113249785154},{"$f":"Calculs!HU331","v":4.2982185289574407E-3},{"$f":"Calculs!HV331","v":0.39987977286131554},{"$f":"Calculs!HW331","v":2.5065518025436323E-3},{"$f":"Calculs!HX331","v":-0.40346715206678868}]
[]
[null,"Spannungen aussen",null,{"$f":"Calculs!HG326","v":3.3705332052327979},{"$f":"Calculs!HH326","v":-0.21646252411672551},{"$f":"Calculs!HI326","v":2.1099174237531422},{"$f":"Calculs!HJ326","v":-0.2257172791891191},{"$f":"Calculs!HK326","v":3.3859151349708903},null,null,"Spannungen aussen",null,{"$f":"Calculs!HT333","v":0.38674937953023469},{"$f":"Calculs!HU333","v":0.18355551286228361},{"$f":"Calculs!HV333","v":-1.300900728832749E-2},{"$f":"Calculs!HW333","v":0.18905493064004991},{"$f":"Calculs!HX333","v":0.39360618556195714}]
[null,"Spannungen innen","Spannungen innen",{"$f":"Calculs!HG327","v":-1.2805626400335097},{"$f":"Calculs!HH327","v":2.8615477524809956},{"$f":"Calculs!HI327","v":0.56930542455823319},{"$f":"Calculs!HJ327","v":2.8730774916705908},{"$f":"Calculs!HK327","v":-1.2948548520861134},null,null,"Spannungen innen","Spannungen innen",{"$f":"Calculs!HT334","v":-0.27484424662320339},{"$f":"Calculs!HU334","v":0.19073105123293985},{"$f":"Calculs!HV334","v":0.65455887798428192},{"$f":"Calculs!HW334","v":0.19323942207900704},{"$f":"Calculs!HX334","v":-0.27995054764045046}]
[]
[null,"Spannungen aussen",null,{"$f":"Calculs!HG329","v":"OK"},{"$f":"Calculs!HH329","v":"OK"},{"$f":"Calculs!HI329","v":"OK"},{"$f":"Calculs!HJ329","v":"OK"},{"$f":"Calculs!HK329","v":"OK"},null,null,"Spannungen aussen",null,{"$f":"Calculs!HT336","v":"OK"},{"$f":"Calculs!HU336","v":"OK"},{"$f":"Calculs!HV336","v":"OK"},{"$f":"Calculs!HW336","v":"OK"},{"$f":"Calculs!HX336","v":"OK"}]
[null,"Spannungen innen","Spannungen innen",{"$f":"Calculs!HG330","v":"OK"},{"$f":"Calculs!HH330","v":"OK"},{"$f":"Calculs!HI330","v":"OK"},{"$f":"Calculs!HJ330","v":"OK"},{"$f":"Calculs!HK330","v":"OK"},null,null,"Spannungen innen","Spannungen innen",{"$f":"Calculs!HT337","v":"OK"},{"$f":"Calculs!HU337","v":"OK"},{"$f":"Calculs!HV337","v":"OK"},{"$f":"Calculs!HW337","v":"OK"},{"$f":"Calculs!HX337","v":"OK"}]

{"sheet":"PE-SN4","index":32,"n_rows":170,"n_cols":18,"rows_kept":170,"cut":false,"hidden":false,"merged":[[168,1,168,2],[168,10,168,11],[169,1,169,2],[169,10,169,11],[165,1,165,2],[165,10,165,11],[166,1,166,2],[166,10,166,11],[167,1,167,2],[167,10,167,11],[162,1,162,2],[162,10,162,11],[163,1,163,2],[163,10,163,11],[164,1,164,2],[164,10,164,11],[161,1,161,2],[161,10,161,11],[138,2,138,3],[139,2,139,3],[140,2,140,3],[141,2,141,3],[142,2,142,5],[143,2,143,3],[159,1,159,7],[159,10,159,16],[160,1,160,2],[160,10,160,11],[139,10,140,15],[133,11,133,12],[134,2,134,5],[134,11,134,12],[135,2,135,5],[135,11,135,12],[136,2,136,3],[136,6,138,7],[136,11,136,14],[137,2,137,3],[137,11,137,12],[132,11,132,12],[122,1,122,7],[123,1,123,2],[124,1,125,2],[126,1,126,2],[127,1,127,2],[128,1,128,2],[128,6,129,7],[128,11,128,14],[129,1,129,2],[129,11,129,14],[130,11,130,12],[131,11,131,12],[118,5,119,5],[118,10,118,11],[119,10,119,11],[120,10,120,11],[120,15,121,16],[121,10,121,11],[109,2,109,3],[109,11,109,12],[114,3,114,5],[114,10,114,16],[115,5,117,5],[115,6,117,7],[115,10,115,11],[116,10,117,11],[106,2,106,3],[106,11,106,12],[107,2,107,3],[107,11,107,12],[108,2,108,3],[108,11,108,12],[105,2,105,3],[105,11,105,12],[8,0,9,8],[8,9,9,17],[57,7,58,7],[64,16,65,16],[70,0,70,8],[77,9,77,17],[103,2,103,6],[103,11,103,15],[104,2,104,6],[104,11,104,15],[11,4,11,6],[25,13,25,15]]}
[null,"Projet:",{"$f":"Accueil!P15","v":"VSA 2026"},null,null,"Ingénieur/e:",null,{"$f":"Accueil!AI15","v":0},null,null,"Projet:",{"$f":"Accueil!$P$15","v":"VSA 2026"},null,null,"Ingénieur/e:",null,{"$f":"Accueil!$AI$15","v":0}]
[]
[null,"N°:",{"$f":"Accueil!P17","v":0},null,null,"Responsable:",null,{"$f":"Accueil!AI17","v":0},null,null,"N°:",{"$f":"Accueil!P17","v":0},null,null,"Responsable:",null,{"$f":"Accueil!$AI$17","v":0}]
[]
[null,"Lieu:",{"$f":"Accueil!P21","v":0},null,null,"Maître d'ouvrage:",null,{"$f":"Accueil!AI19","v":0},null,null,"Lieu:",{"$f":"Accueil!$P$21","v":0},null,null,"Maître d'ouvrage:",null,{"$f":"Accueil!$AI$19","v":0}]
[null,null,{"$f":"Accueil!P23","v":0},null,null,null,null,null,null,null,null,{"$f":"Accueil!$P$23","v":0}]
[]
[]
["Données profil d'enrobage U1/V1",null,null,null,null,null,null,null,null,"Données profil d'enrobage U4/V4"]
[]
[]
[null,"Tuyau PE",null,null,{"$f":"IF(Données!$AE$6>F14,\"di max.< di introduit!\",\"\")","v":""},null,null,null,null,null,"Tuyau \"fictif\" en béton"]
[]
[null,"Diamètre intérieur ",null,null,"di",{"$f":"Calculs!IK32","v":327.8},"mm",null,null,null,"Diamètre intérieur ",null,null,"di",{"$f":"Calculs!IR31/1000","v":0.35499999999999998},"m"]
[null,"Rayon moyen",null,null,"rm",{"$f":"Calculs!IO32","v":170.7},"mm",null,null,null,"Rayon moyen",null,null,"rm",{"$f":"Calculs!IU31/1000","v":0.2525},"m",null,{"$f":"IF(Accueil!$AZ$15=\"Français\",\"Retour\",IF(Accueil!$AZ$15=\"Deutsch\",\"Zurück\",IF(Accueil!$AZ$15=\"Italiano\",\"\")))","v":"Retour"}]
[null,"Épaisseur de paroi",null,null,"e",{"$f":"Calculs!IN32","v":13.6},"mm",null,null,null,"Épaisseur de paroi",null,null,"e",{"$f":"Calculs!IT31/1000","v":0.15},"m"]
[null,"Section",null,null,"A",{"$f":"Calculs!IJ316","v":1.3599999999999999E-2},"m2",null,null,null,"Section",null,null,"A",{"$f":"Calculs!IW316","v":0.15},"m2"]
[null,"Module de flexion",null,null,"W",{"$f":"Calculs!IJ317","v":3.0826666666666661E-5},"m3",null,null,null,"Module de flexion",null,null,"W",{"$f":"Calculs!IW317","v":3.7499999999999999E-3},"m3"]
[null,"Module d'élasticité",null,null,"ER,court",{"$f":"Calculs!B11","v":1000},"N/mm2",null,null,null,"Module d'élasticité",null,null,"ER,court",{"$f":"Calculs!IS33","v":20000},"N/mm2"]
[]
[null,"Rigidité du système",null,null,"SFcourt",{"$f":"Calculs!HK37","v":7.0633863570637558E-3},{"$f":"Calculs!IL37","v":"souple"},null,null,null,"Rigidité du système",null,null,"SFcourt",{"$f":"Calculs!IR37","v":116.47081775131731},{"$f":"Calculs!IS37","v":"rigide"}]
[null,"Facteur de majoration de charge",null,null,"f",{"$f":"Calculs!IM41","v":1.0398359695371999},null,null,null,null,"Facteur de majoration de charge",null,null,"f",{"$f":"Calculs!IT41","v":1.2970297029702971}]
[null,"Effet de courbure:",null,null,"αka",{"$f":"Calculs!IG316","v":1.0265573130247998},null,null,null,null,"Effet de courbure:",null,null,"αka",{"$f":"Calculs!IT317","v":0.80198019801980203}]
[null,null,null,null,"αki",{"$f":"Calculs!IG317","v":0.9734426869752002},null,null,null,null,null,null,null,"αki",{"$f":"Calculs!IT316","v":1.198019801980198}]
[]
[null,"Terrain",null,null,null,null,null,null,null,null,"Tuyau PE",null,null,{"$f":"IF(Données!$AE$6>O28,\"di max.< di introduit!\",\"\")","v":""}]
[]
[null,"Qualité du sol",null,null,null,{"$f":"Données!AE30","v":"Sol stable"},null,null,null,null,"Diamètre intérieur ",null,null,"di",{"$f":"Calculs!IK32","v":327.8},"mm"]
[null,"Poids volumique apparent hum.",null,null,"γ",{"$f":"Données!AE32","v":20},"kN/m3",null,null,null,"Rayon moyen",null,null,"rm",{"$f":"Calculs!IO32","v":170.7},"mm"]
[null,"Poids volumique déjaugé",null,null,"γ'",{"$f":"Données!AE34","v":11},"kN/m3",null,null,null,"Épaisseur de paroi",null,null,"e",{"$f":"Calculs!IN32","v":13.6},"mm"]
[null,"Module de déformation du sol",null,null,"EB",{"$f":"Données!AE38","v":5},"N/mm2"]
[null,"Coefficient de pression du terrain",null,null,"K",{"$f":"Données!AE40","v":0.5},null,null,null,null,"Terrain"]
[null,"Coefficient de flexion au tassement",null,null,"C2",{"$f":"Données!AE42","v":0.5}]
[null,"Type de béton d'enrobage",null,null,null,{"$f":"Données!AE50","v":"C16/20"},null,null,null,null,"Qualité du sol",null,null,null,{"$f":"Données!AE30","v":"Sol stable"}]
[null,"Réduction de charge",null,null,"λmin",{"$f":"Données!AE44","v":"NON"},null,null,null,null,"Poids volumique apparent hum.",null,null,"γ",{"$f":"Données!AE32","v":20},"kN/m3"]
[null,null,null,null,null,null,null,null,null,null,"Poids volumique déjaugé",null,null,"γ'",{"$f":"Données!AE34","v":11},"kN/m3"]
[null,"Eau",null,null,null,null,null,null,null,null,"Module de déformation du sol",null,null,"EB",{"$f":"Données!AE38","v":5},"N/mm2"]
[null,null,null,null,null,null,null,null,null,null,"Coefficient de pression du terrain",null,null,"K",{"$f":"Données!AE40","v":0.5}]
[null,"Eau souterraine",null,null,null,{"$f":"Données!AE60","v":"Sans eau souterraine"},null,null,null,null,"Coefficient de flexion au tassement",null,null,"C2",{"$f":"Données!AE42","v":0.5}]
[null,"Niveau d'eau souterraine",null,null,"hw",{"$f":"Données!AE62","v":1.3},"m",null,null,null,"Type de béton d'enrobage",null,null,null,{"$f":"Données!AE50","v":"C16/20"}]
[null,"Eau à l'intérieur du tuyau",null,null,null,{"$f":"Données!AE64","v":"Tuyau vide"},null,null,null,null,"Réduction de charge",null,null,"λmin",{"$f":"Données!AE44","v":"NON"}]
[null,"Pression",null,null,"pEi",{"$f":"Données!AE66","v":10},"kN/m2"]
[null,null,null,null,null,null,null,null,null,null,"Eau"]
[null,"Fouille"]
[null,null,null,null,null,null,null,null,null,null,"Eau souterraine",null,null,null,{"$f":"Données!AE60","v":"Sans eau souterraine"}]
[null,"Hauteur de couverture",null,null,"H",{"$f":"Données!AE52","v":3},"m",null,null,null,"Niveau d'eau souterraine",null,null,"hw",{"$f":"Données!AN68","v":0},"m"]
[null,"Type de fouille",null,null,null,{"$f":"Données!AE56","v":"Verticale (U)"},null,null,null,null,"Eau à l'intérieur du tuyau",null,null,null,{"$f":"Données!AE64","v":"Tuyau vide"}]
[null,"Largeur de fouille",null,null,"B",{"$f":"Données!$AE$54","v":1.5},"m",null,null,null,"Pression",null,null,"pEi",{"$f":"Données!AE66","v":10},"kN/m2"]
[null,"Angle de talus",null,null,"β",{"$f":"Données!AE58","v":30},"°"]
[]
[]
[]
[]
[null,"Actions",null,null,null,null,null,null,null,null,"Fouille"]
[]
[null,"Charge surfacique",null,null,null,{"$f":"Données!AE8","v":"Pas de charge"},null,null,null,null,"Hauteur de couverture",null,null,"H",{"$f":"Calculs!IU101","v":2.85},"m"]
[null,null,null,null,"qs",{"$f":"Calculs!IL128","v":0},"kN/m2",null,null,null,"Type de fouille",null,null,null,{"$f":"Données!$AE$56","v":"Verticale (U)"}]
[null,"Trafic ",null,null,null,{"$f":"Données!AE22","v":"Trafic routier"},null,{"$f":"IF(AND(Accueil!AZ15=\"Français\",AND(OR(F58=\"Voie unique (ferroviaire)\",F58=\"Voies multiples (ferroviaire)\",F58=\"Voie étroite (ferroviaire)\",F58=\"Eingleisig (Bahnverkehr)\",F58=\"Mehrgleisig (Bahnverkehr)\",F58=\"Schmalspur (Bahnverkehr)\"),F46<2)),\"H trop faible!\",\"\")","v":""},null,null,"Largeur de fouille",null,null,"B",{"$f":"Données!AE54","v":1.5},"m"]
[null,"Coefficient de charge",null,null,"α",{"$f":"Calculs!IH98","v":0.9},null,null,null,null,"Angle de talus",null,null,"β",{"$f":"Données!AE58","v":30},"°"]
[null,"Coefficient dynamique",null,null,"Ψ",{"$f":"Calculs!II98","v":1}]
[null,"Trafic routier et route d'importance",null,null,"pvtotale",{"$f":"Calculs!IG114","v":24.562000000000001},"kN/m2",null,null,null,"Actions"]
[null,"secondaire",null,null,"pvroue",{"$f":"Calculs!IH114","v":4.9021999999999997},"kN/m2"]
[null,null,null,null,"∆pv",{"$f":"Calculs!II114","v":19.659800000000001},"kN/m2",null,null,null,"Charge surfacique",null,null,null,{"$f":"Données!AE8","v":"Pas de charge"}]
[null,"Bord de route",null,null,"pvtotale",{"$f":"Calculs!IJ114","v":0},"kN/m2",null,null,null,null,null,null,"qs",{"$f":"Calculs!IW128","v":0},"kN/m2"]
[null,null,null,null,"pvroue",{"$f":"Calculs!IK114","v":0},"kN/m2",null,null,null,"Trafic ",null,null,null,{"$f":"Données!AE22","v":"Trafic routier"},null,{"$f":"IF(AND(Accueil!AZ15=\"Français\",AND(OR(O65=\"Voie unique (ferroviaire)\",O65=\"Voies multiples (ferroviaire)\",O65=\"Voie étroite (ferroviaire)\",O65=\"Eingleisig (Bahnverkehr)\",O65=\"Mehrgleisig (Bahnverkehr)\",O65=\"Schmalspur (Bahnverkehr)\"),O56<2)),\"H trop faible!\",IF(AND(Accueil!AZ15=\"Français\",AND(OR(O65=\"Trafic routier\",O65=\"Bord de route\",O65=\"Route d'importance secondaire\",O65=\"Strassenverkehr\",O65=\"Strassenrand\",O65=\"Untergeordnete Strasse\"),O56<1)),\"H trop faible!\",\"\"))","v":""}]
[null,null,null,null,"∆pv",{"$f":"Calculs!IL114","v":0},"kN/m2",null,null,null,"Coefficient de charge",null,null,"α",{"$f":"Calculs!IT98","v":0.9}]
[null,"Trafic ferroviaire voie unique",null,null,"punique",{"$f":"Calculs!IN114","v":0},"kN/m2",null,null,null,"Coefficient dynamique",null,null,"Ψ",{"$f":"Calculs!IU98","v":1}]
[null,"Trafic ferroviaire voies multiples",null,null,"pmultiples",{"$f":"Calculs!IO114","v":0},"kN/m2",null,null,null,"Trafic routier et route d'importance",null,null,"pvtotale",{"$f":"Calculs!IS114","v":26.200299999999999},"kN/m2"]
[null,"Trafic ferroviaire voie étroite",null,null,"pétroite",{"$f":"Calculs!IP114","v":0},"kN/m2",null,null,null,"secondaire",null,null,"pvroue",{"$f":"Calculs!IT114","v":5.4489399999999995},"kN/m2"]
[null,null,null,null,null,null,null,null,null,null,null,null,null,"∆pv",{"$f":"Calculs!IU114","v":20.751359999999998},"kN/m2"]
["Résultats",null,null,null,null,null,null,null,null,null,"Bord de route",null,null,"pvtotale",{"$f":"Calculs!IV114","v":0},"kN/m2"]
[null,null,null,null,null,null,null,null,null,null,null,null,null,"pvroue",{"$f":"Calculs!IW114","v":0},"kN/m2"]
[null,null,null,null,null,null,null,null,null,null,null,null,null,"∆pv",{"$f":"Calculs!IX114","v":0},"kN/m2"]
[null,null,null,null,null,null,null,null,null,null,"Trafic ferroviaire voie unique",null,null,"punique",{"$f":"Calculs!IZ114","v":0},"kN/m2"]
[null,null,null,null,null,null,null,null,null,null,"Trafic ferroviaire voies multiples",null,null,"pmultiples",{"$f":"Calculs!JA114","v":0},"kN/m2"]
[null,null,null,null,null,null,null,null,null,null,"Trafic ferroviaire voie étroite",null,null,"pétroite",{"$f":"Calculs!JB114","v":0},"kN/m2"]
[]
[null,null,null,null,null,null,null,null,null,"Résultats"]
[]
[]
[]
[]
[]
[]
[]
[]
[]
[]
[]
[]
[]
[]
[]
[]
[]
[]
[]
[]
[]
[]
[]
[null,"Sollicitations",null,null,null,null,null,null,null,null,"Sollicitations"]
[]
[null,null," Sollicitations",null,null,null,null,null,null,null,null," Sollicitations"]
[null,null,"U1/V1",null,null,null,null,null,null,null,null,"U4/V4"]
[null,null,"À long terme",null,"qs1",{"$f":"Calculs!IK198","v":62.390158172231992},"[kN/m2]",null,null,null,null,"À long terme",null,"qs1",{"$f":"Calculs!JB198","v":114.94449552533848},"[kN/m2]"]
[null,null,"À court terme",null,"qs2",{"$f":"Calculs!IK199","v":22.986405975395435},"[kN/m2]",null,null,null,null,"À court terme",null,"qs2",{"$f":"Calculs!JB199","v":30.584310594059406},"[kN/m2]"]
[null,null,"Charge eff. au sommet",null,"qser",{"$f":"Calculs!IK200","v":85.37656414762742},"[kN/m2]",null,null,null,null,"Charge eff. au sommet",null,"qser",{"$f":"Calculs!JB200","v":145.5288061193979},"[kN/m2]"]
[null,null,"Pression du terrain",null,"qh",{"$f":"Calculs!IG202","v":95.664425474217367},"[kN/m2]",null,null,null,null,"Pression du terrain",null,"qh",{"$f":"Calculs!JB201","v":72.764403059698935},"[kN/m2]"]
[null,null,"Charge de dim. au sommet",null,"qds",{"$f":"Calculs!IK203","v":118.70632249560634},"[kN/m2]",null,null,null,null,"Charge de dim. au sommet",null,"qds",{"$f":"Calculs!JB202","v":201.05153485029606},"[kN/m2]"]
[]
[null,null,null,null,null,null,null,null,null,null,"Vérifications"]
[null,"Vérifications"]
[]
[null,null,null,"Vérification de la déformation (IOWA)",null,null,null,null,null,null,"Poussée d'Archimède"]
[null,null,null,null,"U1/V1",null,{"$f":"IF(Calculs!IK37<0.1,\"\",\"Tuyau rigide. Pas nécessaire de vérifier la déformation!\")","v":""},null,null,null,"Actions stabilisant",null,"G + G' + Gsp",{"$f":"Calculs!IX177","v":38.2556955294841},"[kN/m]"]
[null,null,null,"x/d court",{"$f":"IF(Calculs!IK37<0.1,Calculs!IJ207,\"\")","v":1.2934411004557486E-2},null,null,null,null,null,null,null,"GR",{"$f":"Calculs!IX178","v":5.8499875775923176},"[kN/m]"]
[null,null,null,"x/d long",{"$f":"IF(Calculs!IK37<0.1,Calculs!IJ208,\"\")","v":4.0930693429123463E-2},null,null,null,null,null,null,null,"Somme",{"$f":"Calculs!IX179","v":44.105683107076416},"[kN/m]","Facteur",0.9]
[null,null,null,"Somme",{"$f":"IF(Calculs!IK37<0.1,Calculs!IJ209,\"\")","v":5.3865104433680949E-2},{"$f":"IF(Calculs!IK37<0.1,Calculs!IK209,\"\")","v":"KO!"},null,null,null,null,"Actions déstabilisant",null,"FA",{"$f":"Calculs!IX180","v":0},"[kN/m]","Facteur",1.05]
[null,null,null,"Admissible",{"$f":"IF(Calculs!IK37<0.1,Calculs!IJ210,\"\")","v":0.05}]
[null,null,null,null,null,null,null,null,null,null,"Contôle:",null,"1.05*FA",{"$f":"Calculs!IX182","v":0},"[kN/m]",{"$f":"Calculs!IZ182","v":"OK"}]
[null,null,null,null,null,null,null,null,null,null,null,null,"0.9*Somme",{"$f":"Calculs!IX183","v":39.695114796368777},"[kN/m]"]
[null,"Poussée d'Archimède"]
[null,"Actions stabilisant",null,"G + G' + Gsp",{"$f":"Calculs!II177","v":21.570451964578364},"[kN/m]",null,null,null,null,"Sécurité structurale"]
[null,null,null,"GR",{"$f":"Calculs!II178","v":0.13857213336607374},"[kN/m]",null,null,null,null,{"$f":"IF(N138=\"\",\"\",\"Hypothèse: 5% de la charge de dimensionnement est reprise par le tuyau PE et une déformation initiale\")","v":""}]
[null,null,null,"Somme",{"$f":"Calculs!II179","v":21.70902409794444},"[kN/m]","Facteur",0.9,null,null,{"$f":"IF(N138=\"\",\"\",\"de 0.02m est admis [SIA190:2017;4.2.11.1.2].\")","v":""}]
[null,"Actions déstabilisant",null,"FA",{"$f":"Calculs!II180","v":0},"[kN/m]","Facteur",1.05]
[]
[null,"Contôle:",null,"1.05*FA",{"$f":"Calculs!II182","v":0},"[kN/m]",{"$f":"Calculs!IK182","v":"OK"},null,null,null,null,"Sécurité structurale"]
[null,null,null,"0.9*Somme",{"$f":"Calculs!II183","v":19.538121688149996},"[kN/m]",null,null,null,null,null,"U4/V4"]
[null,null,null,null,null,null,null,null,null,null,null,"qds",null,{"$f":"Calculs!IZ214","v":""},"[kN/m2]"]
[null,null,null,null,null,null,null,null,null,null,null,"qBl",null,{"$f":"Calculs!IZ215","v":""},"[kN/m2]"]
[null,"Sécurité structurale",null,null,null,null,null,null,null,null,null,"pwd",null,{"$f":"Calculs!IZ216","v":""},"[kN/m2]"]
[null,null,null,null,null,null,null,null,null,null,null,"pcr",null,{"$f":"Calculs!IZ217","v":""},"[kN/m2]"]
[null,null,"Sécurité structurale",null,null,null,null,null,null,null,null,"k",null,{"$f":"Calculs!IZ218","v":""},"[-]"]
[null,null,"U1/V1",null,null,null,null,null,null,null,null,"qBl/2*(1-2*pwd/k*pcr)",null,{"$f":"Calculs!IZ219","v":""},"[kN/m2]"]
[null,null,"qds",null,{"$f":"IF(Calculs!IK37<0.1,Calculs!IJ214,\"\")","v":118.70632249560634},"[kN/m2]",{"$f":"IF(Calculs!IK37<0.1,\"\",\"Tuyau rigide. Limite de la formule de la sécurité structurale est dépassée!\")","v":""}]
[null,null,"qBl",null,{"$f":"IF(Calculs!IK37<0.1,Calculs!IJ215,\"\")","v":281.86244987307111},"[kN/m2]",null,null,null,null,null,"Résultat",null,{"$f":"Calculs!IZ221","v":""}]
[null,null,"pwd",null,{"$f":"IF(Calculs!IK37<0.1,Calculs!IJ216,\"\")","v":0},"[kN/m2]"]
[null,null,"pcr",null,{"$f":"IF(Calculs!IK37<0.1,Calculs!IJ217,\"\")","v":23.263011118205387},"[kN/m2]",null,null,null,null,{"$f":"IF(N138=\"\",\"Vérification de la sécurité structurale que nécessaire lors de présence d'eau souterraine!\",\"\")","v":"Vérification de la sécurité structurale que nécessaire lors de présence d'eau souterraine!"}]
[null,null,"k",null,{"$f":"IF(Calculs!IK37<0.1,Calculs!IJ218,\"\")","v":1},"[-]"]
[null,null,"qBl/2*(1-2*pwd/k*pcr)",null,{"$f":"IF(Calculs!IK37<0.1,Calculs!IJ219,\"\")","v":140.93122493653556},"[kN/m2]"]
[]
[null,null,"Résultat",null,{"$f":"IF(Calculs!IK37<0.1,Calculs!IJ221,\"\")","v":"OK"}]
[]
[]
[]
[]
[]
[]
[null,"Aptitude au service",null,null,null,null,null,null,null,null,"Aptitude au service"]
[]
[null,null,null,null,null,null,null,null,null,null,null,null,"σRbz,adm",{"$f":"Calculs!IT325","v":-0.3},"N/mm2"]
[null,null,null,"σRbz,adm",{"$f":"Calculs!IN315","v":14},"N/mm2"]
[null,null,null,null,null,null,null,null,null,null,null,null,null,"Convention des contraintes:"]
[null,null,null,null,"Convention des contraintes:",null,null,null,null,null,null,null,null,"Traction négatif -"]
[null,null,null,null,"Traction négatif -",null,null,null,null,null,null,null,null,"Compression positif +"]
[null,null,null,null,"Compression positif +"]
[]
[null,"Contraintes Profil d'enrobage U1/V1",null,null,null,null,null,null,null,null,"Contraintes Profil d'enrobage U4/V4"]
[null,"Contraintes en [N/mm2]",null,"0°","45°","90°","135°","180°",null,null,"Contraintes en [N/mm2]",null,"0°","45°","90°","135°","180°"]
[null,"Effort normal",null,{"$f":"Calculs!IG322","v":0.80025588097220257},{"$f":"Calculs!IH322","v":1.0368539252520506},{"$f":"Calculs!II322","v":1.0741487216435295},{"$f":"Calculs!IJ322","v":1.0379824919152481},{"$f":"Calculs!IK322","v":0.80079646454939801},null,null,"Effort normal",null,{"$f":"Calculs!IT329","v":0.12145217595710169},{"$f":"Calculs!IU329","v":0.1864451931934179},{"$f":"Calculs!IV329","v":0.25472349239666647},{"$f":"Calculs!IW329","v":0.19076489638710387},{"$f":"Calculs!IX329","v":0.12352131434388473}]
[null,"Moment extérieur",null,{"$f":"Calculs!IG323","v":2.2604921502117925},{"$f":"Calculs!IH323","v":-0.91145462284705769},{"$f":"Calculs!II323","v":-0.42647998885365712},{"$f":"Calculs!IJ323","v":-0.91943576655120796},{"$f":"Calculs!IK323","v":2.2718868749014294},null,null,"Moment extérieur",null,{"$f":"Calculs!IT330","v":0.26537141537875619},{"$f":"Calculs!IU330","v":-2.8904788620883639E-3},{"$f":"Calculs!IV330","v":-0.26777799016222081},{"$f":"Calculs!IW330","v":-1.6856134589646981E-3},{"$f":"Calculs!IX330","v":0.27019044166831757}]
[null,"Moment intérieur",null,{"$f":"Calculs!IG324","v":-2.3838329455693863},{"$f":"Calculs!IH324","v":0.96118695131534237},{"$f":"Calculs!II324","v":0.44975031121437814},{"$f":"Calculs!IJ324","v":0.96960357567897681},{"$f":"Calculs!IK324","v":-2.3958494084968529},null,null,"Moment intérieur",null,{"$f":"Calculs!IT331","v":-0.39641902791147532},{"$f":"Calculs!IU331","v":4.3178758310208889E-3},{"$f":"Calculs!IV331","v":0.40001403468677421},{"$f":"Calculs!IW331","v":2.5180151670954128E-3},{"$f":"Calculs!IX331","v":-0.4036178202699558}]
[]
[null,"Contraintes extérieur",null,{"$f":"Calculs!IG326","v":3.0607480311839952},{"$f":"Calculs!IH326","v":0.12539930240499286},{"$f":"Calculs!II326","v":0.64766873278987236},{"$f":"Calculs!IJ326","v":0.1185467253640401},{"$f":"Calculs!IK326","v":3.0726833394508275},null,null,"Contraintes extérieur",null,{"$f":"Calculs!IT333","v":0.38682359133585786},{"$f":"Calculs!IU333","v":0.18355471433132953},{"$f":"Calculs!IV333","v":-1.305449776555434E-2},{"$f":"Calculs!IW333","v":0.18907928292813916},{"$f":"Calculs!IX333","v":0.39371175601220232}]
[null,"Conraintes intérieur",null,{"$f":"Calculs!IG327","v":-1.5835770645971836},{"$f":"Calculs!IH327","v":1.9980408765673929},{"$f":"Calculs!II327","v":1.5238990328579076},{"$f":"Calculs!IJ327","v":2.0075860675942248},{"$f":"Calculs!IK327","v":-1.5950529439474548},null,null,"Conraintes intérieur",null,{"$f":"Calculs!IT334","v":-0.27496685195437365},{"$f":"Calculs!IU334","v":0.19076306902443879},{"$f":"Calculs!IV334","v":0.65473752708344068},{"$f":"Calculs!IW334","v":0.19328291155419927},{"$f":"Calculs!IX334","v":-0.28009650592607105}]
[]
[null,"Contraintes extérieures",null,{"$f":"Calculs!IG329","v":"OK"},{"$f":"Calculs!IH329","v":"OK"},{"$f":"Calculs!II329","v":"OK"},{"$f":"Calculs!IJ329","v":"OK"},{"$f":"Calculs!IK329","v":"OK"},null,null,"Contraintes extérieures",null,{"$f":"Calculs!IT336","v":"OK"},{"$f":"Calculs!IU336","v":"OK"},{"$f":"Calculs!IV336","v":"OK"},{"$f":"Calculs!IW336","v":"OK"},{"$f":"Calculs!IX336","v":"OK"}]
[null,"Conraintes intérieures",null,{"$f":"Calculs!IG330","v":"OK"},{"$f":"Calculs!IH330","v":"OK"},{"$f":"Calculs!II330","v":"OK"},{"$f":"Calculs!IJ330","v":"OK"},{"$f":"Calculs!IK330","v":"OK"},null,null,"Conraintes intérieures",null,{"$f":"Calculs!IT337","v":"OK"},{"$f":"Calculs!IU337","v":"OK"},{"$f":"Calculs!IV337","v":"OK"},{"$f":"Calculs!IW337","v":"OK"},{"$f":"Calculs!IX337","v":"OK"}]

{"sheet":"PE-SN4 (D)","index":33,"n_rows":170,"n_cols":18,"rows_kept":170,"cut":false,"hidden":false,"merged":[[168,1,168,2],[168,10,168,11],[169,1,169,2],[169,10,169,11],[154,12,154,14],[155,12,155,14],[156,12,156,14],[155,3,155,5],[156,3,156,5],[157,3,157,5],[165,1,165,2],[165,10,165,11],[166,1,166,2],[166,10,166,11],[167,1,167,2],[167,10,167,11],[164,1,164,2],[164,10,164,11],[143,2,143,3],[159,1,159,7],[159,10,159,16],[142,2,142,5],[133,11,133,12],[134,2,134,5],[134,11,134,12],[135,2,135,5],[135,11,135,12],[136,2,136,3],[136,6,138,7],[136,11,136,14],[137,2,137,3],[137,11,137,12],[138,2,138,3],[139,2,139,3],[140,2,140,3],[141,2,141,3],[139,10,139,15],[132,11,132,12],[122,1,122,7],[123,1,123,2],[124,1,125,2],[126,1,126,2],[127,1,127,2],[128,1,128,2],[128,6,129,7],[128,11,128,14],[129,1,129,2],[129,11,129,14],[130,11,130,12],[131,11,131,12],[118,5,119,5],[118,10,118,11],[119,10,119,11],[120,10,120,11],[120,15,121,16],[121,10,121,11],[109,2,109,3],[109,11,109,12],[114,3,114,5],[114,10,114,16],[115,5,117,5],[115,6,117,7],[115,10,115,11],[116,10,117,11],[106,11,106,12],[107,2,107,3],[107,11,107,12],[108,2,108,3],[108,11,108,12],[106,2,106,3],[105,2,105,3],[105,11,105,12],[8,0,9,8],[8,9,9,17],[57,7,58,7],[64,16,65,16],[70,0,70,8],[77,9,77,17],[103,2,103,6],[103,11,103,15],[104,2,104,6],[104,11,104,15],[11,4,11,6],[25,13,25,15]]}
[null,"Projekt:",{"$f":"Accueil!P15","v":"VSA 2026"},null,null,"Ingenieur/in:",null,{"$f":"Accueil!AI15","v":0},null,null,"Projekt:",{"$f":"Accueil!$P$15","v":"VSA 2026"},null,null,"Ingenieur/in:",null,{"$f":"Accueil!$AI$15","v":0}]
[]
[null,"N°:",{"$f":"Accueil!P17","v":0},null,null,"Vernatworlticher:",null,{"$f":"Accueil!AI17","v":0},null,null,"N°:",{"$f":"Accueil!P17","v":0},null,null,"Vernatworlticher:",null,{"$f":"Accueil!$AI$17","v":0}]
[]
[null,"Ort:",{"$f":"Accueil!P21","v":0},null,null,"Bauherr:",null,{"$f":"Accueil!AI19","v":0},null,null,"Ort:",{"$f":"Accueil!$P$21","v":0},null,null,"Bauherr:",null,{"$f":"Accueil!$AI$19","v":0}]
[null,null,{"$f":"Accueil!P23","v":0},null,null,null,null,null,null,null,null,{"$f":"Accueil!$P$23","v":0}]
[]
[]
["Daten Normalverlegeprofil U1/V1",null,null,null,null,null,null,null,null,"Daten Normalverlegeprofil U4/V4"]
[]
[]
[null,"PE-Rohr",null,null,{"$f":"IF(Données!$AE$6>F14,\"di max.< di Eingabe!\",\"\")","v":""},null,null,null,null,null,"\"Fiktives\" Betonrohr"]
[]
[null,"Innendurchmesser",null,null,"di",{"$f":"Calculs!IK32","v":327.8},"mm",null,null,null,"Innendurchmesser",null,null,"di",{"$f":"Calculs!IR31/1000","v":0.35499999999999998},"m"]
[null,"Radius",null,null,"rm",{"$f":"Calculs!IO32","v":170.7},"mm",null,null,null,"Radius",null,null,"rm",{"$f":"Calculs!IU31/1000","v":0.2525},"m",null,{"$f":"IF(Accueil!$AZ$15=\"Français\",\"Retour\",IF(Accueil!$AZ$15=\"Deutsch\",\"Zurück\",IF(Accueil!$AZ$15=\"Italiano\",\"\")))","v":"Retour"}]
[null,"Wanddicke",null,null,"e",{"$f":"Calculs!IN32","v":13.6},"mm",null,null,null,"Wanddicke",null,null,"e",{"$f":"Calculs!IT31/1000","v":0.15},"m"]
[null,"Querschnittsfläche",null,null,"A",{"$f":"Calculs!IJ316","v":1.3599999999999999E-2},"m2",null,null,null,"Querschnittsfläche",null,null,"A",{"$f":"Calculs!IW316","v":0.15},"m2"]
[null,"Widerstandsmoment",null,null,"W",{"$f":"Calculs!IJ317","v":3.0826666666666661E-5},"m3",null,null,null,"Widerstandsmoment",null,null,"W",{"$f":"Calculs!IW317","v":3.7499999999999999E-3},"m3"]
[null,"E-Modul",null,null,"ER,kurz",{"$f":"Calculs!B11","v":1000},"N/mm2",null,null,null,"E-Modul",null,null,"ER,kurz",{"$f":"Calculs!IS33","v":20000},"N/mm2"]
[]
[null,"Systemsteifigkeit",null,null,"SFkurz",{"$f":"Calculs!HK37","v":7.0633863570637558E-3},{"$f":"Calculs!IL37","v":"souple"},null,null,null,"Systemsteifigkeit",null,null,"SFkurz",{"$f":"Calculs!IR37","v":116.47081775131731},{"$f":"Calculs!IS37","v":"rigide"}]
[null,"Lastvergrösserungsfaktor",null,null,"f",{"$f":"Calculs!IM41","v":1.0398359695371999},null,null,null,null,"Lastvergrösserungsfaktor",null,null,"f",{"$f":"Calculs!IT41","v":1.2970297029702971}]
[null,"Krümmungseinfluss",null,null,"αka",{"$f":"Calculs!IG316","v":1.0265573130247998},null,null,null,null,"Krümmungseinfluss",null,null,"αka",{"$f":"Calculs!IT317","v":0.80198019801980203}]
[null,null,null,null,"αki",{"$f":"Calculs!IG317","v":0.9734426869752002},null,null,null,null,null,null,null,"αki",{"$f":"Calculs!IT316","v":1.198019801980198}]
[]
[null,"Terrain",null,null,null,null,null,null,null,null,"PE-Rohr",null,null,{"$f":"IF(Données!$AE$6>O28,\"di max.< di Eingabe!\",\"\")","v":""}]
[]
[null,"Bodenqualität",null,null,null,{"$f":"Données!AE30","v":"Sol stable"},null,null,null,null,"Innendurchmesser",null,null,"di",{"$f":"Calculs!IK32","v":327.8},"mm"]
[null,"Feuchtraumgewicht des Baugrunds",null,null,"γ",{"$f":"Données!AE32","v":20},"kN/m3",null,null,null,"Radius",null,null,"rm",{"$f":"Calculs!IO32","v":170.7},"mm"]
[null,"Raumgewicht unter Auftrieb",null,null,"γ'",{"$f":"Données!AE34","v":11},"kN/m3",null,null,null,"Wanddicke",null,null,"e",{"$f":"Calculs!IN32","v":13.6},"mm"]
[null,"Verformungsmodul des Bodens",null,null,"EB",{"$f":"Données!AE38","v":5},"N/mm2"]
[null,"Erddruckbeiwert",null,null,"K",{"$f":"Données!AE40","v":0.5},null,null,null,null,"Terrain"]
[null,"Setzungs-Durchbiegungsziffer",null,null,"C2",{"$f":"Données!AE42","v":0.5}]
[null,"Hüllbeton",null,null,null,{"$f":"Données!AE50","v":"C16/20"},null,null,null,null,"Bodenqualität",null,null,null,{"$f":"Données!AE30","v":"Sol stable"}]
[null,"Lastminderung",null,null,"λmin",{"$f":"Données!AE44","v":"NON"},null,null,null,null,"Feuchtraumgewicht des Baugrunds",null,null,"γ",{"$f":"Données!AE32","v":20},"kN/m3"]
[null,null,null,null,null,null,null,null,null,null,"Raumgewicht unter Auftrieb",null,null,"γ'",{"$f":"Données!AE34","v":11},"kN/m3"]
[null,"Wasser",null,null,null,null,null,null,null,null,"Verformungsmodul des Bodens",null,null,"EB",{"$f":"Données!AE38","v":5},"N/mm2"]
[null,null,null,null,null,null,null,null,null,null,"Erddruckbeiwert",null,null,"K",{"$f":"Données!AE40","v":0.5}]
[null,"Grundwasser",null,null,null,{"$f":"Données!AE60","v":"Sans eau souterraine"},null,null,null,null,"Setzungs-Durchbiegungsziffer",null,null,"C2",{"$f":"Données!AE42","v":0.5}]
[null,"Grwundwasserspiegel",null,null,"hw",{"$f":"Données!AE62","v":1.3},"m",null,null,null,"Hüllbeton",null,null,null,{"$f":"Données!AE50","v":"C16/20"}]
[null,"Wasser im Rohr",null,null,null,{"$f":"Données!AE64","v":"Tuyau vide"},null,null,null,null,"Lastminderung",null,null,"λmin",{"$f":"Données!AE44","v":"NON"}]
[null,"Druck",null,null,"pEi",{"$f":"Données!AE66","v":10},"kN/m2"]
[null,null,null,null,null,null,null,null,null,null,"Wasser"]
[null,"Graben"]
[null,null,null,null,null,null,null,null,null,null,"Grundwasser",null,null,null,{"$f":"Données!AE60","v":"Sans eau souterraine"}]
[null,"Überdeckungshöhe",null,null,"H",{"$f":"Données!AE52","v":3},"m",null,null,null,"Grwundwasserspiegel",null,null,"hw",{"$f":"Données!AN68","v":0},"m"]
[null,"Grabentyp",null,null,null,{"$f":"Données!AE56","v":"Verticale (U)"},null,null,null,null,"Wasser im Rohr",null,null,null,{"$f":"Données!AE64","v":"Tuyau vide"}]
[null,"Grabenbreite",null,null,"B",{"$f":"Données!$AE$54","v":1.5},"m",null,null,null,"Druck",null,null,"pEi",{"$f":"Données!AE66","v":10},"kN/m2"]
[null,"Böschungsneigung",null,null,"β",{"$f":"Données!AE58","v":30},"°"]
[]
[]
[]
[]
[null,"Einwirkungen",null,null,null,null,null,null,null,null,"Graben"]
[]
[null,"Flächenlast",null,null,null,{"$f":"Données!AE8","v":"Pas de charge"},null,null,null,null,"Überdeckungshöhe",null,null,"H",{"$f":"Calculs!IU101","v":2.85},"m"]
[null,null,null,null,"qs",{"$f":"Calculs!IL128","v":0},"kN/m2",null,null,null,"Grabentyp",null,null,null,{"$f":"Données!$AE$56","v":"Verticale (U)"}]
[null,"Verkehr",null,null,null,{"$f":"Données!AE22","v":"Trafic routier"},null,{"$f":"IF(AND(Accueil!AZ15=\"Deutsch\",AND(OR(F58=\"Voie unique (ferroviaire)\",F58=\"Voies multiples (ferroviaire)\",F58=\"Voie étroite (ferroviaire)\",F58=\"Eingleisig (Bahnverkehr)\",F58=\"Mehrgleisig (Bahnverkehr)\",F58=\"Schmalspur (Bahnverkehr)\"),F46<2)),\"H zu klein!\",\"\")","v":""},null,null,"Grabenbreite",null,null,"B",{"$f":"Données!AE54","v":1.5},"m"]
[null,"Beiwert Strass- und Bahnvekehrslasten",null,null,"α",{"$f":"Calculs!IH98","v":0.9},null,null,null,null,"Böschungsneigung",null,null,"β",{"$f":"Données!AE58","v":30},"°"]
[null,"Dynamischer Beiwert",null,null,"Ψ",{"$f":"Calculs!II98","v":1}]
[null,"Strassenverkehr und untergeordnete",null,null,"pvtotal",{"$f":"Calculs!IG114","v":24.562000000000001},"kN/m2",null,null,null,"Einwirkungen"]
[null,"Strassen",null,null,"pvRad",{"$f":"Calculs!IH114","v":4.9021999999999997},"kN/m2"]
[null,null,null,null,"∆pv",{"$f":"Calculs!II114","v":19.659800000000001},"kN/m2",null,null,null,"Flächenlast",null,null,null,{"$f":"Données!AE8","v":"Pas de charge"}]
[null,"Strassenrand",null,null,"pvtotal",{"$f":"Calculs!IJ114","v":0},"kN/m2",null,null,null,null,null,null,"qs",{"$f":"Calculs!IW128","v":0},"kN/m2"]
[null,null,null,null,"pvRad",{"$f":"Calculs!IK114","v":0},"kN/m2",null,null,null,"Verkehr",null,null,null,{"$f":"Données!AE22","v":"Trafic routier"},null,{"$f":"IF(AND(Accueil!AZ15=\"Deutsch\",AND(OR(O65=\"Voie unique (ferroviaire)\",O65=\"Voies multiples (ferroviaire)\",O65=\"Voie étroite (ferroviaire)\",O65=\"Eingleisig (Bahnverkehr)\",O65=\"Mehrgleisig (Bahnverkehr)\",O65=\"Schmalspur (Bahnverkehr)\"),O56<2)),\"H zu klein!\",IF(AND(Accueil!AZ15=\"Deutsch\",AND(OR(O65=\"Trafic routier\",O65=\"Bord de route\",O65=\"Route d'importance secondaire\",O65=\"Strassenverkehr\",O65=\"Strassenrand\",O65=\"Untergeordnete Strasse\"),O56<1)),\"H zu klein!\",\"\"))","v":""}]
[null,null,null,null,"∆pv",{"$f":"Calculs!IL114","v":0},"kN/m2",null,null,null,"Beiwert Strass- und Bahnvekehrslasten",null,null,"α",{"$f":"Calculs!IT98","v":0.9}]
[null,"Bahnverkehr eingleisig",null,null,"peingleisig",{"$f":"Calculs!IN114","v":0},"kN/m2",null,null,null,"Dynamischer Beiwert",null,null,"Ψ",{"$f":"Calculs!IU98","v":1}]
[null,"Bahnverkehr mehrgleisig",null,null,"pmehrgleisig",{"$f":"Calculs!IO114","v":0},"kN/m2",null,null,null,"Strassenverkehr und untergeordnete",null,null,"pvtotal",{"$f":"Calculs!IS114","v":26.200299999999999},"kN/m2"]
[null,"Bahnverkehr schmalspur",null,null,"pschmal",{"$f":"Calculs!IP114","v":0},"kN/m2",null,null,null,"Strassen",null,null,"pvRad",{"$f":"Calculs!IT114","v":5.4489399999999995},"kN/m2"]
[null,null,null,null,null,null,null,null,null,null,null,null,null,"∆pv",{"$f":"Calculs!IU114","v":20.751359999999998},"kN/m2"]
["Resultate",null,null,null,null,null,null,null,null,null,"Strassenrand",null,null,"pvtotal",{"$f":"Calculs!IV114","v":0},"kN/m2"]
[null,null,null,null,null,null,null,null,null,null,null,null,null,"pvRad",{"$f":"Calculs!IW114","v":0},"kN/m2"]
[null,null,null,null,null,null,null,null,null,null,null,null,null,"∆pv",{"$f":"Calculs!IX114","v":0},"kN/m2"]
[null,null,null,null,null,null,null,null,null,null,"Bahnverkehr eingleisig",null,null,"peingleisig",{"$f":"Calculs!IZ114","v":0},"kN/m2"]
[null,null,null,null,null,null,null,null,null,null,"Bahnverkehr mehrgleisig",null,null,"pmehrgleisig",{"$f":"Calculs!JA114","v":0},"kN/m2"]
[null,null,null,null,null,null,null,null,null,null,"Bahnverkehr schmalspur",null,null,"pschmal",{"$f":"Calculs!JB114","v":0},"kN/m2"]
[]
[null,null,null,null,null,null,null,null,null,"Resultate"]
[]
[]
[]
[]
[]
[]
[]
[]
[]
[]
[]
[]
[]
[]
[]
[]
[]
[]
[]
[]
[]
[]
[]
[null,"Beanspruchungen",null,null,null,null,null,null,null,null,"Beanspruchungen"]
[]
[null,null,"Beanspruchungen",null,null,null,null,null,null,null,null,"Beanspruchungen"]
[null,null,"U1/V1",null,null,null,null,null,null,null,null,"U4/V4"]
[null,null,"Langzeit",null,"qs1",{"$f":"Calculs!IK198","v":62.390158172231992},"[kN/m2]",null,null,null,null,"Langzeit",null,"qs1",{"$f":"Calculs!JB198","v":114.94449552533848},"[kN/m2]"]
[null,null,"Kurzzeit",null,"qs2",{"$f":"Calculs!IK199","v":22.986405975395435},"[kN/m2]",null,null,null,null,"Kurzzeit",null,"qs2",{"$f":"Calculs!JB199","v":30.584310594059406},"[kN/m2]"]
[null,null,"Effektive Last auf Scheitel",null,"qser",{"$f":"Calculs!IK200","v":85.37656414762742},"[kN/m2]",null,null,null,null,"Effektive Last auf Scheitel",null,"qser",{"$f":"Calculs!JB200","v":145.5288061193979},"[kN/m2]"]
[null,null,"Erddruck",null,"qh",{"$f":"Calculs!IG202","v":95.664425474217367},"[kN/m2]",null,null,null,null,"Erddruck",null,"qh",{"$f":"Calculs!JB201","v":72.764403059698935},"[kN/m2]"]
[null,null,"Bemessungswert",null,"qds",{"$f":"Calculs!IK203","v":118.70632249560634},"[kN/m2]",null,null,null,null,"Bemessungswert",null,"qds",{"$f":"Calculs!JB202","v":201.05153485029606},"[kN/m2]"]
[]
[null,null,null,null,null,null,null,null,null,null,"Nachweise"]
[null,"Nachweise"]
[]
[null,null,null,"Verformungsnachweis (IOWA)",null,null,null,null,null,null,"Auftrieb"]
[null,null,null,null,"U1/V1",null,{"$f":"IF(Calculs!GK37<0.1,\"\",\"Steifes Rohr. Verformungsnachweis entfällt!\")","v":""},null,null,null,"Stabilisierend",null,"G + G' + Gsp",{"$f":"Calculs!IX177","v":38.2556955294841},"[kN/m]"]
[null,null,null,"x/d kurz",{"$f":"IF(Calculs!IK37<0.1,Calculs!IJ207,\"\")","v":1.2934411004557486E-2},null,null,null,null,null,null,null,"GR",{"$f":"Calculs!IX178","v":5.8499875775923176},"[kN/m]"]
[null,null,null,"x/d lang",{"$f":"IF(Calculs!IK37<0.1,Calculs!IJ208,\"\")","v":4.0930693429123463E-2},null,null,null,null,null,null,null,"Summe",{"$f":"Calculs!IX179","v":44.105683107076416},"[kN/m]","Faktor",0.9]
[null,null,null,"Summe",{"$f":"IF(Calculs!IK37<0.1,Calculs!IJ209,\"\")","v":5.3865104433680949E-2},{"$f":"IF(Calculs!IK37<0.1,Calculs!IK209,\"\")","v":"KO!"},null,null,null,null,"Destabilisierend",null,"FA",{"$f":"Calculs!IX180","v":0},"[kN/m]","Faktor",1.05]
[null,null,null,"Zugelassen",{"$f":"IF(Calculs!IK37<0.1,Calculs!IJ210,\"\")","v":0.05}]
[null,null,null,null,null,null,null,null,null,null,"Kontrolle:",null,"1.05*FA",{"$f":"Calculs!IX182","v":0},"[kN/m]",{"$f":"Calculs!IZ182","v":"OK"}]
[null,null,null,null,null,null,null,null,null,null,null,null,"0.9*Summe",{"$f":"Calculs!IX183","v":39.695114796368777},"[kN/m]"]
[null,"Auftrieb"]
[null,"Stabilisierend",null,"G + G' + Gsp",{"$f":"Calculs!II177","v":21.570451964578364},"[kN/m]",null,null,null,null,"Tragfähigkeit"]
[null,null,null,"GR",{"$f":"Calculs!II178","v":0.13857213336607374},"[kN/m]",null,null,null,null,{"$f":"IF(N138=\"\",\"\",\"Annahme: 5% des Bemessungswerts werden durch das PE-Rohr aufgenommen und eine initiale\")","v":""}]
[null,null,null,"Summe",{"$f":"Calculs!II179","v":21.70902409794444},"[kN/m]","Faktor",0.9,null,null,{"$f":"IF(N138=\"\",\"\",\"Deformation von 0.02m [SIA190:2017;4.2.11.1.2].\")","v":""}]
[null,"Destabilisierend",null,"FA",{"$f":"Calculs!II180","v":0},"[kN/m]","Faktor",1.05]
[]
[null,"Kontrolle:",null,"1.05*FA",{"$f":"Calculs!II182","v":0},"[kN/m]",{"$f":"Calculs!IK182","v":"OK"},null,null,null,null,"Tragfähigkeit"]
[null,null,null,"0.9*Summe",{"$f":"Calculs!II183","v":19.538121688149996},"[kN/m]",null,null,null,null,null,"U4/V4"]
[null,null,null,null,null,null,null,null,null,null,null,"qds",null,{"$f":"Calculs!IZ214","v":""},"[kN/m2]"]
[null,null,null,null,null,null,null,null,null,null,null,"qBl",null,{"$f":"Calculs!IZ215","v":""},"[kN/m2]"]
[null,"Tragfähigkeit",null,null,null,null,null,null,null,null,null,"pwd",null,{"$f":"Calculs!IZ216","v":""},"[kN/m2]"]
[null,null,null,null,null,null,null,null,null,null,null,"pcr",null,{"$f":"Calculs!IZ217","v":""},"[kN/m2]"]
[null,null,"Tragfähigkeit",null,null,null,null,null,null,null,null,"k",null,{"$f":"Calculs!IZ218","v":""},"[-]"]
[null,null,"U1/V1",null,null,null,null,null,null,null,null,"qBl/2*(1-2*pwd/k*pcr)",null,{"$f":"Calculs!IZ219","v":""},"[kN/m2]"]
[null,null,"qds",null,{"$f":"IF(Calculs!IK37<0.1,Calculs!IJ214,\"\")","v":118.70632249560634},"[kN/m2]",{"$f":"IF(Calculs!GK37<0.1,\"\",\"Steifes Rohr. Limite der Tragfähigkeitsformel überschritten!\")","v":""}]
[null,null,"qBl",null,{"$f":"IF(Calculs!IK37<0.1,Calculs!IJ215,\"\")","v":281.86244987307111},"[kN/m2]",null,null,null,null,null,"Resultate",null,{"$f":"Calculs!IZ221","v":""}]
[null,null,"pwd",null,{"$f":"IF(Calculs!IK37<0.1,Calculs!IJ216,\"\")","v":0},"[kN/m2]"]
[null,null,"pcr",null,{"$f":"IF(Calculs!IK37<0.1,Calculs!IJ217,\"\")","v":23.263011118205387},"[kN/m2]",null,null,null,null,{"$f":"IF(N138=\"\",\"Tragfähigkeitsnachweis nur nötig bei Grundwasser!\",\"\")","v":"Tragfähigkeitsnachweis nur nötig bei Grundwasser!"}]
[null,null,"k",null,{"$f":"IF(Calculs!IK37<0.1,Calculs!IJ218,\"\")","v":1},"[-]"]
[null,null,"qBl/2*(1-2*pwd/k*pcr)",null,{"$f":"IF(Calculs!IK37<0.1,Calculs!IJ219,\"\")","v":140.93122493653556},"[kN/m2]"]
[]
[null,null,"Resultate",null,{"$f":"IF(Calculs!IK37<0.1,Calculs!IJ221,\"\")","v":"OK"}]
[]
[]
[]
[]
[]
[]
[null,"Gebrauchstauglichkeit",null,null,null,null,null,null,null,null,"Gebrauchstauglichkeit"]
[]
[null,null,null,null,null,null,null,null,null,null,null,null,"σRbz,adm",{"$f":"Calculs!IT325","v":-0.3},"N/mm2"]
[null,null,null,"σRbz,adm",{"$f":"Calculs!IN315","v":14},"N/mm2"]
[null,null,null,null,null,null,null,null,null,null,null,null,"Spannungskonventionen:"]
[null,null,null,"Spannungskonventionen:",null,null,null,null,null,null,null,null,"Zug negatif -"]
[null,null,null,"Zug negatif -",null,null,null,null,null,null,null,null,"Druck positif +"]
[null,null,null,"Druck positif +"]
[]
[null,"Spannungen Verlegeprofil U1/V1",null,null,null,null,null,null,null,null,"Spannungen Verlegeprofil U4/V4"]
[null,"Spannungen in [N/mm2]",null,"0°","45°","90°","135°","180°",null,null,"Spannungen in [N/mm2]",null,"0°","45°","90°","135°","180°"]
[null,"Durch die Normalkraft",null,{"$f":"Calculs!IG322","v":0.80025588097220257},{"$f":"Calculs!IH322","v":1.0368539252520506},{"$f":"Calculs!II322","v":1.0741487216435295},{"$f":"Calculs!IJ322","v":1.0379824919152481},{"$f":"Calculs!IK322","v":0.80079646454939801},null,null,"Durch die Normalkraft",null,{"$f":"Calculs!IT329","v":0.12145217595710169},{"$f":"Calculs!IU329","v":0.1864451931934179},{"$f":"Calculs!IV329","v":0.25472349239666647},{"$f":"Calculs!IW329","v":0.19076489638710387},{"$f":"Calculs!IX329","v":0.12352131434388473}]
[null,"Durch das Moment aussen",null,{"$f":"Calculs!IG323","v":2.2604921502117925},{"$f":"Calculs!IH323","v":-0.91145462284705769},{"$f":"Calculs!II323","v":-0.42647998885365712},{"$f":"Calculs!IJ323","v":-0.91943576655120796},{"$f":"Calculs!IK323","v":2.2718868749014294},null,null,"Durch das Moment aussen",null,{"$f":"Calculs!IT330","v":0.26537141537875619},{"$f":"Calculs!IU330","v":-2.8904788620883639E-3},{"$f":"Calculs!IV330","v":-0.26777799016222081},{"$f":"Calculs!IW330","v":-1.6856134589646981E-3},{"$f":"Calculs!IX330","v":0.27019044166831757}]
[null,"Durch das Moment innen",null,{"$f":"Calculs!IG324","v":-2.3838329455693863},{"$f":"Calculs!IH324","v":0.96118695131534237},{"$f":"Calculs!II324","v":0.44975031121437814},{"$f":"Calculs!IJ324","v":0.96960357567897681},{"$f":"Calculs!IK324","v":-2.3958494084968529},null,null,"Durch das Moment innen",null,{"$f":"Calculs!IT331","v":-0.39641902791147532},{"$f":"Calculs!IU331","v":4.3178758310208889E-3},{"$f":"Calculs!IV331","v":0.40001403468677421},{"$f":"Calculs!IW331","v":2.5180151670954128E-3},{"$f":"Calculs!IX331","v":-0.4036178202699558}]
[]
[null,"Spannungen aussen",null,{"$f":"Calculs!IG326","v":3.0607480311839952},{"$f":"Calculs!IH326","v":0.12539930240499286},{"$f":"Calculs!II326","v":0.64766873278987236},{"$f":"Calculs!IJ326","v":0.1185467253640401},{"$f":"Calculs!IK326","v":3.0726833394508275},null,null,"Spannungen aussen",null,{"$f":"Calculs!IT333","v":0.38682359133585786},{"$f":"Calculs!IU333","v":0.18355471433132953},{"$f":"Calculs!IV333","v":-1.305449776555434E-2},{"$f":"Calculs!IW333","v":0.18907928292813916},{"$f":"Calculs!IX333","v":0.39371175601220232}]
[null,"Spannungen innen","Spannungen innen",{"$f":"Calculs!IG327","v":-1.5835770645971836},{"$f":"Calculs!IH327","v":1.9980408765673929},{"$f":"Calculs!II327","v":1.5238990328579076},{"$f":"Calculs!IJ327","v":2.0075860675942248},{"$f":"Calculs!IK327","v":-1.5950529439474548},null,null,"Spannungen innen","Spannungen innen",{"$f":"Calculs!IT334","v":-0.27496685195437365},{"$f":"Calculs!IU334","v":0.19076306902443879},{"$f":"Calculs!IV334","v":0.65473752708344068},{"$f":"Calculs!IW334","v":0.19328291155419927},{"$f":"Calculs!IX334","v":-0.28009650592607105}]
[]
[null,"Spannungen aussen",null,{"$f":"Calculs!IG329","v":"OK"},{"$f":"Calculs!IH329","v":"OK"},{"$f":"Calculs!II329","v":"OK"},{"$f":"Calculs!IJ329","v":"OK"},{"$f":"Calculs!IK329","v":"OK"},null,null,"Spannungen aussen",null,{"$f":"Calculs!IT336","v":"OK"},{"$f":"Calculs!IU336","v":"OK"},{"$f":"Calculs!IV336","v":"OK"},{"$f":"Calculs!IW336","v":"OK"},{"$f":"Calculs!IX336","v":"OK"}]
[null,"Spannungen innen","Spannungen innen",{"$f":"Calculs!IG330","v":"OK"},{"$f":"Calculs!IH330","v":"OK"},{"$f":"Calculs!II330","v":"OK"},{"$f":"Calculs!IJ330","v":"OK"},{"$f":"Calculs!IK330","v":"OK"},null,null,"Spannungen innen","Spannungen innen",{"$f":"Calculs!IT337","v":"OK"},{"$f":"Calculs!IU337","v":"OK"},{"$f":"Calculs!IV337","v":"OK"},{"$f":"Calculs!IW337","v":"OK"},{"$f":"Calculs!IX337","v":"OK"}]

{"sheet":"PE-SN8","index":34,"n_rows":170,"n_cols":18,"rows_kept":170,"cut":false,"hidden":false,"merged":[[168,1,168,2],[168,10,168,11],[169,1,169,2],[169,10,169,11],[165,1,165,2],[165,10,165,11],[166,1,166,2],[166,10,166,11],[167,1,167,2],[167,10,167,11],[162,1,162,2],[162,10,162,11],[163,1,163,2],[163,10,163,11],[164,1,164,2],[164,10,164,11],[161,1,161,2],[161,10,161,11],[138,2,138,3],[139,2,139,3],[140,2,140,3],[141,2,141,3],[142,2,142,5],[143,2,143,3],[159,1,159,7],[159,10,159,16],[160,1,160,2],[160,10,160,11],[139,10,140,15],[133,11,133,12],[134,2,134,5],[134,11,134,12],[135,2,135,5],[135,11,135,12],[136,2,136,3],[136,6,138,7],[136,11,136,14],[137,2,137,3],[137,11,137,12],[132,11,132,12],[122,1,122,7],[123,1,123,2],[124,1,125,2],[126,1,126,2],[127,1,127,2],[128,1,128,2],[128,6,129,7],[128,11,128,14],[129,1,129,2],[129,11,129,14],[130,11,130,12],[131,11,131,12],[118,5,119,5],[118,10,118,11],[119,10,119,11],[120,10,120,11],[120,15,121,16],[121,10,121,11],[109,2,109,3],[109,11,109,12],[114,3,114,5],[114,10,114,16],[115,5,117,5],[115,6,117,7],[115,10,115,11],[116,10,117,11],[106,2,106,3],[106,11,106,12],[107,2,107,3],[107,11,107,12],[108,2,108,3],[108,11,108,12],[105,2,105,3],[105,11,105,12],[8,0,9,8],[8,9,9,17],[57,7,58,7],[64,16,65,16],[70,0,70,8],[77,9,77,17],[103,2,103,6],[103,11,103,15],[104,2,104,6],[104,11,104,15],[11,4,11,6],[25,13,25,15]]}
[null,"Projet:",{"$f":"Accueil!P15","v":"VSA 2026"},null,null,"Ingénieur/e:",null,{"$f":"Accueil!AI15","v":0},null,null,"Projet:",{"$f":"Accueil!$P$15","v":"VSA 2026"},null,null,"Ingénieur/e:",null,{"$f":"Accueil!$AI$15","v":0}]
[]
[null,"N°:",{"$f":"Accueil!P17","v":0},null,null,"Responsable:",null,{"$f":"Accueil!AI17","v":0},null,null,"N°:",{"$f":"Accueil!P17","v":0},null,null,"Responsable:",null,{"$f":"Accueil!$AI$17","v":0}]
[]
[null,"Lieu:",{"$f":"Accueil!P21","v":0},null,null,"Maître d'ouvrage:",null,{"$f":"Accueil!AI19","v":0},null,null,"Lieu:",{"$f":"Accueil!$P$21","v":0},null,null,"Maître d'ouvrage:",null,{"$f":"Accueil!$AI$19","v":0}]
[null,null,{"$f":"Accueil!P23","v":0},null,null,null,null,null,null,null,null,{"$f":"Accueil!$P$23","v":0}]
[]
[]
["Données profil d'enrobage U1/V1",null,null,null,null,null,null,null,null,"Données profil d'enrobage U4/V4"]
[]
[]
[null,"Tuyau PE",null,null,{"$f":"IF(Données!$AE$6>F14,\"di max.< di introduit!\",\"\")","v":""},null,null,null,null,null,"Tuyau \"fictif\" en béton"]
[]
[null,"Diamètre intérieur ",null,null,"di",{"$f":"Calculs!JK32","v":321.2},"mm",null,null,null,"Diamètre intérieur ",null,null,"di",{"$f":"Calculs!JR31/1000","v":0.35499999999999998},"m"]
[null,"Rayon moyen",null,null,"rm",{"$f":"Calculs!JO32","v":169.05},"mm",null,null,null,"Rayon moyen",null,null,"rm",{"$f":"Calculs!JU31/1000","v":0.2525},"m",null,{"$f":"IF(Accueil!$AZ$15=\"Français\",\"Retour\",IF(Accueil!$AZ$15=\"Deutsch\",\"Zurück\",IF(Accueil!$AZ$15=\"Italiano\",\"\")))","v":"Retour"}]
[null,"Épaisseur de paroi",null,null,"e",{"$f":"Calculs!JN32","v":16.899999999999999},"mm",null,null,null,"Épaisseur de paroi",null,null,"e",{"$f":"Calculs!JT31/1000","v":0.15},"m"]
[null,"Section",null,null,"A",{"$f":"Calculs!JJ316","v":1.6899999999999998E-2},"m2",null,null,null,"Section",null,null,"A",{"$f":"Calculs!JW316","v":0.15},"m2"]
[null,"Module de flexion",null,null,"W",{"$f":"Calculs!JJ317","v":4.7601666666666655E-5},"m3",null,null,null,"Module de flexion",null,null,"W",{"$f":"Calculs!JW317","v":3.7499999999999999E-3},"m3"]
[null,"Module d'élasticité",null,null,"ER,court",{"$f":"Calculs!B11","v":1000},"N/mm2",null,null,null,"Module d'élasticité",null,null,"ER,court",{"$f":"Calculs!JS33","v":20000},"N/mm2"]
[]
[null,"Rigidité du système",null,null,"SFcourt",{"$f":"Calculs!JK37","v":2.775313752689839E-2},{"$f":"Calculs!JL37","v":"souple"},null,null,null,"Rigidité du système",null,null,"SFcourt",{"$f":"Calculs!JR37","v":116.47081775131731},{"$f":"Calculs!JS37","v":"rigide"}]
[null,"Facteur de majoration de charge",null,null,"f",{"$f":"Calculs!JM41","v":1.0499852114758947},null,null,null,null,"Facteur de majoration de charge",null,null,"f",{"$f":"Calculs!JT41","v":1.2970297029702971}]
[null,"Effet de courbure:",null,null,"αka",{"$f":"Calculs!JG316","v":1.0333234743172632},null,null,null,null,"Effet de courbure:",null,null,"αka",{"$f":"Calculs!JT317","v":0.80198019801980203}]
[null,null,null,null,"αki",{"$f":"Calculs!JG317","v":0.96667652568273688},null,null,null,null,null,null,null,"αki",{"$f":"Calculs!JT316","v":1.198019801980198}]
[]
[null,"Terrain",null,null,null,null,null,null,null,null,"Tuyau PE",null,null,{"$f":"IF(Données!$AE$6>O28,\"di max.< di introduit!\",\"\")","v":""}]
[]
[null,"Qualité du sol",null,null,null,{"$f":"Données!AE30","v":"Sol stable"},null,null,null,null,"Diamètre intérieur ",null,null,"di",{"$f":"Calculs!JK32","v":321.2},"mm"]
[null,"Poids volumique apparent hum.",null,null,"γ",{"$f":"Données!AE32","v":20},"kN/m3",null,null,null,"Rayon moyen",null,null,"rm",{"$f":"Calculs!JO32","v":169.05},"mm"]
[null,"Poids volumique déjaugé",null,null,"γ'",{"$f":"Données!AE34","v":11},"kN/m3",null,null,null,"Épaisseur de paroi",null,null,"e",{"$f":"Calculs!JN32","v":16.899999999999999},"mm"]
[null,"Module de déformation du sol",null,null,"EB",{"$f":"Données!AE38","v":5},"N/mm2"]
[null,"Coefficient de pression du terrain",null,null,"K",{"$f":"Données!AE40","v":0.5},null,null,null,null,"Terrain"]
[null,"Coefficient de flexion au tassement",null,null,"C2",{"$f":"Données!AE42","v":0.5}]
[null,"Type de béton d'enrobage",null,null,null,{"$f":"Données!AE50","v":"C16/20"},null,null,null,null,"Qualité du sol",null,null,null,{"$f":"Données!AE30","v":"Sol stable"}]
[null,"Réduction de charge",null,null,"λmin",{"$f":"Données!AE44","v":"NON"},null,null,null,null,"Poids volumique apparent hum.",null,null,"γ",{"$f":"Données!AE32","v":20},"kN/m3"]
[null,null,null,null,null,null,null,null,null,null,"Poids volumique déjaugé",null,null,"γ'",{"$f":"Données!AE34","v":11},"kN/m3"]
[null,"Eau",null,null,null,null,null,null,null,null,"Module de déformation du sol",null,null,"EB",{"$f":"Données!AE38","v":5},"N/mm2"]
[null,null,null,null,null,null,null,null,null,null,"Coefficient de pression du terrain",null,null,"K",{"$f":"Données!AE40","v":0.5}]
[null,"Eau souterraine",null,null,null,{"$f":"Données!AE60","v":"Sans eau souterraine"},null,null,null,null,"Coefficient de flexion au tassement",null,null,"C2",{"$f":"Données!AE42","v":0.5}]
[null,"Niveau d'eau souterraine",null,null,"hw",{"$f":"Données!AE62","v":1.3},"m",null,null,null,"Type de béton d'enrobage",null,null,null,{"$f":"Données!AE50","v":"C16/20"}]
[null,"Eau à l'intérieur du tuyau",null,null,null,{"$f":"Données!AE64","v":"Tuyau vide"},null,null,null,null,"Réduction de charge",null,null,"λmin",{"$f":"Données!AE44","v":"NON"}]
[null,"Pression",null,null,"pEi",{"$f":"Données!AE66","v":10},"kN/m2"]
[null,null,null,null,null,null,null,null,null,null,"Eau"]
[null,"Fouille"]
[null,null,null,null,null,null,null,null,null,null,"Eau souterraine",null,null,null,{"$f":"Données!AE60","v":"Sans eau souterraine"}]
[null,"Hauteur de couverture",null,null,"H",{"$f":"Données!AE52","v":3},"m",null,null,null,"Niveau d'eau souterraine",null,null,"hw",{"$f":"Données!AN68","v":0},"m"]
[null,"Type de fouille",null,null,null,{"$f":"Données!AE56","v":"Verticale (U)"},null,null,null,null,"Eau à l'intérieur du tuyau",null,null,null,{"$f":"Données!AE64","v":"Tuyau vide"}]
[null,"Largeur de fouille",null,null,"B",{"$f":"Données!$AE$54","v":1.5},"m",null,null,null,"Pression",null,null,"pEi",{"$f":"Données!AE66","v":10},"kN/m2"]
[null,"Angle de talus",null,null,"β",{"$f":"Données!AE58","v":30},"°"]
[]
[]
[]
[]
[null,"Actions",null,null,null,null,null,null,null,null,"Fouille"]
[]
[null,"Charge surfacique",null,null,null,{"$f":"Données!AE8","v":"Pas de charge"},null,null,null,null,"Hauteur de couverture",null,null,"H",{"$f":"Calculs!JU101","v":2.85},"m"]
[null,null,null,null,"qs",{"$f":"Calculs!JL128","v":0},"kN/m2",null,null,null,"Type de fouille",null,null,null,{"$f":"Données!$AE$56","v":"Verticale (U)"}]
[null,"Trafic ",null,null,null,{"$f":"Données!AE22","v":"Trafic routier"},null,{"$f":"IF(AND(Accueil!AZ15=\"Français\",AND(OR(F58=\"Voie unique (ferroviaire)\",F58=\"Voies multiples (ferroviaire)\",F58=\"Voie étroite (ferroviaire)\",F58=\"Eingleisig (Bahnverkehr)\",F58=\"Mehrgleisig (Bahnverkehr)\",F58=\"Schmalspur (Bahnverkehr)\"),F46<2)),\"H trop faible!\",\"\")","v":""},null,null,"Largeur de fouille",null,null,"B",{"$f":"Données!AE54","v":1.5},"m"]
[null,"Coefficient de charge",null,null,"α",{"$f":"Calculs!JH98","v":0.9},null,null,null,null,"Angle de talus",null,null,"β",{"$f":"Données!AE58","v":30},"°"]
[null,"Coefficient dynamique",null,null,"Ψ",{"$f":"Calculs!JI98","v":1}]
[null,"Trafic routier et route d'importance",null,null,"pvtotale",{"$f":"Calculs!JG114","v":24.562000000000001},"kN/m2",null,null,null,"Actions"]
[null,"secondaire",null,null,"pvroue",{"$f":"Calculs!JH114","v":4.9021999999999997},"kN/m2"]
[null,null,null,null,"∆pv",{"$f":"Calculs!JI114","v":19.659800000000001},"kN/m2",null,null,null,"Charge surfacique",null,null,null,{"$f":"Données!AE8","v":"Pas de charge"}]
[null,"Bord de route",null,null,"pvtotale",{"$f":"Calculs!JJ114","v":0},"kN/m2",null,null,null,null,null,null,"qs",{"$f":"Calculs!JW128","v":0},"kN/m2"]
[null,null,null,null,"pvroue",{"$f":"Calculs!JK114","v":0},"kN/m2",null,null,null,"Trafic ",null,null,null,{"$f":"Données!AE22","v":"Trafic routier"},null,{"$f":"IF(AND(Accueil!AZ15=\"Français\",AND(OR(O65=\"Voie unique (ferroviaire)\",O65=\"Voies multiples (ferroviaire)\",O65=\"Voie étroite (ferroviaire)\",O65=\"Eingleisig (Bahnverkehr)\",O65=\"Mehrgleisig (Bahnverkehr)\",O65=\"Schmalspur (Bahnverkehr)\"),O56<2)),\"H trop faible!\",IF(AND(Accueil!AZ15=\"Français\",AND(OR(O65=\"Trafic routier\",O65=\"Bord de route\",O65=\"Route d'importance secondaire\",O65=\"Strassenverkehr\",O65=\"Strassenrand\",O65=\"Untergeordnete Strasse\"),O56<1)),\"H trop faible!\",\"\"))","v":""}]
[null,null,null,null,"∆pv",{"$f":"Calculs!JL114","v":0},"kN/m2",null,null,null,"Coefficient de charge",null,null,"α",{"$f":"Calculs!JT98","v":0.9}]
[null,"Trafic ferroviaire voie unique",null,null,"punique",{"$f":"Calculs!JN114","v":0},"kN/m2",null,null,null,"Coefficient dynamique",null,null,"Ψ",{"$f":"Calculs!JU98","v":1}]
[null,"Trafic ferroviaire voies multiples",null,null,"pmultiples",{"$f":"Calculs!JO114","v":0},"kN/m2",null,null,null,"Trafic routier et route d'importance",null,null,"pvtotale",{"$f":"Calculs!JS114","v":26.200299999999999},"kN/m2"]
[null,"Trafic ferroviaire voie étroite",null,null,"pétroite",{"$f":"Calculs!JP114","v":0},"kN/m2",null,null,null,"secondaire",null,null,"pvroue",{"$f":"Calculs!JT114","v":5.4489399999999995},"kN/m2"]
[null,null,null,null,null,null,null,null,null,null,null,null,null,"∆pv",{"$f":"Calculs!JU114","v":20.751359999999998},"kN/m2"]
["Résultats",null,null,null,null,null,null,null,null,null,"Bord de route",null,null,"pvtotale",{"$f":"Calculs!JV114","v":0},"kN/m2"]
[null,null,null,null,null,null,null,null,null,null,null,null,null,"pvroue",{"$f":"Calculs!JW114","v":0},"kN/m2"]
[null,null,null,null,null,null,null,null,null,null,null,null,null,"∆pv",{"$f":"Calculs!JX114","v":0},"kN/m2"]
[null,null,null,null,null,null,null,null,null,null,"Trafic ferroviaire voie unique",null,null,"punique",{"$f":"Calculs!JZ114","v":0},"kN/m2"]
[null,null,null,null,null,null,null,null,null,null,"Trafic ferroviaire voies multiples",null,null,"pmultiples",{"$f":"Calculs!KA114","v":0},"kN/m2"]
[null,null,null,null,null,null,null,null,null,null,"Trafic ferroviaire voie étroite",null,null,"pétroite",{"$f":"Calculs!KB114","v":0},"kN/m2"]
[]
[null,null,null,null,null,null,null,null,null,"Résultats"]
[]
[]
[]
[]
[]
[]
[]
[]
[]
[]
[]
[]
[]
[]
[]
[]
[]
[]
[]
[]
[]
[]
[]
[null,"Sollicitations",null,null,null,null,null,null,null,null,"Sollicitations"]
[]
[null,null," Sollicitations",null,null,null,null,null,null,null,null," Sollicitations"]
[null,null,"U1/V1",null,null,null,null,null,null,null,null,"U4/V4"]
[null,null,"À long terme",null,"qs1",{"$f":"Calculs!JK198","v":62.999112688553687},"[kN/m2]",null,null,null,null,"À long terme",null,"qs1",{"$f":"Calculs!KB198","v":114.94449552533848},"[kN/m2]"]
[null,null,"À court terme",null,"qs2",{"$f":"Calculs!JK199","v":23.210763087843834},"[kN/m2]",null,null,null,null,"À court terme",null,"qs2",{"$f":"Calculs!KB199","v":30.584310594059406},"[kN/m2]"]
[null,null,"Charge eff. au sommet",null,"qser",{"$f":"Calculs!JK200","v":86.209875776397524},"[kN/m2]",null,null,null,null,"Charge eff. au sommet",null,"qser",{"$f":"Calculs!KB200","v":145.5288061193979},"[kN/m2]"]
[null,null,"Pression du terrain",null,"qh",{"$f":"Calculs!JG202","v":89.21831086993889},"[kN/m2]",null,null,null,null,"Pression du terrain",null,"qh",{"$f":"Calculs!KB201","v":72.764403059698935},"[kN/m2]"]
[null,null,"Charge de dim. au sommet",null,"qds",{"$f":"Calculs!JK203","v":119.86494676131323},"[kN/m2]",null,null,null,null,"Charge de dim. au sommet",null,"qds",{"$f":"Calculs!KB202","v":201.05153485029606},"[kN/m2]"]
[]
[null,null,null,null,null,null,null,null,null,null,"Vérifications"]
[null,"Vérifications"]
[]
[null,null,null,"Vérification de la déformation (IOWA)",null,null,null,null,null,null,"Poussée d'Archimède"]
[null,null,null,null,"U1/V1",null,{"$f":"IF(Calculs!JK37<0.1,\"\",\"Tuyau rigide. Pas nécessaire de vérifier la déformation!\")","v":""},null,null,null,"Actions stabilisant",null,"G + G' + Gsp",{"$f":"Calculs!JX177","v":38.2556955294841},"[kN/m]"]
[null,null,null,"x/d court",{"$f":"IF(Calculs!JK37<0.1,Calculs!JJ207,\"\")","v":1.1020860973360826E-2},null,null,null,null,null,null,null,"GR",{"$f":"Calculs!JX178","v":5.8819472352767352},"[kN/m]"]
[null,null,null,"x/d long",{"$f":"IF(Calculs!JK37<0.1,Calculs!JJ208,\"\")","v":3.9214674426379548E-2},null,null,null,null,null,null,null,"Somme",{"$f":"Calculs!JX179","v":44.137642764760834},"[kN/m]","Facteur",0.9]
[null,null,null,"Somme",{"$f":"IF(Calculs!JK37<0.1,Calculs!JJ209,\"\")","v":5.0235535399740378E-2},{"$f":"IF(Calculs!JK37<0.1,Calculs!JK209,\"\")","v":"KO!"},null,null,null,null,"Actions déstabilisant",null,"FA",{"$f":"Calculs!JX180","v":0},"[kN/m]","Facteur",1.05]
[null,null,null,"Admissible",{"$f":"IF(Calculs!JK37<0.1,Calculs!JJ210,\"\")","v":0.05}]
[null,null,null,null,null,null,null,null,null,null,"Contôle:",null,"1.05*FA",{"$f":"Calculs!JX182","v":0},"[kN/m]",{"$f":"Calculs!JZ182","v":"OK"}]
[null,null,null,null,null,null,null,null,null,null,null,null,"0.9*Somme",{"$f":"Calculs!JX183","v":39.723878488284754},"[kN/m]"]
[null,"Poussée d'Archimède"]
[null,"Actions stabilisant",null,"G + G' + Gsp",{"$f":"Calculs!JI177","v":21.570451964578364},"[kN/m]",null,null,null,null,"Sécurité structurale"]
[null,null,null,"GR",{"$f":"Calculs!JI178","v":0.17053179105049171},"[kN/m]",null,null,null,null,{"$f":"IF(N138=\"\",\"\",\"Hypothèse: 5% de la charge de dimensionnement est reprise par le tuyau PE et une déformation initiale\")","v":""}]
[null,null,null,"Somme",{"$f":"Calculs!JI179","v":21.740983755628857},"[kN/m]","Facteur",0.9,null,null,{"$f":"IF(N138=\"\",\"\",\"de 0.02m est admis [SIA190:2017;4.2.11.1.2].\")","v":""}]
[null,"Actions déstabilisant",null,"FA",{"$f":"Calculs!JI180","v":0},"[kN/m]","Facteur",1.05]
[]
[null,"Contôle:",null,"1.05*FA",{"$f":"Calculs!JI182","v":0},"[kN/m]",{"$f":"Calculs!JK182","v":"OK"},null,null,null,null,"Sécurité structurale"]
[null,null,null,"0.9*Somme",{"$f":"Calculs!JI183","v":19.566885380065973},"[kN/m]",null,null,null,null,null,"U4/V4"]
[null,null,null,null,null,null,null,null,null,null,null,"qds",null,{"$f":"Calculs!JZ214","v":""},"[kN/m2]"]
[null,null,null,null,null,null,null,null,null,null,null,"qBl",null,{"$f":"Calculs!JZ215","v":""},"[kN/m2]"]
[null,"Sécurité structurale",null,null,null,null,null,null,null,null,null,"pwd",null,{"$f":"Calculs!JZ216","v":""},"[kN/m2]"]
[null,null,null,null,null,null,null,null,null,null,null,"pcr",null,{"$f":"Calculs!JZ217","v":""},"[kN/m2]"]
[null,null,"Sécurité structurale",null,null,null,null,null,null,null,null,"k",null,{"$f":"Calculs!JZ218","v":""},"[-]"]
[null,null,"U1/V1",null,null,null,null,null,null,null,null,"qBl/2*(1-2*pwd/k*pcr)",null,{"$f":"Calculs!JZ219","v":""},"[kN/m2]"]
[null,null,"qds",null,{"$f":"IF(Calculs!JK37<0.1,Calculs!JJ214,\"\")","v":119.86494676131323},"[kN/m2]",{"$f":"IF(Calculs!JK37<0.1,\"\",\"Tuyau rigide. Limite de la formule de la sécurité structurale est dépassée!\")","v":""}]
[null,null,"qBl",null,{"$f":"IF(Calculs!JK37<0.1,Calculs!JJ215,\"\")","v":356.2728460354511},"[kN/m2]",null,null,null,null,null,"Résultat",null,{"$f":"Calculs!JZ221","v":""}]
[null,null,"pwd",null,{"$f":"IF(Calculs!JK37<0.1,Calculs!JJ216,\"\")","v":0},"[kN/m2]"]
[null,null,"pcr",null,{"$f":"IF(Calculs!JK37<0.1,Calculs!JJ217,\"\")","v":47.461648226764531},"[kN/m2]",null,null,null,null,{"$f":"IF(N138=\"\",\"Vérification de la sécurité structurale que nécessaire lors de présence d'eau souterraine!\",\"\")","v":"Vérification de la sécurité structurale que nécessaire lors de présence d'eau souterraine!"}]
[null,null,"k",null,{"$f":"IF(Calculs!JK37<0.1,Calculs!JJ218,\"\")","v":1},"[-]"]
[null,null,"qBl/2*(1-2*pwd/k*pcr)",null,{"$f":"IF(Calculs!JK37<0.1,Calculs!JJ219,\"\")","v":178.13642301772555},"[kN/m2]"]
[]
[null,null,"Résultat",null,{"$f":"IF(Calculs!JK37<0.1,Calculs!JJ221,\"\")","v":"OK"}]
[]
[]
[]
[]
[]
[]
[null,"Aptitude au service",null,null,null,null,null,null,null,null,"Aptitude au service"]
[]
[null,null,null,null,null,null,null,null,null,null,null,null,"σRbz,adm",{"$f":"Calculs!JT325","v":-0.3},"N/mm2"]
[null,null,null,"σRbz,adm",{"$f":"Calculs!JN315","v":14},"N/mm2"]
[null,null,null,null,null,null,null,null,null,null,null,null,null,"Convention des contraintes:"]
[null,null,null,null,"Convention des contraintes:",null,null,null,null,null,null,null,null,"Traction négatif -"]
[null,null,null,null,"Traction négatif -",null,null,null,null,null,null,null,null,"Compression positif +"]
[null,null,null,null,"Compression positif +"]
[]
[null,"Contraintes Profil d'enrobage U1/V1",null,null,null,null,null,null,null,null,"Contraintes Profil d'enrobage U4/V4"]
[null,"Contraintes en [N/mm2]",null,"0°","45°","90°","135°","180°",null,null,"Contraintes en [N/mm2]",null,"0°","45°","90°","135°","180°"]
[null,"Effort normal",null,{"$f":"Calculs!JG322","v":0.59472678124195821},{"$f":"Calculs!JH322","v":0.80376208630218759},{"$f":"Calculs!JI322","v":0.86487648209804757},{"$f":"Calculs!JJ322","v":0.80487974414878116},{"$f":"Calculs!JK322","v":0.59526213949459394},null,null,"Effort normal",null,{"$f":"Calculs!JT329","v":0.12144652389770276},{"$f":"Calculs!JU329","v":0.18646002619628901},{"$f":"Calculs!JV329","v":0.25477675861736648},{"$f":"Calculs!JW329","v":0.19080332879656128},{"$f":"Calculs!JX329","v":0.12352696640328366}]
[null,"Moment extérieur",null,{"$f":"Calculs!JG323","v":2.2932634897309256},{"$f":"Calculs!JH323","v":-0.53535732402017078},{"$f":"Calculs!JI323","v":-1.2155680026768292},{"$f":"Calculs!JJ323","v":-0.54161267133516433},{"$f":"Calculs!JK323","v":2.3021942850072197},null,null,"Moment extérieur",null,{"$f":"Calculs!JT330","v":0.26546612409983672},{"$f":"Calculs!JU330","v":-2.9062701289502379E-3},{"$f":"Calculs!JV330","v":-0.26788584648494168},{"$f":"Calculs!JW330","v":-1.6948223040130102E-3},{"$f":"Calculs!JX330","v":0.27031147769839531}]
[null,"Moment intérieur",null,{"$f":"Calculs!JG324","v":-2.4513712020264999},{"$f":"Calculs!JH324","v":0.57226722213721681},{"$f":"Calculs!JI324","v":1.2993746288685208},{"$f":"Calculs!JJ324","v":0.57895384072043421},{"$f":"Calculs!JK324","v":-2.4609177257685539},null,null,"Moment intérieur",null,{"$f":"Calculs!JT331","v":-0.39656050637136098},{"$f":"Calculs!JU331","v":4.3414652543577624E-3},{"$f":"Calculs!JV331","v":0.40017515339108573},{"$f":"Calculs!JW331","v":2.5317715899453607E-3},{"$f":"Calculs!JX331","v":-0.40379862717908427}]
[]
[null,"Contraintes extérieur",null,{"$f":"Calculs!JG326","v":2.887990270972884},{"$f":"Calculs!JH326","v":0.26840476228201682},{"$f":"Calculs!JI326","v":-0.35069152057878161},{"$f":"Calculs!JJ326","v":0.26326707281361683},{"$f":"Calculs!JK326","v":2.8974564245018137},null,null,"Contraintes extérieur",null,{"$f":"Calculs!JT333","v":0.38691264799753949},{"$f":"Calculs!JU333","v":0.18355375606733879},{"$f":"Calculs!JV333","v":-1.3109087867575198E-2},{"$f":"Calculs!JW333","v":0.18910850649254826},{"$f":"Calculs!JX333","v":0.39383844410167895}]
[null,"Conraintes intérieur",null,{"$f":"Calculs!JG327","v":-1.8566444207845416},{"$f":"Calculs!JH327","v":1.3760293084394044},{"$f":"Calculs!JI327","v":2.1642511109665685},{"$f":"Calculs!JJ327","v":1.3838335848692154},{"$f":"Calculs!JK327","v":-1.8656555862739599},null,null,"Conraintes intérieur",null,{"$f":"Calculs!JT334","v":-0.2751139824736582},{"$f":"Calculs!JU334","v":0.19080149145064679},{"$f":"Calculs!JV334","v":0.65495191200845215},{"$f":"Calculs!JW334","v":0.19333510038650664},{"$f":"Calculs!JX334","v":-0.28027166077580062}]
[]
[null,"Contraintes extérieures",null,{"$f":"Calculs!JG329","v":"OK"},{"$f":"Calculs!JH329","v":"OK"},{"$f":"Calculs!JI329","v":"OK"},{"$f":"Calculs!JJ329","v":"OK"},{"$f":"Calculs!JK329","v":"OK"},null,null,"Contraintes extérieures",null,{"$f":"Calculs!JT336","v":"OK"},{"$f":"Calculs!JU336","v":"OK"},{"$f":"Calculs!JV336","v":"OK"},{"$f":"Calculs!JW336","v":"OK"},{"$f":"Calculs!JX336","v":"OK"}]
[null,"Conraintes intérieures",null,{"$f":"Calculs!JG330","v":"OK"},{"$f":"Calculs!JH330","v":"OK"},{"$f":"Calculs!JI330","v":"OK"},{"$f":"Calculs!JJ330","v":"OK"},{"$f":"Calculs!JK330","v":"OK"},null,null,"Conraintes intérieures",null,{"$f":"Calculs!JT337","v":"OK"},{"$f":"Calculs!JU337","v":"OK"},{"$f":"Calculs!JV337","v":"OK"},{"$f":"Calculs!JW337","v":"OK"},{"$f":"Calculs!JX337","v":"OK"}]

{"sheet":"PE-SN8 (D)","index":35,"n_rows":170,"n_cols":18,"rows_kept":170,"cut":false,"hidden":false,"merged":[[168,1,168,2],[168,10,168,11],[169,1,169,2],[169,10,169,11],[154,12,154,14],[155,12,155,14],[156,12,156,14],[155,3,155,5],[156,3,156,5],[157,3,157,5],[165,1,165,2],[165,10,165,11],[166,1,166,2],[166,10,166,11],[167,1,167,2],[167,10,167,11],[164,1,164,2],[164,10,164,11],[143,2,143,3],[159,1,159,7],[159,10,159,16],[142,2,142,5],[133,11,133,12],[134,2,134,5],[134,11,134,12],[135,2,135,5],[135,11,135,12],[136,2,136,3],[136,6,138,7],[136,11,136,14],[137,2,137,3],[137,11,137,12],[138,2,138,3],[139,2,139,3],[140,2,140,3],[141,2,141,3],[139,10,139,15],[132,11,132,12],[122,1,122,7],[123,1,123,2],[124,1,125,2],[126,1,126,2],[127,1,127,2],[128,1,128,2],[128,6,129,7],[128,11,128,14],[129,1,129,2],[129,11,129,14],[130,11,130,12],[131,11,131,12],[118,5,119,5],[118,10,118,11],[119,10,119,11],[120,10,120,11],[120,15,121,16],[121,10,121,11],[109,2,109,3],[109,11,109,12],[114,3,114,5],[114,10,114,16],[115,5,117,5],[115,6,117,7],[115,10,115,11],[116,10,117,11],[106,11,106,12],[107,2,107,3],[107,11,107,12],[108,2,108,3],[108,11,108,12],[106,2,106,3],[105,2,105,3],[105,11,105,12],[8,0,9,8],[8,9,9,17],[57,7,58,7],[64,16,65,16],[70,0,70,8],[77,9,77,17],[103,2,103,6],[103,11,103,15],[104,2,104,6],[104,11,104,15],[11,4,11,6],[25,13,25,15]]}
[null,"Projekt:",{"$f":"Accueil!P15","v":"VSA 2026"},null,null,"Ingenieur/in:",null,{"$f":"Accueil!AI15","v":0},null,null,"Projekt:",{"$f":"Accueil!$P$15","v":"VSA 2026"},null,null,"Ingenieur/in:",null,{"$f":"Accueil!$AI$15","v":0}]
[]
[null,"N°:",{"$f":"Accueil!P17","v":0},null,null,"Vernatworlticher:",null,{"$f":"Accueil!AI17","v":0},null,null,"N°:",{"$f":"Accueil!P17","v":0},null,null,"Vernatworlticher:",null,{"$f":"Accueil!$AI$17","v":0}]
[]
[null,"Ort:",{"$f":"Accueil!P21","v":0},null,null,"Bauherr:",null,{"$f":"Accueil!AI19","v":0},null,null,"Ort:",{"$f":"Accueil!$P$21","v":0},null,null,"Bauherr:",null,{"$f":"Accueil!$AI$19","v":0}]
[null,null,{"$f":"Accueil!P23","v":0},null,null,null,null,null,null,null,null,{"$f":"Accueil!$P$23","v":0}]
[]
[]
["Daten Normalverlegeprofil U1/V1",null,null,null,null,null,null,null,null,"Daten Normalverlegeprofil U4/V4"]
[]
[]
[null,"PE-Rohr",null,null,{"$f":"IF(Données!$AE$6>F14,\"di max.< di Eingabe!\",\"\")","v":""},null,null,null,null,null,"\"Fiktives\" Betonrohr"]
[]
[null,"Innendurchmesser",null,null,"di",{"$f":"Calculs!JK32","v":321.2},"mm",null,null,null,"Innendurchmesser",null,null,"di",{"$f":"Calculs!JR31/1000","v":0.35499999999999998},"m"]
[null,"Radius",null,null,"rm",{"$f":"Calculs!JO32","v":169.05},"mm",null,null,null,"Radius",null,null,"rm",{"$f":"Calculs!JU31/1000","v":0.2525},"m",null,{"$f":"IF(Accueil!$AZ$15=\"Français\",\"Retour\",IF(Accueil!$AZ$15=\"Deutsch\",\"Zurück\",IF(Accueil!$AZ$15=\"Italiano\",\"\")))","v":"Retour"}]
[null,"Wanddicke",null,null,"e",{"$f":"Calculs!JN32","v":16.899999999999999},"mm",null,null,null,"Wanddicke",null,null,"e",{"$f":"Calculs!JT31/1000","v":0.15},"m"]
[null,"Querschnittsfläche",null,null,"A",{"$f":"Calculs!JJ316","v":1.6899999999999998E-2},"m2",null,null,null,"Querschnittsfläche",null,null,"A",{"$f":"Calculs!JW316","v":0.15},"m2"]
[null,"Widerstandsmoment",null,null,"W",{"$f":"Calculs!JJ317","v":4.7601666666666655E-5},"m3",null,null,null,"Widerstandsmoment",null,null,"W",{"$f":"Calculs!JW317","v":3.7499999999999999E-3},"m3"]
[null,"E-Modul",null,null,"ER,kurz",{"$f":"Calculs!B11","v":1000},"N/mm2",null,null,null,"E-Modul",null,null,"ER,kurz",{"$f":"Calculs!JS33","v":20000},"N/mm2"]
[]
[null,"Systemsteifigkeit",null,null,"SFkurz",{"$f":"Calculs!JK37","v":2.775313752689839E-2},{"$f":"Calculs!JL37","v":"souple"},null,null,null,"Systemsteifigkeit",null,null,"SFkurz",{"$f":"Calculs!JR37","v":116.47081775131731},{"$f":"Calculs!JS37","v":"rigide"}]
[null,"Lastvergrösserungsfaktor",null,null,"f",{"$f":"Calculs!JM41","v":1.0499852114758947},null,null,null,null,"Lastvergrösserungsfaktor",null,null,"f",{"$f":"Calculs!JT41","v":1.2970297029702971}]
[null,"Krümmungseinfluss",null,null,"αka",{"$f":"Calculs!JG316","v":1.0333234743172632},null,null,null,null,"Krümmungseinfluss",null,null,"αka",{"$f":"Calculs!JT317","v":0.80198019801980203}]
[null,null,null,null,"αki",{"$f":"Calculs!JG317","v":0.96667652568273688},null,null,null,null,null,null,null,"αki",{"$f":"Calculs!JT316","v":1.198019801980198}]
[]
[null,"Terrain",null,null,null,null,null,null,null,null,"PE-Rohr",null,null,{"$f":"IF(Données!$AE$6>O28,\"di max.< di Eingabe!\",\"\")","v":""}]
[]
[null,"Bodenqualität",null,null,null,{"$f":"Données!AE30","v":"Sol stable"},null,null,null,null,"Innendurchmesser",null,null,"di",{"$f":"Calculs!JK32","v":321.2},"mm"]
[null,"Feuchtraumgewicht des Baugrunds",null,null,"γ",{"$f":"Données!AE32","v":20},"kN/m3",null,null,null,"Radius",null,null,"rm",{"$f":"Calculs!JO32","v":169.05},"mm"]
[null,"Raumgewicht unter Auftrieb",null,null,"γ'",{"$f":"Données!AE34","v":11},"kN/m3",null,null,null,"Wanddicke",null,null,"e",{"$f":"Calculs!JN32","v":16.899999999999999},"mm"]
[null,"Verformungsmodul des Bodens",null,null,"EB",{"$f":"Données!AE38","v":5},"N/mm2"]
[null,"Erddruckbeiwert",null,null,"K",{"$f":"Données!AE40","v":0.5},null,null,null,null,"Terrain"]
[null,"Setzungs-Durchbiegungsziffer",null,null,"C2",{"$f":"Données!AE42","v":0.5}]
[null,"Hüllbeton",null,null,null,{"$f":"Données!AE50","v":"C16/20"},null,null,null,null,"Bodenqualität",null,null,null,{"$f":"Données!AE30","v":"Sol stable"}]
[null,"Lastminderung",null,null,"λmin",{"$f":"Données!AE44","v":"NON"},null,null,null,null,"Feuchtraumgewicht des Baugrunds",null,null,"γ",{"$f":"Données!AE32","v":20},"kN/m3"]
[null,null,null,null,null,null,null,null,null,null,"Raumgewicht unter Auftrieb",null,null,"γ'",{"$f":"Données!AE34","v":11},"kN/m3"]
[null,"Wasser",null,null,null,null,null,null,null,null,"Verformungsmodul des Bodens",null,null,"EB",{"$f":"Données!AE38","v":5},"N/mm2"]
[null,null,null,null,null,null,null,null,null,null,"Erddruckbeiwert",null,null,"K",{"$f":"Données!AE40","v":0.5}]
[null,"Grundwasser",null,null,null,{"$f":"Données!AE60","v":"Sans eau souterraine"},null,null,null,null,"Setzungs-Durchbiegungsziffer",null,null,"C2",{"$f":"Données!AE42","v":0.5}]
[null,"Grwundwasserspiegel",null,null,"hw",{"$f":"Données!AE62","v":1.3},"m",null,null,null,"Hüllbeton",null,null,null,{"$f":"Données!AE50","v":"C16/20"}]
[null,"Wasser im Rohr",null,null,null,{"$f":"Données!AE64","v":"Tuyau vide"},null,null,null,null,"Lastminderung",null,null,"λmin",{"$f":"Données!AE44","v":"NON"}]
[null,"Druck",null,null,"pEi",{"$f":"Données!AE66","v":10},"kN/m2"]
[null,null,null,null,null,null,null,null,null,null,"Wasser"]
[null,"Graben"]
[null,null,null,null,null,null,null,null,null,null,"Grundwasser",null,null,null,{"$f":"Données!AE60","v":"Sans eau souterraine"}]
[null,"Überdeckungshöhe",null,null,"H",{"$f":"Données!AE52","v":3},"m",null,null,null,"Grwundwasserspiegel",null,null,"hw",{"$f":"Données!AN68","v":0},"m"]
[null,"Grabentyp",null,null,null,{"$f":"Données!AE56","v":"Verticale (U)"},null,null,null,null,"Wasser im Rohr",null,null,null,{"$f":"Données!AE64","v":"Tuyau vide"}]
[null,"Grabenbreite",null,null,"B",{"$f":"Données!$AE$54","v":1.5},"m",null,null,null,"Druck",null,null,"pEi",{"$f":"Données!AE66","v":10},"kN/m2"]
[null,"Böschungsneigung",null,null,"β",{"$f":"Données!AE58","v":30},"°"]
[]
[]
[]
[]
[null,"Einwirkungen",null,null,null,null,null,null,null,null,"Graben"]
[]
[null,"Flächenlast",null,null,null,{"$f":"Données!AE8","v":"Pas de charge"},null,null,null,null,"Überdeckungshöhe",null,null,"H",{"$f":"Calculs!JU101","v":2.85},"m"]
[null,null,null,null,"qs",{"$f":"Calculs!JL128","v":0},"kN/m2",null,null,null,"Grabentyp",null,null,null,{"$f":"Données!$AE$56","v":"Verticale (U)"}]
[null,"Verkehr",null,null,null,{"$f":"Données!AE22","v":"Trafic routier"},null,{"$f":"IF(AND(Accueil!AZ15=\"Deutsch\",AND(OR(F58=\"Voie unique (ferroviaire)\",F58=\"Voies multiples (ferroviaire)\",F58=\"Voie étroite (ferroviaire)\",F58=\"Eingleisig (Bahnverkehr)\",F58=\"Mehrgleisig (Bahnverkehr)\",F58=\"Schmalspur (Bahnverkehr)\"),F46<2)),\"H zu klein!\",\"\")","v":""},null,null,"Grabenbreite",null,null,"B",{"$f":"Données!AE54","v":1.5},"m"]
[null,"Beiwert Strass- und Bahnvekehrslasten",null,null,"α",{"$f":"Calculs!JH98","v":0.9},null,null,null,null,"Böschungsneigung",null,null,"β",{"$f":"Données!AE58","v":30},"°"]
[null,"Dynamischer Beiwert",null,null,"Ψ",{"$f":"Calculs!JI98","v":1}]
[null,"Strassenverkehr und untergeordnete",null,null,"pvtotal",{"$f":"Calculs!JG114","v":24.562000000000001},"kN/m2",null,null,null,"Einwirkungen"]
[null,"Strassen",null,null,"pvRad",{"$f":"Calculs!JH114","v":4.9021999999999997},"kN/m2"]
[null,null,null,null,"∆pv",{"$f":"Calculs!JI114","v":19.659800000000001},"kN/m2",null,null,null,"Flächenlast",null,null,null,{"$f":"Données!AE8","v":"Pas de charge"}]
[null,"Strassenrand",null,null,"pvtotal",{"$f":"Calculs!JJ114","v":0},"kN/m2",null,null,null,null,null,null,"qs",{"$f":"Calculs!JW128","v":0},"kN/m2"]
[null,null,null,null,"pvRad",{"$f":"Calculs!JK114","v":0},"kN/m2",null,null,null,"Verkehr",null,null,null,{"$f":"Données!AE22","v":"Trafic routier"},null,{"$f":"IF(AND(Accueil!AZ15=\"Deutsch\",AND(OR(O65=\"Voie unique (ferroviaire)\",O65=\"Voies multiples (ferroviaire)\",O65=\"Voie étroite (ferroviaire)\",O65=\"Eingleisig (Bahnverkehr)\",O65=\"Mehrgleisig (Bahnverkehr)\",O65=\"Schmalspur (Bahnverkehr)\"),O56<2)),\"H zu klein!\",IF(AND(Accueil!AZ15=\"Deutsch\",AND(OR(O65=\"Trafic routier\",O65=\"Bord de route\",O65=\"Route d'importance secondaire\",O65=\"Strassenverkehr\",O65=\"Strassenrand\",O65=\"Untergeordnete Strasse\"),O56<1)),\"H zu klein!\",\"\"))","v":""}]
[null,null,null,null,"∆pv",{"$f":"Calculs!JL114","v":0},"kN/m2",null,null,null,"Beiwert Strass- und Bahnvekehrslasten",null,null,"α",{"$f":"Calculs!JT98","v":0.9}]
[null,"Bahnverkehr eingleisig",null,null,"peingleisig",{"$f":"Calculs!JN114","v":0},"kN/m2",null,null,null,"Dynamischer Beiwert",null,null,"Ψ",{"$f":"Calculs!JU98","v":1}]
[null,"Bahnverkehr mehrgleisig",null,null,"pmehrgleisig",{"$f":"Calculs!JO114","v":0},"kN/m2",null,null,null,"Strassenverkehr und untergeordnete",null,null,"pvtotal",{"$f":"Calculs!JS114","v":26.200299999999999},"kN/m2"]
[null,"Bahnverkehr schmalspur",null,null,"pschmal",{"$f":"Calculs!JP114","v":0},"kN/m2",null,null,null,"Strassen",null,null,"pvRad",{"$f":"Calculs!JT114","v":5.4489399999999995},"kN/m2"]
[null,null,null,null,null,null,null,null,null,null,null,null,null,"∆pv",{"$f":"Calculs!JU114","v":20.751359999999998},"kN/m2"]
["Resultate",null,null,null,null,null,null,null,null,null,"Strassenrand",null,null,"pvtotal",{"$f":"Calculs!JV114","v":0},"kN/m2"]
[null,null,null,null,null,null,null,null,null,null,null,null,null,"pvRad",{"$f":"Calculs!JW114","v":0},"kN/m2"]
[null,null,null,null,null,null,null,null,null,null,null,null,null,"∆pv",{"$f":"Calculs!JX114","v":0},"kN/m2"]
[null,null,null,null,null,null,null,null,null,null,"Bahnverkehr eingleisig",null,null,"peingleisig",{"$f":"Calculs!JZ114","v":0},"kN/m2"]
[null,null,null,null,null,null,null,null,null,null,"Bahnverkehr mehrgleisig",null,null,"pmehrgleisig",{"$f":"Calculs!KA114","v":0},"kN/m2"]
[null,null,null,null,null,null,null,null,null,null,"Bahnverkehr schmalspur",null,null,"pschmal",{"$f":"Calculs!KB114","v":0},"kN/m2"]
[]
[null,null,null,null,null,null,null,null,null,"Resultate"]
[]
[]
[]
[]
[]
[]
[]
[]
[]
[]
[]
[]
[]
[]
[]
[]
[]
[]
[]
[]
[]
[]
[]
[null,"Beanspruchungen",null,null,null,null,null,null,null,null,"Beanspruchungen"]
[]
[null,null,"Beanspruchungen",null,null,null,null,null,null,null,null,"Beanspruchungen"]
[null,null,"U1/V1",null,null,null,null,null,null,null,null,"U4/V4"]
[null,null,"Langzeit",null,"qs1",{"$f":"Calculs!JK198","v":62.999112688553687},"[kN/m2]",null,null,null,null,"Langzeit",null,"qs1",{"$f":"Calculs!KB198","v":114.94449552533848},"[kN/m2]"]
[null,null,"Kurzzeit",null,"qs2",{"$f":"Calculs!JK199","v":23.210763087843834},"[kN/m2]",null,null,null,null,"Kurzzeit",null,"qs2",{"$f":"Calculs!KB199","v":30.584310594059406},"[kN/m2]"]
[null,null,"Effektive Last auf Scheitel",null,"qser",{"$f":"Calculs!JK200","v":86.209875776397524},"[kN/m2]",null,null,null,null,"Effektive Last auf Scheitel",null,"qser",{"$f":"Calculs!KB200","v":145.5288061193979},"[kN/m2]"]
[null,null,"Erddruck",null,"qh",{"$f":"Calculs!JG202","v":89.21831086993889},"[kN/m2]",null,null,null,null,"Erddruck",null,"qh",{"$f":"Calculs!KB201","v":72.764403059698935},"[kN/m2]"]
[null,null,"Bemessungswert",null,"qds",{"$f":"Calculs!JK203","v":119.86494676131323},"[kN/m2]",null,null,null,null,"Bemessungswert",null,"qds",{"$f":"Calculs!KB202","v":201.05153485029606},"[kN/m2]"]
[]
[null,null,null,null,null,null,null,null,null,null,"Nachweise"]
[null,"Nachweise"]
[]
[null,null,null,"Verformungsnachweis (IOWA)",null,null,null,null,null,null,"Auftrieb"]
[null,null,null,null,"U1/V1",null,{"$f":"IF(Calculs!GK37<0.1,\"\",\"Steifes Rohr. Verformungsnachweis entfällt!\")","v":""},null,null,null,"Stabilisierend",null,"G + G' + Gsp",{"$f":"Calculs!JX177","v":38.2556955294841},"[kN/m]"]
[null,null,null,"x/d kurz",{"$f":"IF(Calculs!JK37<0.1,Calculs!JJ207,\"\")","v":1.1020860973360826E-2},null,null,null,null,null,null,null,"GR",{"$f":"Calculs!JX178","v":5.8819472352767352},"[kN/m]"]
[null,null,null,"x/d lang",{"$f":"IF(Calculs!JK37<0.1,Calculs!JJ208,\"\")","v":3.9214674426379548E-2},null,null,null,null,null,null,null,"Summe",{"$f":"Calculs!JX179","v":44.137642764760834},"[kN/m]","Faktor",0.9]
[null,null,null,"Summe",{"$f":"IF(Calculs!JK37<0.1,Calculs!JJ209,\"\")","v":5.0235535399740378E-2},{"$f":"IF(Calculs!JK37<0.1,Calculs!JK209,\"\")","v":"KO!"},null,null,null,null,"Destabilisierend",null,"FA",{"$f":"Calculs!JX180","v":0},"[kN/m]","Faktor",1.05]
[null,null,null,"Zugelassen",{"$f":"IF(Calculs!JK37<0.1,Calculs!JJ210,\"\")","v":0.05}]
[null,null,null,null,null,null,null,null,null,null,"Kontrolle:",null,"1.05*FA",{"$f":"Calculs!JX182","v":0},"[kN/m]",{"$f":"Calculs!JZ182","v":"OK"}]
[null,null,null,null,null,null,null,null,null,null,null,null,"0.9*Summe",{"$f":"Calculs!JX183","v":39.723878488284754},"[kN/m]"]
[null,"Auftrieb"]
[null,"Stabilisierend",null,"G + G' + Gsp",{"$f":"Calculs!JI177","v":21.570451964578364},"[kN/m]",null,null,null,null,"Tragfähigkeit"]
[null,null,null,"GR",{"$f":"Calculs!JI178","v":0.17053179105049171},"[kN/m]",null,null,null,null,{"$f":"IF(N138=\"\",\"\",\"Annahme: 5% des Bemessungswerts werden durch das PE-Rohr aufgenommen und eine initiale\")","v":""}]
[null,null,null,"Summe",{"$f":"Calculs!JI179","v":21.740983755628857},"[kN/m]","Faktor",0.9,null,null,{"$f":"IF(N138=\"\",\"\",\"Deformation von 0.02m [SIA190:2017;4.2.11.1.2].\")","v":""}]
[null,"Destabilisierend",null,"FA",{"$f":"Calculs!JI180","v":0},"[kN/m]","Faktor",1.05]
[]
[null,"Kontrolle:",null,"1.05*FA",{"$f":"Calculs!JI182","v":0},"[kN/m]",{"$f":"Calculs!JK182","v":"OK"},null,null,null,null,"Tragfähigkeit"]
[null,null,null,"0.9*Summe",{"$f":"Calculs!JI183","v":19.566885380065973},"[kN/m]",null,null,null,null,null,"U4/V4"]
[null,null,null,null,null,null,null,null,null,null,null,"qds",null,{"$f":"Calculs!JZ214","v":""},"[kN/m2]"]
[null,null,null,null,null,null,null,null,null,null,null,"qBl",null,{"$f":"Calculs!JZ215","v":""},"[kN/m2]"]
[null,"Tragfähigkeit",null,null,null,null,null,null,null,null,null,"pwd",null,{"$f":"Calculs!JZ216","v":""},"[kN/m2]"]
[null,null,null,null,null,null,null,null,null,null,null,"pcr",null,{"$f":"Calculs!JZ217","v":""},"[kN/m2]"]
[null,null,"Tragfähigkeit",null,null,null,null,null,null,null,null,"k",null,{"$f":"Calculs!JZ218","v":""},"[-]"]
[null,null,"U1/V1",null,null,null,null,null,null,null,null,"qBl/2*(1-2*pwd/k*pcr)",null,{"$f":"Calculs!JZ219","v":""},"[kN/m2]"]
[null,null,"qds",null,{"$f":"IF(Calculs!JK37<0.1,Calculs!JJ214,\"\")","v":119.86494676131323},"[kN/m2]",{"$f":"IF(Calculs!GK37<0.1,\"\",\"Steifes Rohr. Limite der Tragfähigkeitsformel überschritten!\")","v":""}]
[null,null,"qBl",null,{"$f":"IF(Calculs!JK37<0.1,Calculs!JJ215,\"\")","v":356.2728460354511},"[kN/m2]",null,null,null,null,null,"Resultate",null,{"$f":"Calculs!JZ221","v":""}]
[null,null,"pwd",null,{"$f":"IF(Calculs!JK37<0.1,Calculs!JJ216,\"\")","v":0},"[kN/m2]"]
[null,null,"pcr",null,{"$f":"IF(Calculs!JK37<0.1,Calculs!JJ217,\"\")","v":47.461648226764531},"[kN/m2]",null,null,null,null,{"$f":"IF(N138=\"\",\"Tragfähigkeitsnachweis nur nötig bei Grundwasser!\",\"\")","v":"Tragfähigkeitsnachweis nur nötig bei Grundwasser!"}]
[null,null,"k",null,{"$f":"IF(Calculs!JK37<0.1,Calculs!JJ218,\"\")","v":1},"[-]"]
[null,null,"qBl/2*(1-2*pwd/k*pcr)",null,{"$f":"IF(Calculs!JK37<0.1,Calculs!JJ219,\"\")","v":178.13642301772555},"[kN/m2]"]
[]
[null,null,"Resultate",null,{"$f":"IF(Calculs!JK37<0.1,Calculs!JJ221,\"\")","v":"OK"}]
[]
[]
[]
[]
[]
[]
[null,"Gebrauchstauglichkeit",null,null,null,null,null,null,null,null,"Gebrauchstauglichkeit"]
[]
[null,null,null,null,null,null,null,null,null,null,null,null,"σRbz,adm",{"$f":"Calculs!JT325","v":-0.3},"N/mm2"]
[null,null,null,"σRbz,adm",{"$f":"Calculs!JN315","v":14},"N/mm2"]
[null,null,null,null,null,null,null,null,null,null,null,null,"Spannungskonventionen:"]
[null,null,null,"Spannungskonventionen:",null,null,null,null,null,null,null,null,"Zug negatif -"]
[null,null,null,"Zug negatif -",null,null,null,null,null,null,null,null,"Druck positif +"]
[null,null,null,"Druck positif +"]
[]
[null,"Spannungen Verlegeprofil U1/V1",null,null,null,null,null,null,null,null,"Spannungen Verlegeprofil U4/V4"]
[null,"Spannungen in [N/mm2]",null,"0°","45°","90°","135°","180°",null,null,"Spannungen in [N/mm2]",null,"0°","45°","90°","135°","180°"]
[null,"Durch die Normalkraft",null,{"$f":"Calculs!JG322","v":0.59472678124195821},{"$f":"Calculs!JH322","v":0.80376208630218759},{"$f":"Calculs!JI322","v":0.86487648209804757},{"$f":"Calculs!JJ322","v":0.80487974414878116},{"$f":"Calculs!JK322","v":0.59526213949459394},null,null,"Durch die Normalkraft",null,{"$f":"Calculs!JT329","v":0.12144652389770276},{"$f":"Calculs!JU329","v":0.18646002619628901},{"$f":"Calculs!JV329","v":0.25477675861736648},{"$f":"Calculs!JW329","v":0.19080332879656128},{"$f":"Calculs!JX329","v":0.12352696640328366}]
[null,"Durch das Moment aussen",null,{"$f":"Calculs!JG323","v":2.2932634897309256},{"$f":"Calculs!JH323","v":-0.53535732402017078},{"$f":"Calculs!JI323","v":-1.2155680026768292},{"$f":"Calculs!JJ323","v":-0.54161267133516433},{"$f":"Calculs!JK323","v":2.3021942850072197},null,null,"Durch das Moment aussen",null,{"$f":"Calculs!JT330","v":0.26546612409983672},{"$f":"Calculs!JU330","v":-2.9062701289502379E-3},{"$f":"Calculs!JV330","v":-0.26788584648494168},{"$f":"Calculs!JW330","v":-1.6948223040130102E-3},{"$f":"Calculs!JX330","v":0.27031147769839531}]
[null,"Durch das Moment innen",null,{"$f":"Calculs!JG324","v":-2.4513712020264999},{"$f":"Calculs!JH324","v":0.57226722213721681},{"$f":"Calculs!JI324","v":1.2993746288685208},{"$f":"Calculs!JJ324","v":0.57895384072043421},{"$f":"Calculs!JK324","v":-2.4609177257685539},null,null,"Durch das Moment innen",null,{"$f":"Calculs!JT331","v":-0.39656050637136098},{"$f":"Calculs!JU331","v":4.3414652543577624E-3},{"$f":"Calculs!JV331","v":0.40017515339108573},{"$f":"Calculs!JW331","v":2.5317715899453607E-3},{"$f":"Calculs!JX331","v":-0.40379862717908427}]
[]
[null,"Spannungen aussen",null,{"$f":"Calculs!JG326","v":2.887990270972884},{"$f":"Calculs!JH326","v":0.26840476228201682},{"$f":"Calculs!JI326","v":-0.35069152057878161},{"$f":"Calculs!JJ326","v":0.26326707281361683},{"$f":"Calculs!JK326","v":2.8974564245018137},null,null,"Spannungen aussen",null,{"$f":"Calculs!JT333","v":0.38691264799753949},{"$f":"Calculs!JU333","v":0.18355375606733879},{"$f":"Calculs!JV333","v":-1.3109087867575198E-2},{"$f":"Calculs!JW333","v":0.18910850649254826},{"$f":"Calculs!JX333","v":0.39383844410167895}]
[null,"Spannungen innen","Spannungen innen",{"$f":"Calculs!JG327","v":-1.8566444207845416},{"$f":"Calculs!JH327","v":1.3760293084394044},{"$f":"Calculs!JI327","v":2.1642511109665685},{"$f":"Calculs!JJ327","v":1.3838335848692154},{"$f":"Calculs!JK327","v":-1.8656555862739599},null,null,"Spannungen innen","Spannungen innen",{"$f":"Calculs!JT334","v":-0.2751139824736582},{"$f":"Calculs!JU334","v":0.19080149145064679},{"$f":"Calculs!JV334","v":0.65495191200845215},{"$f":"Calculs!JW334","v":0.19333510038650664},{"$f":"Calculs!JX334","v":-0.28027166077580062}]
[]
[null,"Spannungen aussen",null,{"$f":"Calculs!JG329","v":"OK"},{"$f":"Calculs!JH329","v":"OK"},{"$f":"Calculs!JI329","v":"OK"},{"$f":"Calculs!JJ329","v":"OK"},{"$f":"Calculs!JK329","v":"OK"},null,null,"Spannungen aussen",null,{"$f":"Calculs!JT336","v":"OK"},{"$f":"Calculs!JU336","v":"OK"},{"$f":"Calculs!JV336","v":"OK"},{"$f":"Calculs!JW336","v":"OK"},{"$f":"Calculs!JX336","v":"OK"}]
[null,"Spannungen innen","Spannungen innen",{"$f":"Calculs!JG330","v":"OK"},{"$f":"Calculs!JH330","v":"OK"},{"$f":"Calculs!JI330","v":"OK"},{"$f":"Calculs!JJ330","v":"OK"},{"$f":"Calculs!JK330","v":"OK"},null,null,"Spannungen innen","Spannungen innen",{"$f":"Calculs!JT337","v":"OK"},{"$f":"Calculs!JU337","v":"OK"},{"$f":"Calculs!JV337","v":"OK"},{"$f":"Calculs!JW337","v":"OK"},{"$f":"Calculs!JX337","v":"OK"}]

{"sheet":"GF-UP SN2500","index":36,"n_rows":188,"n_cols":17,"rows_kept":188,"cut":false,"hidden":false,"merged":[[163,10,163,11],[164,10,164,11],[168,10,168,11],[169,10,169,11],[105,1,105,3],[106,1,106,3],[107,1,107,3],[108,1,108,3],[109,1,109,3],[165,10,165,11],[166,1,166,2],[166,10,166,11],[167,1,167,2],[167,10,167,11],[159,1,159,7],[159,10,159,16],[160,1,160,2],[160,10,160,11],[162,1,162,2],[161,10,161,11],[162,10,162,11],[143,2,143,3],[135,2,135,5],[135,11,135,12],[136,2,136,3],[136,6,138,7],[136,11,136,14],[137,2,137,3],[137,11,137,12],[138,2,138,3],[139,2,139,3],[140,2,140,3],[141,2,141,3],[142,2,142,5],[139,10,140,15],[130,11,130,12],[131,11,131,12],[132,11,132,12],[133,11,133,12],[134,2,134,5],[134,11,134,12],[127,1,127,2],[128,1,128,2],[128,6,129,7],[128,11,128,14],[129,1,129,2],[129,11,129,14],[120,15,121,16],[121,10,121,11],[122,1,122,7],[123,1,123,2],[126,1,126,2],[124,1,125,2],[120,10,120,11],[115,5,117,5],[115,6,117,7],[115,10,115,11],[116,10,117,11],[118,5,119,5],[118,10,118,11],[119,10,119,11],[108,11,108,12],[109,11,109,12],[114,3,114,5],[114,10,114,16],[110,1,110,3],[105,11,105,12],[106,11,106,12],[107,11,107,12],[70,0,70,8],[77,9,77,17],[103,11,103,15],[104,11,104,15],[103,1,103,6],[104,1,104,6],[64,16,65,16],[8,0,9,8],[8,9,9,17],[57,7,58,7],[11,4,11,6],[25,13,25,15],[169,1,169,2],[161,1,161,7],[163,1,163,2],[164,1,164,2],[170,1,170,2],[172,1,172,7],[173,1,173,2],[174,1,174,2],[175,1,175,2],[177,1,177,2],[178,1,178,2],[180,1,180,2],[181,1,181,2],[186,1,186,2],[187,1,187,2],[183,1,183,2],[184,1,184,2]]}
[null,"Projet:",{"$f":"Accueil!P15","v":"VSA 2026"},null,null,"Ingénieur/e:",null,{"$f":"Accueil!AI15","v":0},null,null,"Projet:",{"$f":"Accueil!$P$15","v":"VSA 2026"},null,null,"Ingénieur/e:",null,{"$f":"Accueil!$AI$15","v":0}]
[]
[null,"N°:",{"$f":"Accueil!P17","v":0},null,null,"Respoonsable:",null,{"$f":"Accueil!AI17","v":0},null,null,"N°:",{"$f":"Accueil!P17","v":0},null,null,"Respoonsable:",null,{"$f":"Accueil!$AI$17","v":0}]
[]
[null,"Lieu:",{"$f":"Accueil!P21","v":0},null,null,"Maître douvrage:",null,{"$f":"Accueil!AI19","v":0},null,null,"Lieu:",{"$f":"Accueil!$P$21","v":0},null,null,"Maître douvrage:",null,{"$f":"Accueil!$AI$19","v":0}]
[null,null,{"$f":"Accueil!P23","v":0},null,null,null,null,null,null,null,null,{"$f":"Accueil!$P$23","v":0}]
[]
[]
["Données profil d'enrobage U1/V1",null,null,null,null,null,null,null,null,"Données profil d'enrobage U4/V4"]
[]
[]
[null,"Tuyau GF-UP",null,null,{"$f":"IF(Données!$AE$6>F14,\"di max.< di introduit!\",\"\")","v":""},null,null,null,null,null,"Tuyau \"fictif\" en béton"]
[]
[null,"Diamètre intérieur ",null,null,"di",{"$f":"Calculs!MJ35","v":362},"mm",null,null,null,"Diamètre intérieur ",null,null,"di",{"$f":"Calculs!MR34/1000","v":0.376},"m"]
[null,"Rayon moyen",null,null,"rm",{"$f":"Calculs!MN35","v":184.5},"mm",null,null,null,"Rayon moyen",null,null,"rm",{"$f":"Calculs!MU34/1000","v":0.26550000000000001},"m"]
[null,"Épaisseur de paroi",null,null,"e",{"$f":"Calculs!MM35","v":7},"mm",null,null,null,"Épaisseur de paroi",null,null,"e",{"$f":"Calculs!MT34/1000","v":0.155},"m"]
[null,"Section",null,null,"A",{"$f":"Calculs!MJ384","v":7.0000000000000001E-3},"m2",null,null,null,"Section",null,null,"A",{"$f":"Calculs!MW322","v":0.155},"m2"]
[null,"Module de flexion",null,null,"W",{"$f":"Calculs!MJ385","v":8.1666666666666658E-6},"m3",null,null,null,"Module de flexion",null,null,"W",{"$f":"Calculs!MW323","v":4.0041666666666663E-3},"m3"]
[null,"Module d'élasticité",null,null,"ER,court",{"$f":"Calculs!MK41","v":4394.4672594752183},"N/mm2",null,null,null,"Module d'élasticité",null,null,"ER,court",{"$f":"Calculs!MS36","v":20000},"N/mm2"]
[]
[null,"Rigidité du système",null,null,"SFcourt",{"$f":"Calculs!MK46","v":6.6666666666666654E-3},{"$f":"Calculs!ML46","v":"souple"},null,null,null,"Rigidité du système",null,null,"SFcourt",{"$f":"Calculs!MR46","v":110.54243150732353},{"$f":"Calculs!MS46","v":"rigide"}]
[null,"Facteur de majoration de charge",null,null,"f",{"$f":"Calculs!MM50","v":1},null,null,null,null,"Facteur de majoration de charge",null,null,"f",{"$f":"Calculs!MT50","v":1.2919020715630884}]
[null,"Effet de courbure:",null,null,"αka",{"$f":"Calculs!MG385","v":1},null,null,null,null,"Effet de courbure:",null,null,"αka",{"$f":"Calculs!MT323","v":0.80539861895794096}]
[null,null,null,null,"αki",{"$f":"Calculs!MG384","v":1},null,null,null,null,null,null,null,"αki",{"$f":"Calculs!MT322","v":1.194601381042059}]
[]
[null,"Terrain",null,null,null,null,null,null,null,null,"Tuyau GF-UP",null,null,{"$f":"IF(Données!$AE$6>O28,\"di max.< di introduit!\",\"\")","v":""}]
[]
[null,"Qualité du sol",null,null,null,{"$f":"Données!AE30","v":"Sol stable"},null,null,null,null,"Diamètre intérieur ",null,null,"di",{"$f":"Calculs!MJ35","v":362},"mm"]
[null,"Poids volumique apparent hum.",null,null,"γ",{"$f":"Données!AE32","v":20},"kN/m3",null,null,null,"Rayon moyen",null,null,"rm",{"$f":"Calculs!MN35","v":184.5},"mm"]
[null,"Poids volumique déjaugé",null,null,"γ'",{"$f":"Données!AE34","v":11},"kN/m3",null,null,null,"Épaisseur de paroi",null,null,"e",{"$f":"Calculs!MM35","v":7},"mm"]
[null,"Module de déformation du sol",null,null,"EB",{"$f":"Données!AE38","v":5},"N/mm2"]
[null,"Coefficient de pression du terrain",null,null,"K",{"$f":"Données!AE40","v":0.5},null,null,null,null,"Terrain"]
[null,"Coefficient de flexion au tassement",null,null,"C2",{"$f":"Données!AE42","v":0.5}]
[null,"Type de béton d'enrobage",null,null,null,{"$f":"Données!AE50","v":"C16/20"},null,null,null,null,"Qualité du sol",null,null,null,{"$f":"Données!AE30","v":"Sol stable"}]
[null,"Réduction de charge",null,null,"λmin",{"$f":"Données!AE44","v":"NON"},null,null,null,null,"Poids volumique apparent hum.",null,null,"γ",{"$f":"Données!AE32","v":20},"kN/m3"]
[null,null,null,null,null,null,null,null,null,null,"Poids volumique déjaugé",null,null,"γ'",{"$f":"Données!AE34","v":11},"kN/m3"]
[null,"Eau",null,null,null,null,null,null,null,null,"Module de déformation du sol",null,null,"EB",{"$f":"Données!AE38","v":5},"N/mm2"]
[null,null,null,null,null,null,null,null,null,null,"Coefficient de pression du terrain",null,null,"K",{"$f":"Données!AE40","v":0.5}]
[null,"Eau souterraine",null,null,null,{"$f":"Données!AE60","v":"Sans eau souterraine"},null,null,null,null,"Coefficient de flexion au tassement",null,null,"C2",{"$f":"Données!AE42","v":0.5}]
[null,"Niveau d'eau souterraine",null,null,"hw",{"$f":"Données!AE62","v":1.3},"m",null,null,null,"Type de béton d'enrobage",null,null,null,{"$f":"Données!AE50","v":"C16/20"}]
[null,"Eau à l'intérieur du tuyau",null,null,null,{"$f":"Données!AE64","v":"Tuyau vide"},null,null,null,null,"Réduction de charge",null,null,"λmin",{"$f":"Données!AE44","v":"NON"}]
[null,"Pression",null,null,"pEi",{"$f":"Données!AE66","v":10},"kN/m2"]
[null,null,null,null,null,null,null,null,null,null,"Eau"]
[null,"Fouille"]
[null,null,null,null,null,null,null,null,null,null,"Eau souterraine",null,null,null,{"$f":"Données!AE60","v":"Sans eau souterraine"}]
[null,"Hauteur de couverture",null,null,"H",{"$f":"Données!AE52","v":3},"m",null,null,null,"Niveau d'eau souterraine",null,null,"hw",{"$f":"Données!AE62","v":1.3},"m"]
[null,"Type de fouille",null,null,null,{"$f":"Données!AE56","v":"Verticale (U)"},null,null,null,null,"Eau à l'intérieur du tuyau",null,null,null,{"$f":"Données!AE64","v":"Tuyau vide"}]
[null,"Largeur de fouille",null,null,"B",{"$f":"Données!$AE$54","v":1.5},"m",null,null,null,"Pression",null,null,"pEi",{"$f":"Données!AE66","v":10},"kN/m2"]
[null,"Angle de talus",null,null,"β",{"$f":"Données!AE58","v":30},"°"]
[]
[]
[]
[]
[null,"Actions",null,null,null,null,null,null,null,null,"Fouille"]
[]
[null,"Charge surfacique",null,null,null,{"$f":"Données!AE8","v":"Pas de charge"},null,null,null,null,"Hauteur de couverture",null,null,"H",{"$f":"Calculs!MU107","v":2.8450000000000002},"m"]
[null,null,null,null,"qs",{"$f":"Calculs!ML134","v":0},"kN/m2",null,null,null,"Type de fouille",null,null,null,{"$f":"Données!$AE$56","v":"Verticale (U)"}]
[null,"Trafic ",null,null,null,{"$f":"Données!AE22","v":"Trafic routier"},null,{"$f":"IF(AND(Accueil!AZ15=\"Français\",AND(OR(F58=\"Voie unique (ferroviaire)\",F58=\"Voies multiples (ferroviaire)\",F58=\"Voie étroite (ferroviaire)\",F58=\"Eingleisig (Bahnverkehr)\",F58=\"Mehrgleisig (Bahnverkehr)\",F58=\"Schmalspur (Bahnverkehr)\"),F46<2)),\"H trop faible!\",\"\")","v":""},null,null,"Largeur de fouille",null,null,"B",{"$f":"Données!AE54","v":1.5},"m"]
[null,"Coefficient de charge",null,null,"α",{"$f":"Calculs!MH104","v":0.9},null,null,null,null,"Angle de talus",null,null,"β",{"$f":"Données!AE58","v":30},"°"]
[null,"Coefficient dynamique",null,null,"Ψ",{"$f":"Calculs!MI104","v":1}]
[null,"Trafic routier et route d'importance",null,null,"pvtotale",{"$f":"Calculs!MG120","v":24.562000000000001},"kN/m2",null,null,null,"Actions"]
[null,"secondaire",null,null,"pvroue",{"$f":"Calculs!MH120","v":4.9021999999999997},"kN/m2"]
[null,null,null,null,"∆pv",{"$f":"Calculs!MI120","v":19.659800000000001},"kN/m2",null,null,null,"Charge surfacique",null,null,null,{"$f":"Données!AE8","v":"Pas de charge"}]
[null,"Bord de route",null,null,"pvtotale",{"$f":"Calculs!MJ120","v":0},"kN/m2",null,null,null,null,null,null,"qs",{"$f":"Calculs!MW134","v":0},"kN/m2"]
[null,null,null,null,"pvroue",{"$f":"Calculs!MK120","v":0},"kN/m2",null,null,null,"Trafic ",null,null,null,{"$f":"Données!AE22","v":"Trafic routier"},null,{"$f":"IF(AND(Accueil!AZ15=\"Français\",AND(OR(O65=\"Voie unique (ferroviaire)\",O65=\"Voies multiples (ferroviaire)\",O65=\"Voie étroite (ferroviaire)\",O65=\"Eingleisig (Bahnverkehr)\",O65=\"Mehrgleisig (Bahnverkehr)\",O65=\"Schmalspur (Bahnverkehr)\"),O56<2)),\"H trop faible!\",IF(AND(Accueil!AZ15=\"Français\",AND(OR(O65=\"Trafic routier\",O65=\"Bord de route\",O65=\"Route d'importance secondaire\",O65=\"Strassenverkehr\",O65=\"Strassenrand\",O65=\"Untergeordnete Strasse\"),O56<1)),\"H trop faible!\",\"\"))","v":""}]
[null,null,null,null,"∆pv",{"$f":"Calculs!ML120","v":0},"kN/m2",null,null,null,"Coefficient de charge",null,null,"α",{"$f":"Calculs!MT104","v":0.9}]
[null,"Trafic ferroviaire voie unique",null,null,"punique",{"$f":"Calculs!MN120","v":0},"kN/m2",null,null,null,"Coefficient dynamique",null,null,"Ψ",{"$f":"Calculs!MU104","v":1}]
[null,"Trafic ferroviaire voies multiples",null,null,"pmultiples",{"$f":"Calculs!MO120","v":0},"kN/m2",null,null,null,"Trafic routier et route d'importance",null,null,"pvtotale",{"$f":"Calculs!MS120","v":26.258819999999996},"kN/m2"]
[null,"Trafic ferroviaire voie étroite",null,null,"pétroite",{"$f":"Calculs!MP120","v":0},"kN/m2",null,null,null,"secondaire",null,null,"pvroue",{"$f":"Calculs!MT120","v":5.4692679999999987},"kN/m2"]
[null,null,null,null,null,null,null,null,null,null,null,null,null,"∆pv",{"$f":"Calculs!MU120","v":20.789551999999997},"kN/m2"]
["Résultats",null,null,null,null,null,null,null,null,null,"Bord de route",null,null,"pvtotale",{"$f":"Calculs!MV120","v":0},"kN/m2"]
[null,null,null,null,null,null,null,null,null,null,null,null,null,"pvroue",{"$f":"Calculs!MW120","v":0},"kN/m2"]
[null,null,null,null,null,null,null,null,null,null,null,null,null,"∆pv",{"$f":"Calculs!MX120","v":0},"kN/m2"]
[null,null,null,null,null,null,null,null,null,null,"Trafic ferroviaire voie unique",null,null,"punique",{"$f":"Calculs!MZ120","v":0},"kN/m2"]
[null,null,null,null,null,null,null,null,null,null,"Trafic ferroviaire voies multiples",null,null,"pmultiples",{"$f":"Calculs!NA120","v":0},"kN/m2"]
[null,null,null,null,null,null,null,null,null,null,"Trafic ferroviaire voie étroite",null,null,"pétroite",{"$f":"Calculs!NB120","v":0},"kN/m2"]
[]
[null,null,null,null,null,null,null,null,null,"Résultats"]
[]
[]
[]
[]
[]
[]
[]
[]
[]
[]
[]
[]
[]
[]
[]
[]
[]
[]
[]
[]
[]
[]
[]
[null,"Sollicitations",null,null,null,null,null,null,null,null,"Sollicitations"]
[]
[null," Sollicitations",null,null,null,null,null,null,null,null,null," Sollicitations"]
[null,"U1/V1",null,null,null,null,null,null,null,null,null,"U4/V4"]
[null,"À long terme",null,null,"qs1",{"$f":"Calculs!MK204","v":60},"[kN/m2]",null,null,null,null,"À long terme",null,"qs1",{"$f":"Calculs!NB204","v":114.28921823140801},"[kN/m2]"]
[null,"À court terme",null,null,"qs2",{"$f":"Calculs!MK205","v":22.105800000000002},"[kN/m2]",null,null,null,null,"À court terme",null,"qs2",{"$f":"Calculs!NB205","v":30.531441559322026},"[kN/m2]"]
[null,"Charge eff. au sommet",null,null,"qser",{"$f":"Calculs!MK206","v":82.105800000000002},"[kN/m2]",null,null,null,null,"Charge eff. au sommet",null,"qser",{"$f":"Calculs!NB206","v":144.82065979073005},"[kN/m2]"]
[null,"Pression du terrain long terme",null,null,"qhlong",{"$f":"Calculs!MK207","v":70.10526315789474},"[kN/m2]",null,null,null,null,"Pression du terrain",null,"qh",{"$f":"Calculs!NB207","v":72.410329895365024},"[kN/m2]"]
[null,"Pression du terrain court terme",null,null,"qhcourt",{"$f":"Calculs!MK208","v":24.537437999999998},"[kN/m2]",null,null,null,null,"Charge de dim. au sommet",null,"qds",{"$f":"Calculs!NB208","v":200.08760695138386},"[kN/m2]"]
[null,"Charge de dim. au sommet",null,null,"qds",{"$f":"Calculs!MK211","v":114.15870000000001},"[kN/m2]"]
[null,null,null,null,null,null,null,null,null,null,"Vérifications"]
[null,"Vérifications"]
[]
[null,null,null,"Vérification de la déformation (IOWA)",null,null,null,null,null,null,"Poussée d'Archimède"]
[null,null,null,null,1,null,{"$f":"IF(Calculs!MK46<0.1,\"\",\"Tuyau rigide. Pas nécessaire de vérifier la déformation!\")","v":""},null,null,null,"Actions stabilisant",null,"G + G' + Gsp",{"$f":"Calculs!MX183","v":40.043307658978151},"[kN/m]"]
[null,null,null,"x/d court",{"$f":"IF(Calculs!MK46<0.1,Calculs!MJ214,\"\")","v":1.3816125000000002E-2},null,null,null,null,null,null,null,"GR",{"$f":"Calculs!MX184","v":6.3436012755007729},"[kN/m]"]
[null,null,null,"x/d long",{"$f":"IF(Calculs!MK46<0.1,Calculs!MJ215,\"\")","v":3.9473684210526327E-2},null,null,null,null,null,null,null,"Somme",{"$f":"Calculs!MX185","v":46.386908934478924},"[kN/m]","Facteur",0.9]
[null,null,null,"Somme",{"$f":"IF(Calculs!MK46<0.1,Calculs!MJ216,\"\")","v":5.3289809210526326E-2},{"$f":"IF(Calculs!MK46<0.1,Calculs!MK216,\"\")","v":"KO!"},null,null,null,null,"Actions déstabilisant",null,"FA",{"$f":"Calculs!MX186","v":0},"[kN/m]","Facteur",1.05]
[null,null,null,"Admissible",{"$f":"IF(Calculs!MK46<0.1,Calculs!MJ217,\"\")","v":0.05}]
[null,null,null,null,null,null,null,null,null,null,"Contôle:",null,"1.05*FA",{"$f":"Calculs!MX188","v":0},"[kN/m]",{"$f":"Calculs!MZ188","v":"OK"}]
[null,null,null,null,null,null,null,null,null,null,null,null,"0.9*Somme",{"$f":"Calculs!MX189","v":41.748218041031031},"[kN/m]"]
[null,"Poussée d'Archimède"]
[null,"Actions stabilisant",null,"G + G' + Gsp",{"$f":"Calculs!MI183","v":22.863395492515224},"[kN/m]",null,null,null,null,"Sécurité structurale"]
[null,null,null,"GR",{"$f":"Calculs!MI184","v":0.1379504750117814},"[kN/m]",null,null,null,null,{"$f":"IF(N138=\"\",\"\",\"Hypothèse: 5% de la charge de dimensionnement est reprise par le tuyau GF-UP et une déformation initiale\")","v":""}]
[null,null,null,"Somme",{"$f":"Calculs!MI185","v":23.001345967527005},"[kN/m]","Facteur",0.9,null,null,{"$f":"IF(N138=\"\",\"\",\"de 0.02m est admis [SIA190:2017;4.2.11.1.2].\")","v":""}]
[null,"Actions déstabilisant",null,"FA",{"$f":"Calculs!MI186","v":0},"[kN/m]","Facteur",1.05]
[]
[null,"Contôle:",null,"1.05*FA",{"$f":"Calculs!MI188","v":0},"[kN/m]",{"$f":"Calculs!MK188","v":"OK"},null,null,null,null,"Sécurité structurale"]
[null,null,null,"0.9*Somme",{"$f":"Calculs!MI189","v":20.701211370774306},"[kN/m]",null,null,null,null,null,"U4/V4"]
[null,null,null,null,null,null,null,null,null,null,null,"qds",null,{"$f":"Calculs!MW220","v":""},"[kN/m2]"]
[null,null,null,null,null,null,null,null,null,null,null,"qBl",null,{"$f":"Calculs!MW221","v":""},"[kN/m2]"]
[null,"Sécurité structurale",null,null,null,null,null,null,null,null,null,"pwd",null,{"$f":"Calculs!MW222","v":""},"[kN/m2]"]
[null,null,null,null,null,null,null,null,null,null,null,"pcr",null,{"$f":"Calculs!MW223","v":""},"[kN/m2]"]
[null,null,"Sécurité structurale",null,null,null,null,null,null,null,null,"k",null,{"$f":"Calculs!MW224","v":""},"[-]"]
[null,null,"U1/V1",null,null,null,null,null,null,null,null,"qBl/2*(1-2*pwd/k*pcr)",null,{"$f":"Calculs!MW225","v":""},"[kN/m2]"]
[null,null,"qds",null,{"$f":"IF(Calculs!MK46<0.1,Calculs!MJ220,\"\")","v":114.15870000000001},"[kN/m2]",{"$f":"IF(Calculs!MK46<0.1,\"\",\"Tuyau rigide. Limite de la formule de la sécurité structurale est dépassée!\")","v":""}]
[null,null,"qBl",null,{"$f":"IF(Calculs!MK46<0.1,Calculs!MJ221,\"\")","v":276.72031395968474},"[kN/m2]",null,null,null,null,null,"Résultat",null,{"$f":"Calculs!MW227","v":""}]
[null,null,"pwd",null,{"$f":"IF(Calculs!MK46<0.1,Calculs!MJ222,\"\")","v":0},"[kN/m2]"]
[null,null,"pcr",null,{"$f":"IF(Calculs!MK46<0.1,Calculs!MJ223,\"\")","v":21.24408311525665},"[kN/m2]",null,null,null,null,{"$f":"IF(N138=\"\",\"Vérification de la sécurité structurale que nécessaire lors de présence d'eau souterraine!\",\"\")","v":"Vérification de la sécurité structurale que nécessaire lors de présence d'eau souterraine!"}]
[null,null,"k",null,{"$f":"IF(Calculs!MK46<0.1,Calculs!MJ224,\"\")","v":1},"[-]"]
[null,null,"qBl/2*(1-2*pwd/k*pcr)",null,{"$f":"IF(Calculs!MK46<0.1,Calculs!MJ225,\"\")","v":138.36015697984237},"[kN/m2]"]
[]
[null,null,"Résultat",null,{"$f":"IF(Calculs!MK46<0.1,Calculs!MJ227,\"\")","v":"OK"}]
[]
[]
[]
[]
[]
[]
[null,"Aptitude au service",null,null,null,null,null,null,null,null,"Aptitude au service"]
[]
[null,null,null,null,null,null,null,null,null,null,null,null,"σRbz,adm",{"$f":"contrainte","v":-0.3},"N/mm2"]
[null,null,null,"εRbz,adm",{"$f":"Calculs!MN418","v":0.60894308943089437},"%"]
[null,null,null,null,null,null,null,null,null,null,null,null,null,"Convention des contraintes:"]
[null,null,null,null,"Convention des contraintes:",null,null,null,null,null,null,null,null,"Traction négatif -"]
[null,null,null,null,"Traction négatif -",null,null,null,null,null,null,null,null,"Compression positif +"]
[null,null,null,null,"Compression positif +"]
[]
[null,"Contraintes Profil d'enrobage U1/V1",null,null,null,null,null,null,null,null,"Contraintes Profil d'enrobage U4/V4"]
[null,"Contraintes en [N/mm2]",null,"0°","45°","90°","135°","180°",null,null,"Contraintes en [N/mm2]",null,"0°","45°","90°","135°","180°"]
[null,"À long terme",null,null,null,null,null,null,null,null,"Effort normal",null,{"$f":"Calculs!MT335","v":0.12294621216054664},{"$f":"Calculs!MU335","v":0.18889702797780905},{"$f":"Calculs!MV335","v":0.25829541420541174},{"$f":"Calculs!MW335","v":0.1934301186110951},{"$f":"Calculs!MX335","v":0.12511756315841352}]
[null,"Effort normal",null,{"$f":"Calculs!MG390","v":1.2313884340698356},{"$f":"Calculs!MH390","v":1.5620538593349313},{"$f":"Calculs!MI390","v":1.5863553856285715},{"$f":"Calculs!MJ390","v":1.5642366665615952},{"$f":"Calculs!MK390","v":1.2324339990128712},null,null,"Moment extérieur",null,{"$f":"Calculs!MT336","v":0.27525657936815323},{"$f":"Calculs!MU336","v":1.8120616918406818E-3},{"$f":"Calculs!MV336","v":-0.2778373523051394},{"$f":"Calculs!MW336","v":-1.8076253549258287E-3},{"$f":"Calculs!MX336","v":0.28042442734702228}]
[null,"Moment extérieur",null,{"$f":"Calculs!MG391","v":4.8651169545963544},{"$f":"Calculs!MH391","v":-3.0223377199245909},{"$f":"Calculs!MI391","v":1.2183782720568936},{"$f":"Calculs!MJ391","v":-3.0556379034444441},{"$f":"Calculs!MK391","v":4.9126598177985175},null,null,"Moment intérieur",null,{"$f":"Calculs!MT337","v":-0.40827222956944315},{"$f":"Calculs!MU337","v":-2.6877267338837238E-3},{"$f":"Calculs!MV337","v":0.41210014141596285},{"$f":"Calculs!MW337","v":2.6811465708681623E-3},{"$f":"Calculs!MX337","v":-0.41593740081167846}]
[null,"Moment intérieur",null,{"$f":"Calculs!MG392","v":-4.8651169545963544},{"$f":"Calculs!MH392","v":3.0223377199245909},{"$f":"Calculs!MI392","v":-1.2183782720568936},{"$f":"Calculs!MJ392","v":3.0556379034444441},{"$f":"Calculs!MK392","v":-4.9126598177985175}]
[null,null,null,null,null,null,null,null,null,null,"Contraintes extérieur",null,{"$f":"Calculs!MT339","v":0.39820279152869986},{"$f":"Calculs!MU339","v":0.19070908966964972},{"$f":"Calculs!MV339","v":-1.9541938099727652E-2},{"$f":"Calculs!MW339","v":0.19162249325616929},{"$f":"Calculs!MX339","v":0.40554199050543582}]
[null,"Contraintes extérieur",null,{"$f":"Calculs!MG394","v":6.0965053886661895},{"$f":"Calculs!MH394","v":-1.4602838605896595},{"$f":"Calculs!MI394","v":2.8047336576854649},{"$f":"Calculs!MJ394","v":-1.4914012368828489},{"$f":"Calculs!MK394","v":6.1450938168113884},null,null,"Conraintes intérieur",null,{"$f":"Calculs!MT340","v":-0.28532601740889652},{"$f":"Calculs!MU340","v":0.18620930124392532},{"$f":"Calculs!MV340","v":0.67039555562137454},{"$f":"Calculs!MW340","v":0.19611126518196326},{"$f":"Calculs!MX340","v":-0.29081983765326491}]
[null,"Conraintes intérieur",null,{"$f":"Calculs!MG395","v":-3.6337285205265188},{"$f":"Calculs!MH395","v":4.5843915792595222},{"$f":"Calculs!MI395","v":0.36797711357167784},{"$f":"Calculs!MJ395","v":4.6198745700060391},{"$f":"Calculs!MK395","v":-3.6802258187856465}]
[null,null,null,null,null,null,null,null,null,null,"Contraintes extérieures",null,{"$f":"Calculs!MT342","v":"OK"},{"$f":"Calculs!MU342","v":"OK"},{"$f":"Calculs!MV342","v":"OK"},{"$f":"Calculs!MW342","v":"OK"},{"$f":"Calculs!MX342","v":"OK"}]
[null,"Déformations extérieures",null,{"$f":"Calculs!MG399","v":0.27746277437935568},{"$f":"Calculs!MH399","v":-6.6460108785247607E-2},{"$f":"Calculs!MI399","v":0.12764840387138998},{"$f":"Calculs!MJ399","v":-6.7876315777168864E-2},{"$f":"Calculs!MK399","v":0.27967411993167191},null,null,"Conraintes intérieures",null,{"$f":"Calculs!MT343","v":"OK"},{"$f":"Calculs!MU343","v":"OK"},{"$f":"Calculs!MV343","v":"OK"},{"$f":"Calculs!MW343","v":"OK"},{"$f":"Calculs!MX343","v":"OK"}]
[null,"Déformations intérieures",null,{"$f":"Calculs!MG400","v":-0.1653774305721169},{"$f":"Calculs!MH400","v":0.20864379268612346},{"$f":"Calculs!MI400","v":1.6747291166102404E-2},{"$f":"Calculs!MJ400","v":0.21025868653565702},{"$f":"Calculs!MK400","v":-0.16749360509401701}]
[]
[null,"À court terme"]
[null,"Effort normal",null,{"$f":"Calculs!MG404","v":0.43117939703481423},{"$f":"Calculs!MH404","v":0.56081807164195718},{"$f":"Calculs!MI404","v":0.5826457285714286},{"$f":"Calculs!MJ404","v":0.56081807164195718},{"$f":"Calculs!MK404","v":0.43117939703481423}]
[null,"Moment extérieur",null,{"$f":"Calculs!MG405","v":2.7947365636833026},{"$f":"Calculs!MH405","v":-1.0636787079608327},{"$f":"Calculs!MI405","v":-0.65715146787739998},{"$f":"Calculs!MJ405","v":-1.0636787079608327},{"$f":"Calculs!MK405","v":2.7947365636833097}]
[null,"Moment intérieur",null,{"$f":"Calculs!MG406","v":-2.7947365636833026},{"$f":"Calculs!MH406","v":1.0636787079608327},{"$f":"Calculs!MI406","v":0.65715146787739998},{"$f":"Calculs!MJ406","v":1.0636787079608327},{"$f":"Calculs!MK406","v":-2.7947365636833097}]
[]
[null,"Contraintes extérieur",null,{"$f":"Calculs!MG408","v":3.2259159607181167},{"$f":"Calculs!MH408","v":-0.50286063631887556},{"$f":"Calculs!MI408","v":-7.4505739305971375E-2},{"$f":"Calculs!MJ408","v":-0.50286063631887556},{"$f":"Calculs!MK408","v":3.2259159607181238}]
[null,"Conraintes intérieur",null,{"$f":"Calculs!MG409","v":-2.3635571666484885},{"$f":"Calculs!MH409","v":1.62449677960279},{"$f":"Calculs!MI409","v":1.2397971964488286},{"$f":"Calculs!MJ409","v":1.62449677960279},{"$f":"Calculs!MK409","v":-2.3635571666484956}]
[]
[null,"Déformations extérieures",null,{"$f":"Calculs!MG413","v":7.3408578793310933E-2},{"$f":"Calculs!MH413","v":-1.1443039773128872E-2},{"$f":"Calculs!MI413","v":-1.6954441780246362E-3},{"$f":"Calculs!MJ413","v":-1.1443039773128872E-2},{"$f":"Calculs!MK413","v":7.3408578793311072E-2}]
[null,"Déformations intérieures",null,{"$f":"Calculs!MG414","v":-5.3784839596933108E-2},{"$f":"Calculs!MH414","v":3.6966865007358941E-2},{"$f":"Calculs!MI414","v":2.8212684797585305E-2},{"$f":"Calculs!MJ414","v":3.6966865007358941E-2},{"$f":"Calculs!MK414","v":-5.3784839596933268E-2}]
[]
[null,"Somme déformations ext.",null,{"$f":"D170+D181","v":0.3508713531726666},{"$f":"E170+E181","v":-7.7903148558376475E-2},0.12595295969336534,-7.9319355550297732E-2,0.35308269872498299]
[null,"Somme déformations int.",null,{"$f":"D171+D182","v":-0.21916227016905002},0.24561065769348239,4.4959975963687712E-2,0.24722555154301595,-0.22127844469095026]
[]
[null,"Déformations extérieures",null,{"$f":"Calculs!MG420","v":"OK"},{"$f":"Calculs!MH420","v":"OK"},{"$f":"Calculs!MI420","v":"OK"},{"$f":"Calculs!MJ420","v":"OK"},{"$f":"Calculs!MK420","v":"OK"}]
[null,"Déformations intérieures",null,{"$f":"Calculs!MG421","v":"OK"},{"$f":"Calculs!MH421","v":"OK"},{"$f":"Calculs!MI421","v":"OK"},{"$f":"Calculs!MJ421","v":"OK"},{"$f":"Calculs!MK421","v":"OK"}]

{"sheet":"GF-UP SN2500 (D)","index":37,"n_rows":188,"n_cols":17,"rows_kept":188,"cut":false,"hidden":false,"merged":[[64,16,65,16],[8,0,9,8],[8,9,9,17],[57,7,58,7],[11,4,11,6],[25,13,25,15],[70,0,70,8],[77,9,77,17],[103,1,103,6],[103,11,103,15],[104,1,104,6],[104,11,104,15],[114,3,114,5],[114,10,114,16],[105,1,105,3],[105,11,105,12],[106,1,106,3],[106,11,106,12],[107,1,107,3],[107,11,107,12],[108,1,108,3],[108,11,108,12],[109,1,109,3],[109,11,109,12],[110,1,110,3],[115,5,117,5],[115,6,117,7],[115,10,115,11],[116,10,117,11],[118,5,119,5],[118,10,118,11],[119,10,119,11],[120,15,121,16],[121,10,121,11],[122,1,122,7],[123,1,123,2],[126,1,126,2],[124,1,125,2],[120,10,120,11],[127,1,127,2],[128,1,128,2],[128,6,129,7],[128,11,128,14],[129,1,129,2],[129,11,129,14],[130,11,130,12],[131,11,131,12],[132,11,132,12],[133,11,133,12],[134,2,134,5],[134,11,134,12],[143,2,143,3],[135,2,135,5],[135,11,135,12],[136,2,136,3],[136,6,138,7],[136,11,136,14],[137,2,137,3],[137,11,137,12],[138,2,138,3],[139,2,139,3],[140,2,140,3],[141,2,141,3],[142,2,142,5],[139,10,139,15],[187,1,187,2],[155,3,155,5],[156,3,156,5],[157,3,157,5],[177,1,177,2],[178,1,178,2],[180,1,180,2],[181,1,181,2],[183,1,183,2],[169,1,169,2],[170,1,170,2],[172,1,172,7],[166,1,166,2],[167,1,167,2],[159,1,159,7],[160,1,160,2],[154,12,154,14],[155,12,155,14],[156,12,156,14],[184,1,184,2],[186,1,186,2],[169,10,169,11],[165,10,165,11],[166,10,166,11],[167,10,167,11],[168,10,168,11],[164,10,164,11],[159,10,159,16],[160,10,160,11],[161,1,161,7]]}
[null,"Projekt:",{"$f":"Accueil!P15","v":"VSA 2026"},null,null,"Ingenieur/in:",null,{"$f":"Accueil!AI15","v":0},null,null,{"$f":"Accueil!$L$15","v":"Projet:"},{"$f":"Accueil!$P$15","v":"VSA 2026"},null,null,{"$f":"Accueil!$AD$15","v":"Ingénieur/e:"},null,{"$f":"Accueil!$AI$15","v":0}]
[]
[null,"N°:",{"$f":"Accueil!P17","v":0},null,null,"Verantwortlicher:",null,{"$f":"Accueil!AI17","v":0},null,null,{"$f":"Accueil!$L$17","v":"N°:"},{"$f":"Accueil!P17","v":0},null,null,{"$f":"Accueil!$AD$17","v":"Responsable:"},null,{"$f":"Accueil!$AI$17","v":0}]
[]
[null,"Ort:",{"$f":"Accueil!P21","v":0},null,null,"Bauherr:",null,{"$f":"Accueil!AI19","v":0},null,null,{"$f":"Accueil!$L$21","v":"Lieu:"},{"$f":"Accueil!$P$21","v":0},null,null,{"$f":"Accueil!$AD$19","v":"Maître d'ouvrage:"},null,{"$f":"Accueil!$AI$19","v":0}]
[null,null,{"$f":"Accueil!P23","v":0},null,null,null,null,null,null,null,null,{"$f":"Accueil!$P$23","v":0}]
[]
[]
["Daten Normalverlegeprofil U1/V1",null,null,null,null,null,null,null,null,"Daten Normalverlegeprofil U4/V4"]
[]
[]
[null,"GF-UP Rohr",null,null,{"$f":"IF(Données!$AE$6>F14,\"di max.< di Eingabe!\",\"\")","v":""},null,null,null,null,null,"\"Fiktives\" Betonrohr"]
[]
[null,"Innendurchmesser",null,null,"di",{"$f":"Calculs!MJ35","v":362},"mm",null,null,null,"Innendurchmesser",null,null,"di",{"$f":"Calculs!MR34/1000","v":0.376},"m"]
[null,"Radius",null,null,"rm",{"$f":"Calculs!MN35","v":184.5},"mm",null,null,null,"Radius",null,null,"rm",{"$f":"Calculs!MU34/1000","v":0.26550000000000001},"m"]
[null,"Wanddicke",null,null,"e",{"$f":"Calculs!MM35","v":7},"mm",null,null,null,"Wanddicke",null,null,"e",{"$f":"Calculs!MT34/1000","v":0.155},"m"]
[null,"Querschnittsfläche",null,null,"A",{"$f":"Calculs!MJ384","v":7.0000000000000001E-3},"m2",null,null,null,"Querschnittsfläche",null,null,"A",{"$f":"Calculs!MW322","v":0.155},"m2"]
[null,"Widerstandsmoment",null,null,"W",{"$f":"Calculs!MJ385","v":8.1666666666666658E-6},"m3",null,null,null,"Widerstandsmoment",null,null,"W",{"$f":"Calculs!MW323","v":4.0041666666666663E-3},"m3"]
[null,"E-Modul",null,null,"ER,kurz",{"$f":"Calculs!MK41","v":4394.4672594752183},"N/mm2",null,null,null,"E-Modul",null,null,"ER,kurz",{"$f":"Calculs!MS36","v":20000},"N/mm2"]
[]
[null,"Systemsteifigkeit",null,null,"SFkurz",{"$f":"Calculs!MK46","v":6.6666666666666654E-3},{"$f":"Calculs!ML46","v":"souple"},null,null,null,"Systemsteifigkeit",null,null,"SFkurz",{"$f":"Calculs!MR46","v":110.54243150732353},{"$f":"Calculs!RS46","v":"rigide"}]
[null,"Lastvergrösserungsfaktor",null,null,"f",{"$f":"Calculs!MM50","v":1},null,null,null,null,"Lastvergrösserungsfaktor",null,null,"f",{"$f":"Calculs!MT50","v":1.2919020715630884}]
[null,"Krümmungseinfluss",null,null,"αka",{"$f":"Calculs!MG385","v":1},null,null,null,null,"Krümmungseinfluss",null,null,"αka",{"$f":"Calculs!MT323","v":0.80539861895794096}]
[null,null,null,null,"αki",{"$f":"Calculs!MG384","v":1},null,null,null,null,null,null,null,"αki",{"$f":"Calculs!MT322","v":1.194601381042059}]
[]
[null,"Terrain",null,null,null,null,null,null,null,null,"GF-UP Rohr",null,null,{"$f":"IF(Données!$AE$6>O28,\"di max.< di Eingabe!\",\"\")","v":""}]
[]
[null,"Bodenqualität",null,null,null,{"$f":"Données!AE30","v":"Sol stable"},null,null,null,null,"Innendurchmesser",null,null,"di",{"$f":"Calculs!MJ35","v":362},"mm"]
[null,"Feuchtraumgewicht des Baugrunds",null,null,"γ",{"$f":"Données!AE32","v":20},"kN/m3",null,null,null,"Radius",null,null,"rm",{"$f":"Calculs!MN35","v":184.5},"mm"]
[null,"Raumgewicht unter Auftrieb",null,null,"γ'",{"$f":"Données!AE34","v":11},"kN/m3",null,null,null,"Wanddicke",null,null,"e",{"$f":"Calculs!MM35","v":7},"mm"]
[null,"Verformungsmodul des Bodens",null,null,"EB",{"$f":"Données!AE38","v":5},"N/mm2"]
[null,"Erddruckbeiwert",null,null,"K",{"$f":"Données!AE40","v":0.5},null,null,null,null,"Terrain"]
[null,"Setzungs-Durchbiegungsziffer",null,null,"C2",{"$f":"Données!AE42","v":0.5}]
[null,"Hüllbeton",null,null,null,{"$f":"Données!AE50","v":"C16/20"},null,null,null,null,"Bodenqualität",null,null,null,{"$f":"Données!AE30","v":"Sol stable"}]
[null,"Lastminderung",null,null,"λmin",{"$f":"Données!AE44","v":"NON"},null,null,null,null,"Feuchtraumgewicht des Baugrunds",null,null,"γ",{"$f":"Données!AE32","v":20},"kN/m3"]
[null,null,null,null,null,null,null,null,null,null,"Raumgewicht unter Auftrieb",null,null,"γ'",{"$f":"Données!AE34","v":11},"kN/m3"]
[null,"Wasser",null,null,null,null,null,null,null,null,"Verformungsmodul des Bodens",null,null,"EB",{"$f":"Données!AE38","v":5},"N/mm2"]
[null,null,null,null,null,null,null,null,null,null,"Erddruckbeiwert",null,null,"K",{"$f":"Données!AE40","v":0.5}]
[null,"Grundwasser",null,null,null,{"$f":"Données!AE60","v":"Sans eau souterraine"},null,null,null,null,"Setzungs-Durchbiegungsziffer",null,null,"C2",{"$f":"Données!AE42","v":0.5}]
[null,"Grwundwasserspiegel",null,null,"hw",{"$f":"Données!AE62","v":1.3},"m",null,null,null,"Hüllbeton",null,null,null,{"$f":"Données!AE50","v":"C16/20"}]
[null,"Wasser im Rohr",null,null,null,{"$f":"Données!AE64","v":"Tuyau vide"},null,null,null,null,"Lastminderung",null,null,"λmin",{"$f":"Données!AE44","v":"NON"}]
[null,"Druck",null,null,"pEi",{"$f":"Données!AE66","v":10},"kN/m2"]
[null,null,null,null,null,null,null,null,null,null,"Wasser"]
[null,"Graben"]
[null,null,null,null,null,null,null,null,null,null,"Grundwasser",null,null,null,{"$f":"Données!AE60","v":"Sans eau souterraine"}]
[null,"Überdeckungshöhe",null,null,"H",{"$f":"Données!AE52","v":3},"m",null,null,null,"Grwundwasserspiegel",null,null,"hw",{"$f":"Données!AE62","v":1.3},"m"]
[null,"Grabentyp",null,null,null,{"$f":"Données!AE56","v":"Verticale (U)"},null,null,null,null,"Wasser im Rohr",null,null,null,{"$f":"Données!AE64","v":"Tuyau vide"}]
[null,"Grabenbreite",null,null,"B",{"$f":"Données!$AE$54","v":1.5},"m",null,null,null,"Druck",null,null,"pEi",{"$f":"Données!AE66","v":10},"kN/m2"]
[null,"Böschungsneigung",null,null,"β",{"$f":"Données!AE58","v":30},"°"]
[]
[]
[]
[]
[null,"Einwirkungen",null,null,null,null,null,null,null,null,"Graben"]
[]
[null,"Flächenlast",null,null,null,{"$f":"Données!AE8","v":"Pas de charge"},null,null,null,null,"Überdeckungshöhe",null,null,"H",{"$f":"Calculs!MU107","v":2.8450000000000002},"m"]
[null,null,null,null,"qs",{"$f":"Calculs!ML134","v":0},"kN/m2",null,null,null,"Grabentyp",null,null,null,{"$f":"Données!$AE$56","v":"Verticale (U)"}]
[null,"Verkehr",null,null,null,{"$f":"Données!AE22","v":"Trafic routier"},null,{"$f":"IF(AND(Accueil!AZ15=\"Deutsch\",AND(OR(F58=\"Voie unique (ferroviaire)\",F58=\"Voies multiples (ferroviaire)\",F58=\"Voie étroite (ferroviaire)\",F58=\"Eingleisig (Bahnverkehr)\",F58=\"Mehrgleisig (Bahnverkehr)\",F58=\"Schmalspur (Bahnverkehr)\"),F46<2)),\"H zu klein!\",\"\")","v":""},null,null,"Grabenbreite",null,null,"B",{"$f":"Données!AE54","v":1.5},"m"]
[null,"Beiwert Strass- und Bahnvekehrslasten",null,null,"α",{"$f":"Calculs!MH104","v":0.9},null,null,null,null,"Böschungsneigung",null,null,"β",{"$f":"Données!AE58","v":30},"°"]
[null,"Dynamischer Beiwert",null,null,"Ψ",{"$f":"Calculs!MI104","v":1}]
[null,"Strassenverkehr und untergeordnete",null,null,"pvtotal",{"$f":"Calculs!MG120","v":24.562000000000001},"kN/m2",null,null,null,"Einwirkungen"]
[null,"Strassen",null,null,"pvRad",{"$f":"Calculs!MH120","v":4.9021999999999997},"kN/m2"]
[null,null,null,null,"∆pv",{"$f":"Calculs!MI120","v":19.659800000000001},"kN/m2",null,null,null,"Flächenlast",null,null,null,{"$f":"Données!AE8","v":"Pas de charge"}]
[null,"Strassenrand",null,null,"pvtotal",{"$f":"Calculs!MJ120","v":0},"kN/m2",null,null,null,null,null,null,"qs",{"$f":"Calculs!MW134","v":0},"kN/m2"]
[null,null,null,null,"pvRad",{"$f":"Calculs!MK120","v":0},"kN/m2",null,null,null,"Verkehr",null,null,null,{"$f":"Données!AE22","v":"Trafic routier"},null,{"$f":"IF(AND(Accueil!AZ15=\"Deutsch\",AND(OR(O65=\"Voie unique (ferroviaire)\",O65=\"Voies multiples (ferroviaire)\",O65=\"Voie étroite (ferroviaire)\",O65=\"Eingleisig (Bahnverkehr)\",O65=\"Mehrgleisig (Bahnverkehr)\",O65=\"Schmalspur (Bahnverkehr)\"),O56<2)),\"H zu klein!\",IF(AND(Accueil!AZ15=\"Deutsch\",AND(OR(O65=\"Trafic routier\",O65=\"Bord de route\",O65=\"Route d'importance secondaire\",O65=\"Strassenverkehr\",O65=\"Strassenrand\",O65=\"Untergeordnete Strasse\"),O56<1)),\"H zu klein!\",\"\"))","v":""}]
[null,null,null,null,"∆pv",{"$f":"Calculs!ML120","v":0},"kN/m2",null,null,null,"Beiwert Strass- und Bahnvekehrslasten",null,null,"α",{"$f":"Calculs!MT104","v":0.9}]
[null,"Bahnverkehr eingleisig",null,null,"peingleisig",{"$f":"Calculs!MN120","v":0},"kN/m2",null,null,null,"Dynamischer Beiwert",null,null,"Ψ",{"$f":"Calculs!MU104","v":1}]
[null,"Bahnverkehr mehrgleisig",null,null,"pmehrgleisig",{"$f":"Calculs!MO120","v":0},"kN/m2",null,null,null,"Strassenverkehr und untergeordnete",null,null,"pvtotal",{"$f":"Calculs!MS120","v":26.258819999999996},"kN/m2"]
[null,"Bahnverkehr schmalspur",null,null,"pschmal",{"$f":"Calculs!MP120","v":0},"kN/m2",null,null,null,"Strassen",null,null,"pvRad",{"$f":"Calculs!MT120","v":5.4692679999999987},"kN/m2"]
[null,null,null,null,null,null,null,null,null,null,null,null,null,"∆pv",{"$f":"Calculs!MU120","v":20.789551999999997},"kN/m2"]
["Resultate",null,null,null,null,null,null,null,null,null,"Strassenrand",null,null,"pvtotal",{"$f":"Calculs!MV120","v":0},"kN/m2"]
[null,null,null,null,null,null,null,null,null,null,null,null,null,"pvRad",{"$f":"Calculs!MW120","v":0},"kN/m2"]
[null,null,null,null,null,null,null,null,null,null,null,null,null,"∆pv",{"$f":"Calculs!MX120","v":0},"kN/m2"]
[null,null,null,null,null,null,null,null,null,null,"Bahnverkehr eingleisig",null,null,"peingleisig",{"$f":"Calculs!MZ120","v":0},"kN/m2"]
[null,null,null,null,null,null,null,null,null,null,"Bahnverkehr mehrgleisig",null,null,"pmehrgleisig",{"$f":"Calculs!NA120","v":0},"kN/m2"]
[null,null,null,null,null,null,null,null,null,null,"Bahnverkehr schmalspur",null,null,"pschmal",{"$f":"Calculs!NB120","v":0},"kN/m2"]
[]
[null,null,null,null,null,null,null,null,null,"Resultate"]
[]
[]
[]
[]
[]
[]
[]
[]
[]
[]
[]
[]
[]
[]
[]
[]
[]
[]
[]
[]
[]
[]
[]
[null,"Beanspruchungen",null,null,null,null,null,null,null,null,"Beanspruchungen"]
[]
[null,"Beanspruchungen",null,null,null,null,null,null,null,null,null,"Beanspruchungen"]
[null,"U1/V1",null,null,null,null,null,null,null,null,null,"U4/V4"]
[null,"Langzeit",null,null,"qs1",{"$f":"Calculs!MK204","v":60},"[kN/m2]",null,null,null,null,"Langzeit",null,"qs1",{"$f":"Calculs!NB204","v":114.28921823140801},"[kN/m2]"]
[null,"Kurzzeit",null,null,"qs2",{"$f":"Calculs!MK205","v":22.105800000000002},"[kN/m2]",null,null,null,null,"Kurzzeit",null,"qs2",{"$f":"Calculs!NB205","v":30.531441559322026},"[kN/m2]"]
[null,"Effektive Last auf Scheitel",null,null,"qser",{"$f":"Calculs!MK206","v":82.105800000000002},"[kN/m2]",null,null,null,null,"Effektive Last auf Scheitel",null,"qser",{"$f":"Calculs!NB206","v":144.82065979073005},"[kN/m2]"]
[null,"Erddruck langzeit",null,null,"qhlang",{"$f":"Calculs!MK207","v":70.10526315789474},"[kN/m2]",null,null,null,null,"Erddruck",null,"qh",{"$f":"Calculs!NB207","v":72.410329895365024},"[kN/m2]"]
[null,"Erddruck kurzzeit",null,null,"qhkurz",{"$f":"Calculs!MK208","v":24.537437999999998},"[kN/m2]",null,null,null,null,"Bemessungswert",null,"qds",{"$f":"Calculs!NB208","v":200.08760695138386},"[kN/m2]"]
[null,"Bemessungswert",null,null,"qds",{"$f":"Calculs!MK211","v":114.15870000000001},"[kN/m2]"]
[null,null,null,null,null,null,null,null,null,null,"Nachweise"]
[null,"Nachweise"]
[]
[null,null,null,"Verformungsnachweis (IOWA)",null,null,null,null,null,null,"Auftrieb"]
[null,null,null,null,1,null,{"$f":"IF(Calculs!MK46<0.1,\"\",\"Steifes Rohr. Verformungsnachweis entfällt!\")","v":""},null,null,null,"Stabilisierend",null,"G + G' + Gsp",{"$f":"Calculs!MX183","v":40.043307658978151},"[kN/m]"]
[null,null,null,"x/d kurz",{"$f":"IF(Calculs!MK46<0.1,Calculs!MJ214,\"\")","v":1.3816125000000002E-2},null,null,null,null,null,null,null,"GR",{"$f":"Calculs!MX184","v":6.3436012755007729},"[kN/m]"]
[null,null,null,"x/d lang",{"$f":"IF(Calculs!MK46<0.1,Calculs!MJ215,\"\")","v":3.9473684210526327E-2},null,null,null,null,null,null,null,"Summe",{"$f":"Calculs!MX185","v":46.386908934478924},"[kN/m]","Faktor",0.9]
[null,null,null,"Summe",{"$f":"IF(Calculs!MK46<0.1,Calculs!MJ216,\"\")","v":5.3289809210526326E-2},{"$f":"IF(Calculs!MK46<0.1,Calculs!MK216,\"\")","v":"KO!"},null,null,null,null,"Destabilisierend",null,"FA",{"$f":"Calculs!MX186","v":0},"[kN/m]","Faktor",1.05]
[null,null,null,"Zugelassen",{"$f":"IF(Calculs!MK46<0.1,Calculs!MJ217,\"\")","v":0.05}]
[null,null,null,null,null,null,null,null,null,null,"Kontrolle:",null,"1.05*FA",{"$f":"Calculs!MX188","v":0},"[kN/m]",{"$f":"Calculs!MZ188","v":"OK"}]
[null,null,null,null,null,null,null,null,null,null,null,null,"0.9*Summe",{"$f":"Calculs!MX189","v":41.748218041031031},"[kN/m]"]
[null,"Auftrieb"]
[null,"Stabilisierend",null,"G + G' + Gsp",{"$f":"Calculs!MI183","v":22.863395492515224},"[kN/m]",null,null,null,null,"Tragfähigkeit"]
[null,null,null,"GR",{"$f":"Calculs!MI184","v":0.1379504750117814},"[kN/m]",null,null,null,null,{"$f":"IF(N138=\"\",\"\",\"Annahme: 5% des Bemessungswerts werden durch das GF-UP Rohr aufgenommen und eine initiale\")","v":""}]
[null,null,null,"Summe",{"$f":"Calculs!MI185","v":23.001345967527005},"[kN/m]","Faktor",0.9,null,null,{"$f":"IF(N138=\"\",\"\",\"Deformation von 0.02m [SIA190:2017;4.2.11.1.2].\")","v":""}]
[null,"Destabilisierend",null,"FA",{"$f":"Calculs!MI186","v":0},"[kN/m]","Faktor",1.05]
[]
[null,"Kontrolle:",null,"1.05*FA",{"$f":"Calculs!MI188","v":0},"[kN/m]",{"$f":"Calculs!MK188","v":"OK"},null,null,null,null,"Tragfähigkeit"]
[null,null,null,"0.9*Summe",{"$f":"Calculs!MI189","v":20.701211370774306},"[kN/m]",null,null,null,null,null,"U4/V4"]
[null,null,null,null,null,null,null,null,null,null,null,"qds",null,{"$f":"Calculs!MW220","v":""},"[kN/m2]"]
[null,null,null,null,null,null,null,null,null,null,null,"qBl",null,{"$f":"Calculs!MW221","v":""},"[kN/m2]"]
[null,"Tragfähigkeit",null,null,null,null,null,null,null,null,null,"pwd",null,{"$f":"Calculs!MW222","v":""},"[kN/m2]"]
[null,null,null,null,null,null,null,null,null,null,null,"pcr",null,{"$f":"Calculs!MW223","v":""},"[kN/m2]"]
[null,null,"Tragfähigkeit",null,null,null,null,null,null,null,null,"k",null,{"$f":"Calculs!MW224","v":""},"[-]"]
[null,null,"U1/V1",null,null,null,null,null,null,null,null,"qBl/2*(1-2*pwd/k*pcr)",null,{"$f":"Calculs!MW225","v":""},"[kN/m2]"]
[null,null,"qds",null,{"$f":"IF(Calculs!MK46<0.1,Calculs!MJ220,\"\")","v":114.15870000000001},"[kN/m2]",{"$f":"IF(Calculs!MK46<0.1,\"\",\"Steifes Rohr. Limite der Tragfähigkeitsformel überschritten!\")","v":""}]
[null,null,"qBl",null,{"$f":"IF(Calculs!MK46<0.1,Calculs!MJ221,\"\")","v":276.72031395968474},"[kN/m2]",null,null,null,null,null,"Resultat",null,{"$f":"Calculs!MW227","v":""}]
[null,null,"pwd",null,{"$f":"IF(Calculs!MK46<0.1,Calculs!MJ222,\"\")","v":0},"[kN/m2]"]
[null,null,"pcr",null,{"$f":"IF(Calculs!MK46<0.1,Calculs!MJ223,\"\")","v":21.24408311525665},"[kN/m2]",null,null,null,null,{"$f":"IF(N138=\"\",\"Tragfähigkeitsnachweis nur nötig bei Grundwasser!\",\"\")","v":"Tragfähigkeitsnachweis nur nötig bei Grundwasser!"}]
[null,null,"k",null,{"$f":"IF(Calculs!MK46<0.1,Calculs!MJ224,\"\")","v":1},"[-]"]
[null,null,"qBl/2*(1-2*pwd/k*pcr)",null,{"$f":"IF(Calculs!MK46<0.1,Calculs!MJ225,\"\")","v":138.36015697984237},"[kN/m2]"]
[]
[null,null,"Resultat",null,{"$f":"IF(Calculs!MK46<0.1,Calculs!MJ227,\"\")","v":"OK"}]
[]
[]
[null,null,null,null,null,null,null,null,null,null," "]
[]
[]
[]
[null,"Gebrauchstauglichkeit",null,null,null,null,null,null,null,null,"Gebrauchstauglichkeit"]
[]
[null,null,null,null,null,null,null,null,null,null,null,null,"σRbz,adm",{"$f":"contrainte","v":-0.3},"N/mm2"]
[null,null,null,"εRbz,adm",{"$f":"Calculs!MN418","v":0.60894308943089437},"%"]
[null,null,null,null,null,null,null,null,null,null,null,null,"Spannungskonventionen:"]
[null,null,null,"Spannungskonventionen:",null,null,null,null,null,null,null,null,"Zug negatif -"]
[null,null,null,"Zug negatif -",null,null,null,null,null,null,null,null,"Druck positif +"]
[null,null,null,"Druck positif +"]
[]
[null,"Spannungen Verlegeprofil U1/V1",null,null,null,null,null,null,null,null,"Spannungen Verlegeprofil U4/V4"]
[null,"Spannungen in [N/mm2]",null,"0°","45°","90°","135°","180°",null,null,"Spannungen in [N/mm2]",null,"0°","45°","90°","135°","180°"]
[null,"Langzeit",null,null,null,null,null,null,null,null,"Durch die Normalkraft",null,{"$f":"Calculs!MT335","v":0.12294621216054664},{"$f":"Calculs!MU335","v":0.18889702797780905},{"$f":"Calculs!MV335","v":0.25829541420541174},{"$f":"Calculs!MW335","v":0.1934301186110951},{"$f":"Calculs!MX335","v":0.12511756315841352}]
[null,"Durch die Normalkraft",null,{"$f":"Calculs!MG390","v":1.2313884340698356},{"$f":"Calculs!MH390","v":1.5620538593349313},{"$f":"Calculs!MI390","v":1.5863553856285715},{"$f":"Calculs!MJ390","v":1.5642366665615952},{"$f":"Calculs!MK390","v":1.2324339990128712},null,null,"Durch das Moment aussen",null,{"$f":"Calculs!MT336","v":0.27525657936815323},{"$f":"Calculs!MU336","v":1.8120616918406818E-3},{"$f":"Calculs!MV336","v":-0.2778373523051394},{"$f":"Calculs!MW336","v":-1.8076253549258287E-3},{"$f":"Calculs!MX336","v":0.28042442734702228}]
[null,"Durch das Moment aussen",null,{"$f":"Calculs!MG391","v":4.8651169545963544},{"$f":"Calculs!MH391","v":-3.0223377199245909},{"$f":"Calculs!MI391","v":1.2183782720568936},{"$f":"Calculs!MJ391","v":-3.0556379034444441},{"$f":"Calculs!MK391","v":4.9126598177985175},null,null,"Durch das Moment innen",null,{"$f":"Calculs!MT337","v":-0.40827222956944315},{"$f":"Calculs!MU337","v":-2.6877267338837238E-3},{"$f":"Calculs!MV337","v":0.41210014141596285},{"$f":"Calculs!MW337","v":2.6811465708681623E-3},{"$f":"Calculs!MX337","v":-0.41593740081167846}]
[null,"Durch das Moment innen",null,{"$f":"Calculs!MG392","v":-4.8651169545963544},{"$f":"Calculs!MH392","v":3.0223377199245909},{"$f":"Calculs!MI392","v":-1.2183782720568936},{"$f":"Calculs!MJ392","v":3.0556379034444441},{"$f":"Calculs!MK392","v":-4.9126598177985175}]
[null,null,null,null,null,null,null,null,null,null,"Spannungen aussen",null,{"$f":"Calculs!MT339","v":0.39820279152869986},{"$f":"Calculs!MU339","v":0.19070908966964972},{"$f":"Calculs!MV339","v":-1.9541938099727652E-2},{"$f":"Calculs!MW339","v":0.19162249325616929},{"$f":"Calculs!MX339","v":0.40554199050543582}]
[null,"Spannungen aussen",null,{"$f":"Calculs!MG394","v":6.0965053886661895},{"$f":"Calculs!MH394","v":-1.4602838605896595},{"$f":"Calculs!MI394","v":2.8047336576854649},{"$f":"Calculs!MJ394","v":-1.4914012368828489},{"$f":"Calculs!MK394","v":6.1450938168113884},null,null,"Spannungen innen","Spannungen innen",{"$f":"Calculs!MT340","v":-0.28532601740889652},{"$f":"Calculs!MU340","v":0.18620930124392532},{"$f":"Calculs!MV340","v":0.67039555562137454},{"$f":"Calculs!MW340","v":0.19611126518196326},{"$f":"Calculs!MX340","v":-0.29081983765326491}]
[null,"Spannungen innen","Spannungen innen",{"$f":"Calculs!MG395","v":-3.6337285205265188},{"$f":"Calculs!MH395","v":4.5843915792595222},{"$f":"Calculs!MI395","v":0.36797711357167784},{"$f":"Calculs!MJ395","v":4.6198745700060391},{"$f":"Calculs!MK395","v":-3.6802258187856465}]
[null,null,null,null,null,null,null,null,null,null,"Spannungen aussen",null,{"$f":"Calculs!MT342","v":"OK"},{"$f":"Calculs!MU342","v":"OK"},{"$f":"Calculs!MV342","v":"OK"},{"$f":"Calculs!MW342","v":"OK"},{"$f":"Calculs!MX342","v":"OK"}]
[null,"Deformationen aussen",null,{"$f":"Calculs!MG399","v":0.27746277437935568},{"$f":"Calculs!MH399","v":-6.6460108785247607E-2},{"$f":"Calculs!MI399","v":0.12764840387138998},{"$f":"Calculs!MJ399","v":-6.7876315777168864E-2},{"$f":"Calculs!MK399","v":0.27967411993167191},null,null,"Spannungen innen","Spannungen innen",{"$f":"Calculs!MT343","v":"OK"},{"$f":"Calculs!MU343","v":"OK"},{"$f":"Calculs!MV343","v":"OK"},{"$f":"Calculs!MW343","v":"OK"},{"$f":"Calculs!MX343","v":"OK"}]
[null,"Deformationen innen",null,{"$f":"Calculs!MG400","v":-0.1653774305721169},{"$f":"Calculs!MH400","v":0.20864379268612346},{"$f":"Calculs!MI400","v":1.6747291166102404E-2},{"$f":"Calculs!MJ400","v":0.21025868653565702},{"$f":"Calculs!MK400","v":-0.16749360509401701}]
[]
[null,"Kurzzeit"]
[null,"Durch die Normalkraft",null,{"$f":"Calculs!MG404","v":0.43117939703481423},{"$f":"Calculs!MH404","v":0.56081807164195718},{"$f":"Calculs!MI404","v":0.5826457285714286},{"$f":"Calculs!MJ404","v":0.56081807164195718},{"$f":"Calculs!MK404","v":0.43117939703481423}]
[null,"Durch das Moment aussen",null,{"$f":"Calculs!MG405","v":2.7947365636833026},{"$f":"Calculs!MH405","v":-1.0636787079608327},{"$f":"Calculs!MI405","v":-0.65715146787739998},{"$f":"Calculs!MJ405","v":-1.0636787079608327},{"$f":"Calculs!MK405","v":2.7947365636833097}]
[null,"Durch das Moment innen",null,{"$f":"Calculs!MG406","v":-2.7947365636833026},{"$f":"Calculs!MH406","v":1.0636787079608327},{"$f":"Calculs!MI406","v":0.65715146787739998},{"$f":"Calculs!MJ406","v":1.0636787079608327},{"$f":"Calculs!MK406","v":-2.7947365636833097}]
[]
[null,"Spannungen aussen",null,{"$f":"Calculs!MG408","v":3.2259159607181167},{"$f":"Calculs!MH408","v":-0.50286063631887556},{"$f":"Calculs!MI408","v":-7.4505739305971375E-2},{"$f":"Calculs!MJ408","v":-0.50286063631887556},{"$f":"Calculs!MK408","v":3.2259159607181238}]
[null,"Spannungen innen","Spannungen innen",{"$f":"Calculs!MG409","v":-2.3635571666484885},{"$f":"Calculs!MH409","v":1.62449677960279},{"$f":"Calculs!MI409","v":1.2397971964488286},{"$f":"Calculs!MJ409","v":1.62449677960279},{"$f":"Calculs!MK409","v":-2.3635571666484956}]
[]
[null,"Deformationen aussen",null,{"$f":"Calculs!MG413","v":7.3408578793310933E-2},{"$f":"Calculs!MH413","v":-1.1443039773128872E-2},{"$f":"Calculs!MI413","v":-1.6954441780246362E-3},{"$f":"Calculs!MJ413","v":-1.1443039773128872E-2},{"$f":"Calculs!MK413","v":7.3408578793311072E-2}]
[null,"Deformationen innen",null,{"$f":"Calculs!MG414","v":-5.3784839596933108E-2},{"$f":"Calculs!MH414","v":3.6966865007358941E-2},{"$f":"Calculs!MI414","v":2.8212684797585305E-2},{"$f":"Calculs!MJ414","v":3.6966865007358941E-2},{"$f":"Calculs!MK414","v":-5.3784839596933268E-2}]
[]
[null,"Summe Deformationen aus",null,{"$f":"D170+D181","v":0.3508713531726666},{"$f":"E170+E181","v":-7.7903148558376475E-2},0.12595295969336534,-7.9319355550297732E-2,0.35308269872498299]
[null,"Summe Deformationen in.",null,{"$f":"D171+D182","v":-0.21916227016905002},0.24561065769348239,4.4959975963687712E-2,0.24722555154301595,-0.22127844469095026]
[]
[null,"Deformationen aussen",null,{"$f":"Calculs!MG420","v":"OK"},{"$f":"Calculs!MH420","v":"OK"},{"$f":"Calculs!MI420","v":"OK"},{"$f":"Calculs!MJ420","v":"OK"},{"$f":"Calculs!MK420","v":"OK"}]
[null,"Deformationen innen",null,{"$f":"Calculs!MG421","v":"OK"},{"$f":"Calculs!MH421","v":"OK"},{"$f":"Calculs!MI421","v":"OK"},{"$f":"Calculs!MJ421","v":"OK"},{"$f":"Calculs!MK421","v":"OK"}]

{"sheet":"GF-UP SN5000","index":38,"n_rows":188,"n_cols":17,"rows_kept":188,"cut":false,"hidden":false,"merged":[[64,16,65,16],[8,0,9,8],[8,9,9,17],[57,7,58,7],[11,4,11,6],[25,13,25,15],[70,0,70,8],[77,9,77,17],[103,1,103,6],[103,11,103,15],[104,1,104,6],[104,11,104,15],[114,3,114,5],[114,10,114,16],[105,1,105,3],[105,11,105,12],[106,1,106,3],[106,11,106,12],[107,1,107,3],[107,11,107,12],[108,1,108,3],[108,11,108,12],[109,1,109,3],[109,11,109,12],[110,1,110,3],[115,5,117,5],[115,6,117,7],[115,10,115,11],[116,10,117,11],[118,5,119,5],[118,10,118,11],[119,10,119,11],[120,15,121,16],[121,10,121,11],[122,1,122,7],[123,1,123,2],[126,1,126,2],[124,1,125,2],[120,10,120,11],[127,1,127,2],[128,1,128,2],[128,6,129,7],[128,11,128,14],[129,1,129,2],[129,11,129,14],[130,11,130,12],[131,11,131,12],[132,11,132,12],[133,11,133,12],[134,2,134,5],[134,11,134,12],[143,2,143,3],[135,2,135,5],[135,11,135,12],[136,2,136,3],[136,6,138,7],[136,11,136,14],[137,2,137,3],[137,11,137,12],[138,2,138,3],[139,2,139,3],[140,2,140,3],[141,2,141,3],[142,2,142,5],[139,10,140,15],[159,1,159,7],[159,10,159,16],[160,1,160,2],[160,10,160,11],[161,1,161,7],[161,10,161,11],[162,1,162,2],[162,10,162,11],[163,1,163,2],[163,10,163,11],[164,1,164,2],[164,10,164,11],[174,1,174,2],[165,10,165,11],[166,1,166,2],[166,10,166,11],[167,1,167,2],[167,10,167,11],[168,10,168,11],[169,1,169,2],[169,10,169,11],[170,1,170,2],[172,1,172,7],[173,1,173,2],[184,1,184,2],[186,1,186,2],[187,1,187,2],[175,1,175,2],[177,1,177,2],[178,1,178,2],[180,1,180,2],[181,1,181,2],[183,1,183,2]]}
[null,"Projet:",{"$f":"Accueil!P15","v":"VSA 2026"},null,null,"Ingénieur/e:",null,{"$f":"Accueil!AI15","v":0},null,null,"Projet:",{"$f":"Accueil!$P$15","v":"VSA 2026"},null,null,"Ingénieur/e:",null,{"$f":"Accueil!$AI$15","v":0}]
[]
[null,"N°:",{"$f":"Accueil!P17","v":0},null,null,"Respoonsable:",null,{"$f":"Accueil!AI17","v":0},null,null,"N°:",{"$f":"Accueil!P17","v":0},null,null,"Respoonsable:",null,{"$f":"Accueil!$AI$17","v":0}]
[]
[null,"Lieu:",{"$f":"Accueil!P21","v":0},null,null,"Maître douvrage:",null,{"$f":"Accueil!AI19","v":0},null,null,"Lieu:",{"$f":"Accueil!$P$21","v":0},null,null,"Maître douvrage:",null,{"$f":"Accueil!$AI$19","v":0}]
[null,null,{"$f":"Accueil!P23","v":0},null,null,null,null,null,null,null,null,{"$f":"Accueil!$P$23","v":0}]
[]
[]
["Données profil d'enrobage U1/V1",null,null,null,null,null,null,null,null,"Données profil d'enrobage U4/V4"]
[]
[]
[null,"Tuyau GF-UP",null,null,{"$f":"IF(Données!$AE$6>F14,\"di max.< di introduit!\",\"\")","v":""},null,null,null,null,null,"Tuyau \"fictif\" en béton"]
[]
[null,"Diamètre intérieur ",null,null,"di",{"$f":"Calculs!NJ35","v":360},"mm",null,null,null,"Diamètre intérieur ",null,null,"di",{"$f":"Calculs!NR34/1000","v":0.376},"m"]
[null,"Rayon moyen",null,null,"rm",{"$f":"Calculs!NN35","v":184},"mm",null,null,null,"Rayon moyen",null,null,"rm",{"$f":"Calculs!NU34/1000","v":0.26550000000000001},"m"]
[null,"Épaisseur de paroi",null,null,"e",{"$f":"Calculs!NM35","v":8},"mm",null,null,null,"Épaisseur de paroi",null,null,"e",{"$f":"Calculs!NT34/1000","v":0.155},"m"]
[null,"Section",null,null,"A",{"$f":"Calculs!NJ384","v":8.0000000000000002E-3},"m2",null,null,null,"Section",null,null,"A",{"$f":"Calculs!NW322","v":0.155},"m2"]
[null,"Module de flexion",null,null,"W",{"$f":"Calculs!NJ385","v":1.0666666666666667E-5},"m3",null,null,null,"Module de flexion",null,null,"W",{"$f":"Calculs!NW323","v":4.0041666666666663E-3},"m3"]
[null,"Module d'élasticité",null,null,"ER,court",{"$f":"Calculs!NK41","v":5840.16},"N/mm2",null,null,null,"Module d'élasticité",null,null,"ER,court",{"$f":"Calculs!NS36","v":20000},"N/mm2"]
[]
[null,"Rigidité du système",null,null,"SFcourt",{"$f":"Calculs!NK46","v":1.3333333333333331E-2},{"$f":"Calculs!NL46","v":"souple"},null,null,null,"Rigidité du système",null,null,"SFcourt",{"$f":"Calculs!NR46","v":110.54243150732353},{"$f":"Calculs!NS46","v":"rigide"}]
[null,"Facteur de majoration de charge",null,null,"f",{"$f":"Calculs!NM50","v":1},null,null,null,null,"Facteur de majoration de charge",null,null,"f",{"$f":"Calculs!NT50","v":1.2919020715630884}]
[null,"Effet de courbure:",null,null,"αka",{"$f":"Calculs!NG385","v":1},null,null,null,null,"Effet de courbure:",null,null,"αka",{"$f":"Calculs!NT323","v":0.80539861895794096}]
[null,null,null,null,"αki",{"$f":"Calculs!NG384","v":1},null,null,null,null,null,null,null,"αki",{"$f":"Calculs!NT322","v":1.194601381042059}]
[]
[null,"Terrain",null,null,null,null,null,null,null,null,"Tuyau GF-UP",null,null,{"$f":"IF(Données!$AE$6>O28,\"di max.< di introduit!\",\"\")","v":""}]
[]
[null,"Qualité du sol",null,null,null,{"$f":"Données!AE30","v":"Sol stable"},null,null,null,null,"Diamètre intérieur ",null,null,"di",{"$f":"Calculs!NJ35","v":360},"mm"]
[null,"Poids volumique apparent hum.",null,null,"γ",{"$f":"Données!AE32","v":20},"kN/m3",null,null,null,"Rayon moyen",null,null,"rm",{"$f":"Calculs!NN35","v":184},"mm"]
[null,"Poids volumique déjaugé",null,null,"γ'",{"$f":"Données!AE34","v":11},"kN/m3",null,null,null,"Épaisseur de paroi",null,null,"e",{"$f":"Calculs!NM35","v":8},"mm"]
[null,"Module de déformation du sol",null,null,"EB",{"$f":"Données!AE38","v":5},"N/mm2"]
[null,"Coefficient de pression du terrain",null,null,"K",{"$f":"Données!AE40","v":0.5},null,null,null,null,"Terrain"]
[null,"Coefficient de flexion au tassement",null,null,"C2",{"$f":"Données!AE42","v":0.5}]
[null,"Type de béton d'enrobage",null,null,null,{"$f":"Données!AE50","v":"C16/20"},null,null,null,null,"Qualité du sol",null,null,null,{"$f":"Données!AE30","v":"Sol stable"}]
[null,"Réduction de charge",null,null,"λmin",{"$f":"Données!AE44","v":"NON"},null,null,null,null,"Poids volumique apparent hum.",null,null,"γ",{"$f":"Données!AE32","v":20},"kN/m3"]
[null,null,null,null,null,null,null,null,null,null,"Poids volumique déjaugé",null,null,"γ'",{"$f":"Données!AE34","v":11},"kN/m3"]
[null,"Eau",null,null,null,null,null,null,null,null,"Module de déformation du sol",null,null,"EB",{"$f":"Données!AE38","v":5},"N/mm2"]
[null,null,null,null,null,null,null,null,null,null,"Coefficient de pression du terrain",null,null,"K",{"$f":"Données!AE40","v":0.5}]
[null,"Eau souterraine",null,null,null,{"$f":"Données!AE60","v":"Sans eau souterraine"},null,null,null,null,"Coefficient de flexion au tassement",null,null,"C2",{"$f":"Données!AE42","v":0.5}]
[null,"Niveau d'eau souterraine",null,null,"hw",{"$f":"Données!AE62","v":1.3},"m",null,null,null,"Type de béton d'enrobage",null,null,null,{"$f":"Données!AE50","v":"C16/20"}]
[null,"Eau à l'intérieur du tuyau",null,null,null,{"$f":"Données!AE64","v":"Tuyau vide"},null,null,null,null,"Réduction de charge",null,null,"λmin",{"$f":"Données!AE44","v":"NON"}]
[null,"Pression",null,null,"pEi",{"$f":"Données!AE66","v":10},"kN/m2"]
[null,null,null,null,null,null,null,null,null,null,"Eau"]
[null,"Fouille"]
[null,null,null,null,null,null,null,null,null,null,"Eau souterraine",null,null,null,{"$f":"Données!AE60","v":"Sans eau souterraine"}]
[null,"Hauteur de couverture",null,null,"H",{"$f":"Données!AE52","v":3},"m",null,null,null,"Niveau d'eau souterraine",null,null,"hw",{"$f":"Données!AE62","v":1.3},"m"]
[null,"Type de fouille",null,null,null,{"$f":"Données!AE56","v":"Verticale (U)"},null,null,null,null,"Eau à l'intérieur du tuyau",null,null,null,{"$f":"Données!AE64","v":"Tuyau vide"}]
[null,"Largeur de fouille",null,null,"B",{"$f":"Données!$AE$54","v":1.5},"m",null,null,null,"Pression",null,null,"pEi",{"$f":"Données!AE66","v":10},"kN/m2"]
[null,"Angle de talus",null,null,"β",{"$f":"Données!AE58","v":30},"°"]
[]
[]
[]
[]
[null,"Actions",null,null,null,null,null,null,null,null,"Fouille"]
[]
[null,"Charge surfacique",null,null,null,{"$f":"Données!AE8","v":"Pas de charge"},null,null,null,null,"Hauteur de couverture",null,null,"H",{"$f":"Calculs!NU107","v":2.8450000000000002},"m"]
[null,null,null,null,"qs",{"$f":"Calculs!NL134","v":0},"kN/m2",null,null,null,"Type de fouille",null,null,null,{"$f":"Données!$AE$56","v":"Verticale (U)"}]
[null,"Trafic ",null,null,null,{"$f":"Données!AE22","v":"Trafic routier"},null,{"$f":"IF(AND(Accueil!AZ15=\"Français\",AND(OR(F58=\"Voie unique (ferroviaire)\",F58=\"Voies multiples (ferroviaire)\",F58=\"Voie étroite (ferroviaire)\",F58=\"Eingleisig (Bahnverkehr)\",F58=\"Mehrgleisig (Bahnverkehr)\",F58=\"Schmalspur (Bahnverkehr)\"),F46<2)),\"H trop faible!\",\"\")","v":""},null,null,"Largeur de fouille",null,null,"B",{"$f":"Données!AE54","v":1.5},"m"]
[null,"Coefficient de charge",null,null,"α",{"$f":"Calculs!NH104","v":0.9},null,null,null,null,"Angle de talus",null,null,"β",{"$f":"Données!AE58","v":30},"°"]
[null,"Coefficient dynamique",null,null,"Ψ",{"$f":"Calculs!NI104","v":1}]
[null,"Trafic routier et route d'importance",null,null,"pvtotale",{"$f":"Calculs!NG120","v":24.562000000000001},"kN/m2",null,null,null,"Actions"]
[null,"secondaire",null,null,"pvroue",{"$f":"Calculs!NH120","v":4.9021999999999997},"kN/m2"]
[null,null,null,null,"∆pv",{"$f":"Calculs!NI120","v":19.659800000000001},"kN/m2",null,null,null,"Charge surfacique",null,null,null,{"$f":"Données!AE8","v":"Pas de charge"}]
[null,"Bord de route",null,null,"pvtotale",{"$f":"Calculs!NJ120","v":0},"kN/m2",null,null,null,null,null,null,"qs",{"$f":"Calculs!NW134","v":0},"kN/m2"]
[null,null,null,null,"pvroue",{"$f":"Calculs!NK120","v":0},"kN/m2",null,null,null,"Trafic ",null,null,null,{"$f":"Données!AE22","v":"Trafic routier"},null,{"$f":"IF(AND(Accueil!AZ15=\"Français\",AND(OR(O65=\"Voie unique (ferroviaire)\",O65=\"Voies multiples (ferroviaire)\",O65=\"Voie étroite (ferroviaire)\",O65=\"Eingleisig (Bahnverkehr)\",O65=\"Mehrgleisig (Bahnverkehr)\",O65=\"Schmalspur (Bahnverkehr)\"),O56<2)),\"H trop faible!\",IF(AND(Accueil!AZ15=\"Français\",AND(OR(O65=\"Trafic routier\",O65=\"Bord de route\",O65=\"Route d'importance secondaire\",O65=\"Strassenverkehr\",O65=\"Strassenrand\",O65=\"Untergeordnete Strasse\"),O56<1)),\"H trop faible!\",\"\"))","v":""}]
[null,null,null,null,"∆pv",{"$f":"Calculs!NL120","v":0},"kN/m2",null,null,null,"Coefficient de charge",null,null,"α",{"$f":"Calculs!NT104","v":0.9}]
[null,"Trafic ferroviaire voie unique",null,null,"punique",{"$f":"Calculs!NN120","v":0},"kN/m2",null,null,null,"Coefficient dynamique",null,null,"Ψ",{"$f":"Calculs!NU104","v":1}]
[null,"Trafic ferroviaire voies multiples",null,null,"pmultiples",{"$f":"Calculs!NO120","v":0},"kN/m2",null,null,null,"Trafic routier et route d'importance",null,null,"pvtotale",{"$f":"Calculs!NS120","v":26.258819999999996},"kN/m2"]
[null,"Trafic ferroviaire voie étroite",null,null,"pétroite",{"$f":"Calculs!NP120","v":0},"kN/m2",null,null,null,"secondaire",null,null,"pvroue",{"$f":"Calculs!NT120","v":5.4692679999999987},"kN/m2"]
[null,null,null,null,null,null,null,null,null,null,null,null,null,"∆pv",{"$f":"Calculs!NU120","v":20.789551999999997},"kN/m2"]
["Résultats",null,null,null,null,null,null,null,null,null,"Bord de route",null,null,"pvtotale",{"$f":"Calculs!NV120","v":0},"kN/m2"]
[null,null,null,null,null,null,null,null,null,null,null,null,null,"pvroue",{"$f":"Calculs!NW120","v":0},"kN/m2"]
[null,null,null,null,null,null,null,null,null,null,null,null,null,"∆pv",{"$f":"Calculs!NX120","v":0},"kN/m2"]
[null,null,null,null,null,null,null,null,null,null,"Trafic ferroviaire voie unique",null,null,"punique",{"$f":"Calculs!NZ120","v":0},"kN/m2"]
[null,null,null,null,null,null,null,null,null,null,"Trafic ferroviaire voies multiples",null,null,"pmultiples",{"$f":"Calculs!OA120","v":0},"kN/m2"]
[null,null,null,null,null,null,null,null,null,null,"Trafic ferroviaire voie étroite",null,null,"pétroite",{"$f":"Calculs!OB120","v":0},"kN/m2"]
[]
[null,null,null,null,null,null,null,null,null,"Résultats"]
[]
[]
[]
[]
[]
[]
[]
[]
[]
[]
[]
[]
[]
[]
[]
[]
[]
[]
[]
[]
[]
[]
[]
[null,"Sollicitations",null,null,null,null,null,null,null,null,"Sollicitations"]
[]
[null," Sollicitations",null,null,null,null,null,null,null,null,null," Sollicitations"]
[null,"U1/V1",null,null,null,null,null,null,null,null,null,"U4/V4"]
[null,"À long terme",null,null,"qs1",{"$f":"Calculs!NK204","v":60},"[kN/m2]",null,null,null,null,"À long terme",null,"qs1",{"$f":"Calculs!OB204","v":114.28921823140801},"[kN/m2]"]
[null,"À court terme",null,null,"qs2",{"$f":"Calculs!NK205","v":22.105800000000002},"[kN/m2]",null,null,null,null,"À court terme",null,"qs2",{"$f":"Calculs!OB205","v":30.531441559322026},"[kN/m2]"]
[null,"Charge eff. au sommet",null,null,"qser",{"$f":"Calculs!NK206","v":82.105800000000002},"[kN/m2]",null,null,null,null,"Charge eff. au sommet",null,"qser",{"$f":"Calculs!OB206","v":144.82065979073005},"[kN/m2]"]
[null,"Pression du terrain long terme",null,null,"qhlong",{"$f":"Calculs!NK207","v":66.599999999999994},"[kN/m2]",null,null,null,null,"Pression du terrain",null,"qh",{"$f":"Calculs!OB207","v":72.410329895365024},"[kN/m2]"]
[null,"Pression du terrain court terme",null,null,"qhcourt",{"$f":"Calculs!NK208","v":22.306761818181819},"[kN/m2]",null,null,null,null,"Charge de dim. au sommet",null,"qds",{"$f":"Calculs!OB208","v":200.08760695138386},"[kN/m2]"]
[null,"Charge de dim. au sommet",null,null,"qds",{"$f":"Calculs!NK211","v":114.15870000000001},"[kN/m2]"]
[null,null,null,null,null,null,null,null,null,null,"Vérifications"]
[null,"Vérifications"]
[]
[null,null,null,"Vérification de la déformation (IOWA)",null,null,null,null,null,null,"Poussée d'Archimède"]
[null,null,null,null,1,null,{"$f":"IF(Calculs!NK46<0.1,\"\",\"Tuyau rigide. Pas nécessaire de vérifier la déformation!\")","v":""},null,null,null,"Actions stabilisant",null,"G + G' + Gsp",{"$f":"Calculs!NX183","v":40.043307658978151},"[kN/m]"]
[null,null,null,"x/d court",{"$f":"IF(Calculs!NK46<0.1,Calculs!NJ214,\"\")","v":1.2560113636363638E-2},null,null,null,null,null,null,null,"GR",{"$f":"Calculs!NX184","v":6.3628812296158532},"[kN/m]"]
[null,null,null,"x/d long",{"$f":"IF(Calculs!NK46<0.1,Calculs!NJ215,\"\")","v":3.7499999999999999E-2},null,null,null,null,null,null,null,"Somme",{"$f":"Calculs!NX185","v":46.406188888594002},"[kN/m]","Facteur",0.9]
[null,null,null,"Somme",{"$f":"IF(Calculs!NK46<0.1,Calculs!NJ216,\"\")","v":5.0060113636363639E-2},{"$f":"IF(Calculs!NK46<0.1,Calculs!NK216,\"\")","v":"KO!"},null,null,null,null,"Actions déstabilisant",null,"FA",{"$f":"Calculs!NX186","v":0},"[kN/m]","Facteur",1.05]
[null,null,null,"Admissible",{"$f":"IF(Calculs!NK46<0.1,Calculs!NJ217,\"\")","v":0.05}]
[null,null,null,null,null,null,null,null,null,null,"Contôle:",null,"1.05*FA",{"$f":"Calculs!NX188","v":0},"[kN/m]",{"$f":"Calculs!NZ188","v":"OK"}]
[null,null,null,null,null,null,null,null,null,null,null,null,"0.9*Somme",{"$f":"Calculs!NX189","v":41.765569999734602},"[kN/m]"]
[null,"Poussée d'Archimède"]
[null,"Actions stabilisant",null,"G + G' + Gsp",{"$f":"Calculs!NI183","v":22.863395492515224},"[kN/m]",null,null,null,null,"Sécurité structurale"]
[null,null,null,"GR",{"$f":"Calculs!NI184","v":0.15723042912686197},"[kN/m]",null,null,null,null,{"$f":"IF(N138=\"\",\"\",\"Hypothèse: 5% de la charge de dimensionnement est reprise par le tuyau GF-UP et une déformation initiale\")","v":""}]
[null,null,null,"Somme",{"$f":"Calculs!NI185","v":23.020625921642086},"[kN/m]","Facteur",0.9,null,null,{"$f":"IF(N138=\"\",\"\",\"de 0.02m est admis [SIA190:2017;4.2.11.1.2].\")","v":""}]
[null,"Actions déstabilisant",null,"FA",{"$f":"Calculs!NI186","v":0},"[kN/m]","Facteur",1.05]
[]
[null,"Contôle:",null,"1.05*FA",{"$f":"Calculs!NI188","v":0},"[kN/m]",{"$f":"Calculs!NK188","v":"OK"},null,null,null,null,"Sécurité structurale"]
[null,null,null,"0.9*Somme",{"$f":"Calculs!NI189","v":20.718563329477877},"[kN/m]",null,null,null,null,null,"U4/V4"]
[null,null,null,null,null,null,null,null,null,null,null,"qds",null,{"$f":"Calculs!NW220","v":""},"[kN/m2]"]
[null,null,null,null,null,null,null,null,null,null,null,"qBl",null,{"$f":"Calculs!NW221","v":""},"[kN/m2]"]
[null,"Sécurité structurale",null,null,null,null,null,null,null,null,null,"pwd",null,{"$f":"Calculs!NW222","v":""},"[kN/m2]"]
[null,null,null,null,null,null,null,null,null,null,null,"pcr",null,{"$f":"Calculs!NW223","v":""},"[kN/m2]"]
[null,null,"Sécurité structurale",null,null,null,null,null,null,null,null,"k",null,{"$f":"Calculs!NW224","v":""},"[-]"]
[null,null,"U1/V1",null,null,null,null,null,null,null,null,"qBl/2*(1-2*pwd/k*pcr)",null,{"$f":"Calculs!NW225","v":""},"[kN/m2]"]
[null,null,"qds",null,{"$f":"IF(Calculs!NK46<0.1,Calculs!NJ220,\"\")","v":114.15870000000001},"[kN/m2]",{"$f":"IF(Calculs!NK46<0.1,\"\",\"Tuyau rigide. Limite de la formule de la sécurité structurale est dépassée!\")","v":""}]
[null,null,"qBl",null,{"$f":"IF(Calculs!NK46<0.1,Calculs!NJ221,\"\")","v":351.52364710688187},"[kN/m2]",null,null,null,null,null,"Résultat",null,{"$f":"Calculs!NW227","v":""}]
[null,null,"pwd",null,{"$f":"IF(Calculs!NK46<0.1,Calculs!NJ222,\"\")","v":0},"[kN/m2]"]
[null,null,"pcr",null,{"$f":"IF(Calculs!NK46<0.1,Calculs!NJ223,\"\")","v":43.722755285087182},"[kN/m2]",null,null,null,null,{"$f":"IF(N138=\"\",\"Vérification de la sécurité structurale que nécessaire lors de présence d'eau souterraine!\",\"\")","v":"Vérification de la sécurité structurale que nécessaire lors de présence d'eau souterraine!"}]
[null,null,"k",null,{"$f":"IF(Calculs!NK46<0.1,Calculs!NJ224,\"\")","v":1},"[-]"]
[null,null,"qBl/2*(1-2*pwd/k*pcr)",null,{"$f":"IF(Calculs!NK46<0.1,Calculs!NJ225,\"\")","v":175.76182355344093},"[kN/m2]"]
[]
[null,null,"Résultat",null,{"$f":"IF(Calculs!NK46<0.1,Calculs!NJ227,\"\")","v":"OK"}]
[]
[]
[]
[]
[]
[]
[null,"Aptitude au service",null,null,null,null,null,null,null,null,"Aptitude au service"]
[]
[null,null,null,null,null,null,null,null,null,null,null,null,"σRbz,adm",{"$f":"contrainte","v":-0.3},"N/mm2"]
[null,null,null,"εRbz,adm",{"$f":"Calculs!NN418","v":0.55826086956521748},"%"]
[null,null,null,null,null,null,null,null,null,null,null,null,null,"Convention des contraintes:"]
[null,null,null,null,"Convention des contraintes:",null,null,null,null,null,null,null,null,"Traction négatif -"]
[null,null,null,null,"Traction négatif -",null,null,null,null,null,null,null,null,"Compression positif +"]
[null,null,null,null,"Compression positif +"]
[]
[null,"Contraintes Profil d'enrobage U1/V1",null,null,null,null,null,null,null,null,"Contraintes Profil d'enrobage U4/V4"]
[null,"Contraintes en [N/mm2]",null,"0°","45°","90°","135°","180°",null,null,"Contraintes en [N/mm2]",null,"0°","45°","90°","135°","180°"]
[null,"À long terme",null,null,null,null,null,null,null,null,"Effort normal",null,{"$f":"Calculs!NT335","v":0.12294291249322925},{"$f":"Calculs!NU335","v":0.18890568747186914},{"$f":"Calculs!NV335","v":0.25832651097831505},{"$f":"Calculs!NW335","v":0.19345255541801168},{"$f":"Calculs!NX335","v":0.12512086282573093}]
[null,"Effort normal",null,{"$f":"Calculs!NG390","v":1.0207296942831472},{"$f":"Calculs!NH390","v":1.329669308036532},{"$f":"Calculs!NI390","v":1.3849134623999999},{"$f":"Calculs!NJ390","v":1.3318461997964568},{"$f":"Calculs!NK390","v":1.0217724257168523},null,null,"Moment extérieur",null,{"$f":"Calculs!NT336","v":0.27531308130680454},{"$f":"Calculs!NU336","v":1.8175690471669626E-3},{"$f":"Calculs!NV336","v":-0.27790169792463465},{"$f":"Calculs!NW336","v":-1.8131192270005182E-3},{"$f":"Calculs!NX336","v":0.28049663580119699}]
[null,"Moment extérieur",null,{"$f":"Calculs!NG391","v":5.9250756849097641},{"$f":"Calculs!NH391","v":-2.1839316274573095},{"$f":"Calculs!NI391","v":-1.5277203152158774},{"$f":"Calculs!NJ391","v":-2.2129115743317382},{"$f":"Calculs!NK391","v":5.9664505214489107},null,null,"Moment intérieur",null,{"$f":"Calculs!NT337","v":-0.40835603564056833},{"$f":"Calculs!NU337","v":-2.6958954768189635E-3},{"$f":"Calculs!NV337","v":0.41219558156709252},{"$f":"Calculs!NW337","v":2.6892953148729432E-3},{"$f":"Calculs!NX337","v":-0.41604450345259381}]
[null,"Moment intérieur",null,{"$f":"Calculs!NG392","v":-5.9250756849097641},{"$f":"Calculs!NH392","v":2.1839316274573095},{"$f":"Calculs!NI392","v":1.5277203152158774},{"$f":"Calculs!NJ392","v":2.2129115743317382},{"$f":"Calculs!NK392","v":-5.9664505214489107}]
[null,null,null,null,null,null,null,null,null,null,"Contraintes extérieur",null,{"$f":"Calculs!NT339","v":0.39825599380003379},{"$f":"Calculs!NU339","v":0.1907232565190361},{"$f":"Calculs!NV339","v":-1.95751869463196E-2},{"$f":"Calculs!NW339","v":0.19163943619101115},{"$f":"Calculs!NX339","v":0.40561749862692792}]
[null,"Contraintes extérieur",null,{"$f":"Calculs!NG394","v":6.9458053791929117},{"$f":"Calculs!NH394","v":-0.85426231942077746},{"$f":"Calculs!NI394","v":-0.14280685281587746},{"$f":"Calculs!NJ394","v":-0.88106537453528144},{"$f":"Calculs!NK394","v":6.9882229471657631},null,null,"Conraintes intérieur",null,{"$f":"Calculs!NT340","v":-0.28541312314733908},{"$f":"Calculs!NU340","v":0.18620979199505017},{"$f":"Calculs!NV340","v":0.67052209254540762},{"$f":"Calculs!NW340","v":0.19614185073288462},{"$f":"Calculs!NX340","v":-0.29092364062686288}]
[null,"Conraintes intérieur",null,{"$f":"Calculs!NG395","v":-4.9043459906266165},{"$f":"Calculs!NH395","v":3.5136009354938418},{"$f":"Calculs!NI395","v":2.9126337776158771},{"$f":"Calculs!NJ395","v":3.544757774128195},{"$f":"Calculs!NK395","v":-4.9446780957320584}]
[null,null,null,null,null,null,null,null,null,null,"Contraintes extérieures",null,{"$f":"Calculs!NT342","v":"OK"},{"$f":"Calculs!NU342","v":"OK"},{"$f":"Calculs!NV342","v":"OK"},{"$f":"Calculs!NW342","v":"OK"},{"$f":"Calculs!NX342","v":"OK"}]
[null,"Déformations extérieures",null,{"$f":"Calculs!NG399","v":0.23786353042358127},{"$f":"Calculs!NH399","v":-2.9254757384070899E-2},{"$f":"Calculs!NI399","v":-4.8905116577586047E-3},{"$f":"Calculs!NJ399","v":-3.0172645082849833E-2},{"$f":"Calculs!NK399","v":0.23931614706329155},null,null,"Conraintes intérieures",null,{"$f":"Calculs!NT343","v":"OK"},{"$f":"Calculs!NU343","v":"OK"},{"$f":"Calculs!NV343","v":"OK"},{"$f":"Calculs!NW343","v":"OK"},{"$f":"Calculs!NX343","v":"OK"}]
[null,"Déformations intérieures",null,{"$f":"Calculs!NG400","v":-0.16795245303644479},{"$f":"Calculs!NH400","v":0.12032550257163646},{"$f":"Calculs!NI400","v":9.9744999370424012E-2},{"$f":"Calculs!NJ400","v":0.12139248836087352},{"$f":"Calculs!NK400","v":-0.16933365167160006}]
[]
[null,"À court terme"]
[null,"Effort normal",null,{"$f":"Calculs!NG404","v":5.3944783740000002E-2},{"$f":"Calculs!NH404","v":3.8132505000000004E-2},{"$f":"Calculs!NI404","v":0},{"$f":"Calculs!NJ404","v":-0.14342906214000001},{"$f":"Calculs!NK404","v":-5.3944783740000002E-2}]
[null,"Moment extérieur",null,{"$f":"Calculs!NG405","v":3.5293033880410918},{"$f":"Calculs!NH405","v":-0.73633728491345429},{"$f":"Calculs!NI405","v":-2.0495486520130934},{"$f":"Calculs!NJ405","v":-0.73633728491345429},{"$f":"Calculs!NK405","v":3.5293033880410998}]
[null,"Moment intérieur",null,{"$f":"Calculs!NG406","v":-3.5293033880410918},{"$f":"Calculs!NH406","v":0.73633728491345429},{"$f":"Calculs!NI406","v":2.0495486520130934},{"$f":"Calculs!NJ406","v":0.73633728491345429},{"$f":"Calculs!NK406","v":-3.5293033880410998}]
[]
[null,"Contraintes extérieur",null,{"$f":"Calculs!NG408","v":3.5832481717810918},{"$f":"Calculs!NH408","v":-0.69820477991345431},{"$f":"Calculs!NI408","v":-2.0495486520130934},{"$f":"Calculs!NJ408","v":-0.87976634705345425},{"$f":"Calculs!NK408","v":3.4753586043010998}]
[null,"Conraintes intérieur",null,{"$f":"Calculs!NG409","v":-3.4753586043010918},{"$f":"Calculs!NH409","v":0.77446978991345428},{"$f":"Calculs!NI409","v":2.0495486520130934},{"$f":"Calculs!NJ409","v":0.59290822277345434},{"$f":"Calculs!NK409","v":-3.5832481717810998}]
[]
[null,"Déformations extérieures",null,{"$f":"Calculs!NG413","v":6.1355308275476902E-2},{"$f":"Calculs!NH413","v":-1.1955233759236978E-2},{"$f":"Calculs!NI413","v":-3.5094049683794516E-2},{"$f":"Calculs!NJ413","v":-1.5064079529558339E-2},{"$f":"Calculs!NK413","v":5.950793478776438E-2}]
[null,"Déformations intérieures",null,{"$f":"Calculs!NG414","v":-5.9507934787764234E-2},{"$f":"Calculs!NH414","v":1.3261105687403329E-2},{"$f":"Calculs!NI414","v":3.5094049683794516E-2},{"$f":"Calculs!NJ414","v":1.015225991708197E-2},{"$f":"Calculs!NK414","v":-6.1355308275477034E-2}]
[]
[null,"Somme déformations ext.",null,{"$f":"D170+D181","v":0.29921883869905819},{"$f":"E170+E181","v":-4.1209991143307881E-2},-3.9984561341553121E-2,-4.5236724612408172E-2,0.29882408185105591]
[null,"Somme déformations int.",null,{"$f":"D171+D182","v":-0.22746038782420902},0.13358660825903979,0.13483904905421853,0.13154474827795548,-0.23068895994707708]
[]
[null,"Déformations extérieures",null,{"$f":"Calculs!NG420","v":"OK"},{"$f":"Calculs!NH420","v":"OK"},{"$f":"Calculs!NI420","v":"OK"},{"$f":"Calculs!NJ420","v":"OK"},{"$f":"Calculs!NK420","v":"OK"}]
[null,"Déformations intérieures",null,{"$f":"Calculs!NG421","v":"OK"},{"$f":"Calculs!NH421","v":"OK"},{"$f":"Calculs!NI421","v":"OK"},{"$f":"Calculs!NJ421","v":"OK"},{"$f":"Calculs!NK421","v":"OK"}]

{"sheet":"GF-UP SN5000 (D)","index":39,"n_rows":188,"n_cols":17,"rows_kept":188,"cut":false,"hidden":false,"merged":[[64,16,65,16],[8,0,9,8],[8,9,9,17],[57,7,58,7],[11,4,11,6],[25,13,25,15],[70,0,70,8],[77,9,77,17],[103,1,103,6],[103,11,103,15],[104,1,104,6],[104,11,104,15],[114,3,114,5],[114,10,114,16],[105,1,105,3],[105,11,105,12],[106,1,106,3],[106,11,106,12],[107,1,107,3],[107,11,107,12],[108,1,108,3],[108,11,108,12],[109,1,109,3],[109,11,109,12],[110,1,110,3],[115,5,117,5],[115,6,117,7],[115,10,115,11],[116,10,117,11],[118,5,119,5],[118,10,118,11],[119,10,119,11],[120,15,121,16],[121,10,121,11],[122,1,122,7],[123,1,123,2],[126,1,126,2],[124,1,125,2],[120,10,120,11],[127,1,127,2],[128,1,128,2],[128,6,129,7],[128,11,128,14],[129,1,129,2],[129,11,129,14],[130,11,130,12],[131,11,131,12],[132,11,132,12],[133,11,133,12],[134,2,134,5],[134,11,134,12],[143,2,143,3],[135,2,135,5],[135,11,135,12],[136,2,136,3],[136,6,138,7],[136,11,136,14],[137,2,137,3],[137,11,137,12],[138,2,138,3],[139,2,139,3],[140,2,140,3],[141,2,141,3],[142,2,142,5],[139,10,139,15],[187,1,187,2],[155,3,155,5],[156,3,156,5],[157,3,157,5],[177,1,177,2],[178,1,178,2],[180,1,180,2],[181,1,181,2],[183,1,183,2],[169,1,169,2],[170,1,170,2],[172,1,172,7],[166,1,166,2],[167,1,167,2],[159,1,159,7],[160,1,160,2],[154,12,154,14],[155,12,155,14],[156,12,156,14],[184,1,184,2],[186,1,186,2],[169,10,169,11],[165,10,165,11],[166,10,166,11],[167,10,167,11],[168,10,168,11],[164,10,164,11],[159,10,159,16],[160,10,160,11],[161,1,161,7]]}
[null,"Projekt:",{"$f":"Accueil!P15","v":"VSA 2026"},null,null,"Ingenieur/in:",null,{"$f":"Accueil!AI15","v":0},null,null,"Projekt:",{"$f":"Accueil!$P$15","v":"VSA 2026"},null,null,"Ingenieur/in:",null,{"$f":"Accueil!$AI$15","v":0}]
[]
[null,"N°:",{"$f":"Accueil!P17","v":0},null,null,"Verantwortlicher:",null,{"$f":"Accueil!AI17","v":0},null,null,"N°:",{"$f":"Accueil!P17","v":0},null,null,"Verantwortlicher:",null,{"$f":"Accueil!$AI$17","v":0}]
[]
[null,"Ort:",{"$f":"Accueil!P21","v":0},null,null,"Bauherr:",null,{"$f":"Accueil!AI19","v":0},null,null,"Ort:",{"$f":"Accueil!$P$21","v":0},null,null,"Bauherr:",null,{"$f":"Accueil!$AI$19","v":0}]
[null,null,{"$f":"Accueil!P23","v":0},null,null,null,null,null,null,null,null,{"$f":"Accueil!$P$23","v":0}]
[]
[]
["Daten Normalverlegeprofil U1/V1",null,null,null,null,null,null,null,null,"Daten Normalverlegeprofil U4/V4"]
[]
[]
[null,"GF-UP Rohr",null,null,{"$f":"IF(Données!$AE$6>F14,\"di max.< di Eingabe!\",\"\")","v":""},null,null,null,null,null,"\"Fiktives\" Betonrohr"]
[]
[null,"Innendurchmesser",null,null,"di",{"$f":"Calculs!NJ35","v":360},"mm",null,null,null,"Innendurchmesser",null,null,"di",{"$f":"Calculs!NR34/1000","v":0.376},"m"]
[null,"Radius",null,null,"rm",{"$f":"Calculs!NN35","v":184},"mm",null,null,null,"Radius",null,null,"rm",{"$f":"Calculs!NU34/1000","v":0.26550000000000001},"m"]
[null,"Wanddicke",null,null,"e",{"$f":"Calculs!NM35","v":8},"mm",null,null,null,"Wanddicke",null,null,"e",{"$f":"Calculs!NT34/1000","v":0.155},"m"]
[null,"Querschnittsfläche",null,null,"A",{"$f":"Calculs!NJ384","v":8.0000000000000002E-3},"m2",null,null,null,"Querschnittsfläche",null,null,"A",{"$f":"Calculs!NW322","v":0.155},"m2"]
[null,"Widerstandsmoment",null,null,"W",{"$f":"Calculs!NJ385","v":1.0666666666666667E-5},"m3",null,null,null,"Widerstandsmoment",null,null,"W",{"$f":"Calculs!NW323","v":4.0041666666666663E-3},"m3"]
[null,"E-Modul",null,null,"ER,kurz",{"$f":"Calculs!NK41","v":5840.16},"N/mm2",null,null,null,"E-Modul",null,null,"ER,kurz",{"$f":"Calculs!NS36","v":20000},"N/mm2"]
[]
[null,"Systemsteifigkeit",null,null,"SFkurz",{"$f":"Calculs!NK46","v":1.3333333333333331E-2},{"$f":"Calculs!NL46","v":"souple"},null,null,null,"Systemsteifigkeit",null,null,"SFkurz",{"$f":"Calculs!NR46","v":110.54243150732353},{"$f":"Calculs!NS46","v":"rigide"}]
[null,"Lastvergrösserungsfaktor",null,null,"f",{"$f":"Calculs!NM50","v":1},null,null,null,null,"Lastvergrösserungsfaktor",null,null,"f",{"$f":"Calculs!NT50","v":1.2919020715630884}]
[null,"Krümmungseinfluss",null,null,"αka",{"$f":"Calculs!NG385","v":1},null,null,null,null,"Krümmungseinfluss",null,null,"αka",{"$f":"Calculs!NT323","v":0.80539861895794096}]
[null,null,null,null,"αki",{"$f":"Calculs!NG384","v":1},null,null,null,null,null,null,null,"αki",{"$f":"Calculs!NT322","v":1.194601381042059}]
[]
[null,"Terrain",null,null,null,null,null,null,null,null,"GF-UP Rohr",null,null,{"$f":"IF(Données!$AE$6>O28,\"di max.< di Eingabe!\",\"\")","v":""}]
[]
[null,"Bodenqualität",null,null,null,{"$f":"Données!AE30","v":"Sol stable"},null,null,null,null,"Innendurchmesser",null,null,"di",{"$f":"Calculs!NJ35","v":360},"mm"]
[null,"Feuchtraumgewicht des Baugrunds",null,null,"γ",{"$f":"Données!AE32","v":20},"kN/m3",null,null,null,"Radius",null,null,"rm",{"$f":"Calculs!NN35","v":184},"mm"]
[null,"Raumgewicht unter Auftrieb",null,null,"γ'",{"$f":"Données!AE34","v":11},"kN/m3",null,null,null,"Wanddicke",null,null,"e",{"$f":"Calculs!NM35","v":8},"mm"]
[null,"Verformungsmodul des Bodens",null,null,"EB",{"$f":"Données!AE38","v":5},"N/mm2"]
[null,"Erddruckbeiwert",null,null,"K",{"$f":"Données!AE40","v":0.5},null,null,null,null,"Terrain"]
[null,"Setzungs-Durchbiegungsziffer",null,null,"C2",{"$f":"Données!AE42","v":0.5}]
[null,"Hüllbeton",null,null,null,{"$f":"Données!AE50","v":"C16/20"},null,null,null,null,"Bodenqualität",null,null,null,{"$f":"Données!AE30","v":"Sol stable"}]
[null,"Lastminderung",null,null,"λmin",{"$f":"Données!AE44","v":"NON"},null,null,null,null,"Feuchtraumgewicht des Baugrunds",null,null,"γ",{"$f":"Données!AE32","v":20},"kN/m3"]
[null,null,null,null,null,null,null,null,null,null,"Raumgewicht unter Auftrieb",null,null,"γ'",{"$f":"Données!AE34","v":11},"kN/m3"]
[null,"Wasser",null,null,null,null,null,null,null,null,"Verformungsmodul des Bodens",null,null,"EB",{"$f":"Données!AE38","v":5},"N/mm2"]
[null,null,null,null,null,null,null,null,null,null,"Erddruckbeiwert",null,null,"K",{"$f":"Données!AE40","v":0.5}]
[null,"Grundwasser",null,null,null,{"$f":"Données!AE60","v":"Sans eau souterraine"},null,null,null,null,"Setzungs-Durchbiegungsziffer",null,null,"C2",{"$f":"Données!AE42","v":0.5}]
[null,"Grwundwasserspiegel",null,null,"hw",{"$f":"Données!AE62","v":1.3},"m",null,null,null,"Hüllbeton",null,null,null,{"$f":"Données!AE50","v":"C16/20"}]
[null,"Wasser im Rohr",null,null,null,{"$f":"Données!AE64","v":"Tuyau vide"},null,null,null,null,"Lastminderung",null,null,"λmin",{"$f":"Données!AE44","v":"NON"}]
[null,"Druck",null,null,"pEi",{"$f":"Données!AE66","v":10},"kN/m2"]
[null,null,null,null,null,null,null,null,null,null,"Wasser"]
[null,"Graben"]
[null,null,null,null,null,null,null,null,null,null,"Grundwasser",null,null,null,{"$f":"Données!AE60","v":"Sans eau souterraine"}]
[null,"Überdeckungshöhe",null,null,"H",{"$f":"Données!AE52","v":3},"m",null,null,null,"Grwundwasserspiegel",null,null,"hw",{"$f":"Données!AE62","v":1.3},"m"]
[null,"Grabentyp",null,null,null,{"$f":"Données!AE56","v":"Verticale (U)"},null,null,null,null,"Wasser im Rohr",null,null,null,{"$f":"Données!AE64","v":"Tuyau vide"}]
[null,"Grabenbreite",null,null,"B",{"$f":"Données!$AE$54","v":1.5},"m",null,null,null,"Druck",null,null,"pEi",{"$f":"Données!AE66","v":10},"kN/m2"]
[null,"Böschungsneigung",null,null,"β",{"$f":"Données!AE58","v":30},"°"]
[]
[]
[]
[]
[null,"Einwirkungen",null,null,null,null,null,null,null,null,"Graben"]
[]
[null,"Flächenlast",null,null,null,{"$f":"Données!AE8","v":"Pas de charge"},null,null,null,null,"Überdeckungshöhe",null,null,"H",{"$f":"Calculs!NU107","v":2.8450000000000002},"m"]
[null,null,null,null,"qs",{"$f":"Calculs!NL134","v":0},"kN/m2",null,null,null,"Grabentyp",null,null,null,{"$f":"Données!$AE$56","v":"Verticale (U)"}]
[null,"Verkehr",null,null,null,{"$f":"Données!AE22","v":"Trafic routier"},null,{"$f":"IF(AND(Accueil!AZ15=\"Deutsch\",AND(OR(F58=\"Voie unique (ferroviaire)\",F58=\"Voies multiples (ferroviaire)\",F58=\"Voie étroite (ferroviaire)\",F58=\"Eingleisig (Bahnverkehr)\",F58=\"Mehrgleisig (Bahnverkehr)\",F58=\"Schmalspur (Bahnverkehr)\"),F46<2)),\"H zu klein!\",\"\")","v":""},null,null,"Grabenbreite",null,null,"B",{"$f":"Données!AE54","v":1.5},"m"]
[null,"Beiwert Strass- und Bahnvekehrslasten",null,null,"α",{"$f":"Calculs!NH104","v":0.9},null,null,null,null,"Böschungsneigung",null,null,"β",{"$f":"Données!AE58","v":30},"°"]
[null,"Dynamischer Beiwert",null,null,"Ψ",{"$f":"Calculs!NI104","v":1}]
[null,"Strassenverkehr und untergeordnete",null,null,"pvtotal",{"$f":"Calculs!NG120","v":24.562000000000001},"kN/m2",null,null,null,"Einwirkungen"]
[null,"Strassen",null,null,"pvRad",{"$f":"Calculs!NH120","v":4.9021999999999997},"kN/m2"]
[null,null,null,null,"∆pv",{"$f":"Calculs!NI120","v":19.659800000000001},"kN/m2",null,null,null,"Flächenlast",null,null,null,{"$f":"Données!AE8","v":"Pas de charge"}]
[null,"Strassenrand",null,null,"pvtotal",{"$f":"Calculs!NJ120","v":0},"kN/m2",null,null,null,null,null,null,"qs",{"$f":"Calculs!NW134","v":0},"kN/m2"]
[null,null,null,null,"pvRad",{"$f":"Calculs!NK120","v":0},"kN/m2",null,null,null,"Verkehr",null,null,null,{"$f":"Données!AE22","v":"Trafic routier"},null,{"$f":"IF(AND(Accueil!AZ15=\"Deutsch\",AND(OR(O65=\"Voie unique (ferroviaire)\",O65=\"Voies multiples (ferroviaire)\",O65=\"Voie étroite (ferroviaire)\",O65=\"Eingleisig (Bahnverkehr)\",O65=\"Mehrgleisig (Bahnverkehr)\",O65=\"Schmalspur (Bahnverkehr)\"),O56<2)),\"H zu klein!\",IF(AND(Accueil!AZ15=\"Deutsch\",AND(OR(O65=\"Trafic routier\",O65=\"Bord de route\",O65=\"Route d'importance secondaire\",O65=\"Strassenverkehr\",O65=\"Strassenrand\",O65=\"Untergeordnete Strasse\"),O56<1)),\"H zu klein!\",\"\"))","v":""}]
[null,null,null,null,"∆pv",{"$f":"Calculs!NL120","v":0},"kN/m2",null,null,null,"Beiwert Strass- und Bahnvekehrslasten",null,null,"α",{"$f":"Calculs!NT104","v":0.9}]
[null,"Bahnverkehr eingleisig",null,null,"peingleisig",{"$f":"Calculs!NN120","v":0},"kN/m2",null,null,null,"Dynamischer Beiwert",null,null,"Ψ",{"$f":"Calculs!NU104","v":1}]
[null,"Bahnverkehr mehrgleisig",null,null,"pmehrgleisig",{"$f":"Calculs!NO120","v":0},"kN/m2",null,null,null,"Strassenverkehr und untergeordnete",null,null,"pvtotal",{"$f":"Calculs!NS120","v":26.258819999999996},"kN/m2"]
[null,"Bahnverkehr schmalspur",null,null,"pschmal",{"$f":"Calculs!NP120","v":0},"kN/m2",null,null,null,"Strassen",null,null,"pvRad",{"$f":"Calculs!NT120","v":5.4692679999999987},"kN/m2"]
[null,null,null,null,null,null,null,null,null,null,null,null,null,"∆pv",{"$f":"Calculs!NU120","v":20.789551999999997},"kN/m2"]
["Resultate",null,null,null,null,null,null,null,null,null,"Strassenrand",null,null,"pvtotal",{"$f":"Calculs!NV120","v":0},"kN/m2"]
[null,null,null,null,null,null,null,null,null,null,null,null,null,"pvRad",{"$f":"Calculs!NW120","v":0},"kN/m2"]
[null,null,null,null,null,null,null,null,null,null,null,null,null,"∆pv",{"$f":"Calculs!NX120","v":0},"kN/m2"]
[null,null,null,null,null,null,null,null,null,null,"Bahnverkehr eingleisig",null,null,"peingleisig",{"$f":"Calculs!NZ120","v":0},"kN/m2"]
[null,null,null,null,null,null,null,null,null,null,"Bahnverkehr mehrgleisig",null,null,"pmehrgleisig",{"$f":"Calculs!OA120","v":0},"kN/m2"]
[null,null,null,null,null,null,null,null,null,null,"Bahnverkehr schmalspur",null,null,"pschmal",{"$f":"Calculs!OB120","v":0},"kN/m2"]
[]
[null,null,null,null,null,null,null,null,null,"Resultate"]
[]
[]
[]
[]
[]
[]
[]
[]
[]
[]
[]
[]
[]
[]
[]
[]
[]
[]
[]
[]
[]
[]
[]
[null,"Beanspruchungen",null,null,null,null,null,null,null,null,"Beanspruchungen"]
[]
[null,"Beanspruchungen",null,null,null,null,null,null,null,null,null,"Beanspruchungen"]
[null,"U1/V1",null,null,null,null,null,null,null,null,null,"U4/V4"]
[null,"Langzeit",null,null,"qs1",{"$f":"Calculs!NK204","v":60},"[kN/m2]",null,null,null,null,"Langzeit",null,"qs1",{"$f":"Calculs!OB204","v":114.28921823140801},"[kN/m2]"]
[null,"Kurzzeit",null,null,"qs2",{"$f":"Calculs!NK205","v":22.105800000000002},"[kN/m2]",null,null,null,null,"Kurzzeit",null,"qs2",{"$f":"Calculs!OB205","v":30.531441559322026},"[kN/m2]"]
[null,"Effektive Last auf Scheitel",null,null,"qser",{"$f":"Calculs!NK206","v":82.105800000000002},"[kN/m2]",null,null,null,null,"Effektive Last auf Scheitel",null,"qser",{"$f":"Calculs!OB206","v":144.82065979073005},"[kN/m2]"]
[null,"Erddruck langzeit",null,null,"qhlang",{"$f":"Calculs!NK207","v":66.599999999999994},"[kN/m2]",null,null,null,null,"Erddruck",null,"qh",{"$f":"Calculs!OB207","v":72.410329895365024},"[kN/m2]"]
[null,"Erddruck kurzzeit",null,null,"qhkurz",{"$f":"Calculs!NK208","v":22.306761818181819},"[kN/m2]",null,null,null,null,"Bemessungswert",null,"qds",{"$f":"Calculs!OB208","v":200.08760695138386},"[kN/m2]"]
[null,"Bemessungswert",null,null,"qds",{"$f":"Calculs!NK211","v":114.15870000000001},"[kN/m2]"]
[null,null,null,null,null,null,null,null,null,null,"Nachweise"]
[null,"Nachweise"]
[]
[null,null,null,"Verformungsnachweis (IOWA)",null,null,null,null,null,null,"Auftrieb"]
[null,null,null,null,1,null,{"$f":"IF(Calculs!MK46<0.1,\"\",\"Steifes Rohr. Verformungsnachweis entfällt!\")","v":""},null,null,null,"Stabilisierend",null,"G + G' + Gsp",{"$f":"Calculs!NX183","v":40.043307658978151},"[kN/m]"]
[null,null,null,"x/d kurz",{"$f":"IF(Calculs!NK46<0.1,Calculs!NJ214,\"\")","v":1.2560113636363638E-2},null,null,null,null,null,null,null,"GR",{"$f":"Calculs!NX184","v":6.3628812296158532},"[kN/m]"]
[null,null,null,"x/d lang",{"$f":"IF(Calculs!NK46<0.1,Calculs!NJ215,\"\")","v":3.7499999999999999E-2},null,null,null,null,null,null,null,"Summe",{"$f":"Calculs!NX185","v":46.406188888594002},"[kN/m]","Faktor",0.9]
[null,null,null,"Summe",{"$f":"IF(Calculs!NK46<0.1,Calculs!NJ216,\"\")","v":5.0060113636363639E-2},{"$f":"IF(Calculs!NK46<0.1,Calculs!NK216,\"\")","v":"KO!"},null,null,null,null,"Destabilisierend",null,"FA",{"$f":"Calculs!NX186","v":0},"[kN/m]","Faktor",1.05]
[null,null,null,"Zugelassen",{"$f":"IF(Calculs!NK46<0.1,Calculs!NJ217,\"\")","v":0.05}]
[null,null,null,null,null,null,null,null,null,null,"Kontrolle:",null,"1.05*FA",{"$f":"Calculs!NX188","v":0},"[kN/m]",{"$f":"Calculs!NZ188","v":"OK"}]
[null,null,null,null,null,null,null,null,null,null,null,null,"0.9*Summe",{"$f":"Calculs!NX189","v":41.765569999734602},"[kN/m]"]
[null,"Auftrieb"]
[null,"Stabilisierend",null,"G + G' + Gsp",{"$f":"Calculs!NI183","v":22.863395492515224},"[kN/m]",null,null,null,null,"Tragfähigkeit"]
[null,null,null,"GR",{"$f":"Calculs!NI184","v":0.15723042912686197},"[kN/m]",null,null,null,null,{"$f":"IF(N138=\"\",\"\",\"Annahme: 5% des Bemessungswerts werden durch das GF-UP Rohr aufgenommen und eine initiale\")","v":""}]
[null,null,null,"Summe",{"$f":"Calculs!NI185","v":23.020625921642086},"[kN/m]","Faktor",0.9,null,null,{"$f":"IF(N138=\"\",\"\",\"Deformation von 0.02m [SIA190:2017;4.2.11.1.2].\")","v":""}]
[null,"Destabilisierend",null,"FA",{"$f":"Calculs!NI186","v":0},"[kN/m]","Faktor",1.05]
[]
[null,"Kontrolle:",null,"1.05*FA",{"$f":"Calculs!NI188","v":0},"[kN/m]",{"$f":"Calculs!NK188","v":"OK"},null,null,null,null,"Tragfähigkeit"]
[null,null,null,"0.9*Summe",{"$f":"Calculs!NI189","v":20.718563329477877},"[kN/m]",null,null,null,null,null,"U4/V4"]
[null,null,null,null,null,null,null,null,null,null,null,"qds",null,{"$f":"Calculs!NW220","v":""},"[kN/m2]"]
[null,null,null,null,null,null,null,null,null,null,null,"qBl",null,{"$f":"Calculs!NW221","v":""},"[kN/m2]"]
[null,"Tragfähigkeit",null,null,null,null,null,null,null,null,null,"pwd",null,{"$f":"Calculs!NW222","v":""},"[kN/m2]"]
[null,null,null,null,null,null,null,null,null,null,null,"pcr",null,{"$f":"Calculs!NW223","v":""},"[kN/m2]"]
[null,null,"Tragfähigkeit",null,null,null,null,null,null,null,null,"k",null,{"$f":"Calculs!NW224","v":""},"[-]"]
[null,null,"U1/V1",null,null,null,null,null,null,null,null,"qBl/2*(1-2*pwd/k*pcr)",null,{"$f":"Calculs!NW225","v":""},"[kN/m2]"]
[null,null,"qds",null,{"$f":"IF(Calculs!NK46<0.1,Calculs!NJ220,\"\")","v":114.15870000000001},"[kN/m2]",{"$f":"IF(Calculs!NK46<0.1,\"\",\"Steifes Rohr. Limite der Tragfähigkeitsformel überschritten!\")","v":""}]
[null,null,"qBl",null,{"$f":"IF(Calculs!NK46<0.1,Calculs!NJ221,\"\")","v":351.52364710688187},"[kN/m2]",null,null,null,null,null,"Resultat",null,{"$f":"Calculs!NW227","v":""}]
[null,null,"pwd",null,{"$f":"IF(Calculs!NK46<0.1,Calculs!NJ222,\"\")","v":0},"[kN/m2]"]
[null,null,"pcr",null,{"$f":"IF(Calculs!NK46<0.1,Calculs!NJ223,\"\")","v":43.722755285087182},"[kN/m2]",null,null,null,null,{"$f":"IF(N138=\"\",\"Tragfähigkeitsnachweis nur nötig bei Grundwasser!\",\"\")","v":"Tragfähigkeitsnachweis nur nötig bei Grundwasser!"}]
[null,null,"k",null,{"$f":"IF(Calculs!NK46<0.1,Calculs!NJ224,\"\")","v":1},"[-]"]
[null,null,"qBl/2*(1-2*pwd/k*pcr)",null,{"$f":"IF(Calculs!NK46<0.1,Calculs!NJ225,\"\")","v":175.76182355344093},"[kN/m2]"]
[]
[null,null,"Resultat",null,{"$f":"IF(Calculs!NK46<0.1,Calculs!NJ227,\"\")","v":"OK"}]
[]
[]
[]
[]
[]
[]
[null,"Gebrauchstauglichkeit",null,null,null,null,null,null,null,null,"Gebrauchstauglichkeit"]
[]
[null,null,null,null,null,null,null,null,null,null,null,null,"σRbz,adm",{"$f":"contrainte","v":-0.3},"N/mm2"]
[null,null,null,"εRbz,adm",{"$f":"Calculs!NN418","v":0.55826086956521748},"%"]
[null,null,null,null,null,null,null,null,null,null,null,null,"Spannungskonventionen:"]
[null,null,null,"Spannungskonventionen:",null,null,null,null,null,null,null,null,"Zug negatif -"]
[null,null,null,"Zug negatif -",null,null,null,null,null,null,null,null,"Druck positif +"]
[null,null,null,"Druck positif +"]
[]
[null,"Spannungen Verlegeprofil U1/V1",null,null,null,null,null,null,null,null,"Spannungen Verlegeprofil U4/V4"]
[null,"Spannungen in [N/mm2]",null,"0°","45°","90°","135°","180°",null,null,"Spannungen in [N/mm2]",null,"0°","45°","90°","135°","180°"]
[null,"Langzeit",null,null,null,null,null,null,null,null,"Durch die Normalkraft",null,{"$f":"Calculs!NT335","v":0.12294291249322925},{"$f":"Calculs!NU335","v":0.18890568747186914},{"$f":"Calculs!NV335","v":0.25832651097831505},{"$f":"Calculs!NW335","v":0.19345255541801168},{"$f":"Calculs!NX335","v":0.12512086282573093}]
[null,"Durch die Normalkraft",null,{"$f":"Calculs!NG390","v":1.0207296942831472},{"$f":"Calculs!NH390","v":1.329669308036532},{"$f":"Calculs!NI390","v":1.3849134623999999},{"$f":"Calculs!NJ390","v":1.3318461997964568},{"$f":"Calculs!NK390","v":1.0217724257168523},null,null,"Durch das Moment aussen",null,{"$f":"Calculs!NT336","v":0.27531308130680454},{"$f":"Calculs!NU336","v":1.8175690471669626E-3},{"$f":"Calculs!NV336","v":-0.27790169792463465},{"$f":"Calculs!NW336","v":-1.8131192270005182E-3},{"$f":"Calculs!NX336","v":0.28049663580119699}]
[null,"Durch das Moment aussen",null,{"$f":"Calculs!NG391","v":5.9250756849097641},{"$f":"Calculs!NH391","v":-2.1839316274573095},{"$f":"Calculs!NI391","v":-1.5277203152158774},{"$f":"Calculs!NJ391","v":-2.2129115743317382},{"$f":"Calculs!NK391","v":5.9664505214489107},null,null,"Durch das Moment innen",null,{"$f":"Calculs!NT337","v":-0.40835603564056833},{"$f":"Calculs!NU337","v":-2.6958954768189635E-3},{"$f":"Calculs!NV337","v":0.41219558156709252},{"$f":"Calculs!NW337","v":2.6892953148729432E-3},{"$f":"Calculs!NX337","v":-0.41604450345259381}]
[null,"Durch das Moment innen",null,{"$f":"Calculs!NG392","v":-5.9250756849097641},{"$f":"Calculs!NH392","v":2.1839316274573095},{"$f":"Calculs!NI392","v":1.5277203152158774},{"$f":"Calculs!NJ392","v":2.2129115743317382},{"$f":"Calculs!NK392","v":-5.9664505214489107}]
[null,null,null,null,null,null,null,null,null,null,"Spannungen aussen",null,{"$f":"Calculs!NT339","v":0.39825599380003379},{"$f":"Calculs!NU339","v":0.1907232565190361},{"$f":"Calculs!NV339","v":-1.95751869463196E-2},{"$f":"Calculs!NW339","v":0.19163943619101115},{"$f":"Calculs!NX339","v":0.40561749862692792}]
[null,"Spannungen aussen",null,{"$f":"Calculs!NG394","v":6.9458053791929117},{"$f":"Calculs!NH394","v":-0.85426231942077746},{"$f":"Calculs!NI394","v":-0.14280685281587746},{"$f":"Calculs!NJ394","v":-0.88106537453528144},{"$f":"Calculs!NK394","v":6.9882229471657631},null,null,"Spannungen innen","Spannungen innen",{"$f":"Calculs!NT340","v":-0.28541312314733908},{"$f":"Calculs!NU340","v":0.18620979199505017},{"$f":"Calculs!NV340","v":0.67052209254540762},{"$f":"Calculs!NW340","v":0.19614185073288462},{"$f":"Calculs!NX340","v":-0.29092364062686288}]
[null,"Spannungen innen","Spannungen innen",{"$f":"Calculs!NG395","v":-4.9043459906266165},{"$f":"Calculs!NH395","v":3.5136009354938418},{"$f":"Calculs!NI395","v":2.9126337776158771},{"$f":"Calculs!NJ395","v":3.544757774128195},{"$f":"Calculs!NK395","v":-4.9446780957320584}]
[null,null,null,null,null,null,null,null,null,null,"Spannungen aussen",null,{"$f":"Calculs!NT342","v":"OK"},{"$f":"Calculs!NU342","v":"OK"},{"$f":"Calculs!NV342","v":"OK"},{"$f":"Calculs!NW342","v":"OK"},{"$f":"Calculs!NX342","v":"OK"}]
[null,"Deformationen aussen",null,{"$f":"Calculs!NG399","v":0.23786353042358127},{"$f":"Calculs!NH399","v":-2.9254757384070899E-2},{"$f":"Calculs!NI399","v":-4.8905116577586047E-3},{"$f":"Calculs!NJ399","v":-3.0172645082849833E-2},{"$f":"Calculs!NK399","v":0.23931614706329155},null,null,"Spannungen innen","Spannungen innen",{"$f":"Calculs!NT343","v":"OK"},{"$f":"Calculs!NU343","v":"OK"},{"$f":"Calculs!NV343","v":"OK"},{"$f":"Calculs!NW343","v":"OK"},{"$f":"Calculs!NX343","v":"OK"}]
[null,"Deformationen innen",null,{"$f":"Calculs!NG400","v":-0.16795245303644479},{"$f":"Calculs!NH400","v":0.12032550257163646},{"$f":"Calculs!NI400","v":9.9744999370424012E-2},{"$f":"Calculs!NJ400","v":0.12139248836087352},{"$f":"Calculs!NK400","v":-0.16933365167160006}]
[]
[null,"Kurzzeit"]
[null,"Durch die Normalkraft",null,{"$f":"Calculs!NG404","v":5.3944783740000002E-2},{"$f":"Calculs!NH404","v":3.8132505000000004E-2},{"$f":"Calculs!NI404","v":0},{"$f":"Calculs!NJ404","v":-0.14342906214000001},{"$f":"Calculs!NK404","v":-5.3944783740000002E-2}]
[null,"Durch das Moment aussen",null,{"$f":"Calculs!NG405","v":3.5293033880410918},{"$f":"Calculs!NH405","v":-0.73633728491345429},{"$f":"Calculs!NI405","v":-2.0495486520130934},{"$f":"Calculs!NJ405","v":-0.73633728491345429},{"$f":"Calculs!NK405","v":3.5293033880410998}]
[null,"Durch das Moment innen",null,{"$f":"Calculs!NG406","v":-3.5293033880410918},{"$f":"Calculs!NH406","v":0.73633728491345429},{"$f":"Calculs!NI406","v":2.0495486520130934},{"$f":"Calculs!NJ406","v":0.73633728491345429},{"$f":"Calculs!NK406","v":-3.5293033880410998}]
[]
[null,"Spannungen aussen",null,{"$f":"Calculs!NG408","v":3.5832481717810918},{"$f":"Calculs!NH408","v":-0.69820477991345431},{"$f":"Calculs!NI408","v":-2.0495486520130934},{"$f":"Calculs!NJ408","v":-0.87976634705345425},{"$f":"Calculs!NK408","v":3.4753586043010998}]
[null,"Spannungen innen","Spannungen innen",{"$f":"Calculs!NG409","v":-3.4753586043010918},{"$f":"Calculs!NH409","v":0.77446978991345428},{"$f":"Calculs!NI409","v":2.0495486520130934},{"$f":"Calculs!NJ409","v":0.59290822277345434},{"$f":"Calculs!NK409","v":-3.5832481717810998}]
[]
[null,"Deformationen aussen",null,{"$f":"Calculs!NG413","v":6.1355308275476902E-2},{"$f":"Calculs!NH413","v":-1.1955233759236978E-2},{"$f":"Calculs!NI413","v":-3.5094049683794516E-2},{"$f":"Calculs!NJ413","v":-1.5064079529558339E-2},{"$f":"Calculs!NK413","v":5.950793478776438E-2}]
[null,"Deformationen innen",null,{"$f":"Calculs!NG414","v":-5.9507934787764234E-2},{"$f":"Calculs!NH414","v":1.3261105687403329E-2},{"$f":"Calculs!NI414","v":3.5094049683794516E-2},{"$f":"Calculs!NJ414","v":1.015225991708197E-2},{"$f":"Calculs!NK414","v":-6.1355308275477034E-2}]
[]
[null,"Summe Deformationen aus",null,{"$f":"D170+D181","v":0.29921883869905819},{"$f":"E170+E181","v":-4.1209991143307881E-2},-3.9984561341553121E-2,-4.5236724612408172E-2,0.29882408185105591]
[null,"Summe Deformationen in.",null,{"$f":"D171+D182","v":-0.22746038782420902},0.13358660825903979,0.13483904905421853,0.13154474827795548,-0.23068895994707708]
[]
[null,"Deformationen aussen",null,{"$f":"Calculs!NG420","v":"OK"},{"$f":"Calculs!NH420","v":"OK"},{"$f":"Calculs!NI420","v":"OK"},{"$f":"Calculs!NJ420","v":"OK"},{"$f":"Calculs!NK420","v":"OK"}]
[null,"Deformationen innen",null,{"$f":"Calculs!NG421","v":"OK"},{"$f":"Calculs!NH421","v":"OK"},{"$f":"Calculs!NI421","v":"OK"},{"$f":"Calculs!NJ421","v":"OK"},{"$f":"Calculs!NK421","v":"OK"}]

{"sheet":"GF-UP SN10000","index":40,"n_rows":188,"n_cols":17,"rows_kept":188,"cut":false,"hidden":false,"merged":[[64,16,65,16],[8,0,9,8],[8,9,9,17],[57,7,58,7],[11,4,11,6],[25,13,25,15],[70,0,70,8],[77,9,77,17],[103,1,103,6],[103,11,103,15],[104,1,104,6],[104,11,104,15],[114,3,114,5],[114,10,114,16],[105,1,105,3],[105,11,105,12],[106,1,106,3],[106,11,106,12],[107,1,107,3],[107,11,107,12],[108,1,108,3],[108,11,108,12],[109,1,109,3],[109,11,109,12],[110,1,110,3],[115,5,117,5],[115,6,117,7],[115,10,115,11],[116,10,117,11],[118,5,119,5],[118,10,118,11],[119,10,119,11],[120,15,121,16],[121,10,121,11],[122,1,122,7],[123,1,123,2],[126,1,126,2],[124,1,125,2],[120,10,120,11],[127,1,127,2],[128,1,128,2],[128,6,129,7],[128,11,128,14],[129,1,129,2],[129,11,129,14],[130,11,130,12],[131,11,131,12],[132,11,132,12],[133,11,133,12],[134,2,134,5],[134,11,134,12],[143,2,143,3],[135,2,135,5],[135,11,135,12],[136,2,136,3],[136,6,138,7],[136,11,136,14],[137,2,137,3],[137,11,137,12],[138,2,138,3],[139,2,139,3],[140,2,140,3],[141,2,141,3],[142,2,142,5],[139,10,140,15],[159,1,159,7],[159,10,159,16],[160,1,160,2],[160,10,160,11],[161,1,161,7],[161,10,161,11],[162,1,162,2],[162,10,162,11],[163,1,163,2],[163,10,163,11],[164,1,164,2],[164,10,164,11],[174,1,174,2],[165,10,165,11],[166,1,166,2],[166,10,166,11],[167,1,167,2],[167,10,167,11],[168,10,168,11],[169,1,169,2],[169,10,169,11],[170,1,170,2],[172,1,172,7],[173,1,173,2],[184,1,184,2],[186,1,186,2],[187,1,187,2],[175,1,175,2],[177,1,177,2],[178,1,178,2],[180,1,180,2],[181,1,181,2],[183,1,183,2]]}
[null,"Projet:",{"$f":"Accueil!P15","v":"VSA 2026"},null,null,"Ingénieur/e:",null,{"$f":"Accueil!AI15","v":0},null,null,"Projet:",{"$f":"Accueil!$P$15","v":"VSA 2026"},null,null,"Ingénieur/e:",null,{"$f":"Accueil!$AI$15","v":0}]
[]
[null,"N°:",{"$f":"Accueil!P17","v":0},null,null,"Respoonsable:",null,{"$f":"Accueil!AI17","v":0},null,null,"N°:",{"$f":"Accueil!P17","v":0},null,null,"Respoonsable:",null,{"$f":"Accueil!$AI$17","v":0}]
[]
[null,"Lieu:",{"$f":"Accueil!P21","v":0},null,null,"Maître douvrage:",null,{"$f":"Accueil!AI19","v":0},null,null,"Lieu:",{"$f":"Accueil!$P$21","v":0},null,null,"Maître douvrage:",null,{"$f":"Accueil!$AI$19","v":0}]
[null,null,{"$f":"Accueil!P23","v":0},null,null,null,null,null,null,null,null,{"$f":"Accueil!$P$23","v":0}]
[]
[]
["Données profil d'enrobage U1/V1",null,null,null,null,null,null,null,null,"Données profil d'enrobage U4/V4"]
[]
[]
[null,"Tuyau GF-UP",null,null,{"$f":"IF(Données!$AE$6>F14,\"di max.< di introduit!\",\"\")","v":""},null,null,null,null,null,"Tuyau \"fictif\" en béton"]
[]
[null,"Diamètre intérieur ",null,null,"di",{"$f":"Calculs!OJ35","v":306},"mm",null,null,null,"Diamètre intérieur ",null,null,"di",{"$f":"Calculs!OR34/1000","v":0.32400000000000001},"m"]
[null,"Rayon moyen",null,null,"rm",{"$f":"Calculs!ON35","v":157.5},"mm",null,null,null,"Rayon moyen",null,null,"rm",{"$f":"Calculs!OU34/1000","v":0.23699999999999999},"m"]
[null,"Épaisseur de paroi",null,null,"e",{"$f":"Calculs!OM35","v":9},"mm",null,null,null,"Épaisseur de paroi",null,null,"e",{"$f":"Calculs!OT34/1000","v":0.15},"m"]
[null,"Section",null,null,"A",{"$f":"Calculs!OJ384","v":8.9999999999999993E-3},"m2",null,null,null,"Section",null,null,"A",{"$f":"Calculs!OW322","v":0.15},"m2"]
[null,"Module de flexion",null,null,"W",{"$f":"Calculs!OJ385","v":1.3499999999999999E-5},"m3",null,null,null,"Module de flexion",null,null,"W",{"$f":"Calculs!OW323","v":3.7499999999999999E-3},"m3"]
[null,"Module d'élasticité",null,null,"ER,court",{"$f":"Calculs!OK41","v":5145},"N/mm2",null,null,null,"Module d'élasticité",null,null,"ER,court",{"$f":"Calculs!OS36","v":20000},"N/mm2"]
[]
[null,"Rigidité du système",null,null,"SFcourt",{"$f":"Calculs!OK46","v":2.6666666666666661E-2},{"$f":"Calculs!OL46","v":"souple"},null,null,null,"Rigidité du système",null,null,"SFcourt",{"$f":"Calculs!OR46","v":140.84979980172858},{"$f":"Calculs!OS46","v":"rigide"}]
[null,"Facteur de majoration de charge",null,null,"f",{"$f":"Calculs!OM50","v":1.0285714285714285},null,null,null,null,"Facteur de majoration de charge",null,null,"f",{"$f":"Calculs!OT50","v":1.3164556962025316}]
[null,"Effet de courbure:",null,null,"αka",{"$f":"Calculs!OG385","v":1},null,null,null,null,"Effet de courbure:",null,null,"αka",{"$f":"Calculs!OT323","v":0.78902953586497893}]
[null,null,null,null,"αki",{"$f":"Calculs!OG384","v":1},null,null,null,null,null,null,null,"αki",{"$f":"Calculs!OT322","v":1.2109704641350212}]
[]
[null,"Terrain",null,null,null,null,null,null,null,null,"Tuyau GF-UP",null,null,{"$f":"IF(Données!$AE$6>O28,\"di max.< di introduit!\",\"\")","v":""}]
[]
[null,"Qualité du sol",null,null,null,{"$f":"Données!AE30","v":"Sol stable"},null,null,null,null,"Diamètre intérieur ",null,null,"di",{"$f":"Calculs!OJ35","v":306},"mm"]
[null,"Poids volumique apparent hum.",null,null,"γ",{"$f":"Données!AE32","v":20},"kN/m3",null,null,null,"Rayon moyen",null,null,"rm",{"$f":"Calculs!ON35","v":157.5},"mm"]
[null,"Poids volumique déjaugé",null,null,"γ'",{"$f":"Données!AE34","v":11},"kN/m3",null,null,null,"Épaisseur de paroi",null,null,"e",{"$f":"Calculs!OM35","v":9},"mm"]
[null,"Module de déformation du sol",null,null,"EB",{"$f":"Données!AE38","v":5},"N/mm2"]
[null,"Coefficient de pression du terrain",null,null,"K",{"$f":"Données!AE40","v":0.5},null,null,null,null,"Terrain"]
[null,"Coefficient de flexion au tassement",null,null,"C2",{"$f":"Données!AE42","v":0.5}]
[null,"Type de béton d'enrobage",null,null,null,{"$f":"Données!AE50","v":"C16/20"},null,null,null,null,"Qualité du sol",null,null,null,{"$f":"Données!AE30","v":"Sol stable"}]
[null,"Réduction de charge",null,null,"λmin",{"$f":"Données!AE44","v":"NON"},null,null,null,null,"Poids volumique apparent hum.",null,null,"γ",{"$f":"Données!AE32","v":20},"kN/m3"]
[null,null,null,null,null,null,null,null,null,null,"Poids volumique déjaugé",null,null,"γ'",{"$f":"Données!AE34","v":11},"kN/m3"]
[null,"Eau",null,null,null,null,null,null,null,null,"Module de déformation du sol",null,null,"EB",{"$f":"Données!AE38","v":5},"N/mm2"]
[null,null,null,null,null,null,null,null,null,null,"Coefficient de pression du terrain",null,null,"K",{"$f":"Données!AE40","v":0.5}]
[null,"Eau souterraine",null,null,null,{"$f":"Données!AE60","v":"Sans eau souterraine"},null,null,null,null,"Coefficient de flexion au tassement",null,null,"C2",{"$f":"Données!AE42","v":0.5}]
[null,"Niveau d'eau souterraine",null,null,"hw",{"$f":"Données!AE62","v":1.3},"m",null,null,null,"Type de béton d'enrobage",null,null,null,{"$f":"Données!AE50","v":"C16/20"}]
[null,"Eau à l'intérieur du tuyau",null,null,null,{"$f":"Données!AE64","v":"Tuyau vide"},null,null,null,null,"Réduction de charge",null,null,"λmin",{"$f":"Données!AE44","v":"NON"}]
[null,"Pression",null,null,"pEi",{"$f":"Données!AE66","v":10},"kN/m2"]
[null,null,null,null,null,null,null,null,null,null,"Eau"]
[null,"Fouille"]
[null,null,null,null,null,null,null,null,null,null,"Eau souterraine",null,null,null,{"$f":"Données!AE60","v":"Sans eau souterraine"}]
[null,"Hauteur de couverture",null,null,"H",{"$f":"Données!AE52","v":3},"m",null,null,null,"Niveau d'eau souterraine",null,null,"hw",{"$f":"Données!AE62","v":1.3},"m"]
[null,"Type de fouille",null,null,null,{"$f":"Données!AE56","v":"Verticale (U)"},null,null,null,null,"Eau à l'intérieur du tuyau",null,null,null,{"$f":"Données!AE64","v":"Tuyau vide"}]
[null,"Largeur de fouille",null,null,"B",{"$f":"Données!$AE$54","v":1.5},"m",null,null,null,"Pression",null,null,"pEi",{"$f":"Données!AE66","v":10},"kN/m2"]
[null,"Angle de talus",null,null,"β",{"$f":"Données!AE58","v":30},"°"]
[]
[]
[]
[]
[null,"Actions",null,null,null,null,null,null,null,null,"Fouille"]
[]
[null,"Charge surfacique",null,null,null,{"$f":"Données!AE8","v":"Pas de charge"},null,null,null,null,"Hauteur de couverture",null,null,"H",{"$f":"Calculs!OU107","v":2.85},"m"]
[null,null,null,null,"qs",{"$f":"Calculs!OL134","v":0},"kN/m2",null,null,null,"Type de fouille",null,null,null,{"$f":"Données!$AE$56","v":"Verticale (U)"}]
[null,"Trafic ",null,null,null,{"$f":"Données!AE22","v":"Trafic routier"},null,{"$f":"IF(AND(Accueil!AZ15=\"Français\",AND(OR(F58=\"Voie unique (ferroviaire)\",F58=\"Voies multiples (ferroviaire)\",F58=\"Voie étroite (ferroviaire)\",F58=\"Eingleisig (Bahnverkehr)\",F58=\"Mehrgleisig (Bahnverkehr)\",F58=\"Schmalspur (Bahnverkehr)\"),F46<2)),\"H trop faible!\",\"\")","v":""},null,null,"Largeur de fouille",null,null,"B",{"$f":"Données!AE54","v":1.5},"m"]
[null,"Coefficient de charge",null,null,"α",{"$f":"Calculs!OH104","v":0.9},null,null,null,null,"Angle de talus",null,null,"β",{"$f":"Données!AE58","v":30},"°"]
[null,"Coefficient dynamique",null,null,"Ψ",{"$f":"Calculs!OI104","v":1}]
[null,"Trafic routier et route d'importance",null,null,"pvtotale",{"$f":"Calculs!OG120","v":24.562000000000001},"kN/m2",null,null,null,"Actions"]
[null,"secondaire",null,null,"pvroue",{"$f":"Calculs!OH120","v":4.9021999999999997},"kN/m2"]
[null,null,null,null,"∆pv",{"$f":"Calculs!OI120","v":19.659800000000001},"kN/m2",null,null,null,"Charge surfacique",null,null,null,{"$f":"Données!AE8","v":"Pas de charge"}]
[null,"Bord de route",null,null,"pvtotale",{"$f":"Calculs!OJ120","v":0},"kN/m2",null,null,null,null,null,null,"qs",{"$f":"Calculs!OW134","v":0},"kN/m2"]
[null,null,null,null,"pvroue",{"$f":"Calculs!OK120","v":0},"kN/m2",null,null,null,"Trafic ",null,null,null,{"$f":"Données!AE22","v":"Trafic routier"},null,{"$f":"IF(AND(Accueil!AZ15=\"Français\",AND(OR(O65=\"Voie unique (ferroviaire)\",O65=\"Voies multiples (ferroviaire)\",O65=\"Voie étroite (ferroviaire)\",O65=\"Eingleisig (Bahnverkehr)\",O65=\"Mehrgleisig (Bahnverkehr)\",O65=\"Schmalspur (Bahnverkehr)\"),O56<2)),\"H trop faible!\",IF(AND(Accueil!AZ15=\"Français\",AND(OR(O65=\"Trafic routier\",O65=\"Bord de route\",O65=\"Route d'importance secondaire\",O65=\"Strassenverkehr\",O65=\"Strassenrand\",O65=\"Untergeordnete Strasse\"),O56<1)),\"H trop faible!\",\"\"))","v":""}]
[null,null,null,null,"∆pv",{"$f":"Calculs!OL120","v":0},"kN/m2",null,null,null,"Coefficient de charge",null,null,"α",{"$f":"Calculs!OT104","v":0.9}]
[null,"Trafic ferroviaire voie unique",null,null,"punique",{"$f":"Calculs!ON120","v":0},"kN/m2",null,null,null,"Coefficient dynamique",null,null,"Ψ",{"$f":"Calculs!OU104","v":1}]
[null,"Trafic ferroviaire voies multiples",null,null,"pmultiples",{"$f":"Calculs!OO120","v":0},"kN/m2",null,null,null,"Trafic routier et route d'importance",null,null,"pvtotale",{"$f":"Calculs!OS120","v":26.200299999999999},"kN/m2"]
[null,"Trafic ferroviaire voie étroite",null,null,"pétroite",{"$f":"Calculs!OP120","v":0},"kN/m2",null,null,null,"secondaire",null,null,"pvroue",{"$f":"Calculs!OT120","v":5.4489399999999995},"kN/m2"]
[null,null,null,null,null,null,null,null,null,null,null,null,null,"∆pv",{"$f":"Calculs!OU120","v":20.751359999999998},"kN/m2"]
["Résultats",null,null,null,null,null,null,null,null,null,"Bord de route",null,null,"pvtotale",{"$f":"Calculs!OV120","v":0},"kN/m2"]
[null,null,null,null,null,null,null,null,null,null,null,null,null,"pvroue",{"$f":"Calculs!OW120","v":0},"kN/m2"]
[null,null,null,null,null,null,null,null,null,null,null,null,null,"∆pv",{"$f":"Calculs!OX120","v":0},"kN/m2"]
[null,null,null,null,null,null,null,null,null,null,"Trafic ferroviaire voie unique",null,null,"punique",{"$f":"Calculs!OZ120","v":0},"kN/m2"]
[null,null,null,null,null,null,null,null,null,null,"Trafic ferroviaire voies multiples",null,null,"pmultiples",{"$f":"Calculs!PA120","v":0},"kN/m2"]
[null,null,null,null,null,null,null,null,null,null,"Trafic ferroviaire voie étroite",null,null,"pétroite",{"$f":"Calculs!PB120","v":0},"kN/m2"]
[]
[null,null,null,null,null,null,null,null,null,"Résultats"]
[]
[]
[]
[]
[]
[]
[]
[]
[]
[]
[]
[]
[]
[]
[]
[]
[]
[]
[]
[]
[]
[]
[]
[null,"Sollicitations",null,null,null,null,null,null,null,null,"Sollicitations"]
[]
[null," Sollicitations",null,null,null,null,null,null,null,null,null," Sollicitations"]
[null,"U1/V1",null,null,null,null,null,null,null,null,null,"U4/V4"]
[null,"À long terme",null,null,"qs1",{"$f":"Calculs!OK204","v":61.714285714285708},"[kN/m2]",null,null,null,null,"À long terme",null,"qs1",{"$f":"Calculs!PB204","v":116.66605285517008},"[kN/m2]"]
[null,"À court terme",null,null,"qs2",{"$f":"Calculs!OK205","v":22.737394285714284},"[kN/m2]",null,null,null,null,"À court terme",null,"qs2",{"$f":"Calculs!PB205","v":31.042380759493668},"[kN/m2]"]
[null,"Charge eff. au sommet",null,null,"qser",{"$f":"Calculs!OK206","v":84.451679999999996},"[kN/m2]",null,null,null,null,"Charge eff. au sommet",null,"qser",{"$f":"Calculs!PB206","v":147.70843361466376},"[kN/m2]"]
[null,"Pression du terrain long terme",null,null,"qhlong",{"$f":"Calculs!OK207","v":62.275324675324669},"[kN/m2]",null,null,null,null,"Pression du terrain",null,"qh",{"$f":"Calculs!PB207","v":73.854216807331881},"[kN/m2]"]
[null,"Pression du terrain court terme",null,null,"qhcourt",{"$f":"Calculs!OK208","v":19.414236659340659},"[kN/m2]",null,null,null,null,"Charge de dim. au sommet",null,"qds",{"$f":"Calculs!PB208","v":204.06274249372012},"[kN/m2]"]
[null,"Charge de dim. au sommet",null,null,"qds",{"$f":"Calculs!OK211","v":117.42037714285715},"[kN/m2]"]
[null,null,null,null,null,null,null,null,null,null,"Vérifications"]
[null,"Vérifications"]
[]
[null,null,null,"Vérification de la déformation (IOWA)",null,null,null,null,null,null,"Poussée d'Archimède"]
[null,null,null,null,1,null,{"$f":"IF(Calculs!OK46<0.1,\"\",\"Tuyau rigide. Pas nécessaire de vérifier la déformation!\")","v":""},null,null,null,"Actions stabilisant",null,"G + G' + Gsp",{"$f":"Calculs!OX183","v":36.403608047289552},"[kN/m]"]
[null,null,null,"x/d court",{"$f":"IF(Calculs!OK46<0.1,Calculs!OJ214,\"\")","v":1.0931439560439562E-2},null,null,null,null,null,null,null,"GR",{"$f":"Calculs!OX184","v":5.5122227620253836},"[kN/m]"]
[null,null,null,"x/d long",{"$f":"IF(Calculs!OK46<0.1,Calculs!OJ215,\"\")","v":3.5064935064935063E-2},null,null,null,null,null,null,null,"Somme",{"$f":"Calculs!OX185","v":41.915830809314933},"[kN/m]","Facteur",0.9]
[null,null,null,"Somme",{"$f":"IF(Calculs!OK46<0.1,Calculs!OJ216,\"\")","v":4.5996374625374627E-2},{"$f":"IF(Calculs!OK46<0.1,Calculs!OK216,\"\")","v":"OK"},null,null,null,null,"Actions déstabilisant",null,"FA",{"$f":"Calculs!OX186","v":0},"[kN/m]","Facteur",1.05]
[null,null,null,"Admissible",{"$f":"IF(Calculs!OK46<0.1,Calculs!OJ217,\"\")","v":0.05}]
[null,null,null,null,null,null,null,null,null,null,"Contôle:",null,"1.05*FA",{"$f":"Calculs!OX188","v":0},"[kN/m]",{"$f":"Calculs!OZ188","v":"OK"}]
[null,null,null,null,null,null,null,null,null,null,null,null,"0.9*Somme",{"$f":"Calculs!OX189","v":37.724247728383439},"[kN/m]"]
[null,"Poussée d'Archimède"]
[null,"Actions stabilisant",null,"G + G' + Gsp",{"$f":"Calculs!OI183","v":19.665280423991895},"[kN/m]",null,null,null,null,"Sécurité structurale"]
[null,null,null,"GR",{"$f":"Calculs!OI184","v":0.15140905793976006},"[kN/m]",null,null,null,null,{"$f":"IF(N138=\"\",\"\",\"Hypothèse: 5% de la charge de dimensionnement est reprise par le tuyau GF-UP et une déformation initiale\")","v":""}]
[null,null,null,"Somme",{"$f":"Calculs!OI185","v":19.816689481931654},"[kN/m]","Facteur",0.9,null,null,{"$f":"IF(N138=\"\",\"\",\"de 0.02m est admis [SIA190:2017;4.2.11.1.2].\")","v":""}]
[null,"Actions déstabilisant",null,"FA",{"$f":"Calculs!OI186","v":0},"[kN/m]","Facteur",1.05]
[]
[null,"Contôle:",null,"1.05*FA",{"$f":"Calculs!OI188","v":0},"[kN/m]",{"$f":"Calculs!OK188","v":"OK"},null,null,null,null,"Sécurité structurale"]
[null,null,null,"0.9*Somme",{"$f":"Calculs!OI189","v":17.83502053373849},"[kN/m]",null,null,null,null,null,"U4/V4"]
[null,null,null,null,null,null,null,null,null,null,null,"qds",null,{"$f":"Calculs!OW220","v":""},"[kN/m2]"]
[null,null,null,null,null,null,null,null,null,null,null,"qBl",null,{"$f":"Calculs!OW221","v":""},"[kN/m2]"]
[null,"Sécurité structurale",null,null,null,null,null,null,null,null,null,"pwd",null,{"$f":"Calculs!OW222","v":""},"[kN/m2]"]
[null,null,null,null,null,null,null,null,null,null,null,"pcr",null,{"$f":"Calculs!OW223","v":""},"[kN/m2]"]
[null,null,"Sécurité structurale",null,null,null,null,null,null,null,null,"k",null,{"$f":"Calculs!OW224","v":""},"[-]"]
[null,null,"U1/V1",null,null,null,null,null,null,null,null,"qBl/2*(1-2*pwd/k*pcr)",null,{"$f":"Calculs!OW225","v":""},"[kN/m2]"]
[null,null,"qds",null,{"$f":"IF(Calculs!OK46<0.1,Calculs!OJ220,\"\")","v":117.42037714285715},"[kN/m2]",{"$f":"IF(Calculs!OK46<0.1,\"\",\"Tuyau rigide. Limite de la formule de la sécurité structurale est dépassée!\")","v":""}]
[null,null,"qBl",null,{"$f":"IF(Calculs!OK46<0.1,Calculs!OJ221,\"\")","v":440.81839054744268},"[kN/m2]",null,null,null,null,null,"Résultat",null,{"$f":"Calculs!OW227","v":""}]
[null,null,"pwd",null,{"$f":"IF(Calculs!OK46<0.1,Calculs!OJ222,\"\")","v":0},"[kN/m2]"]
[null,null,"pcr",null,{"$f":"IF(Calculs!OK46<0.1,Calculs!OJ223,\"\")","v":90.657370958407441},"[kN/m2]",null,null,null,null,{"$f":"IF(N138=\"\",\"Vérification de la sécurité structurale que nécessaire lors de présence d'eau souterraine!\",\"\")","v":"Vérification de la sécurité structurale que nécessaire lors de présence d'eau souterraine!"}]
[null,null,"k",null,{"$f":"IF(Calculs!OK46<0.1,Calculs!OJ224,\"\")","v":1},"[-]"]
[null,null,"qBl/2*(1-2*pwd/k*pcr)",null,{"$f":"IF(Calculs!OK46<0.1,Calculs!OJ225,\"\")","v":220.40919527372134},"[kN/m2]"]
[]
[null,null,"Résultat",null,{"$f":"IF(Calculs!OK46<0.1,Calculs!OJ227,\"\")","v":"OK"}]
[]
[]
[]
[]
[]
[]
[null,"Aptitude au service",null,null,null,null,null,null,null,null,"Aptitude au service"]
[]
[null,null,null,null,null,null,null,null,null,null,null,null,"σRbz,adm",{"$f":"contrainte","v":-0.3},"N/mm2"]
[null,null,null,"εRbz,adm",{"$f":"Calculs!ON418","v":0.55028571428571427},"%"]
[null,null,null,null,null,null,null,null,null,null,null,null,null,"Convention des contraintes:"]
[null,null,null,null,"Convention des contraintes:",null,null,null,null,null,null,null,null,"Traction négatif -"]
[null,null,null,null,"Traction négatif -",null,null,null,null,null,null,null,null,"Compression positif +"]
[null,null,null,null,"Compression positif +"]
[]
[null,"Contraintes Profil d'enrobage U1/V1",null,null,null,null,null,null,null,null,"Contraintes Profil d'enrobage U4/V4"]
[null,"Contraintes en [N/mm2]",null,"0°","45°","90°","135°","180°",null,null,"Contraintes en [N/mm2]",null,"0°","45°","90°","135°","180°"]
[null,"À long terme",null,null,null,null,null,null,null,null,"Effort normal",null,{"$f":"Calculs!OT335","v":0.11571482700575401},{"$f":"Calculs!OU335","v":0.17759280709388287},{"$f":"Calculs!OV335","v":0.24256638453116874},{"$f":"Calculs!OW335","v":0.18166310056948537},{"$f":"Calculs!OX335","v":0.11766449810541474}]
[null,"Effort normal",null,{"$f":"Calculs!OG390","v":0.72613550409859329},{"$f":"Calculs!OH390","v":0.99529842693838533},{"$f":"Calculs!OI390","v":1.084205817},{"$f":"Calculs!OJ390","v":0.99716179896114709},{"$f":"Calculs!OK390","v":0.72702805953777017},null,null,"Moment extérieur",null,{"$f":"Calculs!OT336","v":0.23329417845480438},{"$f":"Calculs!OU336","v":1.4703168703430523E-3},{"$f":"Calculs!OV336","v":-0.2353882318774122},{"$f":"Calculs!OW336","v":-1.4667172020548097E-3},{"$f":"Calculs!OX336","v":0.23748739886275902}]
[null,"Moment extérieur",null,{"$f":"Calculs!OG391","v":5.8010607973794546},{"$f":"Calculs!OH391","v":-1.1806327452305234},{"$f":"Calculs!OI391","v":-3.4229118299955164},{"$f":"Calculs!OJ391","v":-1.199507031282661},{"$f":"Calculs!OK391","v":5.8280077239415951},null,null,"Moment intérieur",null,{"$f":"Calculs!OT337","v":-0.35805042361780137},{"$f":"Calculs!OU337","v":-2.2565825764088556E-3},{"$f":"Calculs!OV337","v":0.36126429170490537},{"$f":"Calculs!OW337","v":2.2510579518167403E-3},{"$f":"Calculs!OX337","v":-0.36448600788027724}]
[null,"Moment intérieur",null,{"$f":"Calculs!OG392","v":-5.8010607973794546},{"$f":"Calculs!OH392","v":1.1806327452305234},{"$f":"Calculs!OI392","v":3.4229118299955164},{"$f":"Calculs!OJ392","v":1.199507031282661},{"$f":"Calculs!OK392","v":-5.8280077239415951}]
[null,null,null,null,null,null,null,null,null,null,"Contraintes extérieur",null,{"$f":"Calculs!OT339","v":0.34900900546055841},{"$f":"Calculs!OU339","v":0.17906312396422591},{"$f":"Calculs!OV339","v":7.1781526537565421E-3},{"$f":"Calculs!OW339","v":0.18019638336743055},{"$f":"Calculs!OX339","v":0.35515189696817373}]
[null,"Contraintes extérieur",null,{"$f":"Calculs!OG394","v":6.5271963014780479},{"$f":"Calculs!OH394","v":-0.18533431829213809},{"$f":"Calculs!OI394","v":-2.3387060129955164},{"$f":"Calculs!OJ394","v":-0.20234523232151391},{"$f":"Calculs!OK394","v":6.5550357834793651},null,null,"Conraintes intérieur",null,{"$f":"Calculs!OT340","v":-0.24233559661204734},{"$f":"Calculs!OU340","v":0.17533622451747402},{"$f":"Calculs!OV340","v":0.60383067623607412},{"$f":"Calculs!OW340","v":0.18391415852130211},{"$f":"Calculs!OX340","v":-0.2468215097748625}]
[null,"Conraintes intérieur",null,{"$f":"Calculs!OG395","v":-5.0749252932808613},{"$f":"Calculs!OH395","v":2.1759311721689087},{"$f":"Calculs!OI395","v":4.5071176469955159},{"$f":"Calculs!OJ395","v":2.1966688302438082},{"$f":"Calculs!OK395","v":-5.100979664403825}]
[null,null,null,null,null,null,null,null,null,null,"Contraintes extérieures",null,{"$f":"Calculs!OT342","v":"OK"},{"$f":"Calculs!OU342","v":"OK"},{"$f":"Calculs!OV342","v":"OK"},{"$f":"Calculs!OW342","v":"OK"},{"$f":"Calculs!OX342","v":"OK"}]
[null,"Déformations extérieures",null,{"$f":"Calculs!OG399","v":0.25372969101955484},{"$f":"Calculs!OH399","v":-7.2044438597526957E-3},{"$f":"Calculs!OI399","v":-9.0911798367172655E-2},{"$f":"Calculs!OJ399","v":-7.8657038803309574E-3},{"$f":"Calculs!OK399","v":0.25481188662699183},null,null,"Conraintes intérieures",null,{"$f":"Calculs!OT343","v":"OK"},{"$f":"Calculs!OU343","v":"OK"},{"$f":"Calculs!OV343","v":"OK"},{"$f":"Calculs!OW343","v":"OK"},{"$f":"Calculs!OX343","v":"OK"}]
[null,"Déformations intérieures",null,{"$f":"Calculs!OG400","v":-0.19727600751334737},{"$f":"Calculs!OH400","v":8.4584302125127644E-2},{"$f":"Calculs!OI400","v":0.17520379580157494},{"$f":"Calculs!OJ400","v":8.5390430718904106E-2},{"$f":"Calculs!OK400","v":-0.19828881105554227}]
[]
[null,"À court terme"]
[null,"Effort normal",null,{"$f":"Calculs!OG404","v":4.2217656839999992E-2},{"$f":"Calculs!OH404","v":2.9842830000000001E-2},{"$f":"Calculs!OI404","v":0},{"$f":"Calculs!OJ404","v":-0.11224883124000001},{"$f":"Calculs!OK404","v":-4.2217656839999992E-2}]
[null,"Moment extérieur",null,{"$f":"Calculs!OG405","v":3.3851732134015386},{"$f":"Calculs!OH405","v":-0.37100606256000007},{"$f":"Calculs!OI405","v":-2.6395937222953836},{"$f":"Calculs!OJ405","v":-0.37100606256000007},{"$f":"Calculs!OK405","v":3.3851732134015409}]
[null,"Moment intérieur",null,{"$f":"Calculs!OG406","v":-3.3851732134015386},{"$f":"Calculs!OH406","v":0.37100606256000007},{"$f":"Calculs!OI406","v":2.6395937222953836},{"$f":"Calculs!OJ406","v":0.37100606256000007},{"$f":"Calculs!OK406","v":-3.3851732134015409}]
[]
[null,"Contraintes extérieur",null,{"$f":"Calculs!OG408","v":3.4273908702415388},{"$f":"Calculs!OH408","v":-0.34116323256000008},{"$f":"Calculs!OI408","v":-2.6395937222953836},{"$f":"Calculs!OJ408","v":-0.48325489380000008},{"$f":"Calculs!OK408","v":3.3429555565615408}]
[null,"Conraintes intérieur",null,{"$f":"Calculs!OG409","v":-3.3429555565615385},{"$f":"Calculs!OH409","v":0.40084889256000006},{"$f":"Calculs!OI409","v":2.6395937222953836},{"$f":"Calculs!OJ409","v":0.25875723132000006},{"$f":"Calculs!OK409","v":-3.427390870241541}]
[]
[null,"Déformations extérieures",null,{"$f":"Calculs!OG413","v":6.6615954718008519E-2},{"$f":"Calculs!OH413","v":-6.6309666192419835E-3},{"$f":"Calculs!OI413","v":-5.1304056798744092E-2},{"$f":"Calculs!OJ413","v":-9.3927093061224511E-3},{"$f":"Calculs!OK413","v":6.4974840749495444E-2}]
[null,"Déformations intérieures",null,{"$f":"Calculs!OG414","v":-6.4974840749495402E-2},{"$f":"Calculs!OH414","v":7.7910377562682223E-3},{"$f":"Calculs!OI414","v":5.1304056798744092E-2},{"$f":"Calculs!OJ414","v":5.0292950693877564E-3},{"$f":"Calculs!OK414","v":-6.6615954718008574E-2}]
[]
[null,"Somme déformations ext.",null,{"$f":"D170+D181","v":0.32034564573756336},{"$f":"E170+E181","v":-1.383541047899468E-2},-0.14221585516591675,-1.7258413186453408E-2,0.31978672737648728]
[null,"Somme déformations int.",null,{"$f":"D171+D182","v":-0.26225084826284278},9.2375339881395874E-2,0.22650785260031903,9.0419725788291869E-2,-0.26490476577355082]
[]
[null,"Déformations extérieures",null,{"$f":"Calculs!OG420","v":"OK"},{"$f":"Calculs!OH420","v":"OK"},{"$f":"Calculs!OI420","v":"OK"},{"$f":"Calculs!OJ420","v":"OK"},{"$f":"Calculs!OK420","v":"OK"}]
[null,"Déformations intérieures",null,{"$f":"Calculs!OG421","v":"OK"},{"$f":"Calculs!OH421","v":"OK"},{"$f":"Calculs!OI421","v":"OK"},{"$f":"Calculs!OJ421","v":"OK"},{"$f":"Calculs!OK421","v":"OK"}]

{"sheet":"GF-UP SN10000 (D)","index":41,"n_rows":188,"n_cols":17,"rows_kept":188,"cut":false,"hidden":false,"merged":[[64,16,65,16],[8,0,9,8],[8,9,9,17],[57,7,58,7],[11,4,11,6],[25,13,25,15],[70,0,70,8],[77,9,77,17],[103,1,103,6],[103,11,103,15],[104,1,104,6],[104,11,104,15],[114,3,114,5],[114,10,114,16],[105,1,105,3],[105,11,105,12],[106,1,106,3],[106,11,106,12],[107,1,107,3],[107,11,107,12],[108,1,108,3],[108,11,108,12],[109,1,109,3],[109,11,109,12],[110,1,110,3],[115,5,117,5],[115,6,117,7],[115,10,115,11],[116,10,117,11],[118,5,119,5],[118,10,118,11],[119,10,119,11],[120,15,121,16],[121,10,121,11],[122,1,122,7],[123,1,123,2],[126,1,126,2],[124,1,125,2],[120,10,120,11],[127,1,127,2],[128,1,128,2],[128,6,129,7],[128,11,128,14],[129,1,129,2],[129,11,129,14],[130,11,130,12],[131,11,131,12],[132,11,132,12],[133,11,133,12],[134,2,134,5],[134,11,134,12],[143,2,143,3],[135,2,135,5],[135,11,135,12],[136,2,136,3],[136,6,138,7],[136,11,136,14],[137,2,137,3],[137,11,137,12],[138,2,138,3],[139,2,139,3],[140,2,140,3],[141,2,141,3],[142,2,142,5],[139,10,139,15],[187,1,187,2],[155,3,155,5],[156,3,156,5],[157,3,157,5],[177,1,177,2],[178,1,178,2],[180,1,180,2],[181,1,181,2],[183,1,183,2],[169,1,169,2],[170,1,170,2],[172,1,172,7],[166,1,166,2],[167,1,167,2],[159,1,159,7],[160,1,160,2],[154,12,154,14],[155,12,155,14],[156,12,156,14],[184,1,184,2],[186,1,186,2],[169,10,169,11],[165,10,165,11],[166,10,166,11],[167,10,167,11],[168,10,168,11],[164,10,164,11],[159,10,159,16],[160,10,160,11],[161,1,161,7]]}
[null,"Projekt:",{"$f":"Accueil!P15","v":"VSA 2026"},null,null,"Ingenieur/in:",null,{"$f":"Accueil!AI15","v":0},null,null,"Projekt:",{"$f":"Accueil!$P$15","v":"VSA 2026"},null,null,"Ingenieur/in:",null,{"$f":"Accueil!$AI$15","v":0}]
[]
[null,"N°:",{"$f":"Accueil!P17","v":0},null,null,"Verantwortlicher:",null,{"$f":"Accueil!AI17","v":0},null,null,"N°:",{"$f":"Accueil!P17","v":0},null,null,"Verantwortlicher:",null,{"$f":"Accueil!$AI$17","v":0}]
[]
[null,"Ort:",{"$f":"Accueil!P21","v":0},null,null,"Bauherr:",null,{"$f":"Accueil!AI19","v":0},null,null,"Ort:",{"$f":"Accueil!$P$21","v":0},null,null,"Bauherr:",null,{"$f":"Accueil!$AI$19","v":0}]
[null,null,{"$f":"Accueil!P23","v":0},null,null,null,null,null,null,null,null,{"$f":"Accueil!$P$23","v":0}]
[]
[]
["Daten Normalverlegeprofil U1/V1",null,null,null,null,null,null,null,null,"Daten Normalverlegeprofil U4/V4"]
[]
[]
[null,"GF-UP Rohr",null,null,{"$f":"IF(Données!$AE$6>F14,\"di max.< di Eingabe!\",\"\")","v":""},null,null,null,null,null,"\"Fiktives\" Betonrohr"]
[]
[null,"Innendurchmesser",null,null,"di",{"$f":"Calculs!OJ35","v":306},"mm",null,null,null,"Innendurchmesser",null,null,"di",{"$f":"Calculs!OR34/1000","v":0.32400000000000001},"m"]
[null,"Radius",null,null,"rm",{"$f":"Calculs!ON35","v":157.5},"mm",null,null,null,"Radius",null,null,"rm",{"$f":"Calculs!OU34/1000","v":0.23699999999999999},"m"]
[null,"Wanddicke",null,null,"e",{"$f":"Calculs!OM35","v":9},"mm",null,null,null,"Wanddicke",null,null,"e",{"$f":"Calculs!OT34/1000","v":0.15},"m"]
[null,"Querschnittsfläche",null,null,"A",{"$f":"Calculs!OJ384","v":8.9999999999999993E-3},"m2",null,null,null,"Querschnittsfläche",null,null,"A",{"$f":"Calculs!OW322","v":0.15},"m2"]
[null,"Widerstandsmoment",null,null,"W",{"$f":"Calculs!OJ385","v":1.3499999999999999E-5},"m3",null,null,null,"Widerstandsmoment",null,null,"W",{"$f":"Calculs!OW323","v":3.7499999999999999E-3},"m3"]
[null,"E-Modul",null,null,"ER,kurz",{"$f":"Calculs!OK41","v":5145},"N/mm2",null,null,null,"E-Modul",null,null,"ER,kurz",{"$f":"Calculs!OS36","v":20000},"N/mm2"]
[]
[null,"Systemsteifigkeit",null,null,"SFkurz",{"$f":"Calculs!OK46","v":2.6666666666666661E-2},{"$f":"Calculs!OL46","v":"souple"},null,null,null,"Systemsteifigkeit",null,null,"SFkurz",{"$f":"Calculs!OR46","v":140.84979980172858},{"$f":"Calculs!OS46","v":"rigide"}]
[null,"Lastvergrösserungsfaktor",null,null,"f",{"$f":"Calculs!OM50","v":1.0285714285714285},null,null,null,null,"Lastvergrösserungsfaktor",null,null,"f",{"$f":"Calculs!OT50","v":1.3164556962025316}]
[null,"Krümmungseinfluss",null,null,"αka",{"$f":"Calculs!OG385","v":1},null,null,null,null,"Krümmungseinfluss",null,null,"αka",{"$f":"Calculs!OT323","v":0.78902953586497893}]
[null,null,null,null,"αki",{"$f":"Calculs!OG384","v":1},null,null,null,null,null,null,null,"αki",{"$f":"Calculs!OT322","v":1.2109704641350212}]
[]
[null,"Terrain",null,null,null,null,null,null,null,null,"GF-UP Rohr",null,null,{"$f":"IF(Données!$AE$6>O28,\"di max.< di Eingabe!\",\"\")","v":""}]
[]
[null,"Bodenqualität",null,null,null,{"$f":"Données!AE30","v":"Sol stable"},null,null,null,null,"Innendurchmesser",null,null,"di",{"$f":"Calculs!OJ35","v":306},"mm"]
[null,"Feuchtraumgewicht des Baugrunds",null,null,"γ",{"$f":"Données!AE32","v":20},"kN/m3",null,null,null,"Radius",null,null,"rm",{"$f":"Calculs!ON35","v":157.5},"mm"]
[null,"Raumgewicht unter Auftrieb",null,null,"γ'",{"$f":"Données!AE34","v":11},"kN/m3",null,null,null,"Wanddicke",null,null,"e",{"$f":"Calculs!OM35","v":9},"mm"]
[null,"Verformungsmodul des Bodens",null,null,"EB",{"$f":"Données!AE38","v":5},"N/mm2"]
[null,"Erddruckbeiwert",null,null,"K",{"$f":"Données!AE40","v":0.5},null,null,null,null,"Terrain"]
[null,"Setzungs-Durchbiegungsziffer",null,null,"C2",{"$f":"Données!AE42","v":0.5}]
[null,"Hüllbeton",null,null,null,{"$f":"Données!AE50","v":"C16/20"},null,null,null,null,"Bodenqualität",null,null,null,{"$f":"Données!AE30","v":"Sol stable"}]
[null,"Lastminderung",null,null,"λmin",{"$f":"Données!AE44","v":"NON"},null,null,null,null,"Feuchtraumgewicht des Baugrunds",null,null,"γ",{"$f":"Données!AE32","v":20},"kN/m3"]
[null,null,null,null,null,null,null,null,null,null,"Raumgewicht unter Auftrieb",null,null,"γ'",{"$f":"Données!AE34","v":11},"kN/m3"]
[null,"Wasser",null,null,null,null,null,null,null,null,"Verformungsmodul des Bodens",null,null,"EB",{"$f":"Données!AE38","v":5},"N/mm2"]
[null,null,null,null,null,null,null,null,null,null,"Erddruckbeiwert",null,null,"K",{"$f":"Données!AE40","v":0.5}]
[null,"Grundwasser",null,null,null,{"$f":"Données!AE60","v":"Sans eau souterraine"},null,null,null,null,"Setzungs-Durchbiegungsziffer",null,null,"C2",{"$f":"Données!AE42","v":0.5}]
[null,"Grwundwasserspiegel",null,null,"hw",{"$f":"Données!AE62","v":1.3},"m",null,null,null,"Hüllbeton",null,null,null,{"$f":"Données!AE50","v":"C16/20"}]
[null,"Wasser im Rohr",null,null,null,{"$f":"Données!AE64","v":"Tuyau vide"},null,null,null,null,"Lastminderung",null,null,"λmin",{"$f":"Données!AE44","v":"NON"}]
[null,"Druck",null,null,"pEi",{"$f":"Données!AE66","v":10},"kN/m2"]
[null,null,null,null,null,null,null,null,null,null,"Wasser"]
[null,"Graben"]
[null,null,null,null,null,null,null,null,null,null,"Grundwasser",null,null,null,{"$f":"Données!AE60","v":"Sans eau souterraine"}]
[null,"Überdeckungshöhe",null,null,"H",{"$f":"Données!AE52","v":3},"m",null,null,null,"Grwundwasserspiegel",null,null,"hw",{"$f":"Données!AE62","v":1.3},"m"]
[null,"Grabentyp",null,null,null,{"$f":"Données!AE56","v":"Verticale (U)"},null,null,null,null,"Wasser im Rohr",null,null,null,{"$f":"Données!AE64","v":"Tuyau vide"}]
[null,"Grabenbreite",null,null,"B",{"$f":"Données!$AE$54","v":1.5},"m",null,null,null,"Druck",null,null,"pEi",{"$f":"Données!AE66","v":10},"kN/m2"]
[null,"Böschungsneigung",null,null,"β",{"$f":"Données!AE58","v":30},"°"]
[]
[]
[]
[]
[null,"Einwirkungen",null,null,null,null,null,null,null,null,"Graben"]
[]
[null,"Flächenlast",null,null,null,{"$f":"Données!AE8","v":"Pas de charge"},null,null,null,null,"Überdeckungshöhe",null,null,"H",{"$f":"Calculs!OU107","v":2.85},"m"]
[null,null,null,null,"qs",{"$f":"Calculs!OL134","v":0},"kN/m2",null,null,null,"Grabentyp",null,null,null,{"$f":"Données!$AE$56","v":"Verticale (U)"}]
[null,"Verkehr",null,null,null,{"$f":"Données!AE22","v":"Trafic routier"},null,{"$f":"IF(AND(Accueil!AZ15=\"Deutsch\",AND(OR(F58=\"Voie unique (ferroviaire)\",F58=\"Voies multiples (ferroviaire)\",F58=\"Voie étroite (ferroviaire)\",F58=\"Eingleisig (Bahnverkehr)\",F58=\"Mehrgleisig (Bahnverkehr)\",F58=\"Schmalspur (Bahnverkehr)\"),F46<2)),\"H zu klein!\",\"\")","v":""},null,null,"Grabenbreite",null,null,"B",{"$f":"Données!AE54","v":1.5},"m"]
[null,"Beiwert Strass- und Bahnvekehrslasten",null,null,"α",{"$f":"Calculs!OH104","v":0.9},null,null,null,null,"Böschungsneigung",null,null,"β",{"$f":"Données!AE58","v":30},"°"]
[null,"Dynamischer Beiwert",null,null,"Ψ",{"$f":"Calculs!OI104","v":1}]
[null,"Strassenverkehr und untergeordnete",null,null,"pvtotal",{"$f":"Calculs!OG120","v":24.562000000000001},"kN/m2",null,null,null,"Einwirkungen"]
[null,"Strassen",null,null,"pvRad",{"$f":"Calculs!OH120","v":4.9021999999999997},"kN/m2"]
[null,null,null,null,"∆pv",{"$f":"Calculs!OI120","v":19.659800000000001},"kN/m2",null,null,null,"Flächenlast",null,null,null,{"$f":"Données!AE8","v":"Pas de charge"}]
[null,"Strassenrand",null,null,"pvtotal",{"$f":"Calculs!OJ120","v":0},"kN/m2",null,null,null,null,null,null,"qs",{"$f":"Calculs!OW134","v":0},"kN/m2"]
[null,null,null,null,"pvRad",{"$f":"Calculs!OK120","v":0},"kN/m2",null,null,null,"Verkehr",null,null,null,{"$f":"Données!AE22","v":"Trafic routier"},null,{"$f":"IF(AND(Accueil!AZ15=\"Deutsch\",AND(OR(O65=\"Voie unique (ferroviaire)\",O65=\"Voies multiples (ferroviaire)\",O65=\"Voie étroite (ferroviaire)\",O65=\"Eingleisig (Bahnverkehr)\",O65=\"Mehrgleisig (Bahnverkehr)\",O65=\"Schmalspur (Bahnverkehr)\"),O56<2)),\"H zu klein!\",IF(AND(Accueil!AZ15=\"Deutsch\",AND(OR(O65=\"Trafic routier\",O65=\"Bord de route\",O65=\"Route d'importance secondaire\",O65=\"Strassenverkehr\",O65=\"Strassenrand\",O65=\"Untergeordnete Strasse\"),O56<1)),\"H zu klein!\",\"\"))","v":""}]
[null,null,null,null,"∆pv",{"$f":"Calculs!OL120","v":0},"kN/m2",null,null,null,"Beiwert Strass- und Bahnvekehrslasten",null,null,"α",{"$f":"Calculs!OT104","v":0.9}]
[null,"Bahnverkehr eingleisig",null,null,"peingleisig",{"$f":"Calculs!ON120","v":0},"kN/m2",null,null,null,"Dynamischer Beiwert",null,null,"Ψ",{"$f":"Calculs!OU104","v":1}]
[null,"Bahnverkehr mehrgleisig",null,null,"pmehrgleisig",{"$f":"Calculs!OO120","v":0},"kN/m2",null,null,null,"Strassenverkehr und untergeordnete",null,null,"pvtotal",{"$f":"Calculs!OS120","v":26.200299999999999},"kN/m2"]
[null,"Bahnverkehr schmalspur",null,null,"pschmal",{"$f":"Calculs!OP120","v":0},"kN/m2",null,null,null,"Strassen",null,null,"pvRad",{"$f":"Calculs!OT120","v":5.4489399999999995},"kN/m2"]
[null,null,null,null,null,null,null,null,null,null,null,null,null,"∆pv",{"$f":"Calculs!OU120","v":20.751359999999998},"kN/m2"]
["Resultate",null,null,null,null,null,null,null,null,null,"Strassenrand",null,null,"pvtotal",{"$f":"Calculs!OV120","v":0},"kN/m2"]
[null,null,null,null,null,null,null,null,null,null,null,null,null,"pvRad",{"$f":"Calculs!OW120","v":0},"kN/m2"]
[null,null,null,null,null,null,null,null,null,null,null,null,null,"∆pv",{"$f":"Calculs!OX120","v":0},"kN/m2"]
[null,null,null,null,null,null,null,null,null,null,"Bahnverkehr eingleisig",null,null,"peingleisig",{"$f":"Calculs!OZ120","v":0},"kN/m2"]
[null,null,null,null,null,null,null,null,null,null,"Bahnverkehr mehrgleisig",null,null,"pmehrgleisig",{"$f":"Calculs!PA120","v":0},"kN/m2"]
[null,null,null,null,null,null,null,null,null,null,"Bahnverkehr schmalspur",null,null,"pschmal",{"$f":"Calculs!PB120","v":0},"kN/m2"]
[]
[null,null,null,null,null,null,null,null,null,"Resultate"]
[]
[]
[]
[]
[]
[]
[]
[]
[]
[]
[]
[]
[]
[]
[]
[]
[]
[]
[]
[]
[]
[]
[]
[null,"Beanspruchungen",null,null,null,null,null,null,null,null,"Beanspruchungen"]
[]
[null,"Beanspruchungen",null,null,null,null,null,null,null,null,null,"Beanspruchungen"]
[null,"U1/V1",null,null,null,null,null,null,null,null,null,"U4/V4"]
[null,"Langzeit",null,null,"qs1",{"$f":"Calculs!OK204","v":61.714285714285708},"[kN/m2]",null,null,null,null,"Langzeit",null,"qs1",{"$f":"Calculs!PB204","v":116.66605285517008},"[kN/m2]"]
[null,"Kurzzeit",null,null,"qs2",{"$f":"Calculs!OK205","v":22.737394285714284},"[kN/m2]",null,null,null,null,"Kurzzeit",null,"qs2",{"$f":"Calculs!PB205","v":31.042380759493668},"[kN/m2]"]
[null,"Effektive Last auf Scheitel",null,null,"qser",{"$f":"Calculs!OK206","v":84.451679999999996},"[kN/m2]",null,null,null,null,"Effektive Last auf Scheitel",null,"qser",{"$f":"Calculs!PB206","v":147.70843361466376},"[kN/m2]"]
[null,"Erddruck langzeit",null,null,"qhlang",{"$f":"Calculs!OK207","v":62.275324675324669},"[kN/m2]",null,null,null,null,"Erddruck",null,"qh",{"$f":"Calculs!PB207","v":73.854216807331881},"[kN/m2]"]
[null,"Erddruck kurzzeit",null,null,"qhkurz",{"$f":"Calculs!OK208","v":19.414236659340659},"[kN/m2]",null,null,null,null,"Bemessungswert",null,"qds",{"$f":"Calculs!PB208","v":204.06274249372012},"[kN/m2]"]
[null,"Bemessungswert",null,null,"qds",{"$f":"Calculs!OK211","v":117.42037714285715},"[kN/m2]"]
[null,null,null,null,null,null,null,null,null,null,"Nachweise"]
[null,"Nachweise"]
[]
[null,null,null,"Verformungsnachweis (IOWA)",null,null,null,null,null,null,"Auftrieb"]
[null,null,null,null,1,null,{"$f":"IF(Calculs!OK46<0.1,\"\",\"Steifes Rohr. Verformungsnachweis entfällt!\")","v":""},null,null,null,"Stabilisierend",null,"G + G' + Gsp",{"$f":"Calculs!OX183","v":36.403608047289552},"[kN/m]"]
[null,null,null,"x/d kurz",{"$f":"IF(Calculs!OK46<0.1,Calculs!OJ214,\"\")","v":1.0931439560439562E-2},null,null,null,null,null,null,null,"GR",{"$f":"Calculs!OX184","v":5.5122227620253836},"[kN/m]"]
[null,null,null,"x/d lang",{"$f":"IF(Calculs!OK46<0.1,Calculs!OJ215,\"\")","v":3.5064935064935063E-2},null,null,null,null,null,null,null,"Summe",{"$f":"Calculs!OX185","v":41.915830809314933},"[kN/m]","Faktor",0.9]
[null,null,null,"Summe",{"$f":"IF(Calculs!OK46<0.1,Calculs!OJ216,\"\")","v":4.5996374625374627E-2},{"$f":"IF(Calculs!OK46<0.1,Calculs!OK216,\"\")","v":"OK"},null,null,null,null,"Destabilisierend",null,"FA",{"$f":"Calculs!OX186","v":0},"[kN/m]","Faktor",1.05]
[null,null,null,"Zugelassen",{"$f":"IF(Calculs!OK46<0.1,Calculs!OJ217,\"\")","v":0.05}]
[null,null,null,null,null,null,null,null,null,null,"Kontrolle:",null,"1.05*FA",{"$f":"Calculs!OX188","v":0},"[kN/m]",{"$f":"Calculs!OZ188","v":"OK"}]
[null,null,null,null,null,null,null,null,null,null,null,null,"0.9*Summe",{"$f":"Calculs!OX189","v":37.724247728383439},"[kN/m]"]
[null,"Auftrieb"]
[null,"Stabilisierend",null,"G + G' + Gsp",{"$f":"Calculs!OI183","v":19.665280423991895},"[kN/m]",null,null,null,null,"Tragfähigkeit"]
[null,null,null,"GR",{"$f":"Calculs!OI184","v":0.15140905793976006},"[kN/m]",null,null,null,null,{"$f":"IF(N138=\"\",\"\",\"Annahme: 5% des Bemessungswerts werden durch das GF-UP Rohr aufgenommen und eine initiale\")","v":""}]
[null,null,null,"Summe",{"$f":"Calculs!OI185","v":19.816689481931654},"[kN/m]","Faktor",0.9,null,null,{"$f":"IF(N138=\"\",\"\",\"Deformation von 0.02m [SIA190:2017;4.2.11.1.2].\")","v":""}]
[null,"Destabilisierend",null,"FA",{"$f":"Calculs!OI186","v":0},"[kN/m]","Faktor",1.05]
[]
[null,"Kontrolle:",null,"1.05*FA",{"$f":"Calculs!OI188","v":0},"[kN/m]",{"$f":"Calculs!OK188","v":"OK"},null,null,null,null,"Tragfähigkeit"]
[null,null,null,"0.9*Summe",{"$f":"Calculs!OI189","v":17.83502053373849},"[kN/m]",null,null,null,null,null,"U4/V4"]
[null,null,null,null,null,null,null,null,null,null,null,"qds",null,{"$f":"Calculs!OW220","v":""},"[kN/m2]"]
[null,null,null,null,null,null,null,null,null,null,null,"qBl",null,{"$f":"Calculs!OW221","v":""},"[kN/m2]"]
[null,"Tragfähigkeit",null,null,null,null,null,null,null,null,null,"pwd",null,{"$f":"Calculs!OW222","v":""},"[kN/m2]"]
[null,null,null,null,null,null,null,null,null,null,null,"pcr",null,{"$f":"Calculs!OW223","v":""},"[kN/m2]"]
[null,null,"Tragfähigkeit",null,null,null,null,null,null,null,null,"k",null,{"$f":"Calculs!OW224","v":""},"[-]"]
[null,null,"U1/V1",null,null,null,null,null,null,null,null,"qBl/2*(1-2*pwd/k*pcr)",null,{"$f":"Calculs!OW225","v":""},"[kN/m2]"]
[null,null,"qds",null,{"$f":"IF(Calculs!OK46<0.1,Calculs!OJ220,\"\")","v":117.42037714285715},"[kN/m2]",{"$f":"IF(Calculs!OK46<0.1,\"\",\"Steifes Rohr. Limite der Tragfähigkeitsformel überschritten!\")","v":""}]
[null,null,"qBl",null,{"$f":"IF(Calculs!OK46<0.1,Calculs!OJ221,\"\")","v":440.81839054744268},"[kN/m2]",null,null,null,null,null,"Resultat",null,{"$f":"Calculs!OW227","v":""}]
[null,null,"pwd",null,{"$f":"IF(Calculs!OK46<0.1,Calculs!OJ222,\"\")","v":0},"[kN/m2]"]
[null,null,"pcr",null,{"$f":"IF(Calculs!OK46<0.1,Calculs!OJ223,\"\")","v":90.657370958407441},"[kN/m2]",null,null,null,null,{"$f":"IF(N138=\"\",\"Tragfähigkeitsnachweis nur nötig bei Grundwasser!\",\"\")","v":"Tragfähigkeitsnachweis nur nötig bei Grundwasser!"}]
[null,null,"k",null,{"$f":"IF(Calculs!OK46<0.1,Calculs!OJ224,\"\")","v":1},"[-]"]
[null,null,"qBl/2*(1-2*pwd/k*pcr)",null,{"$f":"IF(Calculs!OK46<0.1,Calculs!OJ225,\"\")","v":220.40919527372134},"[kN/m2]"]
[]
[null,null,"Resultat",null,{"$f":"IF(Calculs!OK46<0.1,Calculs!OJ227,\"\")","v":"OK"}]
[]
[]
[]
[]
[]
[]
[null,"Gebrauchstauglichkeit",null,null,null,null,null,null,null,null,"Gebrauchstauglichkeit"]
[]
[null,null,null,null,null,null,null,null,null,null,null,null,"σRbz,adm",{"$f":"contrainte","v":-0.3},"N/mm2"]
[null,null,null,"εRbz,adm",{"$f":"Calculs!ON418","v":0.55028571428571427},"%"]
[null,null,null,null,null,null,null,null,null,null,null,null,"Spannungskonventionen:"]
[null,null,null,"Spannungskonventionen:",null,null,null,null,null,null,null,null,"Zug negatif -"]
[null,null,null,"Zug negatif -",null,null,null,null,null,null,null,null,"Druck positif +"]
[null,null,null,"Druck positif +"]
[]
[null,"Spannungen Verlegeprofil U1/V1",null,null,null,null,null,null,null,null,"Spannungen Verlegeprofil U4/V4"]
[null,"Spannungen in [N/mm2]",null,"0°","45°","90°","135°","180°",null,null,"Spannungen in [N/mm2]",null,"0°","45°","90°","135°","180°"]
[null,"Langzeit",null,null,null,null,null,null,null,null,"Durch die Normalkraft",null,{"$f":"Calculs!OT335","v":0.11571482700575401},{"$f":"Calculs!OU335","v":0.17759280709388287},{"$f":"Calculs!OV335","v":0.24256638453116874},{"$f":"Calculs!OW335","v":0.18166310056948537},{"$f":"Calculs!OX335","v":0.11766449810541474}]
[null,"Durch die Normalkraft",null,{"$f":"Calculs!OG390","v":0.72613550409859329},{"$f":"Calculs!OH390","v":0.99529842693838533},{"$f":"Calculs!OI390","v":1.084205817},{"$f":"Calculs!OJ390","v":0.99716179896114709},{"$f":"Calculs!OK390","v":0.72702805953777017},null,null,"Durch das Moment aussen",null,{"$f":"Calculs!OT336","v":0.23329417845480438},{"$f":"Calculs!OU336","v":1.4703168703430523E-3},{"$f":"Calculs!OV336","v":-0.2353882318774122},{"$f":"Calculs!OW336","v":-1.4667172020548097E-3},{"$f":"Calculs!OX336","v":0.23748739886275902}]
[null,"Durch das Moment aussen",null,{"$f":"Calculs!OG391","v":5.8010607973794546},{"$f":"Calculs!OH391","v":-1.1806327452305234},{"$f":"Calculs!OI391","v":-3.4229118299955164},{"$f":"Calculs!OJ391","v":-1.199507031282661},{"$f":"Calculs!OK391","v":5.8280077239415951},null,null,"Durch das Moment innen",null,{"$f":"Calculs!OT337","v":-0.35805042361780137},{"$f":"Calculs!OU337","v":-2.2565825764088556E-3},{"$f":"Calculs!OV337","v":0.36126429170490537},{"$f":"Calculs!OW337","v":2.2510579518167403E-3},{"$f":"Calculs!OX337","v":-0.36448600788027724}]
[null,"Durch das Moment innen",null,{"$f":"Calculs!OG392","v":-5.8010607973794546},{"$f":"Calculs!OH392","v":1.1806327452305234},{"$f":"Calculs!OI392","v":3.4229118299955164},{"$f":"Calculs!OJ392","v":1.199507031282661},{"$f":"Calculs!OK392","v":-5.8280077239415951}]
[null,null,null,null,null,null,null,null,null,null,"Spannungen aussen",null,{"$f":"Calculs!OT339","v":0.34900900546055841},{"$f":"Calculs!OU339","v":0.17906312396422591},{"$f":"Calculs!OV339","v":7.1781526537565421E-3},{"$f":"Calculs!OW339","v":0.18019638336743055},{"$f":"Calculs!OX339","v":0.35515189696817373}]
[null,"Spannungen aussen",null,{"$f":"Calculs!OG394","v":6.5271963014780479},{"$f":"Calculs!OH394","v":-0.18533431829213809},{"$f":"Calculs!OI394","v":-2.3387060129955164},{"$f":"Calculs!OJ394","v":-0.20234523232151391},{"$f":"Calculs!OK394","v":6.5550357834793651},null,null,"Spannungen innen","Spannungen innen",{"$f":"Calculs!OT340","v":-0.24233559661204734},{"$f":"Calculs!OU340","v":0.17533622451747402},{"$f":"Calculs!OV340","v":0.60383067623607412},{"$f":"Calculs!OW340","v":0.18391415852130211},{"$f":"Calculs!OX340","v":-0.2468215097748625}]
[null,"Spannungen innen","Spannungen innen",{"$f":"Calculs!OG395","v":-5.0749252932808613},{"$f":"Calculs!OH395","v":2.1759311721689087},{"$f":"Calculs!OI395","v":4.5071176469955159},{"$f":"Calculs!OJ395","v":2.1966688302438082},{"$f":"Calculs!OK395","v":-5.100979664403825}]
[null,null,null,null,null,null,null,null,null,null,"Spannungen aussen",null,{"$f":"Calculs!OT342","v":"OK"},{"$f":"Calculs!OU342","v":"OK"},{"$f":"Calculs!OV342","v":"OK"},{"$f":"Calculs!OW342","v":"OK"},{"$f":"Calculs!OX342","v":"OK"}]
[null,"Deformationen aussen",null,{"$f":"Calculs!OG399","v":0.25372969101955484},{"$f":"Calculs!OH399","v":-7.2044438597526957E-3},{"$f":"Calculs!OI399","v":-9.0911798367172655E-2},{"$f":"Calculs!OJ399","v":-7.8657038803309574E-3},{"$f":"Calculs!OK399","v":0.25481188662699183},null,null,"Spannungen innen","Spannungen innen",{"$f":"Calculs!OT343","v":"OK"},{"$f":"Calculs!OU343","v":"OK"},{"$f":"Calculs!OV343","v":"OK"},{"$f":"Calculs!OW343","v":"OK"},{"$f":"Calculs!OX343","v":"OK"}]
[null,"Deformationen innen",null,{"$f":"Calculs!OG400","v":-0.19727600751334737},{"$f":"Calculs!OH400","v":8.4584302125127644E-2},{"$f":"Calculs!OI400","v":0.17520379580157494},{"$f":"Calculs!OJ400","v":8.5390430718904106E-2},{"$f":"Calculs!OK400","v":-0.19828881105554227}]
[]
[null,"Kurzzeit"]
[null,"Durch die Normalkraft",null,{"$f":"Calculs!OG404","v":4.2217656839999992E-2},{"$f":"Calculs!OH404","v":2.9842830000000001E-2},{"$f":"Calculs!OI404","v":0},{"$f":"Calculs!OJ404","v":-0.11224883124000001},{"$f":"Calculs!OK404","v":-4.2217656839999992E-2}]
[null,"Durch das Moment aussen",null,{"$f":"Calculs!OG405","v":3.3851732134015386},{"$f":"Calculs!OH405","v":-0.37100606256000007},{"$f":"Calculs!OI405","v":-2.6395937222953836},{"$f":"Calculs!OJ405","v":-0.37100606256000007},{"$f":"Calculs!OK405","v":3.3851732134015409}]
[null,"Durch das Moment innen",null,{"$f":"Calculs!OG406","v":-3.3851732134015386},{"$f":"Calculs!OH406","v":0.37100606256000007},{"$f":"Calculs!OI406","v":2.6395937222953836},{"$f":"Calculs!OJ406","v":0.37100606256000007},{"$f":"Calculs!OK406","v":-3.3851732134015409}]
[]
[null,"Spannungen aussen",null,{"$f":"Calculs!OG408","v":3.4273908702415388},{"$f":"Calculs!OH408","v":-0.34116323256000008},{"$f":"Calculs!OI408","v":-2.6395937222953836},{"$f":"Calculs!OJ408","v":-0.48325489380000008},{"$f":"Calculs!OK408","v":3.3429555565615408}]
[null,"Spannungen innen","Spannungen innen",{"$f":"Calculs!OG409","v":-3.3429555565615385},{"$f":"Calculs!OH409","v":0.40084889256000006},{"$f":"Calculs!OI409","v":2.6395937222953836},{"$f":"Calculs!OJ409","v":0.25875723132000006},{"$f":"Calculs!OK409","v":-3.427390870241541}]
[]
[null,"Deformationen aussen",null,{"$f":"Calculs!OG413","v":6.6615954718008519E-2},{"$f":"Calculs!OH413","v":-6.6309666192419835E-3},{"$f":"Calculs!OI413","v":-5.1304056798744092E-2},{"$f":"Calculs!OJ413","v":-9.3927093061224511E-3},{"$f":"Calculs!OK413","v":6.4974840749495444E-2}]
[null,"Deformationen innen",null,{"$f":"Calculs!OG414","v":-6.4974840749495402E-2},{"$f":"Calculs!OH414","v":7.7910377562682223E-3},{"$f":"Calculs!OI414","v":5.1304056798744092E-2},{"$f":"Calculs!OJ414","v":5.0292950693877564E-3},{"$f":"Calculs!OK414","v":-6.6615954718008574E-2}]
[]
[null,"Summe Deformationen aus",null,{"$f":"D170+D181","v":0.32034564573756336},{"$f":"E170+E181","v":-1.383541047899468E-2},-0.14221585516591675,-1.7258413186453408E-2,0.31978672737648728]
[null,"Summe Deformationen in.",null,{"$f":"D171+D182","v":-0.26225084826284278},9.2375339881395874E-2,0.22650785260031903,9.0419725788291869E-2,-0.26490476577355082]
[]
[null,"Deformationen aussen",null,{"$f":"Calculs!OG420","v":"OK"},{"$f":"Calculs!OH420","v":"OK"},{"$f":"Calculs!OI420","v":"OK"},{"$f":"Calculs!OJ420","v":"OK"},{"$f":"Calculs!OK420","v":"OK"}]
[null,"Deformationen innen",null,{"$f":"Calculs!OG421","v":"OK"},{"$f":"Calculs!OH421","v":"OK"},{"$f":"Calculs!OI421","v":"OK"},{"$f":"Calculs!OJ421","v":"OK"},{"$f":"Calculs!OK421","v":"OK"}]

{"sheet":"GF-UP SN15000","index":42,"n_rows":188,"n_cols":17,"rows_kept":188,"cut":false,"hidden":false,"merged":[[64,16,65,16],[8,0,9,8],[8,9,9,17],[57,7,58,7],[11,4,11,6],[25,13,25,15],[70,0,70,8],[77,9,77,17],[103,1,103,6],[103,11,103,15],[104,1,104,6],[104,11,104,15],[114,3,114,5],[114,10,114,16],[105,1,105,3],[105,11,105,12],[106,1,106,3],[106,11,106,12],[107,1,107,3],[107,11,107,12],[108,1,108,3],[108,11,108,12],[109,1,109,3],[109,11,109,12],[110,1,110,3],[115,5,117,5],[115,6,117,7],[115,10,115,11],[116,10,117,11],[118,5,119,5],[118,10,118,11],[119,10,119,11],[120,15,121,16],[121,10,121,11],[122,1,122,7],[123,1,123,2],[126,1,126,2],[124,1,125,2],[120,10,120,11],[127,1,127,2],[128,1,128,2],[128,6,129,7],[128,11,128,14],[129,1,129,2],[129,11,129,14],[130,11,130,12],[131,11,131,12],[132,11,132,12],[133,11,133,12],[134,2,134,5],[134,11,134,12],[143,2,143,3],[135,2,135,5],[135,11,135,12],[136,2,136,3],[136,6,138,7],[136,11,136,14],[137,2,137,3],[137,11,137,12],[138,2,138,3],[139,2,139,3],[140,2,140,3],[141,2,141,3],[142,2,142,5],[139,10,140,15],[159,1,159,7],[159,10,159,16],[160,1,160,2],[160,10,160,11],[161,1,161,7],[161,10,161,11],[162,1,162,2],[162,10,162,11],[163,1,163,2],[163,10,163,11],[164,1,164,2],[164,10,164,11],[174,1,174,2],[165,10,165,11],[166,1,166,2],[166,10,166,11],[167,1,167,2],[167,10,167,11],[168,10,168,11],[169,1,169,2],[169,10,169,11],[170,1,170,2],[172,1,172,7],[173,1,173,2],[184,1,184,2],[186,1,186,2],[187,1,187,2],[175,1,175,2],[177,1,177,2],[178,1,178,2],[180,1,180,2],[181,1,181,2],[183,1,183,2]]}
[null,"Projet:",{"$f":"Accueil!P15","v":"VSA 2026"},null,null,"Ingénieur/e:",null,{"$f":"Accueil!AI15","v":0},null,null,"Projet:",{"$f":"Accueil!$P$15","v":"VSA 2026"},null,null,"Ingénieur/e:",null,{"$f":"Accueil!$AI$15","v":0}]
[]
[null,"N°:",{"$f":"Accueil!P17","v":0},null,null,"Respoonsable:",null,{"$f":"Accueil!AI17","v":0},null,null,"N°:",{"$f":"Accueil!P17","v":0},null,null,"Respoonsable:",null,{"$f":"Accueil!$AI$17","v":0}]
[]
[null,"Lieu:",{"$f":"Accueil!P21","v":0},null,null,"Maître douvrage:",null,{"$f":"Accueil!AI19","v":0},null,null,"Lieu:",{"$f":"Accueil!$P$21","v":0},null,null,"Maître douvrage:",null,{"$f":"Accueil!$AI$19","v":0}]
[null,null,{"$f":"Accueil!P23","v":0},null,null,null,null,null,null,null,null,{"$f":"Accueil!$P$23","v":0}]
[]
[]
["Données profil d'enrobage U1/V1",null,null,null,null,null,null,null,null,"Données profil d'enrobage U4/V4"]
[]
[]
[null,"Tuyau GF-UP",null,null,{"$f":"IF(Données!$AE$6>F14,\"di max.< di introduit!\",\"\")","v":""},null,null,null,null,null,"Tuyau \"fictif\" en béton"]
[]
[null,"Diamètre intérieur ",null,null,"di",{"$f":"Calculs!PJ35","v":304},"mm",null,null,null,"Diamètre intérieur ",null,null,"di",{"$f":"Calculs!PR34/1000","v":0.32400000000000001},"m"]
[null,"Rayon moyen",null,null,"rm",{"$f":"Calculs!PN35","v":157},"mm",null,null,null,"Rayon moyen",null,null,"rm",{"$f":"Calculs!PU34/1000","v":0.23699999999999999},"m"]
[null,"Épaisseur de paroi",null,null,"e",{"$f":"Calculs!PM35","v":10},"mm",null,null,null,"Épaisseur de paroi",null,null,"e",{"$f":"Calculs!PT34/1000","v":0.15},"m"]
[null,"Section",null,null,"A",{"$f":"Calculs!PJ384","v":0.01},"m2",null,null,null,"Section",null,null,"A",{"$f":"Calculs!PW322","v":0.15},"m2"]
[null,"Module de flexion",null,null,"W",{"$f":"Calculs!PJ385","v":1.6666666666666667E-5},"m3",null,null,null,"Module de flexion",null,null,"W",{"$f":"Calculs!PW323","v":3.7499999999999999E-3},"m3"]
[null,"Module d'élasticité",null,null,"ER,court",{"$f":"Calculs!PK41","v":5572.645919999999},"N/mm2",null,null,null,"Module d'élasticité",null,null,"ER,court",{"$f":"Calculs!PS36","v":20000},"N/mm2"]
[]
[null,"Rigidité du système",null,null,"SFcourt",{"$f":"Calculs!PK46","v":3.9999999999999994E-2},{"$f":"Calculs!PL46","v":"souple"},null,null,null,"Rigidité du système",null,null,"SFcourt",{"$f":"Calculs!PR46","v":140.84979980172858},{"$f":"Calculs!PS46","v":"rigide"}]
[null,"Facteur de majoration de charge",null,null,"f",{"$f":"Calculs!PM50","v":1.0318471337579618},null,null,null,null,"Facteur de majoration de charge",null,null,"f",{"$f":"Calculs!PT50","v":1.3164556962025316}]
[null,"Effet de courbure:",null,null,"αka",{"$f":"Calculs!PG385","v":1},null,null,null,null,"Effet de courbure:",null,null,"αka",{"$f":"Calculs!PT323","v":0.78902953586497893}]
[null,null,null,null,"αki",{"$f":"Calculs!PG384","v":1},null,null,null,null,null,null,null,"αki",{"$f":"Calculs!PT322","v":1.2109704641350212}]
[]
[null,"Terrain",null,null,null,null,null,null,null,null,"Tuyau GF-UP",null,null,{"$f":"IF(Données!$AE$6>O28,\"di max.< di introduit!\",\"\")","v":""}]
[]
[null,"Qualité du sol",null,null,null,{"$f":"Données!AE30","v":"Sol stable"},null,null,null,null,"Diamètre intérieur ",null,null,"di",{"$f":"Calculs!PJ35","v":304},"mm"]
[null,"Poids volumique apparent hum.",null,null,"γ",{"$f":"Données!AE32","v":20},"kN/m3",null,null,null,"Rayon moyen",null,null,"rm",{"$f":"Calculs!PN35","v":157},"mm"]
[null,"Poids volumique déjaugé",null,null,"γ'",{"$f":"Données!AE34","v":11},"kN/m3",null,null,null,"Épaisseur de paroi",null,null,"e",{"$f":"Calculs!PM35","v":10},"mm"]
[null,"Module de déformation du sol",null,null,"EB",{"$f":"Données!AE38","v":5},"N/mm2"]
[null,"Coefficient de pression du terrain",null,null,"K",{"$f":"Données!AE40","v":0.5},null,null,null,null,"Terrain"]
[null,"Coefficient de flexion au tassement",null,null,"C2",{"$f":"Données!AE42","v":0.5}]
[null,"Type de béton d'enrobage",null,null,null,{"$f":"Données!AE50","v":"C16/20"},null,null,null,null,"Qualité du sol",null,null,null,{"$f":"Données!AE30","v":"Sol stable"}]
[null,"Réduction de charge",null,null,"λmin",{"$f":"Données!AE44","v":"NON"},null,null,null,null,"Poids volumique apparent hum.",null,null,"γ",{"$f":"Données!AE32","v":20},"kN/m3"]
[null,null,null,null,null,null,null,null,null,null,"Poids volumique déjaugé",null,null,"γ'",{"$f":"Données!AE34","v":11},"kN/m3"]
[null,"Eau",null,null,null,null,null,null,null,null,"Module de déformation du sol",null,null,"EB",{"$f":"Données!AE38","v":5},"N/mm2"]
[null,null,null,null,null,null,null,null,null,null,"Coefficient de pression du terrain",null,null,"K",{"$f":"Données!AE40","v":0.5}]
[null,"Eau souterraine",null,null,null,{"$f":"Données!AE60","v":"Sans eau souterraine"},null,null,null,null,"Coefficient de flexion au tassement",null,null,"C2",{"$f":"Données!AE42","v":0.5}]
[null,"Niveau d'eau souterraine",null,null,"hw",{"$f":"Données!AE62","v":1.3},"m",null,null,null,"Type de béton d'enrobage",null,null,null,{"$f":"Données!AE50","v":"C16/20"}]
[null,"Eau à l'intérieur du tuyau",null,null,null,{"$f":"Données!AE64","v":"Tuyau vide"},null,null,null,null,"Réduction de charge",null,null,"λmin",{"$f":"Données!AE44","v":"NON"}]
[null,"Pression",null,null,"pEi",{"$f":"Données!AE66","v":10},"kN/m2"]
[null,null,null,null,null,null,null,null,null,null,"Eau"]
[null,"Fouille"]
[null,null,null,null,null,null,null,null,null,null,"Eau souterraine",null,null,null,{"$f":"Données!AE60","v":"Sans eau souterraine"}]
[null,"Hauteur de couverture",null,null,"H",{"$f":"Données!AE52","v":3},"m",null,null,null,"Niveau d'eau souterraine",null,null,"hw",{"$f":"Données!AE62","v":1.3},"m"]
[null,"Type de fouille",null,null,null,{"$f":"Données!AE56","v":"Verticale (U)"},null,null,null,null,"Eau à l'intérieur du tuyau",null,null,null,{"$f":"Données!AE64","v":"Tuyau vide"}]
[null,"Largeur de fouille",null,null,"B",{"$f":"Données!$AE$54","v":1.5},"m",null,null,null,"Pression",null,null,"pEi",{"$f":"Données!AE66","v":10},"kN/m2"]
[null,"Angle de talus",null,null,"β",{"$f":"Données!AE58","v":30},"°"]
[]
[]
[]
[]
[null,"Actions",null,null,null,null,null,null,null,null,"Fouille"]
[]
[null,"Charge surfacique",null,null,null,{"$f":"Données!AE8","v":"Pas de charge"},null,null,null,null,"Hauteur de couverture",null,null,"H",{"$f":"Calculs!PU107","v":2.85},"m"]
[null,null,null,null,"qs",{"$f":"Calculs!PL134","v":0},"kN/m2",null,null,null,"Type de fouille",null,null,null,{"$f":"Données!$AE$56","v":"Verticale (U)"}]
[null,"Trafic ",null,null,null,{"$f":"Données!AE22","v":"Trafic routier"},null,{"$f":"IF(AND(Accueil!AZ15=\"Français\",AND(OR(F58=\"Voie unique (ferroviaire)\",F58=\"Voies multiples (ferroviaire)\",F58=\"Voie étroite (ferroviaire)\",F58=\"Eingleisig (Bahnverkehr)\",F58=\"Mehrgleisig (Bahnverkehr)\",F58=\"Schmalspur (Bahnverkehr)\"),F46<2)),\"H trop faible!\",\"\")","v":""},null,null,"Largeur de fouille",null,null,"B",{"$f":"Données!AE54","v":1.5},"m"]
[null,"Coefficient de charge",null,null,"α",{"$f":"Calculs!PH104","v":0.9},null,null,null,null,"Angle de talus",null,null,"β",{"$f":"Données!AE58","v":30},"°"]
[null,"Coefficient dynamique",null,null,"Ψ",{"$f":"Calculs!PI104","v":1}]
[null,"Trafic routier et route d'importance",null,null,"pvtotale",{"$f":"Calculs!PG120","v":24.562000000000001},"kN/m2",null,null,null,"Actions"]
[null,"secondaire",null,null,"pvroue",{"$f":"Calculs!PH120","v":4.9021999999999997},"kN/m2"]
[null,null,null,null,"∆pv",{"$f":"Calculs!PI120","v":19.659800000000001},"kN/m2",null,null,null,"Charge surfacique",null,null,null,{"$f":"Données!AE8","v":"Pas de charge"}]
[null,"Bord de route",null,null,"pvtotale",{"$f":"Calculs!PJ120","v":0},"kN/m2",null,null,null,null,null,null,"qs",{"$f":"Calculs!PW134","v":0},"kN/m2"]
[null,null,null,null,"pvroue",{"$f":"Calculs!PK120","v":0},"kN/m2",null,null,null,"Trafic ",null,null,null,{"$f":"Données!AE22","v":"Trafic routier"},null,{"$f":"IF(AND(Accueil!AZ15=\"Français\",AND(OR(O65=\"Voie unique (ferroviaire)\",O65=\"Voies multiples (ferroviaire)\",O65=\"Voie étroite (ferroviaire)\",O65=\"Eingleisig (Bahnverkehr)\",O65=\"Mehrgleisig (Bahnverkehr)\",O65=\"Schmalspur (Bahnverkehr)\"),O56<2)),\"H trop faible!\",IF(AND(Accueil!AZ15=\"Français\",AND(OR(O65=\"Trafic routier\",O65=\"Bord de route\",O65=\"Route d'importance secondaire\",O65=\"Strassenverkehr\",O65=\"Strassenrand\",O65=\"Untergeordnete Strasse\"),O56<1)),\"H trop faible!\",\"\"))","v":""}]
[null,null,null,null,"∆pv",{"$f":"Calculs!PL120","v":0},"kN/m2",null,null,null,"Coefficient de charge",null,null,"α",{"$f":"Calculs!PT104","v":0.9}]
[null,"Trafic ferroviaire voie unique",null,null,"punique",{"$f":"Calculs!PN120","v":0},"kN/m2",null,null,null,"Coefficient dynamique",null,null,"Ψ",{"$f":"Calculs!PU104","v":1}]
[null,"Trafic ferroviaire voies multiples",null,null,"pmultiples",{"$f":"Calculs!PO120","v":0},"kN/m2",null,null,null,"Trafic routier et route d'importance",null,null,"pvtotale",{"$f":"Calculs!PS120","v":26.200299999999999},"kN/m2"]
[null,"Trafic ferroviaire voie étroite",null,null,"pétroite",{"$f":"Calculs!PP120","v":0},"kN/m2",null,null,null,"secondaire",null,null,"pvroue",{"$f":"Calculs!PT120","v":5.4489399999999995},"kN/m2"]
[null,null,null,null,null,null,null,null,null,null,null,null,null,"∆pv",{"$f":"Calculs!PU120","v":20.751359999999998},"kN/m2"]
["Résultats",null,null,null,null,null,null,null,null,null,"Bord de route",null,null,"pvtotale",{"$f":"Calculs!PV120","v":0},"kN/m2"]
[null,null,null,null,null,null,null,null,null,null,null,null,null,"pvroue",{"$f":"Calculs!PW120","v":0},"kN/m2"]
[null,null,null,null,null,null,null,null,null,null,null,null,null,"∆pv",{"$f":"Calculs!PX120","v":0},"kN/m2"]
[null,null,null,null,null,null,null,null,null,null,"Trafic ferroviaire voie unique",null,null,"punique",{"$f":"Calculs!PZ120","v":0},"kN/m2"]
[null,null,null,null,null,null,null,null,null,null,"Trafic ferroviaire voies multiples",null,null,"pmultiples",{"$f":"Calculs!QA120","v":0},"kN/m2"]
[null,null,null,null,null,null,null,null,null,null,"Trafic ferroviaire voie étroite",null,null,"pétroite",{"$f":"Calculs!QB120","v":0},"kN/m2"]
[]
[null,null,null,null,null,null,null,null,null,"Résultats"]
[]
[]
[]
[]
[]
[]
[]
[]
[]
[]
[]
[]
[]
[]
[]
[]
[]
[]
[]
[]
[]
[]
[]
[null,"Sollicitations",null,null,null,null,null,null,null,null,"Sollicitations"]
[]
[null," Sollicitations",null,null,null,null,null,null,null,null,null," Sollicitations"]
[null,"U1/V1",null,null,null,null,null,null,null,null,null,"U4/V4"]
[null,"À long terme",null,null,"qs1",{"$f":"Calculs!PK204","v":61.910828025477706},"[kN/m2]",null,null,null,null,"À long terme",null,"qs1",{"$f":"Calculs!QB204","v":116.66605285517008},"[kN/m2]"]
[null,"À court terme",null,null,"qs2",{"$f":"Calculs!PK205","v":22.809806369426752},"[kN/m2]",null,null,null,null,"À court terme",null,"qs2",{"$f":"Calculs!QB205","v":31.042380759493668},"[kN/m2]"]
[null,"Charge eff. au sommet",null,null,"qser",{"$f":"Calculs!PK206","v":84.720634394904465},"[kN/m2]",null,null,null,null,"Charge eff. au sommet",null,"qser",{"$f":"Calculs!QB206","v":147.70843361466376},"[kN/m2]"]
[null,"Pression du terrain long terme",null,null,"qhlong",{"$f":"Calculs!PK207","v":57.267515923566883},"[kN/m2]",null,null,null,null,"Pression du terrain",null,"qh",{"$f":"Calculs!QB207","v":73.854216807331881},"[kN/m2]"]
[null,"Pression du terrain court terme",null,null,"qhcourt",{"$f":"Calculs!PK208","v":16.879256713375796},"[kN/m2]",null,null,null,null,"Charge de dim. au sommet",null,"qds",{"$f":"Calculs!QB208","v":204.06274249372012},"[kN/m2]"]
[null,"Charge de dim. au sommet",null,null,"qds",{"$f":"Calculs!PK211","v":117.79432738853504},"[kN/m2]"]
[null,null,null,null,null,null,null,null,null,null,"Vérifications"]
[null,"Vérifications"]
[]
[null,null,null,"Vérification de la déformation (IOWA)",null,null,null,null,null,null,"Poussée d'Archimède"]
[null,null,null,null,1,null,{"$f":"IF(Calculs!PK46<0.1,\"\",\"Tuyau rigide. Pas nécessaire de vérifier la déformation!\")","v":""},null,null,null,"Actions stabilisant",null,"G + G' + Gsp",{"$f":"Calculs!PX183","v":36.403608047289552},"[kN/m]"]
[null,null,null,"x/d court",{"$f":"IF(Calculs!PK46<0.1,Calculs!PJ214,\"\")","v":9.5040859872611468E-3},null,null,null,null,null,null,null,"GR",{"$f":"Calculs!PX184","v":5.5285119199342461},"[kN/m]"]
[null,null,null,"x/d long",{"$f":"IF(Calculs!PK46<0.1,Calculs!PJ215,\"\")","v":3.2245222929936306E-2},null,null,null,null,null,null,null,"Somme",{"$f":"Calculs!PX185","v":41.932119967223798},"[kN/m]","Facteur",0.9]
[null,null,null,"Somme",{"$f":"IF(Calculs!PK46<0.1,Calculs!PJ216,\"\")","v":4.1749308917197456E-2},{"$f":"IF(Calculs!PK46<0.1,Calculs!PK216,\"\")","v":"OK"},null,null,null,null,"Actions déstabilisant",null,"FA",{"$f":"Calculs!PX186","v":0},"[kN/m]","Facteur",1.05]
[null,null,null,"Admissible",{"$f":"IF(Calculs!PK46<0.1,Calculs!PJ217,\"\")","v":0.05}]
[null,null,null,null,null,null,null,null,null,null,"Contôle:",null,"1.05*FA",{"$f":"Calculs!PX188","v":0},"[kN/m]",{"$f":"Calculs!PZ188","v":"OK"}]
[null,null,null,null,null,null,null,null,null,null,null,null,"0.9*Somme",{"$f":"Calculs!PX189","v":37.738907970501423},"[kN/m]"]
[null,"Poussée d'Archimède"]
[null,"Actions stabilisant",null,"G + G' + Gsp",{"$f":"Calculs!PI183","v":19.665280423991895},"[kN/m]",null,null,null,null,"Sécurité structurale"]
[null,null,null,"GR",{"$f":"Calculs!PI184","v":0.16769821584862318},"[kN/m]",null,null,null,null,{"$f":"IF(N138=\"\",\"\",\"Hypothèse: 5% de la charge de dimensionnement est reprise par le tuyau GF-UP et une déformation initiale\")","v":""}]
[null,null,null,"Somme",{"$f":"Calculs!PI185","v":19.832978639840519},"[kN/m]","Facteur",0.9,null,null,{"$f":"IF(N138=\"\",\"\",\"de 0.02m est admis [SIA190:2017;4.2.11.1.2].\")","v":""}]
[null,"Actions déstabilisant",null,"FA",{"$f":"Calculs!PI186","v":0},"[kN/m]","Facteur",1.05]
[]
[null,"Contôle:",null,"1.05*FA",{"$f":"Calculs!PI188","v":0},"[kN/m]",{"$f":"Calculs!PK188","v":"OK"},null,null,null,null,"Sécurité structurale"]
[null,null,null,"0.9*Somme",{"$f":"Calculs!PI189","v":17.849680775856466},"[kN/m]",null,null,null,null,null,"U4/V4"]
[null,null,null,null,null,null,null,null,null,null,null,"qds",null,{"$f":"Calculs!PW220","v":""},"[kN/m2]"]
[null,null,null,null,null,null,null,null,null,null,null,"qBl",null,{"$f":"Calculs!PW221","v":""},"[kN/m2]"]
[null,"Sécurité structurale",null,null,null,null,null,null,null,null,null,"pwd",null,{"$f":"Calculs!PW222","v":""},"[kN/m2]"]
[null,null,null,null,null,null,null,null,null,null,null,"pcr",null,{"$f":"Calculs!PW223","v":""},"[kN/m2]"]
[null,null,"Sécurité structurale",null,null,null,null,null,null,null,null,"k",null,{"$f":"Calculs!PW224","v":""},"[-]"]
[null,null,"U1/V1",null,null,null,null,null,null,null,null,"qBl/2*(1-2*pwd/k*pcr)",null,{"$f":"Calculs!PW225","v":""},"[kN/m2]"]
[null,null,"qds",null,{"$f":"IF(Calculs!PK46<0.1,Calculs!PJ220,\"\")","v":117.79432738853504},"[kN/m2]",{"$f":"IF(Calculs!PK46<0.1,\"\",\"Tuyau rigide. Limite de la formule de la sécurité structurale est dépassée!\")","v":""}]
[null,null,"qBl",null,{"$f":"IF(Calculs!PK46<0.1,Calculs!PJ221,\"\")","v":499.54709826102749},"[kN/m2]",null,null,null,null,null,"Résultat",null,{"$f":"Calculs!PW227","v":""}]
[null,null,"pwd",null,{"$f":"IF(Calculs!PK46<0.1,Calculs!PJ222,\"\")","v":0},"[kN/m2]"]
[null,null,"pcr",null,{"$f":"IF(Calculs!PK46<0.1,Calculs!PJ223,\"\")","v":141.21586065589457},"[kN/m2]",null,null,null,null,{"$f":"IF(N138=\"\",\"Vérification de la sécurité structurale que nécessaire lors de présence d'eau souterraine!\",\"\")","v":"Vérification de la sécurité structurale que nécessaire lors de présence d'eau souterraine!"}]
[null,null,"k",null,{"$f":"IF(Calculs!PK46<0.1,Calculs!PJ224,\"\")","v":1},"[-]"]
[null,null,"qBl/2*(1-2*pwd/k*pcr)",null,{"$f":"IF(Calculs!PK46<0.1,Calculs!PJ225,\"\")","v":249.77354913051374},"[kN/m2]"]
[]
[null,null,"Résultat",null,{"$f":"IF(Calculs!PK46<0.1,Calculs!PJ227,\"\")","v":"OK"}]
[]
[]
[]
[]
[]
[]
[null,"Aptitude au service",null,null,null,null,null,null,null,null,"Aptitude au service"]
[]
[null,null,null,null,null,null,null,null,null,null,null,null,"σRbz,adm",{"$f":"contrainte","v":-0.3},"N/mm2"]
[null,null,null,"εRbz,adm",{"$f":"Calculs!PN418","v":0.54522292993630583},"%"]
[null,null,null,null,null,null,null,null,null,null,null,null,null,"Convention des contraintes:"]
[null,null,null,null,"Convention des contraintes:",null,null,null,null,null,null,null,null,"Traction négatif -"]
[null,null,null,null,"Traction négatif -",null,null,null,null,null,null,null,null,"Compression positif +"]
[null,null,null,null,"Compression positif +"]
[]
[null,"Contraintes Profil d'enrobage U1/V1",null,null,null,null,null,null,null,null,"Contraintes Profil d'enrobage U4/V4"]
[null,"Contraintes en [N/mm2]",null,"0°","45°","90°","135°","180°",null,null,"Contraintes en [N/mm2]",null,"0°","45°","90°","135°","180°"]
[null,"À long terme",null,null,null,null,null,null,null,null,"Effort normal",null,{"$f":"Calculs!PT335","v":0.1157119462712678},{"$f":"Calculs!PU335","v":0.17760036716002678},{"$f":"Calculs!PV335","v":0.24259353319116875},{"$f":"Calculs!PW335","v":0.1816826887513317},{"$f":"Calculs!PX335","v":0.11766737883990096}]
[null,"Effort normal",null,{"$f":"Calculs!PG390","v":0.59898510903507696},{"$f":"Calculs!PH390","v":0.86182244250943218},{"$f":"Calculs!PI390","v":0.97619246520000014},{"$f":"Calculs!PJ390","v":0.86367989906545506},{"$f":"Calculs!PK390","v":0.59987483096492311},null,null,"Moment extérieur",null,{"$f":"Calculs!PT336","v":0.23333875465708029},{"$f":"Calculs!PU336","v":1.4746618006390611E-3},{"$f":"Calculs!PV336","v":-0.23543899621255998},{"$f":"Calculs!PW336","v":-1.4710514949786554E-3},{"$f":"Calculs!PX336","v":0.2375443664418572}]
[null,"Moment extérieur",null,{"$f":"Calculs!PG391","v":6.2161068473256424},{"$f":"Calculs!PH391","v":-0.87238035653864043},{"$f":"Calculs!PI391","v":-4.4580113034101103},{"$f":"Calculs!PJ391","v":-0.88925953211774589},{"$f":"Calculs!PK391","v":6.2402053432106275},null,null,"Moment intérieur",null,{"$f":"Calculs!PT337","v":-0.35811883736140132},{"$f":"Calculs!PU337","v":-2.2632509988417676E-3},{"$f":"Calculs!PV337","v":0.36134220274334072},{"$f":"Calculs!PW337","v":2.257710048443177E-3},{"$f":"Calculs!PX337","v":-0.3645734394054172}]
[null,"Moment intérieur",null,{"$f":"Calculs!PG392","v":-6.2161068473256424},{"$f":"Calculs!PH392","v":0.87238035653864043},{"$f":"Calculs!PI392","v":4.4580113034101103},{"$f":"Calculs!PJ392","v":0.88925953211774589},{"$f":"Calculs!PK392","v":-6.2402053432106275}]
[null,null,null,null,null,null,null,null,null,null,"Contraintes extérieur",null,{"$f":"Calculs!PT339","v":0.34905070092834811},{"$f":"Calculs!PU339","v":0.17907502896066585},{"$f":"Calculs!PV339","v":7.1545369786087665E-3},{"$f":"Calculs!PW339","v":0.18021163725635306},{"$f":"Calculs!PX339","v":0.35521174528175814}]
[null,"Contraintes extérieur",null,{"$f":"Calculs!PG394","v":6.8150919563607193},{"$f":"Calculs!PH394","v":-1.0557914029208249E-2},{"$f":"Calculs!PI394","v":-3.4818188382101103},{"$f":"Calculs!PJ394","v":-2.5579633052290829E-2},{"$f":"Calculs!PK394","v":6.8400801741755508},null,null,"Conraintes intérieur",null,{"$f":"Calculs!PT340","v":-0.24240689109013352},{"$f":"Calculs!PU340","v":0.17533711616118502},{"$f":"Calculs!PV340","v":0.60393573593450944},{"$f":"Calculs!PW340","v":0.18394039879977489},{"$f":"Calculs!PX340","v":-0.24690606056551623}]
[null,"Conraintes intérieur",null,{"$f":"Calculs!PG395","v":-5.6171217382905656},{"$f":"Calculs!PH395","v":1.7342027990480726},{"$f":"Calculs!PI395","v":5.4342037686101108},{"$f":"Calculs!PJ395","v":1.7529394311832009},{"$f":"Calculs!PK395","v":-5.6403305122457041}]
[null,null,null,null,null,null,null,null,null,null,"Contraintes extérieures",null,{"$f":"Calculs!PT342","v":"OK"},{"$f":"Calculs!PU342","v":"OK"},{"$f":"Calculs!PV342","v":"OK"},{"$f":"Calculs!PW342","v":"OK"},{"$f":"Calculs!PX342","v":"OK"}]
[null,"Déformations extérieures",null,{"$f":"Calculs!PG399","v":0.24459088390675002},{"$f":"Calculs!PH399","v":-3.7891924880123197E-4},{"$f":"Calculs!PI399","v":-0.12496106475073195},{"$f":"Calculs!PJ399","v":-9.180426468685753E-4},{"$f":"Calculs!PK399","v":0.24548770090081559},null,null,"Conraintes intérieures",null,{"$f":"Calculs!PT343","v":"OK"},{"$f":"Calculs!PU343","v":"OK"},{"$f":"Calculs!PV343","v":"OK"},{"$f":"Calculs!PW343","v":"OK"},{"$f":"Calculs!PX343","v":"OK"}]
[null,"Déformations intérieures",null,{"$f":"Calculs!PG400","v":-0.20159621906466171},{"$f":"Calculs!PH400","v":6.2239834503896599E-2},{"$f":"Calculs!PI400","v":0.195031367383561},{"$f":"Calculs!PJ400","v":6.2912284625584153E-2},{"$f":"Calculs!PK400","v":-0.2024291725409213}]
[]
[null,"À court terme"]
[null,"Effort normal",null,{"$f":"Calculs!PG404","v":3.7995891155999995E-2},{"$f":"Calculs!PH404","v":2.6858546999999993E-2},{"$f":"Calculs!PI404","v":0},{"$f":"Calculs!PJ404","v":-0.10102394811599999},{"$f":"Calculs!PK404","v":-3.7995891155999995E-2}]
[null,"Moment extérieur",null,{"$f":"Calculs!PG405","v":3.4933253299037297},{"$f":"Calculs!PH405","v":-0.25961944240627199},{"$f":"Calculs!PI405","v":-2.9715901042988153},{"$f":"Calculs!PJ405","v":-0.25961944240627199},{"$f":"Calculs!PK405","v":3.4933253299037332}]
[null,"Moment intérieur",null,{"$f":"Calculs!PG406","v":-3.4933253299037297},{"$f":"Calculs!PH406","v":0.25961944240627199},{"$f":"Calculs!PI406","v":2.9715901042988153},{"$f":"Calculs!PJ406","v":0.25961944240627199},{"$f":"Calculs!PK406","v":-3.4933253299037332}]
[]
[null,"Contraintes extérieur",null,{"$f":"Calculs!PG408","v":3.5313212210597298},{"$f":"Calculs!PH408","v":-0.23276089540627201},{"$f":"Calculs!PI408","v":-2.9715901042988153},{"$f":"Calculs!PJ408","v":-0.36064339052227201},{"$f":"Calculs!PK408","v":3.4553294387477331}]
[null,"Conraintes intérieur",null,{"$f":"Calculs!PG409","v":-3.4553294387477296},{"$f":"Calculs!PH409","v":0.286477989406272},{"$f":"Calculs!PI409","v":2.9715901042988153},{"$f":"Calculs!PJ409","v":0.158595494290272},{"$f":"Calculs!PK409","v":-3.5313212210597333}]
[]
[null,"Déformations extérieures",null,{"$f":"Calculs!PG413","v":6.3368842588508306E-2},{"$f":"Calculs!PH413","v":-4.1768470264888467E-3},{"$f":"Calculs!PI413","v":-5.3324581302284069E-2},{"$f":"Calculs!PJ413","v":-6.4716724460805522E-3},{"$f":"Calculs!PK413","v":6.2005185478350544E-2}]
[null,"Déformations intérieures",null,{"$f":"Calculs!PG414","v":-6.2005185478350475E-2},{"$f":"Calculs!PH414","v":5.1407893757992804E-3},{"$f":"Calculs!PI414","v":5.3324581302284069E-2},{"$f":"Calculs!PJ414","v":2.8459639562075753E-3},{"$f":"Calculs!PK414","v":-6.3368842588508376E-2}]
[]
[null,"Somme déformations ext.",null,{"$f":"D170+D181","v":0.30795972649525832},{"$f":"E170+E181","v":-4.5557662752900791E-3},-0.178285646053016,-7.3897150929491274E-3,0.30749288637916616]
[null,"Somme déformations int.",null,{"$f":"D171+D182","v":-0.26360140454301217},6.7380623879695872E-2,0.24835594868584507,6.5758248581791731E-2,-0.26579801512942969]
[]
[null,"Déformations extérieures",null,{"$f":"Calculs!PG420","v":"OK"},{"$f":"Calculs!PH420","v":"OK"},{"$f":"Calculs!PI420","v":"OK"},{"$f":"Calculs!PJ420","v":"OK"},{"$f":"Calculs!PK420","v":"OK"}]
[null,"Déformations intérieures",null,{"$f":"Calculs!PG421","v":"OK"},{"$f":"Calculs!PH421","v":"OK"},{"$f":"Calculs!PI421","v":"OK"},{"$f":"Calculs!PJ421","v":"OK"},{"$f":"Calculs!PK421","v":"OK"}]

{"sheet":"GF-UP SN15000 (D)","index":43,"n_rows":188,"n_cols":17,"rows_kept":188,"cut":false,"hidden":false,"merged":[[64,16,65,16],[8,0,9,8],[8,9,9,17],[57,7,58,7],[11,4,11,6],[25,13,25,15],[70,0,70,8],[77,9,77,17],[103,1,103,6],[103,11,103,15],[104,1,104,6],[104,11,104,15],[114,3,114,5],[114,10,114,16],[105,1,105,3],[105,11,105,12],[106,1,106,3],[106,11,106,12],[107,1,107,3],[107,11,107,12],[108,1,108,3],[108,11,108,12],[109,1,109,3],[109,11,109,12],[110,1,110,3],[115,5,117,5],[115,6,117,7],[115,10,115,11],[116,10,117,11],[118,5,119,5],[118,10,118,11],[119,10,119,11],[120,15,121,16],[121,10,121,11],[122,1,122,7],[123,1,123,2],[126,1,126,2],[124,1,125,2],[120,10,120,11],[127,1,127,2],[128,1,128,2],[128,6,129,7],[128,11,128,14],[129,1,129,2],[129,11,129,14],[130,11,130,12],[131,11,131,12],[132,11,132,12],[133,11,133,12],[134,2,134,5],[134,11,134,12],[143,2,143,3],[135,2,135,5],[135,11,135,12],[136,2,136,3],[136,6,138,7],[136,11,136,14],[137,2,137,3],[137,11,137,12],[138,2,138,3],[139,2,139,3],[140,2,140,3],[141,2,141,3],[142,2,142,5],[139,10,139,15],[187,1,187,2],[155,3,155,5],[156,3,156,5],[157,3,157,5],[177,1,177,2],[178,1,178,2],[180,1,180,2],[181,1,181,2],[183,1,183,2],[169,1,169,2],[170,1,170,2],[172,1,172,7],[166,1,166,2],[167,1,167,2],[159,1,159,7],[160,1,160,2],[154,12,154,14],[155,12,155,14],[156,12,156,14],[184,1,184,2],[186,1,186,2],[169,10,169,11],[165,10,165,11],[166,10,166,11],[167,10,167,11],[168,10,168,11],[164,10,164,11],[159,10,159,16],[160,10,160,11],[161,1,161,7]]}
[null,"Projekt:",{"$f":"Accueil!P15","v":"VSA 2026"},null,null,"Ingenieur/in:",null,{"$f":"Accueil!AI15","v":0},null,null,"Projekt:",{"$f":"Accueil!$P$15","v":"VSA 2026"},null,null,"Ingenieur/in:",null,{"$f":"Accueil!$AI$15","v":0}]
[]
[null,"N°:",{"$f":"Accueil!P17","v":0},null,null,"Verantwortlicher:",null,{"$f":"Accueil!AI17","v":0},null,null,"N°:",{"$f":"Accueil!P17","v":0},null,null,"Verantwortlicher:",null,{"$f":"Accueil!$AI$17","v":0}]
[]
[null,"Ort:",{"$f":"Accueil!P21","v":0},null,null,"Bauherr:",null,{"$f":"Accueil!AI19","v":0},null,null,"Ort:",{"$f":"Accueil!$P$21","v":0},null,null,"Bauherr:",null,{"$f":"Accueil!$AI$19","v":0}]
[null,null,{"$f":"Accueil!P23","v":0},null,null,null,null,null,null,null,null,{"$f":"Accueil!$P$23","v":0}]
[]
[]
["Daten Normalverlegeprofil U1/V1",null,null,null,null,null,null,null,null,"Daten Normalverlegeprofil U4/V4"]
[]
[]
[null,"GF-UP Rohr",null,null,{"$f":"IF(Données!$AE$6>F14,\"di max.< di Eingabe!\",\"\")","v":""},null,null,null,null,null,"\"Fiktives\" Betonrohr"]
[]
[null,"Innendurchmesser",null,null,"di",{"$f":"Calculs!PJ35","v":304},"mm",null,null,null,"Innendurchmesser",null,null,"di",{"$f":"Calculs!PR34/1000","v":0.32400000000000001},"m"]
[null,"Radius",null,null,"rm",{"$f":"Calculs!PN35","v":157},"mm",null,null,null,"Radius",null,null,"rm",{"$f":"Calculs!PU34/1000","v":0.23699999999999999},"m"]
[null,"Wanddicke",null,null,"e",{"$f":"Calculs!PM35","v":10},"mm",null,null,null,"Wanddicke",null,null,"e",{"$f":"Calculs!PT34/1000","v":0.15},"m"]
[null,"Querschnittsfläche",null,null,"A",{"$f":"Calculs!PJ384","v":0.01},"m2",null,null,null,"Querschnittsfläche",null,null,"A",{"$f":"Calculs!PW322","v":0.15},"m2"]
[null,"Widerstandsmoment",null,null,"W",{"$f":"Calculs!PJ385","v":1.6666666666666667E-5},"m3",null,null,null,"Widerstandsmoment",null,null,"W",{"$f":"Calculs!PW323","v":3.7499999999999999E-3},"m3"]
[null,"E-Modul",null,null,"ER,kurz",{"$f":"Calculs!PK41","v":5572.645919999999},"N/mm2",null,null,null,"E-Modul",null,null,"ER,kurz",{"$f":"Calculs!PS36","v":20000},"N/mm2"]
[]
[null,"Systemsteifigkeit",null,null,"SFkurz",{"$f":"Calculs!PK46","v":3.9999999999999994E-2},{"$f":"Calculs!PL46","v":"souple"},null,null,null,"Systemsteifigkeit",null,null,"SFkurz",{"$f":"Calculs!PR46","v":140.84979980172858},{"$f":"Calculs!PS46","v":"rigide"}]
[null,"Lastvergrösserungsfaktor",null,null,"f",{"$f":"Calculs!PM50","v":1.0318471337579618},null,null,null,null,"Lastvergrösserungsfaktor",null,null,"f",{"$f":"Calculs!PT50","v":1.3164556962025316}]
[null,"Krümmungseinfluss",null,null,"αka",{"$f":"Calculs!PG385","v":1},null,null,null,null,"Krümmungseinfluss",null,null,"αka",{"$f":"Calculs!PT323","v":0.78902953586497893}]
[null,null,null,null,"αki",{"$f":"Calculs!PG384","v":1},null,null,null,null,null,null,null,"αki",{"$f":"Calculs!PT322","v":1.2109704641350212}]
[]
[null,"Terrain",null,null,null,null,null,null,null,null,"GF-UP Rohr",null,null,{"$f":"IF(Données!$AE$6>O28,\"di max.< di Eingabe!\",\"\")","v":""}]
[]
[null,"Bodenqualität",null,null,null,{"$f":"Données!AE30","v":"Sol stable"},null,null,null,null,"Innendurchmesser",null,null,"di",{"$f":"Calculs!PJ35","v":304},"mm"]
[null,"Feuchtraumgewicht des Baugrunds",null,null,"γ",{"$f":"Données!AE32","v":20},"kN/m3",null,null,null,"Radius",null,null,"rm",{"$f":"Calculs!PN35","v":157},"mm"]
[null,"Raumgewicht unter Auftrieb",null,null,"γ'",{"$f":"Données!AE34","v":11},"kN/m3",null,null,null,"Wanddicke",null,null,"e",{"$f":"Calculs!PM35","v":10},"mm"]
[null,"Verformungsmodul des Bodens",null,null,"EB",{"$f":"Données!AE38","v":5},"N/mm2"]
[null,"Erddruckbeiwert",null,null,"K",{"$f":"Données!AE40","v":0.5},null,null,null,null,"Terrain"]
[null,"Setzungs-Durchbiegungsziffer",null,null,"C2",{"$f":"Données!AE42","v":0.5}]
[null,"Hüllbeton",null,null,null,{"$f":"Données!AE50","v":"C16/20"},null,null,null,null,"Bodenqualität",null,null,null,{"$f":"Données!AE30","v":"Sol stable"}]
[null,"Lastminderung",null,null,"λmin",{"$f":"Données!AE44","v":"NON"},null,null,null,null,"Feuchtraumgewicht des Baugrunds",null,null,"γ",{"$f":"Données!AE32","v":20},"kN/m3"]
[null,null,null,null,null,null,null,null,null,null,"Raumgewicht unter Auftrieb",null,null,"γ'",{"$f":"Données!AE34","v":11},"kN/m3"]
[null,"Wasser",null,null,null,null,null,null,null,null,"Verformungsmodul des Bodens",null,null,"EB",{"$f":"Données!AE38","v":5},"N/mm2"]
[null,null,null,null,null,null,null,null,null,null,"Erddruckbeiwert",null,null,"K",{"$f":"Données!AE40","v":0.5}]
[null,"Grundwasser",null,null,null,{"$f":"Données!AE60","v":"Sans eau souterraine"},null,null,null,null,"Setzungs-Durchbiegungsziffer",null,null,"C2",{"$f":"Données!AE42","v":0.5}]
[null,"Grwundwasserspiegel",null,null,"hw",{"$f":"Données!AE62","v":1.3},"m",null,null,null,"Hüllbeton",null,null,null,{"$f":"Données!AE50","v":"C16/20"}]
[null,"Wasser im Rohr",null,null,null,{"$f":"Données!AE64","v":"Tuyau vide"},null,null,null,null,"Lastminderung",null,null,"λmin",{"$f":"Données!AE44","v":"NON"}]
[null,"Druck",null,null,"pEi",{"$f":"Données!AE66","v":10},"kN/m2"]
[null,null,null,null,null,null,null,null,null,null,"Wasser"]
[null,"Graben"]
[null,null,null,null,null,null,null,null,null,null,"Grundwasser",null,null,null,{"$f":"Données!AE60","v":"Sans eau souterraine"}]
[null,"Überdeckungshöhe",null,null,"H",{"$f":"Données!AE52","v":3},"m",null,null,null,"Grwundwasserspiegel",null,null,"hw",{"$f":"Données!AE62","v":1.3},"m"]
[null,"Grabentyp",null,null,null,{"$f":"Données!AE56","v":"Verticale (U)"},null,null,null,null,"Wasser im Rohr",null,null,null,{"$f":"Données!AE64","v":"Tuyau vide"}]
[null,"Grabenbreite",null,null,"B",{"$f":"Données!$AE$54","v":1.5},"m",null,null,null,"Druck",null,null,"pEi",{"$f":"Données!AE66","v":10},"kN/m2"]
[null,"Böschungsneigung",null,null,"β",{"$f":"Données!AE58","v":30},"°"]
[]
[]
[]
[]
[null,"Einwirkungen",null,null,null,null,null,null,null,null,"Graben"]
[]
[null,"Flächenlast",null,null,null,{"$f":"Données!AE8","v":"Pas de charge"},null,null,null,null,"Überdeckungshöhe",null,null,"H",{"$f":"Calculs!PU107","v":2.85},"m"]
[null,null,null,null,"qs",{"$f":"Calculs!PL134","v":0},"kN/m2",null,null,null,"Grabentyp",null,null,null,{"$f":"Données!$AE$56","v":"Verticale (U)"}]
[null,"Verkehr",null,null,null,{"$f":"Données!AE22","v":"Trafic routier"},null,{"$f":"IF(AND(Accueil!AZ15=\"Deutsch\",AND(OR(F58=\"Voie unique (ferroviaire)\",F58=\"Voies multiples (ferroviaire)\",F58=\"Voie étroite (ferroviaire)\",F58=\"Eingleisig (Bahnverkehr)\",F58=\"Mehrgleisig (Bahnverkehr)\",F58=\"Schmalspur (Bahnverkehr)\"),F46<2)),\"H zu klein!\",\"\")","v":""},null,null,"Grabenbreite",null,null,"B",{"$f":"Données!AE54","v":1.5},"m"]
[null,"Beiwert Strass- und Bahnvekehrslasten",null,null,"α",{"$f":"Calculs!PH104","v":0.9},null,null,null,null,"Böschungsneigung",null,null,"β",{"$f":"Données!AE58","v":30},"°"]
[null,"Dynamischer Beiwert",null,null,"Ψ",{"$f":"Calculs!PI104","v":1}]
[null,"Strassenverkehr und untergeordnete",null,null,"pvtotal",{"$f":"Calculs!PG120","v":24.562000000000001},"kN/m2",null,null,null,"Einwirkungen"]
[null,"Strassen",null,null,"pvRad",{"$f":"Calculs!PH120","v":4.9021999999999997},"kN/m2"]
[null,null,null,null,"∆pv",{"$f":"Calculs!PI120","v":19.659800000000001},"kN/m2",null,null,null,"Flächenlast",null,null,null,{"$f":"Données!AE8","v":"Pas de charge"}]
[null,"Strassenrand",null,null,"pvtotal",{"$f":"Calculs!PJ120","v":0},"kN/m2",null,null,null,null,null,null,"qs",{"$f":"Calculs!PW134","v":0},"kN/m2"]
[null,null,null,null,"pvRad",{"$f":"Calculs!PK120","v":0},"kN/m2",null,null,null,"Verkehr",null,null,null,{"$f":"Données!AE22","v":"Trafic routier"},null,{"$f":"IF(AND(Accueil!AZ15=\"Deutsch\",AND(OR(O65=\"Voie unique (ferroviaire)\",O65=\"Voies multiples (ferroviaire)\",O65=\"Voie étroite (ferroviaire)\",O65=\"Eingleisig (Bahnverkehr)\",O65=\"Mehrgleisig (Bahnverkehr)\",O65=\"Schmalspur (Bahnverkehr)\"),O56<2)),\"H zu klein!\",IF(AND(Accueil!AZ15=\"Deutsch\",AND(OR(O65=\"Trafic routier\",O65=\"Bord de route\",O65=\"Route d'importance secondaire\",O65=\"Strassenverkehr\",O65=\"Strassenrand\",O65=\"Untergeordnete Strasse\"),O56<1)),\"H zu klein!\",\"\"))","v":""}]
[null,null,null,null,"∆pv",{"$f":"Calculs!PL120","v":0},"kN/m2",null,null,null,"Beiwert Strass- und Bahnvekehrslasten",null,null,"α",{"$f":"Calculs!PT104","v":0.9}]
[null,"Bahnverkehr eingleisig",null,null,"peingleisig",{"$f":"Calculs!PN120","v":0},"kN/m2",null,null,null,"Dynamischer Beiwert",null,null,"Ψ",{"$f":"Calculs!PU104","v":1}]
[null,"Bahnverkehr mehrgleisig",null,null,"pmehrgleisig",{"$f":"Calculs!PO120","v":0},"kN/m2",null,null,null,"Strassenverkehr und untergeordnete",null,null,"pvtotal",{"$f":"Calculs!PS120","v":26.200299999999999},"kN/m2"]
[null,"Bahnverkehr schmalspur",null,null,"pschmal",{"$f":"Calculs!PP120","v":0},"kN/m2",null,null,null,"Strassen",null,null,"pvRad",{"$f":"Calculs!PT120","v":5.4489399999999995},"kN/m2"]
[null,null,null,null,null,null,null,null,null,null,null,null,null,"∆pv",{"$f":"Calculs!PU120","v":20.751359999999998},"kN/m2"]
["Resultate",null,null,null,null,null,null,null,null,null,"Strassenrand",null,null,"pvtotal",{"$f":"Calculs!PV120","v":0},"kN/m2"]
[null,null,null,null,null,null,null,null,null,null,null,null,null,"pvRad",{"$f":"Calculs!PW120","v":0},"kN/m2"]
[null,null,null,null,null,null,null,null,null,null,null,null,null,"∆pv",{"$f":"Calculs!PX120","v":0},"kN/m2"]
[null,null,null,null,null,null,null,null,null,null,"Bahnverkehr eingleisig",null,null,"peingleisig",{"$f":"Calculs!PZ120","v":0},"kN/m2"]
[null,null,null,null,null,null,null,null,null,null,"Bahnverkehr mehrgleisig",null,null,"pmehrgleisig",{"$f":"Calculs!QA120","v":0},"kN/m2"]
[null,null,null,null,null,null,null,null,null,null,"Bahnverkehr schmalspur",null,null,"pschmal",{"$f":"Calculs!QB120","v":0},"kN/m2"]
[]
[null,null,null,null,null,null,null,null,null,"Resultate"]
[]
[]
[]
[]
[]
[]
[]
[]
[]
[]
[]
[]
[]
[]
[]
[]
[]
[]
[]
[]
[]
[]
[]
[null,"Beanspruchungen",null,null,null,null,null,null,null,null,"Beanspruchungen"]
[]
[null,"Beanspruchungen",null,null,null,null,null,null,null,null,null,"Beanspruchungen"]
[null,"U1/V1",null,null,null,null,null,null,null,null,null,"U4/V4"]
[null,"Langzeit",null,null,"qs1",{"$f":"Calculs!PK204","v":61.910828025477706},"[kN/m2]",null,null,null,null,"Langzeit",null,"qs1",{"$f":"Calculs!QB204","v":116.66605285517008},"[kN/m2]"]
[null,"Kurzzeit",null,null,"qs2",{"$f":"Calculs!PK205","v":22.809806369426752},"[kN/m2]",null,null,null,null,"Kurzzeit",null,"qs2",{"$f":"Calculs!QB205","v":31.042380759493668},"[kN/m2]"]
[null,"Effektive Last auf Scheitel",null,null,"qser",{"$f":"Calculs!PK206","v":84.720634394904465},"[kN/m2]",null,null,null,null,"Effektive Last auf Scheitel",null,"qser",{"$f":"Calculs!QB206","v":147.70843361466376},"[kN/m2]"]
[null,"Erddruck langzeit",null,null,"qhlang",{"$f":"Calculs!PK207","v":57.267515923566883},"[kN/m2]",null,null,null,null,"Erddruck",null,"qh",{"$f":"Calculs!QB207","v":73.854216807331881},"[kN/m2]"]
[null,"Erddruck kurzzeit",null,null,"qhkurz",{"$f":"Calculs!PK208","v":16.879256713375796},"[kN/m2]",null,null,null,null,"Bemessungswert",null,"qds",{"$f":"Calculs!QB208","v":204.06274249372012},"[kN/m2]"]
[null,"Bemessungswert",null,null,"qds",{"$f":"Calculs!PK211","v":117.79432738853504},"[kN/m2]"]
[null,null,null,null,null,null,null,null,null,null,"Nachweise"]
[null,"Nachweise"]
[]
[null,null,null,"Verformungsnachweis (IOWA)",null,null,null,null,null,null,"Auftrieb"]
[null,null,null,null,1,null,{"$f":"IF(Calculs!PK46<0.1,\"\",\"Steifes Rohr. Verformungsnachweis entfällt!\")","v":""},null,null,null,"Stabilisierend",null,"G + G' + Gsp",{"$f":"Calculs!PX183","v":36.403608047289552},"[kN/m]"]
[null,null,null,"x/d kurz",{"$f":"IF(Calculs!PK46<0.1,Calculs!PJ214,\"\")","v":9.5040859872611468E-3},null,null,null,null,null,null,null,"GR",{"$f":"Calculs!PX184","v":5.5285119199342461},"[kN/m]"]
[null,null,null,"x/d lang",{"$f":"IF(Calculs!PK46<0.1,Calculs!PJ215,\"\")","v":3.2245222929936306E-2},null,null,null,null,null,null,null,"Summe",{"$f":"Calculs!PX185","v":41.932119967223798},"[kN/m]","Faktor",0.9]
[null,null,null,"Summe",{"$f":"IF(Calculs!PK46<0.1,Calculs!PJ216,\"\")","v":4.1749308917197456E-2},{"$f":"IF(Calculs!PK46<0.1,Calculs!PK216,\"\")","v":"OK"},null,null,null,null,"Destabilisierend",null,"FA",{"$f":"Calculs!PX186","v":0},"[kN/m]","Faktor",1.05]
[null,null,null,"Zugelassen",{"$f":"IF(Calculs!PK46<0.1,Calculs!PJ217,\"\")","v":0.05}]
[null,null,null,null,null,null,null,null,null,null,"Kontrolle:",null,"1.05*FA",{"$f":"Calculs!PX188","v":0},"[kN/m]",{"$f":"Calculs!PZ188","v":"OK"}]
[null,null,null,null,null,null,null,null,null,null,null,null,"0.9*Summe",{"$f":"Calculs!PX189","v":37.738907970501423},"[kN/m]"]
[null,"Auftrieb"]
[null,"Stabilisierend",null,"G + G' + Gsp",{"$f":"Calculs!PI183","v":19.665280423991895},"[kN/m]",null,null,null,null,"Tragfähigkeit"]
[null,null,null,"GR",{"$f":"Calculs!PI184","v":0.16769821584862318},"[kN/m]",null,null,null,null,{"$f":"IF(N138=\"\",\"\",\"Annahme: 5% des Bemessungswerts werden durch das GF-UP Rohr aufgenommen und eine initiale\")","v":""}]
[null,null,null,"Summe",{"$f":"Calculs!PI185","v":19.832978639840519},"[kN/m]","Faktor",0.9,null,null,{"$f":"IF(N138=\"\",\"\",\"Deformation von 0.02m [SIA190:2017;4.2.11.1.2].\")","v":""}]
[null,"Destabilisierend",null,"FA",{"$f":"Calculs!PI186","v":0},"[kN/m]","Faktor",1.05]
[]
[null,"Kontrolle:",null,"1.05*FA",{"$f":"Calculs!PI188","v":0},"[kN/m]",{"$f":"Calculs!PK188","v":"OK"},null,null,null,null,"Tragfähigkeit"]
[null,null,null,"0.9*Summe",{"$f":"Calculs!PI189","v":17.849680775856466},"[kN/m]",null,null,null,null,null,"U4/V4"]
[null,null,null,null,null,null,null,null,null,null,null,"qds",null,{"$f":"Calculs!PW220","v":""},"[kN/m2]"]
[null,null,null,null,null,null,null,null,null,null,null,"qBl",null,{"$f":"Calculs!PW221","v":""},"[kN/m2]"]
[null,"Tragfähigkeit",null,null,null,null,null,null,null,null,null,"pwd",null,{"$f":"Calculs!PW222","v":""},"[kN/m2]"]
[null,null,null,null,null,null,null,null,null,null,null,"pcr",null,{"$f":"Calculs!PW223","v":""},"[kN/m2]"]
[null,null,"Tragfähigkeit",null,null,null,null,null,null,null,null,"k",null,{"$f":"Calculs!PW224","v":""},"[-]"]
[null,null,"U1/V1",null,null,null,null,null,null,null,null,"qBl/2*(1-2*pwd/k*pcr)",null,{"$f":"Calculs!PW225","v":""},"[kN/m2]"]
[null,null,"qds",null,{"$f":"IF(Calculs!PK46<0.1,Calculs!PJ220,\"\")","v":117.79432738853504},"[kN/m2]",{"$f":"IF(Calculs!PK46<0.1,\"\",\"Steifes Rohr. Limite der Tragfähigkeitsformel überschritten!\")","v":""}]
[null,null,"qBl",null,{"$f":"IF(Calculs!PK46<0.1,Calculs!PJ221,\"\")","v":499.54709826102749},"[kN/m2]",null,null,null,null,null,"Resultat",null,{"$f":"Calculs!PW227","v":""}]
[null,null,"pwd",null,{"$f":"IF(Calculs!PK46<0.1,Calculs!PJ222,\"\")","v":0},"[kN/m2]"]
[null,null,"pcr",null,{"$f":"IF(Calculs!PK46<0.1,Calculs!PJ223,\"\")","v":141.21586065589457},"[kN/m2]",null,null,null,null,{"$f":"IF(N138=\"\",\"Tragfähigkeitsnachweis nur nötig bei Grundwasser!\",\"\")","v":"Tragfähigkeitsnachweis nur nötig bei Grundwasser!"}]
[null,null,"k",null,{"$f":"IF(Calculs!PK46<0.1,Calculs!PJ224,\"\")","v":1},"[-]"]
[null,null,"qBl/2*(1-2*pwd/k*pcr)",null,{"$f":"IF(Calculs!PK46<0.1,Calculs!PJ225,\"\")","v":249.77354913051374},"[kN/m2]"]
[]
[null,null,"Resultat",null,{"$f":"IF(Calculs!PK46<0.1,Calculs!PJ227,\"\")","v":"OK"}]
[]
[]
[]
[]
[]
[]
[null,"Gebrauchstauglichkeit",null,null,null,null,null,null,null,null,"Gebrauchstauglichkeit"]
[]
[null,null,null,null,null,null,null,null,null,null,null,null,"σRbz,adm",{"$f":"contrainte","v":-0.3},"N/mm2"]
[null,null,null,"εRbz,adm",{"$f":"Calculs!PN418","v":0.54522292993630583},"%"]
[null,null,null,null,null,null,null,null,null,null,null,null,"Spannungskonventionen:"]
[null,null,null,"Spannungskonventionen:",null,null,null,null,null,null,null,null,"Zug negatif -"]
[null,null,null,"Zug negatif -",null,null,null,null,null,null,null,null,"Druck positif +"]
[null,null,null,"Druck positif +"]
[]
[null,"Spannungen Verlegeprofil U1/V1",null,null,null,null,null,null,null,null,"Spannungen Verlegeprofil U4/V4"]
[null,"Spannungen in [N/mm2]",null,"0°","45°","90°","135°","180°",null,null,"Spannungen in [N/mm2]",null,"0°","45°","90°","135°","180°"]
[null,"Langzeit",null,null,null,null,null,null,null,null,"Durch die Normalkraft",null,{"$f":"Calculs!PT335","v":0.1157119462712678},{"$f":"Calculs!PU335","v":0.17760036716002678},{"$f":"Calculs!PV335","v":0.24259353319116875},{"$f":"Calculs!PW335","v":0.1816826887513317},{"$f":"Calculs!PX335","v":0.11766737883990096}]
[null,"Durch die Normalkraft",null,{"$f":"Calculs!PG390","v":0.59898510903507696},{"$f":"Calculs!PH390","v":0.86182244250943218},{"$f":"Calculs!PI390","v":0.97619246520000014},{"$f":"Calculs!PJ390","v":0.86367989906545506},{"$f":"Calculs!PK390","v":0.59987483096492311},null,null,"Durch das Moment aussen",null,{"$f":"Calculs!PT336","v":0.23333875465708029},{"$f":"Calculs!PU336","v":1.4746618006390611E-3},{"$f":"Calculs!PV336","v":-0.23543899621255998},{"$f":"Calculs!PW336","v":-1.4710514949786554E-3},{"$f":"Calculs!PX336","v":0.2375443664418572}]
[null,"Durch das Moment aussen",null,{"$f":"Calculs!PG391","v":6.2161068473256424},{"$f":"Calculs!PH391","v":-0.87238035653864043},{"$f":"Calculs!PI391","v":-4.4580113034101103},{"$f":"Calculs!PJ391","v":-0.88925953211774589},{"$f":"Calculs!PK391","v":6.2402053432106275},null,null,"Durch das Moment innen",null,{"$f":"Calculs!PT337","v":-0.35811883736140132},{"$f":"Calculs!PU337","v":-2.2632509988417676E-3},{"$f":"Calculs!PV337","v":0.36134220274334072},{"$f":"Calculs!PW337","v":2.257710048443177E-3},{"$f":"Calculs!PX337","v":-0.3645734394054172}]
[null,"Durch das Moment innen",null,{"$f":"Calculs!PG392","v":-6.2161068473256424},{"$f":"Calculs!PH392","v":0.87238035653864043},{"$f":"Calculs!PI392","v":4.4580113034101103},{"$f":"Calculs!PJ392","v":0.88925953211774589},{"$f":"Calculs!PK392","v":-6.2402053432106275}]
[null,null,null,null,null,null,null,null,null,null,"Spannungen aussen",null,{"$f":"Calculs!PT339","v":0.34905070092834811},{"$f":"Calculs!PU339","v":0.17907502896066585},{"$f":"Calculs!PV339","v":7.1545369786087665E-3},{"$f":"Calculs!PW339","v":0.18021163725635306},{"$f":"Calculs!PX339","v":0.35521174528175814}]
[null,"Spannungen aussen",null,{"$f":"Calculs!PG394","v":6.8150919563607193},{"$f":"Calculs!PH394","v":-1.0557914029208249E-2},{"$f":"Calculs!PI394","v":-3.4818188382101103},{"$f":"Calculs!PJ394","v":-2.5579633052290829E-2},{"$f":"Calculs!PK394","v":6.8400801741755508},null,null,"Spannungen innen","Spannungen innen",{"$f":"Calculs!PT340","v":-0.24240689109013352},{"$f":"Calculs!PU340","v":0.17533711616118502},{"$f":"Calculs!PV340","v":0.60393573593450944},{"$f":"Calculs!PW340","v":0.18394039879977489},{"$f":"Calculs!PX340","v":-0.24690606056551623}]
[null,"Spannungen innen","Spannungen innen",{"$f":"Calculs!PG395","v":-5.6171217382905656},{"$f":"Calculs!PH395","v":1.7342027990480726},{"$f":"Calculs!PI395","v":5.4342037686101108},{"$f":"Calculs!PJ395","v":1.7529394311832009},{"$f":"Calculs!PK395","v":-5.6403305122457041}]
[null,null,null,null,null,null,null,null,null,null,"Spannungen aussen",null,{"$f":"Calculs!PT342","v":"OK"},{"$f":"Calculs!PU342","v":"OK"},{"$f":"Calculs!PV342","v":"OK"},{"$f":"Calculs!PW342","v":"OK"},{"$f":"Calculs!PX342","v":"OK"}]
[null,"Deformationen aussen",null,{"$f":"Calculs!PG399","v":0.24459088390675002},{"$f":"Calculs!PH399","v":-3.7891924880123197E-4},{"$f":"Calculs!PI399","v":-0.12496106475073195},{"$f":"Calculs!PJ399","v":-9.180426468685753E-4},{"$f":"Calculs!PK399","v":0.24548770090081559},null,null,"Spannungen innen","Spannungen innen",{"$f":"Calculs!PT343","v":"OK"},{"$f":"Calculs!PU343","v":"OK"},{"$f":"Calculs!PV343","v":"OK"},{"$f":"Calculs!PW343","v":"OK"},{"$f":"Calculs!PX343","v":"OK"}]
[null,"Deformationen innen",null,{"$f":"Calculs!PG400","v":-0.20159621906466171},{"$f":"Calculs!PH400","v":6.2239834503896599E-2},{"$f":"Calculs!PI400","v":0.195031367383561},{"$f":"Calculs!PJ400","v":6.2912284625584153E-2},{"$f":"Calculs!PK400","v":-0.2024291725409213}]
[]
[null,"Kurzzeit"]
[null,"Durch die Normalkraft",null,{"$f":"Calculs!PG404","v":3.7995891155999995E-2},{"$f":"Calculs!PH404","v":2.6858546999999993E-2},{"$f":"Calculs!PI404","v":0},{"$f":"Calculs!PJ404","v":-0.10102394811599999},{"$f":"Calculs!PK404","v":-3.7995891155999995E-2}]
[null,"Durch das Moment aussen",null,{"$f":"Calculs!PG405","v":3.4933253299037297},{"$f":"Calculs!PH405","v":-0.25961944240627199},{"$f":"Calculs!PI405","v":-2.9715901042988153},{"$f":"Calculs!PJ405","v":-0.25961944240627199},{"$f":"Calculs!PK405","v":3.4933253299037332}]
[null,"Durch das Moment innen",null,{"$f":"Calculs!PG406","v":-3.4933253299037297},{"$f":"Calculs!PH406","v":0.25961944240627199},{"$f":"Calculs!PI406","v":2.9715901042988153},{"$f":"Calculs!PJ406","v":0.25961944240627199},{"$f":"Calculs!PK406","v":-3.4933253299037332}]
[]
[null,"Spannungen aussen",null,{"$f":"Calculs!PG408","v":3.5313212210597298},{"$f":"Calculs!PH408","v":-0.23276089540627201},{"$f":"Calculs!PI408","v":-2.9715901042988153},{"$f":"Calculs!PJ408","v":-0.36064339052227201},{"$f":"Calculs!PK408","v":3.4553294387477331}]
[null,"Spannungen innen","Spannungen innen",{"$f":"Calculs!PG409","v":-3.4553294387477296},{"$f":"Calculs!PH409","v":0.286477989406272},{"$f":"Calculs!PI409","v":2.9715901042988153},{"$f":"Calculs!PJ409","v":0.158595494290272},{"$f":"Calculs!PK409","v":-3.5313212210597333}]
[]
[null,"Deformationen aussen",null,{"$f":"Calculs!PG413","v":6.3368842588508306E-2},{"$f":"Calculs!PH413","v":-4.1768470264888467E-3},{"$f":"Calculs!PI413","v":-5.3324581302284069E-2},{"$f":"Calculs!PJ413","v":-6.4716724460805522E-3},{"$f":"Calculs!PK413","v":6.2005185478350544E-2}]
[null,"Deformationen innen",null,{"$f":"Calculs!PG414","v":-6.2005185478350475E-2},{"$f":"Calculs!PH414","v":5.1407893757992804E-3},{"$f":"Calculs!PI414","v":5.3324581302284069E-2},{"$f":"Calculs!PJ414","v":2.8459639562075753E-3},{"$f":"Calculs!PK414","v":-6.3368842588508376E-2}]
[]
[null,"Summe Deformationen aus",null,{"$f":"D170+D181","v":0.30795972649525832},{"$f":"E170+E181","v":-4.5557662752900791E-3},-0.178285646053016,-7.3897150929491274E-3,0.30749288637916616]
[null,"Summe Deformationen in.",null,{"$f":"D171+D182","v":-0.26360140454301217},6.7380623879695872E-2,0.24835594868584507,6.5758248581791731E-2,-0.26579801512942969]
[]
[null,"Deformationen aussen",null,{"$f":"Calculs!PG420","v":"OK"},{"$f":"Calculs!PH420","v":"OK"},{"$f":"Calculs!PI420","v":"OK"},{"$f":"Calculs!PJ420","v":"OK"},{"$f":"Calculs!PK420","v":"OK"}]
[null,"Deformationen innen",null,{"$f":"Calculs!PG421","v":"OK"},{"$f":"Calculs!PH421","v":"OK"},{"$f":"Calculs!PI421","v":"OK"},{"$f":"Calculs!PJ421","v":"OK"},{"$f":"Calculs!PK421","v":"OK"}]

{"sheet":"GF-UP SN16000","index":44,"n_rows":188,"n_cols":17,"rows_kept":188,"cut":false,"hidden":false,"merged":[[64,16,65,16],[8,0,9,8],[8,9,9,17],[57,7,58,7],[11,4,11,6],[25,13,25,15],[70,0,70,8],[77,9,77,17],[103,1,103,6],[103,11,103,15],[104,1,104,6],[104,11,104,15],[114,3,114,5],[114,10,114,16],[105,1,105,3],[105,11,105,12],[106,1,106,3],[106,11,106,12],[107,1,107,3],[107,11,107,12],[108,1,108,3],[108,11,108,12],[109,1,109,3],[109,11,109,12],[110,1,110,3],[115,5,117,5],[115,6,117,7],[115,10,115,11],[116,10,117,11],[118,5,119,5],[118,10,118,11],[119,10,119,11],[120,15,121,16],[121,10,121,11],[122,1,122,7],[123,1,123,2],[126,1,126,2],[124,1,125,2],[120,10,120,11],[127,1,127,2],[128,1,128,2],[128,6,129,7],[128,11,128,14],[129,1,129,2],[129,11,129,14],[130,11,130,12],[131,11,131,12],[132,11,132,12],[133,11,133,12],[134,2,134,5],[134,11,134,12],[143,2,143,3],[135,2,135,5],[135,11,135,12],[136,2,136,3],[136,6,138,7],[136,11,136,14],[137,2,137,3],[137,11,137,12],[138,2,138,3],[139,2,139,3],[140,2,140,3],[141,2,141,3],[142,2,142,5],[139,10,140,15],[159,1,159,7],[159,10,159,16],[160,1,160,2],[160,10,160,11],[161,1,161,7],[161,10,161,11],[162,1,162,2],[162,10,162,11],[163,1,163,2],[163,10,163,11],[164,1,164,2],[164,10,164,11],[174,1,174,2],[165,10,165,11],[166,1,166,2],[166,10,166,11],[167,1,167,2],[167,10,167,11],[168,10,168,11],[169,1,169,2],[169,10,169,11],[170,1,170,2],[172,1,172,7],[173,1,173,2],[184,1,184,2],[186,1,186,2],[187,1,187,2],[175,1,175,2],[177,1,177,2],[178,1,178,2],[180,1,180,2],[181,1,181,2],[183,1,183,2]]}
[null,"Projet:",{"$f":"Accueil!P15","v":"VSA 2026"},null,null,"Ingénieur/e:",null,{"$f":"Accueil!AI15","v":0},null,null,"Projet:",{"$f":"Accueil!$P$15","v":"VSA 2026"},null,null,"Ingénieur/e:",null,{"$f":"Accueil!$AI$15","v":0}]
[]
[null,"N°:",{"$f":"Accueil!P17","v":0},null,null,"Respoonsable:",null,{"$f":"Accueil!AI17","v":0},null,null,"N°:",{"$f":"Accueil!P17","v":0},null,null,"Respoonsable:",null,{"$f":"Accueil!$AI$17","v":0}]
[]
[null,"Lieu:",{"$f":"Accueil!P21","v":0},null,null,"Maître douvrage:",null,{"$f":"Accueil!AI19","v":0},null,null,"Lieu:",{"$f":"Accueil!$P$21","v":0},null,null,"Maître douvrage:",null,{"$f":"Accueil!$AI$19","v":0}]
[null,null,{"$f":"Accueil!P23","v":0},null,null,null,null,null,null,null,null,{"$f":"Accueil!$P$23","v":0}]
[]
[]
["Données profil d'enrobage U1/V1",null,null,null,null,null,null,null,null,"Données profil d'enrobage U4/V4"]
[]
[]
[null,"Tuyau GF-UP",null,null,{"$f":"IF(Données!$AE$6>F14,\"di max.< di introduit!\",\"\")","v":""},null,null,null,null,null,"Tuyau \"fictif\" en béton"]
[]
[null,"Diamètre intérieur ",null,null,"di",{"$f":"Calculs!QJ35","v":304},"mm",null,null,null,"Diamètre intérieur ",null,null,"di",{"$f":"Calculs!QR34/1000","v":0.32400000000000001},"m"]
[null,"Rayon moyen",null,null,"rm",{"$f":"Calculs!QN35","v":157},"mm",null,null,null,"Rayon moyen",null,null,"rm",{"$f":"Calculs!QU34/1000","v":0.23699999999999999},"m"]
[null,"Épaisseur de paroi",null,null,"e",{"$f":"Calculs!QM35","v":10},"mm",null,null,null,"Épaisseur de paroi",null,null,"e",{"$f":"Calculs!QT34/1000","v":0.15},"m"]
[null,"Section",null,null,"A",{"$f":"Calculs!QJ384","v":0.01},"m2",null,null,null,"Section",null,null,"A",{"$f":"Calculs!QW322","v":0.15},"m2"]
[null,"Module de flexion",null,null,"W",{"$f":"Calculs!QJ385","v":1.6666666666666667E-5},"m3",null,null,null,"Module de flexion",null,null,"W",{"$f":"Calculs!QW323","v":3.7499999999999999E-3},"m3"]
[null,"Module d'élasticité",null,null,"ER,court",{"$f":"Calculs!QK41","v":5944.155647999999},"N/mm2",null,null,null,"Module d'élasticité",null,null,"ER,court",{"$f":"Calculs!QS36","v":20000},"N/mm2"]
[]
[null,"Rigidité du système",null,null,"SFcourt",{"$f":"Calculs!QK46","v":4.2666666666666665E-2},{"$f":"Calculs!QL46","v":"souple"},null,null,null,"Rigidité du système",null,null,"SFcourt",{"$f":"Calculs!QR46","v":140.84979980172858},{"$f":"Calculs!QS46","v":"rigide"}]
[null,"Facteur de majoration de charge",null,null,"f",{"$f":"Calculs!QM50","v":1.0318471337579618},null,null,null,null,"Facteur de majoration de charge",null,null,"f",{"$f":"Calculs!QT50","v":1.3164556962025316}]
[null,"Effet de courbure:",null,null,"αka",{"$f":"Calculs!QG385","v":1},null,null,null,null,"Effet de courbure:",null,null,"αka",{"$f":"Calculs!QT323","v":0.78902953586497893}]
[null,null,null,null,"αki",{"$f":"Calculs!QG384","v":1},null,null,null,null,null,null,null,"αki",{"$f":"Calculs!QT322","v":1.2109704641350212}]
[]
[null,"Terrain",null,null,null,null,null,null,null,null,"Tuyau GF-UP",null,null,{"$f":"IF(Données!$AE$6>O28,\"di max.< di introduit!\",\"\")","v":""}]
[]
[null,"Qualité du sol",null,null,null,{"$f":"Données!AE30","v":"Sol stable"},null,null,null,null,"Diamètre intérieur ",null,null,"di",{"$f":"Calculs!QJ35","v":304},"mm"]
[null,"Poids volumique apparent hum.",null,null,"γ",{"$f":"Données!AE32","v":20},"kN/m3",null,null,null,"Rayon moyen",null,null,"rm",{"$f":"Calculs!QN35","v":157},"mm"]
[null,"Poids volumique déjaugé",null,null,"γ'",{"$f":"Données!AE34","v":11},"kN/m3",null,null,null,"Épaisseur de paroi",null,null,"e",{"$f":"Calculs!QM35","v":10},"mm"]
[null,"Module de déformation du sol",null,null,"EB",{"$f":"Données!AE38","v":5},"N/mm2"]
[null,"Coefficient de pression du terrain",null,null,"K",{"$f":"Données!AE40","v":0.5},null,null,null,null,"Terrain"]
[null,"Coefficient de flexion au tassement",null,null,"C2",{"$f":"Données!AE42","v":0.5}]
[null,"Type de béton d'enrobage",null,null,null,{"$f":"Données!AE50","v":"C16/20"},null,null,null,null,"Qualité du sol",null,null,null,{"$f":"Données!AE30","v":"Sol stable"}]
[null,"Réduction de charge",null,null,"λmin",{"$f":"Données!AE44","v":"NON"},null,null,null,null,"Poids volumique apparent hum.",null,null,"γ",{"$f":"Données!AE32","v":20},"kN/m3"]
[null,null,null,null,null,null,null,null,null,null,"Poids volumique déjaugé",null,null,"γ'",{"$f":"Données!AE34","v":11},"kN/m3"]
[null,"Eau",null,null,null,null,null,null,null,null,"Module de déformation du sol",null,null,"EB",{"$f":"Données!AE38","v":5},"N/mm2"]
[null,null,null,null,null,null,null,null,null,null,"Coefficient de pression du terrain",null,null,"K",{"$f":"Données!AE40","v":0.5}]
[null,"Eau souterraine",null,null,null,{"$f":"Données!AE60","v":"Sans eau souterraine"},null,null,null,null,"Coefficient de flexion au tassement",null,null,"C2",{"$f":"Données!AE42","v":0.5}]
[null,"Niveau d'eau souterraine",null,null,"hw",{"$f":"Données!AE62","v":1.3},"m",null,null,null,"Type de béton d'enrobage",null,null,null,{"$f":"Données!AE50","v":"C16/20"}]
[null,"Eau à l'intérieur du tuyau",null,null,null,{"$f":"Données!AE64","v":"Tuyau vide"},null,null,null,null,"Réduction de charge",null,null,"λmin",{"$f":"Données!AE44","v":"NON"}]
[null,"Pression",null,null,"pEi",{"$f":"Données!AE66","v":10},"kN/m2"]
[null,null,null,null,null,null,null,null,null,null,"Eau"]
[null,"Fouille"]
[null,null,null,null,null,null,null,null,null,null,"Eau souterraine",null,null,null,{"$f":"Données!AE60","v":"Sans eau souterraine"}]
[null,"Hauteur de couverture",null,null,"H",{"$f":"Données!AE52","v":3},"m",null,null,null,"Niveau d'eau souterraine",null,null,"hw",{"$f":"Données!AE62","v":1.3},"m"]
[null,"Type de fouille",null,null,null,{"$f":"Données!AE56","v":"Verticale (U)"},null,null,null,null,"Eau à l'intérieur du tuyau",null,null,null,{"$f":"Données!AE64","v":"Tuyau vide"}]
[null,"Largeur de fouille",null,null,"B",{"$f":"Données!$AE$54","v":1.5},"m",null,null,null,"Pression",null,null,"pEi",{"$f":"Données!AE66","v":10},"kN/m2"]
[null,"Angle de talus",null,null,"β",{"$f":"Données!AE58","v":30},"°"]
[]
[]
[]
[]
[null,"Actions",null,null,null,null,null,null,null,null,"Fouille"]
[]
[null,"Charge surfacique",null,null,null,{"$f":"Données!AE8","v":"Pas de charge"},null,null,null,null,"Hauteur de couverture",null,null,"H",{"$f":"Calculs!QU107","v":2.85},"m"]
[null,null,null,null,"qs",{"$f":"Calculs!QL134","v":0},"kN/m2",null,null,null,"Type de fouille",null,null,null,{"$f":"Données!$AE$56","v":"Verticale (U)"}]
[null,"Trafic ",null,null,null,{"$f":"Données!AE22","v":"Trafic routier"},null,{"$f":"IF(AND(Accueil!AZ15=\"Français\",AND(OR(F58=\"Voie unique (ferroviaire)\",F58=\"Voies multiples (ferroviaire)\",F58=\"Voie étroite (ferroviaire)\",F58=\"Eingleisig (Bahnverkehr)\",F58=\"Mehrgleisig (Bahnverkehr)\",F58=\"Schmalspur (Bahnverkehr)\"),F46<2)),\"H trop faible!\",\"\")","v":""},null,null,"Largeur de fouille",null,null,"B",{"$f":"Données!AE54","v":1.5},"m"]
[null,"Coefficient de charge",null,null,"α",{"$f":"Calculs!QH104","v":0.9},null,null,null,null,"Angle de talus",null,null,"β",{"$f":"Données!AE58","v":30},"°"]
[null,"Coefficient dynamique",null,null,"Ψ",{"$f":"Calculs!QI104","v":1}]
[null,"Trafic routier et route d'importance",null,null,"pvtotale",{"$f":"Calculs!QG120","v":24.562000000000001},"kN/m2",null,null,null,"Actions"]
[null,"secondaire",null,null,"pvroue",{"$f":"Calculs!QH120","v":4.9021999999999997},"kN/m2"]
[null,null,null,null,"∆pv",{"$f":"Calculs!QI120","v":19.659800000000001},"kN/m2",null,null,null,"Charge surfacique",null,null,null,{"$f":"Données!AE8","v":"Pas de charge"}]
[null,"Bord de route",null,null,"pvtotale",{"$f":"Calculs!QJ120","v":0},"kN/m2",null,null,null,null,null,null,"qs",{"$f":"Calculs!QW134","v":0},"kN/m2"]
[null,null,null,null,"pvroue",{"$f":"Calculs!QK120","v":0},"kN/m2",null,null,null,"Trafic ",null,null,null,{"$f":"Données!AE22","v":"Trafic routier"},null,{"$f":"IF(AND(Accueil!AZ15=\"Français\",AND(OR(O65=\"Voie unique (ferroviaire)\",O65=\"Voies multiples (ferroviaire)\",O65=\"Voie étroite (ferroviaire)\",O65=\"Eingleisig (Bahnverkehr)\",O65=\"Mehrgleisig (Bahnverkehr)\",O65=\"Schmalspur (Bahnverkehr)\"),O56<2)),\"H trop faible!\",IF(AND(Accueil!AZ15=\"Français\",AND(OR(O65=\"Trafic routier\",O65=\"Bord de route\",O65=\"Route d'importance secondaire\",O65=\"Strassenverkehr\",O65=\"Strassenrand\",O65=\"Untergeordnete Strasse\"),O56<1)),\"H trop faible!\",\"\"))","v":""}]
[null,null,null,null,"∆pv",{"$f":"Calculs!QL120","v":0},"kN/m2",null,null,null,"Coefficient de charge",null,null,"α",{"$f":"Calculs!QT104","v":0.9}]
[null,"Trafic ferroviaire voie unique",null,null,"punique",{"$f":"Calculs!QN120","v":0},"kN/m2",null,null,null,"Coefficient dynamique",null,null,"Ψ",{"$f":"Calculs!QU104","v":1}]
[null,"Trafic ferroviaire voies multiples",null,null,"pmultiples",{"$f":"Calculs!QO120","v":0},"kN/m2",null,null,null,"Trafic routier et route d'importance",null,null,"pvtotale",{"$f":"Calculs!QS120","v":26.200299999999999},"kN/m2"]
[null,"Trafic ferroviaire voie étroite",null,null,"pétroite",{"$f":"Calculs!QP120","v":0},"kN/m2",null,null,null,"secondaire",null,null,"pvroue",{"$f":"Calculs!QT120","v":5.4489399999999995},"kN/m2"]
[null,null,null,null,null,null,null,null,null,null,null,null,null,"∆pv",{"$f":"Calculs!QU120","v":20.751359999999998},"kN/m2"]
["Résultats",null,null,null,null,null,null,null,null,null,"Bord de route",null,null,"pvtotale",{"$f":"Calculs!QV120","v":0},"kN/m2"]
[null,null,null,null,null,null,null,null,null,null,null,null,null,"pvroue",{"$f":"Calculs!QW120","v":0},"kN/m2"]
[null,null,null,null,null,null,null,null,null,null,null,null,null,"∆pv",{"$f":"Calculs!QX120","v":0},"kN/m2"]
[null,null,null,null,null,null,null,null,null,null,"Trafic ferroviaire voie unique",null,null,"punique",{"$f":"Calculs!QZ120","v":0},"kN/m2"]
[null,null,null,null,null,null,null,null,null,null,"Trafic ferroviaire voies multiples",null,null,"pmultiples",{"$f":"Calculs!RA120","v":0},"kN/m2"]
[null,null,null,null,null,null,null,null,null,null,"Trafic ferroviaire voie étroite",null,null,"pétroite",{"$f":"Calculs!RB120","v":0},"kN/m2"]
[]
[null,null,null,null,null,null,null,null,null,"Résultats"]
[]
[]
[]
[]
[]
[]
[]
[]
[]
[]
[]
[]
[]
[]
[]
[]
[]
[]
[]
[]
[]
[]
[]
[null,"Sollicitations",null,null,null,null,null,null,null,null,"Sollicitations"]
[]
[null," Sollicitations",null,null,null,null,null,null,null,null,null," Sollicitations"]
[null,"U1/V1",null,null,null,null,null,null,null,null,null,"U4/V4"]
[null,"À long terme",null,null,"qs1",{"$f":"Calculs!QK204","v":61.910828025477706},"[kN/m2]",null,null,null,null,"À long terme",null,"qs1",{"$f":"Calculs!RB204","v":116.66605285517008},"[kN/m2]"]
[null,"À court terme",null,null,"qs2",{"$f":"Calculs!QK205","v":22.809806369426752},"[kN/m2]",null,null,null,null,"À court terme",null,"qs2",{"$f":"Calculs!RB205","v":31.042380759493668},"[kN/m2]"]
[null,"Charge eff. au sommet",null,null,"qser",{"$f":"Calculs!QK206","v":84.720634394904465},"[kN/m2]",null,null,null,null,"Charge eff. au sommet",null,"qser",{"$f":"Calculs!RB206","v":147.70843361466376},"[kN/m2]"]
[null,"Pression du terrain long terme",null,null,"qhlong",{"$f":"Calculs!QK207","v":56.328704187114965},"[kN/m2]",null,null,null,null,"Pression du terrain",null,"qh",{"$f":"Calculs!RB207","v":73.854216807331881},"[kN/m2]"]
[null,"Pression du terrain court terme",null,null,"qhcourt",{"$f":"Calculs!QK208","v":16.440834461080325},"[kN/m2]",null,null,null,null,"Charge de dim. au sommet",null,"qds",{"$f":"Calculs!RB208","v":204.06274249372012},"[kN/m2]"]
[null,"Charge de dim. au sommet",null,null,"qds",{"$f":"Calculs!QK211","v":117.79432738853504},"[kN/m2]"]
[null,null,null,null,null,null,null,null,null,null,"Vérifications"]
[null,"Vérifications"]
[]
[null,null,null,"Vérification de la déformation (IOWA)",null,null,null,null,null,null,"Poussée d'Archimède"]
[null,null,null,null,1,null,{"$f":"IF(Calculs!QK46<0.1,\"\",\"Tuyau rigide. Pas nécessaire de vérifier la déformation!\")","v":""},null,null,null,"Actions stabilisant",null,"G + G' + Gsp",{"$f":"Calculs!QX183","v":36.403608047289552},"[kN/m]"]
[null,null,null,"x/d court",{"$f":"IF(Calculs!QK46<0.1,Calculs!QJ214,\"\")","v":9.257226610968651E-3},null,null,null,null,null,null,null,"GR",{"$f":"Calculs!QX184","v":5.5285119199342461},"[kN/m]"]
[null,null,null,"x/d long",{"$f":"IF(Calculs!QK46<0.1,Calculs!QJ215,\"\")","v":3.171661271797014E-2},null,null,null,null,null,null,null,"Somme",{"$f":"Calculs!QX185","v":41.932119967223798},"[kN/m]","Facteur",0.9]
[null,null,null,"Somme",{"$f":"IF(Calculs!QK46<0.1,Calculs!QJ216,\"\")","v":4.0973839328938791E-2},{"$f":"IF(Calculs!QK46<0.1,Calculs!QK216,\"\")","v":"OK"},null,null,null,null,"Actions déstabilisant",null,"FA",{"$f":"Calculs!QX186","v":0},"[kN/m]","Facteur",1.05]
[null,null,null,"Admissible",{"$f":"IF(Calculs!QK46<0.1,Calculs!QJ217,\"\")","v":0.05}]
[null,null,null,null,null,null,null,null,null,null,"Contôle:",null,"1.05*FA",{"$f":"Calculs!QX188","v":0},"[kN/m]",{"$f":"Calculs!QZ188","v":"OK"}]
[null,null,null,null,null,null,null,null,null,null,null,null,"0.9*Somme",{"$f":"Calculs!QX189","v":37.738907970501423},"[kN/m]"]
[null,"Poussée d'Archimède"]
[null,"Actions stabilisant",null,"G + G' + Gsp",{"$f":"Calculs!QI183","v":19.665280423991895},"[kN/m]",null,null,null,null,"Sécurité structurale"]
[null,null,null,"GR",{"$f":"Calculs!QI184","v":0.16769821584862318},"[kN/m]",null,null,null,null,{"$f":"IF(N138=\"\",\"\",\"Hypothèse: 5% de la charge de dimensionnement est reprise par le tuyau GF-UP et une déformation initiale\")","v":""}]
[null,null,null,"Somme",{"$f":"Calculs!QI185","v":19.832978639840519},"[kN/m]","Facteur",0.9,null,null,{"$f":"IF(N138=\"\",\"\",\"de 0.02m est admis [SIA190:2017;4.2.11.1.2].\")","v":""}]
[null,"Actions déstabilisant",null,"FA",{"$f":"Calculs!QI186","v":0},"[kN/m]","Facteur",1.05]
[]
[null,"Contôle:",null,"1.05*FA",{"$f":"Calculs!QI188","v":0},"[kN/m]",{"$f":"Calculs!QK188","v":"OK"},null,null,null,null,"Sécurité structurale"]
[null,null,null,"0.9*Somme",{"$f":"Calculs!QI189","v":17.849680775856466},"[kN/m]",null,null,null,null,null,"U4/V4"]
[null,null,null,null,null,null,null,null,null,null,null,"qds",null,{"$f":"Calculs!QW220","v":""},"[kN/m2]"]
[null,null,null,null,null,null,null,null,null,null,null,"qBl",null,{"$f":"Calculs!QW221","v":""},"[kN/m2]"]
[null,"Sécurité structurale",null,null,null,null,null,null,null,null,null,"pwd",null,{"$f":"Calculs!QW222","v":""},"[kN/m2]"]
[null,null,null,null,null,null,null,null,null,null,null,"pcr",null,{"$f":"Calculs!QW223","v":""},"[kN/m2]"]
[null,null,"Sécurité structurale",null,null,null,null,null,null,null,null,"k",null,{"$f":"Calculs!QW224","v":""},"[-]"]
[null,null,"U1/V1",null,null,null,null,null,null,null,null,"qBl/2*(1-2*pwd/k*pcr)",null,{"$f":"Calculs!QW225","v":""},"[kN/m2]"]
[null,null,"qds",null,{"$f":"IF(Calculs!QK46<0.1,Calculs!QJ220,\"\")","v":117.79432738853504},"[kN/m2]",{"$f":"IF(Calculs!QK46<0.1,\"\",\"Tuyau rigide. Limite de la formule de la sécurité structurale est dépassée!\")","v":""}]
[null,null,"qBl",null,{"$f":"IF(Calculs!QK46<0.1,Calculs!QJ221,\"\")","v":509.29797606651493},"[kN/m2]",null,null,null,null,null,"Résultat",null,{"$f":"Calculs!QW227","v":""}]
[null,null,"pwd",null,{"$f":"IF(Calculs!QK46<0.1,Calculs!QJ222,\"\")","v":0},"[kN/m2]"]
[null,null,"pcr",null,{"$f":"IF(Calculs!QK46<0.1,Calculs!QJ223,\"\")","v":151.67240514156558},"[kN/m2]",null,null,null,null,{"$f":"IF(N138=\"\",\"Vérification de la sécurité structurale que nécessaire lors de présence d'eau souterraine!\",\"\")","v":"Vérification de la sécurité structurale que nécessaire lors de présence d'eau souterraine!"}]
[null,null,"k",null,{"$f":"IF(Calculs!QK46<0.1,Calculs!QJ224,\"\")","v":1},"[-]"]
[null,null,"qBl/2*(1-2*pwd/k*pcr)",null,{"$f":"IF(Calculs!QK46<0.1,Calculs!QJ225,\"\")","v":254.64898803325747},"[kN/m2]"]
[]
[null,null,"Résultat",null,{"$f":"IF(Calculs!QK46<0.1,Calculs!QJ227,\"\")","v":"OK"}]
[]
[]
[]
[]
[]
[]
[null,"Aptitude au service",null,null,null,null,null,null,null,null,"Aptitude au service"]
[]
[null,null,null,null,null,null,null,null,null,null,null,null,"σRbz,adm",{"$f":"contrainte","v":-0.3},"N/mm2"]
[null,null,null,"εRbz,adm",{"$f":"Calculs!QN418","v":0.53159235668789817},"%"]
[null,null,null,null,null,null,null,null,null,null,null,null,null,"Convention des contraintes:"]
[null,null,null,null,"Convention des contraintes:",null,null,null,null,null,null,null,null,"Traction négatif -"]
[null,null,null,null,"Traction négatif -",null,null,null,null,null,null,null,null,"Compression positif +"]
[null,null,null,null,"Compression positif +"]
[]
[null,"Contraintes Profil d'enrobage U1/V1",null,null,null,null,null,null,null,null,"Contraintes Profil d'enrobage U4/V4"]
[null,"Contraintes en [N/mm2]",null,"0°","45°","90°","135°","180°",null,null,"Contraintes en [N/mm2]",null,"0°","45°","90°","135°","180°"]
[null,"À long terme",null,null,null,null,null,null,null,null,"Effort normal",null,{"$f":"Calculs!QT335","v":0.1157119462712678},{"$f":"Calculs!QU335","v":0.17760036716002678},{"$f":"Calculs!QV335","v":0.24259353319116875},{"$f":"Calculs!QW335","v":0.1816826887513317},{"$f":"Calculs!QX335","v":0.11766737883990096}]
[null,"Effort normal",null,{"$f":"Calculs!QG390","v":0.58915838821540478},{"$f":"Calculs!QH390","v":0.85568055775533391},{"$f":"Calculs!QI390","v":0.97619246520000014},{"$f":"Calculs!QJ390","v":0.85753801431135679},{"$f":"Calculs!QK390","v":0.59004811014525083},null,null,"Moment extérieur",null,{"$f":"Calculs!QT336","v":0.23333875465708029},{"$f":"Calculs!QU336","v":1.4746618006390611E-3},{"$f":"Calculs!QV336","v":-0.23543899621255998},{"$f":"Calculs!QW336","v":-1.4710514949786554E-3},{"$f":"Calculs!QX336","v":0.2375443664418572}]
[null,"Moment extérieur",null,{"$f":"Calculs!QG391","v":6.4908803561453148},{"$f":"Calculs!QH391","v":-0.85794051575175523},{"$f":"Calculs!QI391","v":-4.7618033384265059},{"$f":"Calculs!QJ391","v":-0.87481969133086068},{"$f":"Calculs!QK391","v":6.5149788520302998},null,null,"Moment intérieur",null,{"$f":"Calculs!QT337","v":-0.35811883736140132},{"$f":"Calculs!QU337","v":-2.2632509988417676E-3},{"$f":"Calculs!QV337","v":0.36134220274334072},{"$f":"Calculs!QW337","v":2.257710048443177E-3},{"$f":"Calculs!QX337","v":-0.3645734394054172}]
[null,"Moment intérieur",null,{"$f":"Calculs!QG392","v":-6.4908803561453148},{"$f":"Calculs!QH392","v":0.85794051575175523},{"$f":"Calculs!QI392","v":4.7618033384265059},{"$f":"Calculs!QJ392","v":0.87481969133086068},{"$f":"Calculs!QK392","v":-6.5149788520302998}]
[null,null,null,null,null,null,null,null,null,null,"Contraintes extérieur",null,{"$f":"Calculs!QT339","v":0.34905070092834811},{"$f":"Calculs!QU339","v":0.17907502896066585},{"$f":"Calculs!QV339","v":7.1545369786087665E-3},{"$f":"Calculs!QW339","v":0.18021163725635306},{"$f":"Calculs!QX339","v":0.35521174528175814}]
[null,"Contraintes extérieur",null,{"$f":"Calculs!QG394","v":7.0800387443607198},{"$f":"Calculs!QH394","v":-2.2599579964213135E-3},{"$f":"Calculs!QI394","v":-3.7856108732265059},{"$f":"Calculs!QJ394","v":-1.7281677019503894E-2},{"$f":"Calculs!QK394","v":7.1050269621755504},null,null,"Conraintes intérieur",null,{"$f":"Calculs!QT340","v":-0.24240689109013352},{"$f":"Calculs!QU340","v":0.17533711616118502},{"$f":"Calculs!QV340","v":0.60393573593450944},{"$f":"Calculs!QW340","v":0.18394039879977489},{"$f":"Calculs!QX340","v":-0.24690606056551623}]
[null,"Conraintes intérieur",null,{"$f":"Calculs!QG395","v":-5.9017219679299098},{"$f":"Calculs!QH395","v":1.7136210735070891},{"$f":"Calculs!QI395","v":5.7379958036265064},{"$f":"Calculs!QJ395","v":1.7323577056422175},{"$f":"Calculs!QK395","v":-5.9249307418850492}]
[null,null,null,null,null,null,null,null,null,null,"Contraintes extérieures",null,{"$f":"Calculs!QT342","v":"OK"},{"$f":"Calculs!QU342","v":"OK"},{"$f":"Calculs!QV342","v":"OK"},{"$f":"Calculs!QW342","v":"OK"},{"$f":"Calculs!QX342","v":"OK"}]
[null,"Déformations extérieures",null,{"$f":"Calculs!QG399","v":0.23821848429365763},{"$f":"Calculs!QH399","v":-7.6039664176078917E-5},{"$f":"Calculs!QI399","v":-0.12737253522290359},{"$f":"Calculs!QJ399","v":-5.8146784986421319E-4},{"$f":"Calculs!QK399","v":0.23905925022559407},null,null,"Conraintes intérieures",null,{"$f":"Calculs!QT343","v":"OK"},{"$f":"Calculs!QU343","v":"OK"},{"$f":"Calculs!QV343","v":"OK"},{"$f":"Calculs!QW343","v":"OK"},{"$f":"Calculs!QX343","v":"OK"}]
[null,"Déformations intérieures",null,{"$f":"Calculs!QG400","v":-0.19857225541917409},{"$f":"Calculs!QH400","v":5.7657341933287455E-2},{"$f":"Calculs!QI400","v":0.19306344394118086},{"$f":"Calculs!QJ400","v":5.8287763922369541E-2},{"$f":"Calculs!QK400","v":-0.19935314930316744}]
[]
[null,"À court terme"]
[null,"Effort normal",null,{"$f":"Calculs!QG404","v":3.7995891155999995E-2},{"$f":"Calculs!QH404","v":2.6858546999999993E-2},{"$f":"Calculs!QI404","v":0},{"$f":"Calculs!QJ404","v":-0.10102394811599999},{"$f":"Calculs!QK404","v":-3.7995891155999995E-2}]
[null,"Moment extérieur",null,{"$f":"Calculs!QG405","v":3.6216437306335019},{"$f":"Calculs!QH405","v":-0.2528760802658494},{"$f":"Calculs!QI405","v":-3.1134600693300136},{"$f":"Calculs!QJ405","v":-0.2528760802658494},{"$f":"Calculs!QK405","v":3.621643730633505}]
[null,"Moment intérieur",null,{"$f":"Calculs!QG406","v":-3.6216437306335019},{"$f":"Calculs!QH406","v":0.2528760802658494},{"$f":"Calculs!QI406","v":3.1134600693300136},{"$f":"Calculs!QJ406","v":0.2528760802658494},{"$f":"Calculs!QK406","v":-3.621643730633505}]
[]
[null,"Contraintes extérieur",null,{"$f":"Calculs!QG408","v":3.659639621789502},{"$f":"Calculs!QH408","v":-0.22601753326584942},{"$f":"Calculs!QI408","v":-3.1134600693300136},{"$f":"Calculs!QJ408","v":-0.35390002838184942},{"$f":"Calculs!QK408","v":3.5836478394775049}]
[null,"Conraintes intérieur",null,{"$f":"Calculs!QG409","v":-3.5836478394775018},{"$f":"Calculs!QH409","v":0.27973462726584941},{"$f":"Calculs!QI409","v":3.1134600693300136},{"$f":"Calculs!QJ409","v":0.15185213214984941},{"$f":"Calculs!QK409","v":-3.6596396217895051}]
[]
[null,"Déformations extérieures",null,{"$f":"Calculs!QG413","v":6.1567022105500267E-2},{"$f":"Calculs!QH413","v":-3.8023488389288128E-3},{"$f":"Calculs!QI413","v":-5.2378508466170204E-2},{"$f":"Calculs!QJ413","v":-5.953747669796036E-3},{"$f":"Calculs!QK413","v":6.0288593564727357E-2}]
[null,"Déformations intérieures",null,{"$f":"Calculs!QG414","v":-6.0288593564727301E-2},{"$f":"Calculs!QH414","v":4.7060447914073437E-3},{"$f":"Calculs!QI414","v":5.2378508466170204E-2},{"$f":"Calculs!QJ414","v":2.5546459605401209E-3},{"$f":"Calculs!QK414","v":-6.1567022105500323E-2}]
[]
[null,"Somme déformations ext.",null,{"$f":"D170+D181","v":0.29978550639915791},{"$f":"E170+E181","v":-3.8783885031048919E-3},-0.1797510436890738,-6.5352155196602493E-3,0.29934784379032142]
[null,"Somme déformations int.",null,{"$f":"D171+D182","v":-0.25886084898390138},6.2363386724694797E-2,0.24544195240735106,6.0842409882909662E-2,-0.26092017140866774]
[]
[null,"Déformations extérieures",null,{"$f":"Calculs!QG420","v":"OK"},{"$f":"Calculs!QH420","v":"OK"},{"$f":"Calculs!QI420","v":"OK"},{"$f":"Calculs!QJ420","v":"OK"},{"$f":"Calculs!QK420","v":"OK"}]
[null,"Déformations intérieures",null,{"$f":"Calculs!QG421","v":"OK"},{"$f":"Calculs!QH421","v":"OK"},{"$f":"Calculs!QI421","v":"OK"},{"$f":"Calculs!QJ421","v":"OK"},{"$f":"Calculs!QK421","v":"OK"}]

{"sheet":"GF-UP SN16000 (D)","index":45,"n_rows":188,"n_cols":17,"rows_kept":188,"cut":false,"hidden":false,"merged":[[184,1,184,2],[186,1,186,2],[187,1,187,2],[177,1,177,2],[178,1,178,2],[180,1,180,2],[181,1,181,2],[183,1,183,2],[168,10,168,11],[169,1,169,2],[169,10,169,11],[170,1,170,2],[172,1,172,7],[164,10,164,11],[165,10,165,11],[166,1,166,2],[166,10,166,11],[167,1,167,2],[167,10,167,11],[159,1,159,7],[159,10,159,16],[160,1,160,2],[160,10,160,11],[161,1,161,7],[143,2,143,3],[135,2,135,5],[135,11,135,12],[136,2,136,3],[136,6,138,7],[136,11,136,14],[137,2,137,3],[137,11,137,12],[138,2,138,3],[139,2,139,3],[140,2,140,3],[141,2,141,3],[142,2,142,5],[139,10,139,15],[130,11,130,12],[131,11,131,12],[132,11,132,12],[133,11,133,12],[134,2,134,5],[134,11,134,12],[127,1,127,2],[128,1,128,2],[128,6,129,7],[128,11,128,14],[129,1,129,2],[129,11,129,14],[120,15,121,16],[121,10,121,11],[122,1,122,7],[123,1,123,2],[126,1,126,2],[124,1,125,2],[120,10,120,11],[115,5,117,5],[115,6,117,7],[115,10,115,11],[116,10,117,11],[118,5,119,5],[118,10,118,11],[119,10,119,11],[108,1,108,3],[108,11,108,12],[109,1,109,3],[109,11,109,12],[110,1,110,3],[105,11,105,12],[106,1,106,3],[106,11,106,12],[107,1,107,3],[107,11,107,12],[8,0,9,8],[8,9,9,17],[57,7,58,7],[11,4,11,6],[25,13,25,15],[64,16,65,16],[155,3,155,5],[156,3,156,5],[157,3,157,5],[154,12,154,14],[155,12,155,14],[156,12,156,14],[70,0,70,8],[77,9,77,17],[103,1,103,6],[103,11,103,15],[104,1,104,6],[104,11,104,15],[114,3,114,5],[114,10,114,16],[105,1,105,3]]}
[null,"Projekt:",{"$f":"Accueil!P15","v":"VSA 2026"},null,null,"Ingenieur/in:",null,{"$f":"Accueil!AI15","v":0},null,null,"Projekt:",{"$f":"Accueil!$P$15","v":"VSA 2026"},null,null,"Ingenieur/in:",null,{"$f":"Accueil!$AI$15","v":0}]
[]
[null,"N°:",{"$f":"Accueil!P17","v":0},null,null,"Verantwortlicher:",null,{"$f":"Accueil!AI17","v":0},null,null,"N°:",{"$f":"Accueil!P17","v":0},null,null,"Verantwortlicher:",null,{"$f":"Accueil!$AI$17","v":0}]
[]
[null,"Ort:",{"$f":"Accueil!P21","v":0},null,null,"Bauherr:",null,{"$f":"Accueil!AI19","v":0},null,null,"Ort:",{"$f":"Accueil!$P$21","v":0},null,null,"Bauherr:",null,{"$f":"Accueil!$AI$19","v":0}]
[null,null,{"$f":"Accueil!P23","v":0},null,null,null,null,null,null,null,null,{"$f":"Accueil!$P$23","v":0}]
[]
[]
["Daten Normalverlegeprofil U1/V1",null,null,null,null,null,null,null,null,"Daten Normalverlegeprofil U4/V4"]
[]
[]
[null,"GF-UP Rohr",null,null,{"$f":"IF(Données!$AE$6>F14,\"di max.< di Eingabe!\",\"\")","v":""},null,null,null,null,null,"\"Fiktives\" Betonrohr"]
[]
[null,"Innendurchmesser",null,null,"di",{"$f":"Calculs!QJ35","v":304},"mm",null,null,null,"Innendurchmesser",null,null,"di",{"$f":"Calculs!QR34/1000","v":0.32400000000000001},"m"]
[null,"Radius",null,null,"rm",{"$f":"Calculs!QN35","v":157},"mm",null,null,null,"Radius",null,null,"rm",{"$f":"Calculs!QU34/1000","v":0.23699999999999999},"m"]
[null,"Wanddicke",null,null,"e",{"$f":"Calculs!QM35","v":10},"mm",null,null,null,"Wanddicke",null,null,"e",{"$f":"Calculs!QT34/1000","v":0.15},"m"]
[null,"Querschnittsfläche",null,null,"A",{"$f":"Calculs!QJ384","v":0.01},"m2",null,null,null,"Querschnittsfläche",null,null,"A",{"$f":"Calculs!QW322","v":0.15},"m2"]
[null,"Widerstandsmoment",null,null,"W",{"$f":"Calculs!QJ385","v":1.6666666666666667E-5},"m3",null,null,null,"Widerstandsmoment",null,null,"W",{"$f":"Calculs!QW323","v":3.7499999999999999E-3},"m3"]
[null,"E-Modul",null,null,"ER,kurz",{"$f":"Calculs!QK41","v":5944.155647999999},"N/mm2",null,null,null,"E-Modul",null,null,"ER,kurz",{"$f":"Calculs!QS36","v":20000},"N/mm2"]
[]
[null,"Systemsteifigkeit",null,null,"SFkurz",{"$f":"Calculs!QK46","v":4.2666666666666665E-2},{"$f":"Calculs!QL46","v":"souple"},null,null,null,"Systemsteifigkeit",null,null,"SFkurz",{"$f":"Calculs!QR46","v":140.84979980172858},{"$f":"Calculs!QS46","v":"rigide"}]
[null,"Lastvergrösserungsfaktor",null,null,"f",{"$f":"Calculs!QM50","v":1.0318471337579618},null,null,null,null,"Lastvergrösserungsfaktor",null,null,"f",{"$f":"Calculs!QT50","v":1.3164556962025316}]
[null,"Krümmungseinfluss",null,null,"αka",{"$f":"Calculs!QG385","v":1},null,null,null,null,"Krümmungseinfluss",null,null,"αka",{"$f":"Calculs!QT323","v":0.78902953586497893}]
[null,null,null,null,"αki",{"$f":"Calculs!QG384","v":1},null,null,null,null,null,null,null,"αki",{"$f":"Calculs!QT322","v":1.2109704641350212}]
[]
[null,"Terrain",null,null,null,null,null,null,null,null,"GF-UP Rohr",null,null,{"$f":"IF(Données!$AE$6>O28,\"di max.< di Eingabe!\",\"\")","v":""}]
[]
[null,"Bodenqualität",null,null,null,{"$f":"Données!AE30","v":"Sol stable"},null,null,null,null,"Innendurchmesser",null,null,"di",{"$f":"Calculs!QJ35","v":304},"mm"]
[null,"Feuchtraumgewicht des Baugrunds",null,null,"γ",{"$f":"Données!AE32","v":20},"kN/m3",null,null,null,"Radius",null,null,"rm",{"$f":"Calculs!QN35","v":157},"mm"]
[null,"Raumgewicht unter Auftrieb",null,null,"γ'",{"$f":"Données!AE34","v":11},"kN/m3",null,null,null,"Wanddicke",null,null,"e",{"$f":"Calculs!QM35","v":10},"mm"]
[null,"Verformungsmodul des Bodens",null,null,"EB",{"$f":"Données!AE38","v":5},"N/mm2"]
[null,"Erddruckbeiwert",null,null,"K",{"$f":"Données!AE40","v":0.5},null,null,null,null,"Terrain"]
[null,"Setzungs-Durchbiegungsziffer",null,null,"C2",{"$f":"Données!AE42","v":0.5}]
[null,"Hüllbeton",null,null,null,{"$f":"Données!AE50","v":"C16/20"},null,null,null,null,"Bodenqualität",null,null,null,{"$f":"Données!AE30","v":"Sol stable"}]
[null,"Lastminderung",null,null,"λmin",{"$f":"Données!AE44","v":"NON"},null,null,null,null,"Feuchtraumgewicht des Baugrunds",null,null,"γ",{"$f":"Données!AE32","v":20},"kN/m3"]
[null,null,null,null,null,null,null,null,null,null,"Raumgewicht unter Auftrieb",null,null,"γ'",{"$f":"Données!AE34","v":11},"kN/m3"]
[null,"Wasser",null,null,null,null,null,null,null,null,"Verformungsmodul des Bodens",null,null,"EB",{"$f":"Données!AE38","v":5},"N/mm2"]
[null,null,null,null,null,null,null,null,null,null,"Erddruckbeiwert",null,null,"K",{"$f":"Données!AE40","v":0.5}]
[null,"Grundwasser",null,null,null,{"$f":"Données!AE60","v":"Sans eau souterraine"},null,null,null,null,"Setzungs-Durchbiegungsziffer",null,null,"C2",{"$f":"Données!AE42","v":0.5}]
[null,"Grwundwasserspiegel",null,null,"hw",{"$f":"Données!AE62","v":1.3},"m",null,null,null,"Hüllbeton",null,null,null,{"$f":"Données!AE50","v":"C16/20"}]
[null,"Wasser im Rohr",null,null,null,{"$f":"Données!AE64","v":"Tuyau vide"},null,null,null,null,"Lastminderung",null,null,"λmin",{"$f":"Données!AE44","v":"NON"}]
[null,"Druck",null,null,"pEi",{"$f":"Données!AE66","v":10},"kN/m2"]
[null,null,null,null,null,null,null,null,null,null,"Wasser"]
[null,"Graben"]
[null,null,null,null,null,null,null,null,null,null,"Grundwasser",null,null,null,{"$f":"Données!AE60","v":"Sans eau souterraine"}]
[null,"Überdeckungshöhe",null,null,"H",{"$f":"Données!AE52","v":3},"m",null,null,null,"Grwundwasserspiegel",null,null,"hw",{"$f":"Données!AE62","v":1.3},"m"]
[null,"Grabentyp",null,null,null,{"$f":"Données!AE56","v":"Verticale (U)"},null,null,null,null,"Wasser im Rohr",null,null,null,{"$f":"Données!AE64","v":"Tuyau vide"}]
[null,"Grabenbreite",null,null,"B",{"$f":"Données!$AE$54","v":1.5},"m",null,null,null,"Druck",null,null,"pEi",{"$f":"Données!AE66","v":10},"kN/m2"]
[null,"Böschungsneigung",null,null,"β",{"$f":"Données!AE58","v":30},"°"]
[]
[]
[]
[]
[null,"Einwirkungen",null,null,null,null,null,null,null,null,"Graben"]
[]
[null,"Flächenlast",null,null,null,{"$f":"Données!AE8","v":"Pas de charge"},null,null,null,null,"Überdeckungshöhe",null,null,"H",{"$f":"Calculs!QU107","v":2.85},"m"]
[null,null,null,null,"qs",{"$f":"Calculs!QL134","v":0},"kN/m2",null,null,null,"Grabentyp",null,null,null,{"$f":"Données!$AE$56","v":"Verticale (U)"}]
[null,"Verkehr",null,null,null,{"$f":"Données!AE22","v":"Trafic routier"},null,{"$f":"IF(AND(Accueil!AZ15=\"Deutsch\",AND(OR(F58=\"Voie unique (ferroviaire)\",F58=\"Voies multiples (ferroviaire)\",F58=\"Voie étroite (ferroviaire)\",F58=\"Eingleisig (Bahnverkehr)\",F58=\"Mehrgleisig (Bahnverkehr)\",F58=\"Schmalspur (Bahnverkehr)\"),F46<2)),\"H zu klein!\",\"\")","v":""},null,null,"Grabenbreite",null,null,"B",{"$f":"Données!AE54","v":1.5},"m"]
[null,"Beiwert Strass- und Bahnvekehrslasten",null,null,"α",{"$f":"Calculs!QH104","v":0.9},null,null,null,null,"Böschungsneigung",null,null,"β",{"$f":"Données!AE58","v":30},"°"]
[null,"Dynamischer Beiwert",null,null,"Ψ",{"$f":"Calculs!QI104","v":1}]
[null,"Strassenverkehr und untergeordnete",null,null,"pvtotal",{"$f":"Calculs!QG120","v":24.562000000000001},"kN/m2",null,null,null,"Einwirkungen"]
[null,"Strassen",null,null,"pvRad",{"$f":"Calculs!QH120","v":4.9021999999999997},"kN/m2"]
[null,null,null,null,"∆pv",{"$f":"Calculs!QI120","v":19.659800000000001},"kN/m2",null,null,null,"Flächenlast",null,null,null,{"$f":"Données!AE8","v":"Pas de charge"}]
[null,"Strassenrand",null,null,"pvtotal",{"$f":"Calculs!QJ120","v":0},"kN/m2",null,null,null,null,null,null,"qs",{"$f":"Calculs!QW134","v":0},"kN/m2"]
[null,null,null,null,"pvRad",{"$f":"Calculs!QK120","v":0},"kN/m2",null,null,null,"Verkehr",null,null,null,{"$f":"Données!AE22","v":"Trafic routier"},null,{"$f":"IF(AND(Accueil!AZ15=\"Deutsch\",AND(OR(O65=\"Voie unique (ferroviaire)\",O65=\"Voies multiples (ferroviaire)\",O65=\"Voie étroite (ferroviaire)\",O65=\"Eingleisig (Bahnverkehr)\",O65=\"Mehrgleisig (Bahnverkehr)\",O65=\"Schmalspur (Bahnverkehr)\"),O56<2)),\"H zu klein!\",IF(AND(Accueil!AZ15=\"Deutsch\",AND(OR(O65=\"Trafic routier\",O65=\"Bord de route\",O65=\"Route d'importance secondaire\",O65=\"Strassenverkehr\",O65=\"Strassenrand\",O65=\"Untergeordnete Strasse\"),O56<1)),\"H zu klein!\",\"\"))","v":""}]
[null,null,null,null,"∆pv",{"$f":"Calculs!QL120","v":0},"kN/m2",null,null,null,"Beiwert Strass- und Bahnvekehrslasten",null,null,"α",{"$f":"Calculs!QT104","v":0.9}]
[null,"Bahnverkehr eingleisig",null,null,"peingleisig",{"$f":"Calculs!QN120","v":0},"kN/m2",null,null,null,"Dynamischer Beiwert",null,null,"Ψ",{"$f":"Calculs!QU104","v":1}]
[null,"Bahnverkehr mehrgleisig",null,null,"pmehrgleisig",{"$f":"Calculs!QO120","v":0},"kN/m2",null,null,null,"Strassenverkehr und untergeordnete",null,null,"pvtotal",{"$f":"Calculs!QS120","v":26.200299999999999},"kN/m2"]
[null,"Bahnverkehr schmalspur",null,null,"pschmal",{"$f":"Calculs!QP120","v":0},"kN/m2",null,null,null,"Strassen",null,null,"pvRad",{"$f":"Calculs!QT120","v":5.4489399999999995},"kN/m2"]
[null,null,null,null,null,null,null,null,null,null,null,null,null,"∆pv",{"$f":"Calculs!QU120","v":20.751359999999998},"kN/m2"]
["Resultate",null,null,null,null,null,null,null,null,null,"Strassenrand",null,null,"pvtotal",{"$f":"Calculs!QV120","v":0},"kN/m2"]
[null,null,null,null,null,null,null,null,null,null,null,null,null,"pvRad",{"$f":"Calculs!QW120","v":0},"kN/m2"]
[null,null,null,null,null,null,null,null,null,null,null,null,null,"∆pv",{"$f":"Calculs!QX120","v":0},"kN/m2"]
[null,null,null,null,null,null,null,null,null,null,"Bahnverkehr eingleisig",null,null,"peingleisig",{"$f":"Calculs!QZ120","v":0},"kN/m2"]
[null,null,null,null,null,null,null,null,null,null,"Bahnverkehr mehrgleisig",null,null,"pmehrgleisig",{"$f":"Calculs!RA120","v":0},"kN/m2"]
[null,null,null,null,null,null,null,null,null,null,"Bahnverkehr schmalspur",null,null,"pschmal",{"$f":"Calculs!RB120","v":0},"kN/m2"]
[]
[null,null,null,null,null,null,null,null,null,"Resultate"]
[]
[]
[]
[]
[]
[]
[]
[]
[]
[]
[]
[]
[]
[]
[]
[]
[]
[]
[]
[]
[]
[]
[]
[null,"Beanspruchungen",null,null,null,null,null,null,null,null,"Beanspruchungen"]
[]
[null,"Beanspruchungen",null,null,null,null,null,null,null,null,null,"Beanspruchungen"]
[null,"U1/V1",null,null,null,null,null,null,null,null,null,"U4/V4"]
[null,"Langzeit",null,null,"qs1",{"$f":"Calculs!QK204","v":61.910828025477706},"[kN/m2]",null,null,null,null,"Langzeit",null,"qs1",{"$f":"Calculs!RB204","v":116.66605285517008},"[kN/m2]"]
[null,"Kurzzeit",null,null,"qs2",{"$f":"Calculs!QK205","v":22.809806369426752},"[kN/m2]",null,null,null,null,"Kurzzeit",null,"qs2",{"$f":"Calculs!RB205","v":31.042380759493668},"[kN/m2]"]
[null,"Effektive Last auf Scheitel",null,null,"qser",{"$f":"Calculs!QK206","v":84.720634394904465},"[kN/m2]",null,null,null,null,"Effektive Last auf Scheitel",null,"qser",{"$f":"Calculs!RB206","v":147.70843361466376},"[kN/m2]"]
[null,"Erddruck langzeit",null,null,"qhlang",{"$f":"Calculs!QK207","v":56.328704187114965},"[kN/m2]",null,null,null,null,"Erddruck",null,"qh",{"$f":"Calculs!RB207","v":73.854216807331881},"[kN/m2]"]
[null,"Erddruck kurzzeit",null,null,"qhkurz",{"$f":"Calculs!QK208","v":16.440834461080325},"[kN/m2]",null,null,null,null,"Bemessungswert",null,"qds",{"$f":"Calculs!RB208","v":204.06274249372012},"[kN/m2]"]
[null,"Bemessungswert",null,null,"qds",{"$f":"Calculs!QK211","v":117.79432738853504},"[kN/m2]"]
[null,null,null,null,null,null,null,null,null,null,"Nachweise"]
[null,"Nachweise"]
[]
[null,null,null,"Verformungsnachweis (IOWA)",null,null,null,null,null,null,"Auftrieb"]
[null,null,null,null,1,null,{"$f":"IF(Calculs!QK46<0.1,\"\",\"Steifes Rohr. Verformungsnachweis entfällt!\")","v":""},null,null,null,"Stabilisierend",null,"G + G' + Gsp",{"$f":"Calculs!QX183","v":36.403608047289552},"[kN/m]"]
[null,null,null,"x/d kurz",{"$f":"IF(Calculs!QK46<0.1,Calculs!QJ214,\"\")","v":9.257226610968651E-3},null,null,null,null,null,null,null,"GR",{"$f":"Calculs!QX184","v":5.5285119199342461},"[kN/m]"]
[null,null,null,"x/d lang",{"$f":"IF(Calculs!QK46<0.1,Calculs!QJ215,\"\")","v":3.171661271797014E-2},null,null,null,null,null,null,null,"Summe",{"$f":"Calculs!QX185","v":41.932119967223798},"[kN/m]","Faktor",0.9]
[null,null,null,"Summe",{"$f":"IF(Calculs!QK46<0.1,Calculs!QJ216,\"\")","v":4.0973839328938791E-2},{"$f":"IF(Calculs!QK46<0.1,Calculs!QK216,\"\")","v":"OK"},null,null,null,null,"Destabilisierend",null,"FA",{"$f":"Calculs!QX186","v":0},"[kN/m]","Faktor",1.05]
[null,null,null,"Zugelassen",{"$f":"IF(Calculs!QK46<0.1,Calculs!QJ217,\"\")","v":0.05}]
[null,null,null,null,null,null,null,null,null,null,"Kontrolle:",null,"1.05*FA",{"$f":"Calculs!QX188","v":0},"[kN/m]",{"$f":"Calculs!QZ188","v":"OK"}]
[null,null,null,null,null,null,null,null,null,null,null,null,"0.9*Summe",{"$f":"Calculs!QX189","v":37.738907970501423},"[kN/m]"]
[null,"Auftrieb"]
[null,"Stabilisierend",null,"G + G' + Gsp",{"$f":"Calculs!QI183","v":19.665280423991895},"[kN/m]",null,null,null,null,"Tragfähigkeit"]
[null,null,null,"GR",{"$f":"Calculs!QI184","v":0.16769821584862318},"[kN/m]",null,null,null,null,{"$f":"IF(N138=\"\",\"\",\"Annahme: 5% des Bemessungswerts werden durch das GF-UP Rohr aufgenommen und eine initiale\")","v":""}]
[null,null,null,"Summe",{"$f":"Calculs!QI185","v":19.832978639840519},"[kN/m]","Faktor",0.9,null,null,{"$f":"IF(N138=\"\",\"\",\"Deformation von 0.02m [SIA190:2017;4.2.11.1.2].\")","v":""}]
[null,"Destabilisierend",null,"FA",{"$f":"Calculs!QI186","v":0},"[kN/m]","Faktor",1.05]
[]
[null,"Kontrolle:",null,"1.05*FA",{"$f":"Calculs!QI188","v":0},"[kN/m]",{"$f":"Calculs!QK188","v":"OK"},null,null,null,null,"Tragfähigkeit"]
[null,null,null,"0.9*Summe",{"$f":"Calculs!QI189","v":17.849680775856466},"[kN/m]",null,null,null,null,null,"U4/V4"]
[null,null,null,null,null,null,null,null,null,null,null,"qds",null,{"$f":"Calculs!QW220","v":""},"[kN/m2]"]
[null,null,null,null,null,null,null,null,null,null,null,"qBl",null,{"$f":"Calculs!QW221","v":""},"[kN/m2]"]
[null,"Tragfähigkeit",null,null,null,null,null,null,null,null,null,"pwd",null,{"$f":"Calculs!QW222","v":""},"[kN/m2]"]
[null,null,null,null,null,null,null,null,null,null,null,"pcr",null,{"$f":"Calculs!QW223","v":""},"[kN/m2]"]
[null,null,"Tragfähigkeit",null,null,null,null,null,null,null,null,"k",null,{"$f":"Calculs!QW224","v":""},"[-]"]
[null,null,"U1/V1",null,null,null,null,null,null,null,null,"qBl/2*(1-2*pwd/k*pcr)",null,{"$f":"Calculs!QW225","v":""},"[kN/m2]"]
[null,null,"qds",null,{"$f":"IF(Calculs!QK46<0.1,Calculs!QJ220,\"\")","v":117.79432738853504},"[kN/m2]",{"$f":"IF(Calculs!QK46<0.1,\"\",\"Steifes Rohr. Limite der Tragfähigkeitsformel überschritten!\")","v":""}]
[null,null,"qBl",null,{"$f":"IF(Calculs!QK46<0.1,Calculs!QJ221,\"\")","v":509.29797606651493},"[kN/m2]",null,null,null,null,null,"Resultat",null,{"$f":"Calculs!QW227","v":""}]
[null,null,"pwd",null,{"$f":"IF(Calculs!QK46<0.1,Calculs!QJ222,\"\")","v":0},"[kN/m2]"]
[null,null,"pcr",null,{"$f":"IF(Calculs!QK46<0.1,Calculs!QJ223,\"\")","v":151.67240514156558},"[kN/m2]",null,null,null,null,{"$f":"IF(N138=\"\",\"Tragfähigkeitsnachweis nur nötig bei Grundwasser!\",\"\")","v":"Tragfähigkeitsnachweis nur nötig bei Grundwasser!"}]
[null,null,"k",null,{"$f":"IF(Calculs!QK46<0.1,Calculs!QJ224,\"\")","v":1},"[-]"]
[null,null,"qBl/2*(1-2*pwd/k*pcr)",null,{"$f":"IF(Calculs!QK46<0.1,Calculs!QJ225,\"\")","v":254.64898803325747},"[kN/m2]"]
[]
[null,null,"Resultat",null,{"$f":"IF(Calculs!QK46<0.1,Calculs!QJ227,\"\")","v":"OK"}]
[]
[]
[]
[]
[]
[]
[null,"Gebrauchstauglichkeit",null,null,null,null,null,null,null,null,"Gebrauchstauglichkeit"]
[]
[null,null,null,null,null,null,null,null,null,null,null,null,"σRbz,adm",{"$f":"contrainte","v":-0.3},"N/mm2"]
[null,null,null,"εRbz,adm",{"$f":"Calculs!QN418","v":0.53159235668789817},"%"]
[null,null,null,null,null,null,null,null,null,null,null,null,"Spannungskonventionen:"]
[null,null,null,"Spannungskonventionen:",null,null,null,null,null,null,null,null,"Zug negatif -"]
[null,null,null,"Zug negatif -",null,null,null,null,null,null,null,null,"Druck positif +"]
[null,null,null,"Druck positif +"]
[]
[null,"Spannungen Verlegeprofil U1/V1",null,null,null,null,null,null,null,null,"Spannungen Verlegeprofil U4/V4"]
[null,"Spannungen in [N/mm2]",null,"0°","45°","90°","135°","180°",null,null,"Spannungen in [N/mm2]",null,"0°","45°","90°","135°","180°"]
[null,"Langzeit",null,null,null,null,null,null,null,null,"Durch die Normalkraft",null,{"$f":"Calculs!QT335","v":0.1157119462712678},{"$f":"Calculs!QU335","v":0.17760036716002678},{"$f":"Calculs!QV335","v":0.24259353319116875},{"$f":"Calculs!QW335","v":0.1816826887513317},{"$f":"Calculs!QX335","v":0.11766737883990096}]
[null,"Durch die Normalkraft",null,{"$f":"Calculs!QG390","v":0.58915838821540478},{"$f":"Calculs!QH390","v":0.85568055775533391},{"$f":"Calculs!QI390","v":0.97619246520000014},{"$f":"Calculs!QJ390","v":0.85753801431135679},{"$f":"Calculs!QK390","v":0.59004811014525083},null,null,"Durch das Moment aussen",null,{"$f":"Calculs!QT336","v":0.23333875465708029},{"$f":"Calculs!QU336","v":1.4746618006390611E-3},{"$f":"Calculs!QV336","v":-0.23543899621255998},{"$f":"Calculs!QW336","v":-1.4710514949786554E-3},{"$f":"Calculs!QX336","v":0.2375443664418572}]
[null,"Durch das Moment aussen",null,{"$f":"Calculs!QG391","v":6.4908803561453148},{"$f":"Calculs!QH391","v":-0.85794051575175523},{"$f":"Calculs!QI391","v":-4.7618033384265059},{"$f":"Calculs!QJ391","v":-0.87481969133086068},{"$f":"Calculs!QK391","v":6.5149788520302998},null,null,"Durch das Moment innen",null,{"$f":"Calculs!QT337","v":-0.35811883736140132},{"$f":"Calculs!QU337","v":-2.2632509988417676E-3},{"$f":"Calculs!QV337","v":0.36134220274334072},{"$f":"Calculs!QW337","v":2.257710048443177E-3},{"$f":"Calculs!QX337","v":-0.3645734394054172}]
[null,"Durch das Moment innen",null,{"$f":"Calculs!QG392","v":-6.4908803561453148},{"$f":"Calculs!QH392","v":0.85794051575175523},{"$f":"Calculs!QI392","v":4.7618033384265059},{"$f":"Calculs!QJ392","v":0.87481969133086068},{"$f":"Calculs!QK392","v":-6.5149788520302998}]
[null,null,null,null,null,null,null,null,null,null,"Spannungen aussen",null,{"$f":"Calculs!QT339","v":0.34905070092834811},{"$f":"Calculs!QU339","v":0.17907502896066585},{"$f":"Calculs!QV339","v":7.1545369786087665E-3},{"$f":"Calculs!QW339","v":0.18021163725635306},{"$f":"Calculs!QX339","v":0.35521174528175814}]
[null,"Spannungen aussen",null,{"$f":"Calculs!QG394","v":7.0800387443607198},{"$f":"Calculs!QH394","v":-2.2599579964213135E-3},{"$f":"Calculs!QI394","v":-3.7856108732265059},{"$f":"Calculs!QJ394","v":-1.7281677019503894E-2},{"$f":"Calculs!QK394","v":7.1050269621755504},null,null,"Spannungen innen","Spannungen innen",{"$f":"Calculs!QT340","v":-0.24240689109013352},{"$f":"Calculs!QU340","v":0.17533711616118502},{"$f":"Calculs!QV340","v":0.60393573593450944},{"$f":"Calculs!QW340","v":0.18394039879977489},{"$f":"Calculs!QX340","v":-0.24690606056551623}]
[null,"Spannungen innen","Spannungen innen",{"$f":"Calculs!QG395","v":-5.9017219679299098},{"$f":"Calculs!QH395","v":1.7136210735070891},{"$f":"Calculs!QI395","v":5.7379958036265064},{"$f":"Calculs!QJ395","v":1.7323577056422175},{"$f":"Calculs!QK395","v":-5.9249307418850492}]
[null,null,null,null,null,null,null,null,null,null,"Spannungen aussen",null,{"$f":"Calculs!QT342","v":"OK"},{"$f":"Calculs!QU342","v":"OK"},{"$f":"Calculs!QV342","v":"OK"},{"$f":"Calculs!QW342","v":"OK"},{"$f":"Calculs!QX342","v":"OK"}]
[null,"Deformationen aussen",null,{"$f":"Calculs!QG399","v":0.23821848429365763},{"$f":"Calculs!QH399","v":-7.6039664176078917E-5},{"$f":"Calculs!QI399","v":-0.12737253522290359},{"$f":"Calculs!QJ399","v":-5.8146784986421319E-4},{"$f":"Calculs!QK399","v":0.23905925022559407},null,null,"Spannungen innen","Spannungen innen",{"$f":"Calculs!QT343","v":"OK"},{"$f":"Calculs!QU343","v":"OK"},{"$f":"Calculs!QV343","v":"OK"},{"$f":"Calculs!QW343","v":"OK"},{"$f":"Calculs!QX343","v":"OK"}]
[null,"Deformationen innen",null,{"$f":"Calculs!QG400","v":-0.19857225541917409},{"$f":"Calculs!QH400","v":5.7657341933287455E-2},{"$f":"Calculs!QI400","v":0.19306344394118086},{"$f":"Calculs!QJ400","v":5.8287763922369541E-2},{"$f":"Calculs!QK400","v":-0.19935314930316744}]
[]
[null,"Kurzzeit"]
[null,"Durch die Normalkraft",null,{"$f":"Calculs!QG404","v":3.7995891155999995E-2},{"$f":"Calculs!QH404","v":2.6858546999999993E-2},{"$f":"Calculs!QI404","v":0},{"$f":"Calculs!QJ404","v":-0.10102394811599999},{"$f":"Calculs!QK404","v":-3.7995891155999995E-2}]
[null,"Durch das Moment aussen",null,{"$f":"Calculs!QG405","v":3.6216437306335019},{"$f":"Calculs!QH405","v":-0.2528760802658494},{"$f":"Calculs!QI405","v":-3.1134600693300136},{"$f":"Calculs!QJ405","v":-0.2528760802658494},{"$f":"Calculs!QK405","v":3.621643730633505}]
[null,"Durch das Moment innen",null,{"$f":"Calculs!QG406","v":-3.6216437306335019},{"$f":"Calculs!QH406","v":0.2528760802658494},{"$f":"Calculs!QI406","v":3.1134600693300136},{"$f":"Calculs!QJ406","v":0.2528760802658494},{"$f":"Calculs!QK406","v":-3.621643730633505}]
[]
[null,"Spannungen aussen",null,{"$f":"Calculs!QG408","v":3.659639621789502},{"$f":"Calculs!QH408","v":-0.22601753326584942},{"$f":"Calculs!QI408","v":-3.1134600693300136},{"$f":"Calculs!QJ408","v":-0.35390002838184942},{"$f":"Calculs!QK408","v":3.5836478394775049}]
[null,"Spannungen innen","Spannungen innen",{"$f":"Calculs!QG409","v":-3.5836478394775018},{"$f":"Calculs!QH409","v":0.27973462726584941},{"$f":"Calculs!QI409","v":3.1134600693300136},{"$f":"Calculs!QJ409","v":0.15185213214984941},{"$f":"Calculs!QK409","v":-3.6596396217895051}]
[]
[null,"Deformationen aussen",null,{"$f":"Calculs!QG413","v":6.1567022105500267E-2},{"$f":"Calculs!QH413","v":-3.8023488389288128E-3},{"$f":"Calculs!QI413","v":-5.2378508466170204E-2},{"$f":"Calculs!QJ413","v":-5.953747669796036E-3},{"$f":"Calculs!QK413","v":6.0288593564727357E-2}]
[null,"Deformationen innen",null,{"$f":"Calculs!QG414","v":-6.0288593564727301E-2},{"$f":"Calculs!QH414","v":4.7060447914073437E-3},{"$f":"Calculs!QI414","v":5.2378508466170204E-2},{"$f":"Calculs!QJ414","v":2.5546459605401209E-3},{"$f":"Calculs!QK414","v":-6.1567022105500323E-2}]
[]
[null,"Summe Deformationen aus",null,{"$f":"D170+D181","v":0.29978550639915791},{"$f":"E170+E181","v":-3.8783885031048919E-3},-0.1797510436890738,-6.5352155196602493E-3,0.29934784379032142]
[null,"Summe Deformationen in.",null,{"$f":"D171+D182","v":-0.25886084898390138},6.2363386724694797E-2,0.24544195240735106,6.0842409882909662E-2,-0.26092017140866774]
[]
[null,"Deformationen aussen",null,{"$f":"Calculs!QG420","v":"OK"},{"$f":"Calculs!QH420","v":"OK"},{"$f":"Calculs!QI420","v":"OK"},{"$f":"Calculs!QJ420","v":"OK"},{"$f":"Calculs!QK420","v":"OK"}]
[null,"Deformationen innen",null,{"$f":"Calculs!QG421","v":"OK"},{"$f":"Calculs!QH421","v":"OK"},{"$f":"Calculs!QI421","v":"OK"},{"$f":"Calculs!QJ421","v":"OK"},{"$f":"Calculs!QK421","v":"OK"}]

{"sheet":"GF-UP SN20000","index":46,"n_rows":188,"n_cols":17,"rows_kept":188,"cut":false,"hidden":false,"merged":[[64,16,65,16],[8,0,9,8],[8,9,9,17],[57,7,58,7],[11,4,11,6],[25,13,25,15],[70,0,70,8],[77,9,77,17],[103,1,103,6],[103,11,103,15],[104,1,104,6],[104,11,104,15],[114,3,114,5],[114,10,114,16],[105,1,105,3],[105,11,105,12],[106,1,106,3],[106,11,106,12],[107,1,107,3],[107,11,107,12],[108,1,108,3],[108,11,108,12],[109,1,109,3],[109,11,109,12],[110,1,110,3],[115,5,117,5],[115,6,117,7],[115,10,115,11],[116,10,117,11],[118,5,119,5],[118,10,118,11],[119,10,119,11],[120,15,121,16],[121,10,121,11],[122,1,122,7],[123,1,123,2],[126,1,126,2],[124,1,125,2],[120,10,120,11],[127,1,127,2],[128,1,128,2],[128,6,129,7],[128,11,128,14],[129,1,129,2],[129,11,129,14],[130,11,130,12],[131,11,131,12],[132,11,132,12],[133,11,133,12],[134,2,134,5],[134,11,134,12],[143,2,143,3],[135,2,135,5],[135,11,135,12],[136,2,136,3],[136,6,138,7],[136,11,136,14],[137,2,137,3],[137,11,137,12],[138,2,138,3],[139,2,139,3],[140,2,140,3],[141,2,141,3],[142,2,142,5],[139,10,140,15],[159,1,159,7],[159,10,159,16],[160,1,160,2],[160,10,160,11],[161,1,161,7],[161,10,161,11],[162,1,162,2],[162,10,162,11],[163,1,163,2],[163,10,163,11],[164,1,164,2],[164,10,164,11],[174,1,174,2],[165,10,165,11],[166,1,166,2],[166,10,166,11],[167,1,167,2],[167,10,167,11],[168,10,168,11],[169,1,169,2],[169,10,169,11],[170,1,170,2],[172,1,172,7],[173,1,173,2],[184,1,184,2],[186,1,186,2],[187,1,187,2],[175,1,175,2],[177,1,177,2],[178,1,178,2],[180,1,180,2],[181,1,181,2],[183,1,183,2]]}
[null,"Projet:",{"$f":"Accueil!P15","v":"VSA 2026"},null,null,"Ingénieur/e:",null,{"$f":"Accueil!AI15","v":0},null,null,"Projet:",{"$f":"Accueil!$P$15","v":"VSA 2026"},null,null,"Ingénieur/e:",null,{"$f":"Accueil!$AI$15","v":0}]
[]
[null,"N°:",{"$f":"Accueil!P17","v":0},null,null,"Respoonsable:",null,{"$f":"Accueil!AI17","v":0},null,null,"N°:",{"$f":"Accueil!P17","v":0},null,null,"Respoonsable:",null,{"$f":"Accueil!$AI$17","v":0}]
[]
[null,"Lieu:",{"$f":"Accueil!P21","v":0},null,null,"Maître douvrage:",null,{"$f":"Accueil!AI19","v":0},null,null,"Lieu:",{"$f":"Accueil!$P$21","v":0},null,null,"Maître douvrage:",null,{"$f":"Accueil!$AI$19","v":0}]
[null,null,{"$f":"Accueil!P23","v":0},null,null,null,null,null,null,null,null,{"$f":"Accueil!$P$23","v":0}]
[]
[]
["Données profil d'enrobage U1/V1",null,null,null,null,null,null,null,null,"Données profil d'enrobage U4/V4"]
[]
[]
[null,"Tuyau GF-UP",null,null,{"$f":"IF(Données!$AE$6>F14,\"di max.< di introduit!\",\"\")","v":""},null,null,null,null,null,"Tuyau \"fictif\" en béton"]
[]
[null,"Diamètre intérieur ",null,null,"di",{"$f":"Calculs!RJ35","v":302},"mm",null,null,null,"Diamètre intérieur ",null,null,"di",{"$f":"Calculs!RR34/1000","v":0.32400000000000001},"m"]
[null,"Rayon moyen",null,null,"rm",{"$f":"Calculs!RN35","v":156.5},"mm",null,null,null,"Rayon moyen",null,null,"rm",{"$f":"Calculs!RU34/1000","v":0.23699999999999999},"m"]
[null,"Épaisseur de paroi",null,null,"e",{"$f":"Calculs!RM35","v":11},"mm",null,null,null,"Épaisseur de paroi",null,null,"e",{"$f":"Calculs!RT34/1000","v":0.15},"m"]
[null,"Section",null,null,"A",{"$f":"Calculs!RJ384","v":1.0999999999999999E-2},"m2",null,null,null,"Section",null,null,"A",{"$f":"Calculs!RW322","v":0.15},"m2"]
[null,"Module de flexion",null,null,"W",{"$f":"Calculs!RJ385","v":2.0166666666666668E-5},"m3",null,null,null,"Module de flexion",null,null,"W",{"$f":"Calculs!RW323","v":3.7499999999999999E-3},"m3"]
[null,"Module d'élasticité",null,null,"ER,court",{"$f":"Calculs!RK41","v":5529.2496468820427},"N/mm2",null,null,null,"Module d'élasticité",null,null,"ER,court",{"$f":"Calculs!RS36","v":20000},"N/mm2"]
[]
[null,"Rigidité du système",null,null,"SFcourt",{"$f":"Calculs!RK46","v":5.3333333333333309E-2},{"$f":"Calculs!RL46","v":"souple"},null,null,null,"Rigidité du système",null,null,"SFcourt",{"$f":"Calculs!RR46","v":140.84979980172858},{"$f":"Calculs!RS46","v":"rigide"}]
[null,"Facteur de majoration de charge",null,null,"f",{"$f":"Calculs!RM50","v":1.035143769968051},null,null,null,null,"Facteur de majoration de charge",null,null,"f",{"$f":"Calculs!RT50","v":1.3164556962025316}]
[null,"Effet de courbure:",null,null,"αka",{"$f":"Calculs!RG385","v":1},null,null,null,null,"Effet de courbure:",null,null,"αka",{"$f":"Calculs!RT323","v":0.78902953586497893}]
[null,null,null,null,"αki",{"$f":"Calculs!RG384","v":1},null,null,null,null,null,null,null,"αki",{"$f":"Calculs!RT322","v":1.2109704641350212}]
[]
[null,"Terrain",null,null,null,null,null,null,null,null,"Tuyau GF-UP",null,null,{"$f":"IF(Données!$AE$6>O28,\"di max.< di introduit!\",\"\")","v":""}]
[]
[null,"Qualité du sol",null,null,null,{"$f":"Données!AE30","v":"Sol stable"},null,null,null,null,"Diamètre intérieur ",null,null,"di",{"$f":"Calculs!RJ35","v":302},"mm"]
[null,"Poids volumique apparent hum.",null,null,"γ",{"$f":"Données!AE32","v":20},"kN/m3",null,null,null,"Rayon moyen",null,null,"rm",{"$f":"Calculs!RN35","v":156.5},"mm"]
[null,"Poids volumique déjaugé",null,null,"γ'",{"$f":"Données!AE34","v":11},"kN/m3",null,null,null,"Épaisseur de paroi",null,null,"e",{"$f":"Calculs!RM35","v":11},"mm"]
[null,"Module de déformation du sol",null,null,"EB",{"$f":"Données!AE38","v":5},"N/mm2"]
[null,"Coefficient de pression du terrain",null,null,"K",{"$f":"Données!AE40","v":0.5},null,null,null,null,"Terrain"]
[null,"Coefficient de flexion au tassement",null,null,"C2",{"$f":"Données!AE42","v":0.5}]
[null,"Type de béton d'enrobage",null,null,null,{"$f":"Données!AE50","v":"C16/20"},null,null,null,null,"Qualité du sol",null,null,null,{"$f":"Données!AE30","v":"Sol stable"}]
[null,"Réduction de charge",null,null,"λmin",{"$f":"Données!AE44","v":"NON"},null,null,null,null,"Poids volumique apparent hum.",null,null,"γ",{"$f":"Données!AE32","v":20},"kN/m3"]
[null,null,null,null,null,null,null,null,null,null,"Poids volumique déjaugé",null,null,"γ'",{"$f":"Données!AE34","v":11},"kN/m3"]
[null,"Eau",null,null,null,null,null,null,null,null,"Module de déformation du sol",null,null,"EB",{"$f":"Données!AE38","v":5},"N/mm2"]
[null,null,null,null,null,null,null,null,null,null,"Coefficient de pression du terrain",null,null,"K",{"$f":"Données!AE40","v":0.5}]
[null,"Eau souterraine",null,null,null,{"$f":"Données!AE60","v":"Sans eau souterraine"},null,null,null,null,"Coefficient de flexion au tassement",null,null,"C2",{"$f":"Données!AE42","v":0.5}]
[null,"Niveau d'eau souterraine",null,null,"hw",{"$f":"Données!AE62","v":1.3},"m",null,null,null,"Type de béton d'enrobage",null,null,null,{"$f":"Données!AE50","v":"C16/20"}]
[null,"Eau à l'intérieur du tuyau",null,null,null,{"$f":"Données!AE64","v":"Tuyau vide"},null,null,null,null,"Réduction de charge",null,null,"λmin",{"$f":"Données!AE44","v":"NON"}]
[null,"Pression",null,null,"pEi",{"$f":"Données!AE66","v":10},"kN/m2"]
[null,null,null,null,null,null,null,null,null,null,"Eau"]
[null,"Fouille"]
[null,null,null,null,null,null,null,null,null,null,"Eau souterraine",null,null,null,{"$f":"Données!AE60","v":"Sans eau souterraine"}]
[null,"Hauteur de couverture",null,null,"H",{"$f":"Données!AE52","v":3},"m",null,null,null,"Niveau d'eau souterraine",null,null,"hw",{"$f":"Données!AE62","v":1.3},"m"]
[null,"Type de fouille",null,null,null,{"$f":"Données!AE56","v":"Verticale (U)"},null,null,null,null,"Eau à l'intérieur du tuyau",null,null,null,{"$f":"Données!AE64","v":"Tuyau vide"}]
[null,"Largeur de fouille",null,null,"B",{"$f":"Données!$AE$54","v":1.5},"m",null,null,null,"Pression",null,null,"pEi",{"$f":"Données!AE66","v":10},"kN/m2"]
[null,"Angle de talus",null,null,"β",{"$f":"Données!AE58","v":30},"°"]
[]
[]
[]
[]
[null,"Actions",null,null,null,null,null,null,null,null,"Fouille"]
[]
[null,"Charge surfacique",null,null,null,{"$f":"Données!AE8","v":"Pas de charge"},null,null,null,null,"Hauteur de couverture",null,null,"H",{"$f":"Calculs!RU107","v":2.85},"m"]
[null,null,null,null,"qs",{"$f":"Calculs!RL134","v":0},"kN/m2",null,null,null,"Type de fouille",null,null,null,{"$f":"Données!$AE$56","v":"Verticale (U)"}]
[null,"Trafic ",null,null,null,{"$f":"Données!AE22","v":"Trafic routier"},null,{"$f":"IF(AND(Accueil!AZ15=\"Français\",AND(OR(F58=\"Voie unique (ferroviaire)\",F58=\"Voies multiples (ferroviaire)\",F58=\"Voie étroite (ferroviaire)\",F58=\"Eingleisig (Bahnverkehr)\",F58=\"Mehrgleisig (Bahnverkehr)\",F58=\"Schmalspur (Bahnverkehr)\"),F46<2)),\"H trop faible!\",\"\")","v":""},null,null,"Largeur de fouille",null,null,"B",{"$f":"Données!AE54","v":1.5},"m"]
[null,"Coefficient de charge",null,null,"α",{"$f":"Calculs!RH104","v":0.9},null,null,null,null,"Angle de talus",null,null,"β",{"$f":"Données!AE58","v":30},"°"]
[null,"Coefficient dynamique",null,null,"Ψ",{"$f":"Calculs!RI104","v":1}]
[null,"Trafic routier et route d'importance",null,null,"pvtotale",{"$f":"Calculs!RG120","v":24.562000000000001},"kN/m2",null,null,null,"Actions"]
[null,"secondaire",null,null,"pvroue",{"$f":"Calculs!RH120","v":4.9021999999999997},"kN/m2"]
[null,null,null,null,"∆pv",{"$f":"Calculs!RI120","v":19.659800000000001},"kN/m2",null,null,null,"Charge surfacique",null,null,null,{"$f":"Données!AE8","v":"Pas de charge"}]
[null,"Bord de route",null,null,"pvtotale",{"$f":"Calculs!RJ120","v":0},"kN/m2",null,null,null,null,null,null,"qs",{"$f":"Calculs!RW134","v":0},"kN/m2"]
[null,null,null,null,"pvroue",{"$f":"Calculs!RK120","v":0},"kN/m2",null,null,null,"Trafic ",null,null,null,{"$f":"Données!AE22","v":"Trafic routier"},null,{"$f":"IF(AND(Accueil!AZ15=\"Français\",AND(OR(O65=\"Voie unique (ferroviaire)\",O65=\"Voies multiples (ferroviaire)\",O65=\"Voie étroite (ferroviaire)\",O65=\"Eingleisig (Bahnverkehr)\",O65=\"Mehrgleisig (Bahnverkehr)\",O65=\"Schmalspur (Bahnverkehr)\"),O56<2)),\"H trop faible!\",IF(AND(Accueil!AZ15=\"Français\",AND(OR(O65=\"Trafic routier\",O65=\"Bord de route\",O65=\"Route d'importance secondaire\",O65=\"Strassenverkehr\",O65=\"Strassenrand\",O65=\"Untergeordnete Strasse\"),O56<1)),\"H trop faible!\",\"\"))","v":""}]
[null,null,null,null,"∆pv",{"$f":"Calculs!RL120","v":0},"kN/m2",null,null,null,"Coefficient de charge",null,null,"α",{"$f":"Calculs!RT104","v":0.9}]
[null,"Trafic ferroviaire voie unique",null,null,"punique",{"$f":"Calculs!RN120","v":0},"kN/m2",null,null,null,"Coefficient dynamique",null,null,"Ψ",{"$f":"Calculs!RU104","v":1}]
[null,"Trafic ferroviaire voies multiples",null,null,"pmultiples",{"$f":"Calculs!RO120","v":0},"kN/m2",null,null,null,"Trafic routier et route d'importance",null,null,"pvtotale",{"$f":"Calculs!RS120","v":26.200299999999999},"kN/m2"]
[null,"Trafic ferroviaire voie étroite",null,null,"pétroite",{"$f":"Calculs!RP120","v":0},"kN/m2",null,null,null,"secondaire",null,null,"pvroue",{"$f":"Calculs!RT120","v":5.4489399999999995},"kN/m2"]
[null,null,null,null,null,null,null,null,null,null,null,null,null,"∆pv",{"$f":"Calculs!RU120","v":20.751359999999998},"kN/m2"]
["Résultats",null,null,null,null,null,null,null,null,null,"Bord de route",null,null,"pvtotale",{"$f":"Calculs!RV120","v":0},"kN/m2"]
[null,null,null,null,null,null,null,null,null,null,null,null,null,"pvroue",{"$f":"Calculs!RW120","v":0},"kN/m2"]
[null,null,null,null,null,null,null,null,null,null,null,null,null,"∆pv",{"$f":"Calculs!RX120","v":0},"kN/m2"]
[null,null,null,null,null,null,null,null,null,null,"Trafic ferroviaire voie unique",null,null,"punique",{"$f":"Calculs!RZ120","v":0},"kN/m2"]
[null,null,null,null,null,null,null,null,null,null,"Trafic ferroviaire voies multiples",null,null,"pmultiples",{"$f":"Calculs!SA120","v":0},"kN/m2"]
[null,null,null,null,null,null,null,null,null,null,"Trafic ferroviaire voie étroite",null,null,"pétroite",{"$f":"Calculs!SB120","v":0},"kN/m2"]
[]
[null,null,null,null,null,null,null,null,null,"Résultats"]
[]
[]
[]
[]
[]
[]
[]
[]
[]
[]
[]
[]
[]
[]
[]
[]
[]
[]
[]
[]
[]
[]
[]
[null,"Sollicitations",null,null,null,null,null,null,null,null,"Sollicitations"]
[]
[null," Sollicitations",null,null,null,null,null,null,null,null,null," Sollicitations"]
[null,"U1/V1",null,null,null,null,null,null,null,null,null,"U4/V4"]
[null,"À long terme",null,null,"qs1",{"$f":"Calculs!RK204","v":62.108626198083059},"[kN/m2]",null,null,null,null,"À long terme",null,"qs1",{"$f":"Calculs!SB204","v":116.66605285517008},"[kN/m2]"]
[null,"À court terme",null,null,"qs2",{"$f":"Calculs!RK205","v":22.882681150159744},"[kN/m2]",null,null,null,null,"À court terme",null,"qs2",{"$f":"Calculs!SB205","v":31.042380759493668},"[kN/m2]"]
[null,"Charge eff. au sommet",null,null,"qser",{"$f":"Calculs!RK206","v":84.991307348242799},"[kN/m2]",null,null,null,null,"Charge eff. au sommet",null,"qser",{"$f":"Calculs!SB206","v":147.70843361466376},"[kN/m2]"]
[null,"Pression du terrain long terme",null,null,"qhlong",{"$f":"Calculs!RK207","v":53.031211599901695},"[kN/m2]",null,null,null,null,"Pression du terrain",null,"qh",{"$f":"Calculs!SB207","v":73.854216807331881},"[kN/m2]"]
[null,"Pression du terrain court terme",null,null,"qhcourt",{"$f":"Calculs!RK208","v":14.941044750986659},"[kN/m2]",null,null,null,null,"Charge de dim. au sommet",null,"qds",{"$f":"Calculs!SB208","v":204.06274249372012},"[kN/m2]"]
[null,"Charge de dim. au sommet",null,null,"qds",{"$f":"Calculs!RK211","v":118.17066709265175},"[kN/m2]"]
[null,null,null,null,null,null,null,null,null,null,"Vérifications"]
[null,"Vérifications"]
[]
[null,null,null,"Vérification de la déformation (IOWA)",null,null,null,null,null,null,"Poussée d'Archimède"]
[null,null,null,null,1,null,{"$f":"IF(Calculs!RK46<0.1,\"\",\"Tuyau rigide. Pas nécessaire de vérifier la déformation!\")","v":""},null,null,null,"Actions stabilisant",null,"G + G' + Gsp",{"$f":"Calculs!RX183","v":36.403608047289552},"[kN/m]"]
[null,null,null,"x/d court",{"$f":"IF(Calculs!RK46<0.1,Calculs!RJ214,\"\")","v":8.41275042285285E-3},null,null,null,null,null,null,null,"GR",{"$f":"Calculs!RX184","v":5.5446942636928878},"[kN/m]"]
[null,null,null,"x/d long",{"$f":"IF(Calculs!RK46<0.1,Calculs!RJ215,\"\")","v":2.9859916441386091E-2},null,null,null,null,null,null,null,"Somme",{"$f":"Calculs!RX185","v":41.948302310982442},"[kN/m]","Facteur",0.9]
[null,null,null,"Somme",{"$f":"IF(Calculs!RK46<0.1,Calculs!RJ216,\"\")","v":3.8272666864238941E-2},{"$f":"IF(Calculs!RK46<0.1,Calculs!RK216,\"\")","v":"OK"},null,null,null,null,"Actions déstabilisant",null,"FA",{"$f":"Calculs!RX186","v":0},"[kN/m]","Facteur",1.05]
[null,null,null,"Admissible",{"$f":"IF(Calculs!RK46<0.1,Calculs!RJ217,\"\")","v":0.05}]
[null,null,null,null,null,null,null,null,null,null,"Contôle:",null,"1.05*FA",{"$f":"Calculs!RX188","v":0},"[kN/m]",{"$f":"Calculs!RZ188","v":"OK"}]
[null,null,null,null,null,null,null,null,null,null,null,null,"0.9*Somme",{"$f":"Calculs!RX189","v":37.753472079884197},"[kN/m]"]
[null,"Poussée d'Archimède"]
[null,"Actions stabilisant",null,"G + G' + Gsp",{"$f":"Calculs!RI183","v":19.665280423991895},"[kN/m]",null,null,null,null,"Sécurité structurale"]
[null,null,null,"GR",{"$f":"Calculs!RI184","v":0.18388055960726418},"[kN/m]",null,null,null,null,{"$f":"IF(N138=\"\",\"\",\"Hypothèse: 5% de la charge de dimensionnement est reprise par le tuyau GF-UP et une déformation initiale\")","v":""}]
[null,null,null,"Somme",{"$f":"Calculs!RI185","v":19.849160983599159},"[kN/m]","Facteur",0.9,null,null,{"$f":"IF(N138=\"\",\"\",\"de 0.02m est admis [SIA190:2017;4.2.11.1.2].\")","v":""}]
[null,"Actions déstabilisant",null,"FA",{"$f":"Calculs!RI186","v":0},"[kN/m]","Facteur",1.05]
[]
[null,"Contôle:",null,"1.05*FA",{"$f":"Calculs!RI188","v":0},"[kN/m]",{"$f":"Calculs!RK188","v":"OK"},null,null,null,null,"Sécurité structurale"]
[null,null,null,"0.9*Somme",{"$f":"Calculs!RI189","v":17.864244885239245},"[kN/m]",null,null,null,null,null,"U4/V4"]
[null,null,null,null,null,null,null,null,null,null,null,"qds",null,{"$f":"Calculs!RW220","v":""},"[kN/m2]"]
[null,null,null,null,null,null,null,null,null,null,null,"qBl",null,{"$f":"Calculs!RW221","v":""},"[kN/m2]"]
[null,"Sécurité structurale",null,null,null,null,null,null,null,null,null,"pwd",null,{"$f":"Calculs!RW222","v":""},"[kN/m2]"]
[null,null,null,null,null,null,null,null,null,null,null,"pcr",null,{"$f":"Calculs!RW223","v":""},"[kN/m2]"]
[null,null,"Sécurité structurale",null,null,null,null,null,null,null,null,"k",null,{"$f":"Calculs!RW224","v":""},"[-]"]
[null,null,"U1/V1",null,null,null,null,null,null,null,null,"qBl/2*(1-2*pwd/k*pcr)",null,{"$f":"Calculs!RW225","v":""},"[kN/m2]"]
[null,null,"qds",null,{"$f":"IF(Calculs!RK46<0.1,Calculs!RJ220,\"\")","v":118.17066709265175},"[kN/m2]",{"$f":"IF(Calculs!RK46<0.1,\"\",\"Tuyau rigide. Limite de la formule de la sécurité structurale est dépassée!\")","v":""}]
[null,null,"qBl",null,{"$f":"IF(Calculs!RK46<0.1,Calculs!RJ221,\"\")","v":543.77539869758255},"[kN/m2]",null,null,null,null,null,"Résultat",null,{"$f":"Calculs!RW227","v":""}]
[null,null,"pwd",null,{"$f":"IF(Calculs!RK46<0.1,Calculs!RJ222,\"\")","v":0},"[kN/m2]"]
[null,null,"pcr",null,{"$f":"IF(Calculs!RK46<0.1,Calculs!RJ223,\"\")","v":194.20100258977425},"[kN/m2]",null,null,null,null,{"$f":"IF(N138=\"\",\"Vérification de la sécurité structurale que nécessaire lors de présence d'eau souterraine!\",\"\")","v":"Vérification de la sécurité structurale que nécessaire lors de présence d'eau souterraine!"}]
[null,null,"k",null,{"$f":"IF(Calculs!RK46<0.1,Calculs!RJ224,\"\")","v":1},"[-]"]
[null,null,"qBl/2*(1-2*pwd/k*pcr)",null,{"$f":"IF(Calculs!RK46<0.1,Calculs!RJ225,\"\")","v":271.88769934879127},"[kN/m2]"]
[]
[null,null,"Résultat",null,{"$f":"IF(Calculs!RK46<0.1,Calculs!RJ227,\"\")","v":"OK"}]
[]
[]
[]
[]
[]
[]
[null,"Aptitude au service",null,null,null,null,null,null,null,null,"Aptitude au service"]
[]
[null,null,null,null,null,null,null,null,null,null,null,null,"σRbz,adm",{"$f":"contrainte","v":-0.3},"N/mm2"]
[null,null,null,"εRbz,adm",{"$f":"Calculs!RN418","v":0.54149520766773174},"%"]
[null,null,null,null,null,null,null,null,null,null,null,null,null,"Convention des contraintes:"]
[null,null,null,null,"Convention des contraintes:",null,null,null,null,null,null,null,null,"Traction négatif -"]
[null,null,null,null,"Traction négatif -",null,null,null,null,null,null,null,null,"Compression positif +"]
[null,null,null,null,"Compression positif +"]
[]
[null,"Contraintes Profil d'enrobage U1/V1",null,null,null,null,null,null,null,null,"Contraintes Profil d'enrobage U4/V4"]
[null,"Contraintes en [N/mm2]",null,"0°","45°","90°","135°","180°",null,null,"Contraintes en [N/mm2]",null,"0°","45°","90°","135°","180°"]
[null,"À long terme",null,null,null,null,null,null,null,null,"Effort normal",null,{"$f":"Calculs!RT335","v":0.11570908442684374},{"$f":"Calculs!RU335","v":0.17760787765196645},{"$f":"Calculs!RV335","v":0.24262050382716874},{"$f":"Calculs!RW335","v":0.18170214848608401},{"$f":"Calculs!RX335","v":0.11767024068432501}]
[null,"Effort normal",null,{"$f":"Calculs!RG390","v":0.50257471243309881},{"$f":"Calculs!RH390","v":0.75737771528327646},{"$f":"Calculs!RI390","v":0.88781547703636354},{"$f":"Calculs!RJ390","v":0.75922925637256033},{"$f":"Calculs!RK390","v":0.50346160085361435},null,null,"Moment extérieur",null,{"$f":"Calculs!RT336","v":0.2333830385563905},{"$f":"Calculs!RU336","v":1.478978239588871E-3},{"$f":"Calculs!RV336","v":-0.23548942766682152},{"$f":"Calculs!RW336","v":-1.4753573663094962E-3},{"$f":"Calculs!RX336","v":0.23760096046305951}]
[null,"Moment extérieur",null,{"$f":"Calculs!RG391","v":6.1899709175265043},{"$f":"Calculs!RH391","v":-0.66218916401745176},{"$f":"Calculs!RI391","v":-4.8547571118012582},{"$f":"Calculs!RJ391","v":-0.67743628774651099},{"$f":"Calculs!RK391","v":6.211739323614867},null,null,"Moment intérieur",null,{"$f":"Calculs!RT337","v":-0.35818680249028917},{"$f":"Calculs!RU337","v":-2.2698756939144708E-3},{"$f":"Calculs!RV337","v":0.36141960288972075},{"$f":"Calculs!RW337","v":2.2643185247637723E-3},{"$f":"Calculs!RX337","v":-0.36466029760908064}]
[null,"Moment intérieur",null,{"$f":"Calculs!RG392","v":-6.1899709175265043},{"$f":"Calculs!RH392","v":0.66218916401745176},{"$f":"Calculs!RI392","v":4.8547571118012582},{"$f":"Calculs!RJ392","v":0.67743628774651099},{"$f":"Calculs!RK392","v":-6.211739323614867}]
[null,null,null,null,null,null,null,null,null,null,"Contraintes extérieur",null,{"$f":"Calculs!RT339","v":0.34909212298323422},{"$f":"Calculs!RU339","v":0.17908685589155532},{"$f":"Calculs!RV339","v":7.1310761603472217E-3},{"$f":"Calculs!RW339","v":0.18022679111977452},{"$f":"Calculs!RX339","v":0.35527120114738453}]
[null,"Contraintes extérieur",null,{"$f":"Calculs!RG394","v":6.6925456299596036},{"$f":"Calculs!RH394","v":9.5188551265824706E-2},{"$f":"Calculs!RI394","v":-3.9669416347648947},{"$f":"Calculs!RJ394","v":8.1792968626049345E-2},{"$f":"Calculs!RK394","v":6.7152009244684816},null,null,"Conraintes intérieur",null,{"$f":"Calculs!RT340","v":-0.24247771806344542},{"$f":"Calculs!RU340","v":0.17533800195805199},{"$f":"Calculs!RV340","v":0.60404010671688946},{"$f":"Calculs!RW340","v":0.18396646701084779},{"$f":"Calculs!RX340","v":-0.24699005692475562}]
[null,"Conraintes intérieur",null,{"$f":"Calculs!RG395","v":-5.687396205093405},{"$f":"Calculs!RH395","v":1.4195668793007283},{"$f":"Calculs!RI395","v":5.7425725888376213},{"$f":"Calculs!RJ395","v":1.4366655441190712},{"$f":"Calculs!RK395","v":-5.7082777227612524}]
[null,null,null,null,null,null,null,null,null,null,"Contraintes extérieures",null,{"$f":"Calculs!RT342","v":"OK"},{"$f":"Calculs!RU342","v":"OK"},{"$f":"Calculs!RV342","v":"OK"},{"$f":"Calculs!RW342","v":"OK"},{"$f":"Calculs!RX342","v":"OK"}]
[null,"Déformations extérieures",null,{"$f":"Calculs!RG399","v":0.24207789690717063},{"$f":"Calculs!RH399","v":3.4430911007789912E-3},{"$f":"Calculs!RI399","v":-0.14348932994920433},{"$f":"Calculs!RJ399","v":2.9585558203968089E-3},{"$f":"Calculs!RK399","v":0.24289736775604623},null,null,"Conraintes intérieures",null,{"$f":"Calculs!RT343","v":"OK"},{"$f":"Calculs!RU343","v":"OK"},{"$f":"Calculs!RV343","v":"OK"},{"$f":"Calculs!RW343","v":"OK"},{"$f":"Calculs!RX343","v":"OK"}]
[null,"Déformations intérieures",null,{"$f":"Calculs!RG400","v":-0.20572036237504818},{"$f":"Calculs!RH400","v":5.1347541527672763E-2},{"$f":"Calculs!RI400","v":0.20771616242995544},{"$f":"Calculs!RJ400","v":5.1966022005507033E-2},{"$f":"Calculs!RK400","v":-0.2064756734570726}]
[]
[null,"À court terme"]
[null,"Effort normal",null,{"$f":"Calculs!RG404","v":0},{"$f":"Calculs!RH404","v":0.16277907272727274},{"$f":"Calculs!RI404","v":0.32555814545454542},{"$f":"Calculs!RJ404","v":0.16277907272727271},{"$f":"Calculs!RK404","v":0}]
[null,"Moment extérieur",null,{"$f":"Calculs!RG405","v":3.3566578401552563},{"$f":"Calculs!RH405","v":-0.18871606385179196},{"$f":"Calculs!RI405","v":-2.9774111349146346},{"$f":"Calculs!RJ405","v":-0.18871606385179196},{"$f":"Calculs!RK405","v":3.3566578401552563}]
[null,"Moment intérieur",null,{"$f":"Calculs!RG406","v":-3.3566578401552563},{"$f":"Calculs!RH406","v":0.18871606385179196},{"$f":"Calculs!RI406","v":2.9774111349146346},{"$f":"Calculs!RJ406","v":0.18871606385179196},{"$f":"Calculs!RK406","v":-3.3566578401552563}]
[]
[null,"Contraintes extérieur",null,{"$f":"Calculs!RG408","v":3.3566578401552563},{"$f":"Calculs!RH408","v":-2.5936991124519221E-2},{"$f":"Calculs!RI408","v":-2.6518529894600893},{"$f":"Calculs!RJ408","v":-2.5936991124519249E-2},{"$f":"Calculs!RK408","v":3.3566578401552563}]
[null,"Conraintes intérieur",null,{"$f":"Calculs!RG409","v":-3.3566578401552563},{"$f":"Calculs!RH409","v":0.35149513657906473},{"$f":"Calculs!RI409","v":3.3029692803691799},{"$f":"Calculs!RJ409","v":0.35149513657906467},{"$f":"Calculs!RK409","v":-3.3566578401552563}]
[]
[null,"Déformations extérieures",null,{"$f":"Calculs!RG413","v":6.0707294018603121E-2},{"$f":"Calculs!RH413","v":-4.6908699698783096E-4},{"$f":"Calculs!RI413","v":-4.7960449587503715E-2},{"$f":"Calculs!RJ413","v":-4.690869969878315E-4},{"$f":"Calculs!RK413","v":6.0707294018603121E-2}]
[null,"Déformations intérieures",null,{"$f":"Calculs!RG414","v":-6.0707294018603121E-2},{"$f":"Calculs!RH414","v":6.3570133205555967E-3},{"$f":"Calculs!RI414","v":5.9736302234639237E-2},{"$f":"Calculs!RJ414","v":6.357013320555595E-3},{"$f":"Calculs!RK414","v":-6.0707294018603121E-2}]
[]
[null,"Somme déformations ext.",null,{"$f":"D170+D181","v":0.30278519092577377},{"$f":"E170+E181","v":2.9740041037911603E-3},-0.19144977953670805,2.4894688234089776E-3,0.30360466177464934]
[null,"Somme déformations int.",null,{"$f":"D171+D182","v":-0.26642765639365129},5.7704554848228361E-2,0.26745246466459466,5.8323035326062631E-2,-0.26718296747567571]
[]
[null,"Déformations extérieures",null,{"$f":"Calculs!RG420","v":"OK"},{"$f":"Calculs!RH420","v":"OK"},{"$f":"Calculs!RI420","v":"OK"},{"$f":"Calculs!RJ420","v":"OK"},{"$f":"Calculs!RK420","v":"OK"}]
[null,"Déformations intérieures",null,{"$f":"Calculs!RG421","v":"OK"},{"$f":"Calculs!RH421","v":"OK"},{"$f":"Calculs!RI421","v":"OK"},{"$f":"Calculs!RJ421","v":"OK"},{"$f":"Calculs!RK421","v":"OK"}]

{"sheet":"GF-UP SN20000 (D)","index":47,"n_rows":188,"n_cols":17,"rows_kept":188,"cut":false,"hidden":false,"merged":[[64,16,65,16],[8,0,9,8],[8,9,9,17],[57,7,58,7],[11,4,11,6],[25,13,25,15],[70,0,70,8],[77,9,77,17],[103,1,103,6],[103,11,103,15],[104,1,104,6],[104,11,104,15],[114,3,114,5],[114,10,114,16],[105,1,105,3],[105,11,105,12],[106,1,106,3],[106,11,106,12],[107,1,107,3],[107,11,107,12],[108,1,108,3],[108,11,108,12],[109,1,109,3],[109,11,109,12],[110,1,110,3],[115,5,117,5],[115,6,117,7],[115,10,115,11],[116,10,117,11],[118,5,119,5],[118,10,118,11],[119,10,119,11],[120,15,121,16],[121,10,121,11],[122,1,122,7],[123,1,123,2],[126,1,126,2],[124,1,125,2],[120,10,120,11],[127,1,127,2],[128,1,128,2],[128,6,129,7],[128,11,128,14],[129,1,129,2],[129,11,129,14],[130,11,130,12],[131,11,131,12],[132,11,132,12],[133,11,133,12],[134,2,134,5],[134,11,134,12],[143,2,143,3],[135,2,135,5],[135,11,135,12],[136,2,136,3],[136,6,138,7],[136,11,136,14],[137,2,137,3],[137,11,137,12],[138,2,138,3],[139,2,139,3],[140,2,140,3],[141,2,141,3],[142,2,142,5],[139,10,139,15],[187,1,187,2],[155,3,155,5],[156,3,156,5],[157,3,157,5],[177,1,177,2],[178,1,178,2],[180,1,180,2],[181,1,181,2],[183,1,183,2],[169,1,169,2],[170,1,170,2],[172,1,172,7],[166,1,166,2],[167,1,167,2],[159,1,159,7],[160,1,160,2],[154,12,154,14],[155,12,155,14],[156,12,156,14],[184,1,184,2],[186,1,186,2],[169,10,169,11],[165,10,165,11],[166,10,166,11],[167,10,167,11],[168,10,168,11],[164,10,164,11],[159,10,159,16],[160,10,160,11],[161,1,161,7]]}
[null,"Projekt:",{"$f":"Accueil!P15","v":"VSA 2026"},null,null,"Ingenieur/in:",null,{"$f":"Accueil!AI15","v":0},null,null,"Projekt:",{"$f":"Accueil!$P$15","v":"VSA 2026"},null,null,"Ingenieur/in:",null,{"$f":"Accueil!$AI$15","v":0}]
[]
[null,"N°:",{"$f":"Accueil!P17","v":0},null,null,"Verantwortlicher:",null,{"$f":"Accueil!AI17","v":0},null,null,"N°:",{"$f":"Accueil!P17","v":0},null,null,"Verantwortlicher:",null,{"$f":"Accueil!$AI$17","v":0}]
[]
[null,"Ort:",{"$f":"Accueil!P21","v":0},null,null,"Bauherr:",null,{"$f":"Accueil!AI19","v":0},null,null,"Ort:",{"$f":"Accueil!$P$21","v":0},null,null,"Bauherr:",null,{"$f":"Accueil!$AI$19","v":0}]
[null,null,{"$f":"Accueil!P23","v":0},null,null,null,null,null,null,null,null,{"$f":"Accueil!$P$23","v":0}]
[]
[]
["Daten Normalverlegeprofil U1/V1",null,null,null,null,null,null,null,null,"Daten Normalverlegeprofil U4/V4"]
[]
[]
[null,"GF-UP Rohr",null,null,{"$f":"IF(Données!$AE$6>F14,\"di max.< di Eingabe!\",\"\")","v":""},null,null,null,null,null,"\"Fiktives\" Betonrohr"]
[]
[null,"Innendurchmesser",null,null,"di",{"$f":"Calculs!RJ35","v":302},"mm",null,null,null,"Innendurchmesser",null,null,"di",{"$f":"Calculs!RR34/1000","v":0.32400000000000001},"m"]
[null,"Radius",null,null,"rm",{"$f":"Calculs!RN35","v":156.5},"mm",null,null,null,"Radius",null,null,"rm",{"$f":"Calculs!RU34/1000","v":0.23699999999999999},"m"]
[null,"Wanddicke",null,null,"e",{"$f":"Calculs!RM35","v":11},"mm",null,null,null,"Wanddicke",null,null,"e",{"$f":"Calculs!RT34/1000","v":0.15},"m"]
[null,"Querschnittsfläche",null,null,"A",{"$f":"Calculs!RJ384","v":1.0999999999999999E-2},"m2",null,null,null,"Querschnittsfläche",null,null,"A",{"$f":"Calculs!RW322","v":0.15},"m2"]
[null,"Widerstandsmoment",null,null,"W",{"$f":"Calculs!RJ385","v":2.0166666666666668E-5},"m3",null,null,null,"Widerstandsmoment",null,null,"W",{"$f":"Calculs!RW323","v":3.7499999999999999E-3},"m3"]
[null,"E-Modul",null,null,"ER,kurz",{"$f":"Calculs!RK41","v":5529.2496468820427},"N/mm2",null,null,null,"E-Modul",null,null,"ER,kurz",{"$f":"Calculs!RS36","v":20000},"N/mm2"]
[]
[null,"Systemsteifigkeit",null,null,"SFkurz",{"$f":"Calculs!RK46","v":5.3333333333333309E-2},{"$f":"Calculs!RL46","v":"souple"},null,null,null,"Systemsteifigkeit",null,null,"SFkurz",{"$f":"Calculs!RR46","v":140.84979980172858},{"$f":"Calculs!RS46","v":"rigide"}]
[null,"Lastvergrösserungsfaktor",null,null,"f",{"$f":"Calculs!RM50","v":1.035143769968051},null,null,null,null,"Lastvergrösserungsfaktor",null,null,"f",{"$f":"Calculs!RT50","v":1.3164556962025316}]
[null,"Krümmungseinfluss",null,null,"αka",{"$f":"Calculs!RG385","v":1},null,null,null,null,"Krümmungseinfluss",null,null,"αka",{"$f":"Calculs!RT323","v":0.78902953586497893}]
[null,null,null,null,"αki",{"$f":"Calculs!RG384","v":1},null,null,null,null,null,null,null,"αki",{"$f":"Calculs!RT322","v":1.2109704641350212}]
[]
[null,"Terrain",null,null,null,null,null,null,null,null,"GF-UP Rohr",null,null,{"$f":"IF(Données!$AE$6>O28,\"di max.< di Eingabe!\",\"\")","v":""}]
[]
[null,"Bodenqualität",null,null,null,{"$f":"Données!AE30","v":"Sol stable"},null,null,null,null,"Innendurchmesser",null,null,"di",{"$f":"Calculs!RJ35","v":302},"mm"]
[null,"Feuchtraumgewicht des Baugrunds",null,null,"γ",{"$f":"Données!AE32","v":20},"kN/m3",null,null,null,"Radius",null,null,"rm",{"$f":"Calculs!RN35","v":156.5},"mm"]
[null,"Raumgewicht unter Auftrieb",null,null,"γ'",{"$f":"Données!AE34","v":11},"kN/m3",null,null,null,"Wanddicke",null,null,"e",{"$f":"Calculs!RM35","v":11},"mm"]
[null,"Verformungsmodul des Bodens",null,null,"EB",{"$f":"Données!AE38","v":5},"N/mm2"]
[null,"Erddruckbeiwert",null,null,"K",{"$f":"Données!AE40","v":0.5},null,null,null,null,"Terrain"]
[null,"Setzungs-Durchbiegungsziffer",null,null,"C2",{"$f":"Données!AE42","v":0.5}]
[null,"Hüllbeton",null,null,null,{"$f":"Données!AE50","v":"C16/20"},null,null,null,null,"Bodenqualität",null,null,null,{"$f":"Données!AE30","v":"Sol stable"}]
[null,"Lastminderung",null,null,"λmin",{"$f":"Données!AE44","v":"NON"},null,null,null,null,"Feuchtraumgewicht des Baugrunds",null,null,"γ",{"$f":"Données!AE32","v":20},"kN/m3"]
[null,null,null,null,null,null,null,null,null,null,"Raumgewicht unter Auftrieb",null,null,"γ'",{"$f":"Données!AE34","v":11},"kN/m3"]
[null,"Wasser",null,null,null,null,null,null,null,null,"Verformungsmodul des Bodens",null,null,"EB",{"$f":"Données!AE38","v":5},"N/mm2"]
[null,null,null,null,null,null,null,null,null,null,"Erddruckbeiwert",null,null,"K",{"$f":"Données!AE40","v":0.5}]
[null,"Grundwasser",null,null,null,{"$f":"Données!AE60","v":"Sans eau souterraine"},null,null,null,null,"Setzungs-Durchbiegungsziffer",null,null,"C2",{"$f":"Données!AE42","v":0.5}]
[null,"Grwundwasserspiegel",null,null,"hw",{"$f":"Données!AE62","v":1.3},"m",null,null,null,"Hüllbeton",null,null,null,{"$f":"Données!AE50","v":"C16/20"}]
[null,"Wasser im Rohr",null,null,null,{"$f":"Données!AE64","v":"Tuyau vide"},null,null,null,null,"Lastminderung",null,null,"λmin",{"$f":"Données!AE44","v":"NON"}]
[null,"Druck",null,null,"pEi",{"$f":"Données!AE66","v":10},"kN/m2"]
[null,null,null,null,null,null,null,null,null,null,"Wasser"]
[null,"Graben"]
[null,null,null,null,null,null,null,null,null,null,"Grundwasser",null,null,null,{"$f":"Données!AE60","v":"Sans eau souterraine"}]
[null,"Überdeckungshöhe",null,null,"H",{"$f":"Données!AE52","v":3},"m",null,null,null,"Grwundwasserspiegel",null,null,"hw",{"$f":"Données!AE62","v":1.3},"m"]
[null,"Grabentyp",null,null,null,{"$f":"Données!AE56","v":"Verticale (U)"},null,null,null,null,"Wasser im Rohr",null,null,null,{"$f":"Données!AE64","v":"Tuyau vide"}]
[null,"Grabenbreite",null,null,"B",{"$f":"Données!$AE$54","v":1.5},"m",null,null,null,"Druck",null,null,"pEi",{"$f":"Données!AE66","v":10},"kN/m2"]
[null,"Böschungsneigung",null,null,"β",{"$f":"Données!AE58","v":30},"°"]
[]
[]
[]
[]
[null,"Einwirkungen",null,null,null,null,null,null,null,null,"Graben"]
[]
[null,"Flächenlast",null,null,null,{"$f":"Données!AE8","v":"Pas de charge"},null,null,null,null,"Überdeckungshöhe",null,null,"H",{"$f":"Calculs!RU107","v":2.85},"m"]
[null,null,null,null,"qs",{"$f":"Calculs!RL134","v":0},"kN/m2",null,null,null,"Grabentyp",null,null,null,{"$f":"Données!$AE$56","v":"Verticale (U)"}]
[null,"Verkehr",null,null,null,{"$f":"Données!AE22","v":"Trafic routier"},null,{"$f":"IF(AND(Accueil!AZ15=\"Deutsch\",AND(OR(F58=\"Voie unique (ferroviaire)\",F58=\"Voies multiples (ferroviaire)\",F58=\"Voie étroite (ferroviaire)\",F58=\"Eingleisig (Bahnverkehr)\",F58=\"Mehrgleisig (Bahnverkehr)\",F58=\"Schmalspur (Bahnverkehr)\"),F46<2)),\"H zu klein!\",\"\")","v":""},null,null,"Grabenbreite",null,null,"B",{"$f":"Données!AE54","v":1.5},"m"]
[null,"Beiwert Strass- und Bahnvekehrslasten",null,null,"α",{"$f":"Calculs!RH104","v":0.9},null,null,null,null,"Böschungsneigung",null,null,"β",{"$f":"Données!AE58","v":30},"°"]
[null,"Dynamischer Beiwert",null,null,"Ψ",{"$f":"Calculs!RI104","v":1}]
[null,"Strassenverkehr und untergeordnete",null,null,"pvtotal",{"$f":"Calculs!RG120","v":24.562000000000001},"kN/m2",null,null,null,"Einwirkungen"]
[null,"Strassen",null,null,"pvRad",{"$f":"Calculs!RH120","v":4.9021999999999997},"kN/m2"]
[null,null,null,null,"∆pv",{"$f":"Calculs!RI120","v":19.659800000000001},"kN/m2",null,null,null,"Flächenlast",null,null,null,{"$f":"Données!AE8","v":"Pas de charge"}]
[null,"Strassenrand",null,null,"pvtotal",{"$f":"Calculs!RJ120","v":0},"kN/m2",null,null,null,null,null,null,"qs",{"$f":"Calculs!RW134","v":0},"kN/m2"]
[null,null,null,null,"pvRad",{"$f":"Calculs!RK120","v":0},"kN/m2",null,null,null,"Verkehr",null,null,null,{"$f":"Données!AE22","v":"Trafic routier"},null,{"$f":"IF(AND(Accueil!AZ15=\"Deutsch\",AND(OR(O65=\"Voie unique (ferroviaire)\",O65=\"Voies multiples (ferroviaire)\",O65=\"Voie étroite (ferroviaire)\",O65=\"Eingleisig (Bahnverkehr)\",O65=\"Mehrgleisig (Bahnverkehr)\",O65=\"Schmalspur (Bahnverkehr)\"),O56<2)),\"H zu klein!\",IF(AND(Accueil!AZ15=\"Deutsch\",AND(OR(O65=\"Trafic routier\",O65=\"Bord de route\",O65=\"Route d'importance secondaire\",O65=\"Strassenverkehr\",O65=\"Strassenrand\",O65=\"Untergeordnete Strasse\"),O56<1)),\"H zu klein!\",\"\"))","v":""}]
[null,null,null,null,"∆pv",{"$f":"Calculs!RL120","v":0},"kN/m2",null,null,null,"Beiwert Strass- und Bahnvekehrslasten",null,null,"α",{"$f":"Calculs!RT104","v":0.9}]
[null,"Bahnverkehr eingleisig",null,null,"peingleisig",{"$f":"Calculs!RN120","v":0},"kN/m2",null,null,null,"Dynamischer Beiwert",null,null,"Ψ",{"$f":"Calculs!RU104","v":1}]
[null,"Bahnverkehr mehrgleisig",null,null,"pmehrgleisig",{"$f":"Calculs!RO120","v":0},"kN/m2",null,null,null,"Strassenverkehr und untergeordnete",null,null,"pvtotal",{"$f":"Calculs!RS120","v":26.200299999999999},"kN/m2"]
[null,"Bahnverkehr schmalspur",null,null,"pschmal",{"$f":"Calculs!RP120","v":0},"kN/m2",null,null,null,"Strassen",null,null,"pvRad",{"$f":"Calculs!RT120","v":5.4489399999999995},"kN/m2"]
[null,null,null,null,null,null,null,null,null,null,null,null,null,"∆pv",{"$f":"Calculs!RU120","v":20.751359999999998},"kN/m2"]
["Resultate",null,null,null,null,null,null,null,null,null,"Strassenrand",null,null,"pvtotal",{"$f":"Calculs!RV120","v":0},"kN/m2"]
[null,null,null,null,null,null,null,null,null,null,null,null,null,"pvRad",{"$f":"Calculs!RW120","v":0},"kN/m2"]
[null,null,null,null,null,null,null,null,null,null,null,null,null,"∆pv",{"$f":"Calculs!RX120","v":0},"kN/m2"]
[null,null,null,null,null,null,null,null,null,null,"Bahnverkehr eingleisig",null,null,"peingleisig",{"$f":"Calculs!RZ120","v":0},"kN/m2"]
[null,null,null,null,null,null,null,null,null,null,"Bahnverkehr mehrgleisig",null,null,"pmehrgleisig",{"$f":"Calculs!SA120","v":0},"kN/m2"]
[null,null,null,null,null,null,null,null,null,null,"Bahnverkehr schmalspur",null,null,"pschmal",{"$f":"Calculs!SB120","v":0},"kN/m2"]
[]
[null,null,null,null,null,null,null,null,null,"Resultate"]
[]
[]
[]
[]
[]
[]
[]
[]
[]
[]
[]
[]
[]
[]
[]
[]
[]
[]
[]
[]
[]
[]
[]
[null,"Beanspruchungen",null,null,null,null,null,null,null,null,"Beanspruchungen"]
[]
[null,"Beanspruchungen",null,null,null,null,null,null,null,null,null,"Beanspruchungen"]
[null,"U1/V1",null,null,null,null,null,null,null,null,null,"U4/V4"]
[null,"Langzeit",null,null,"qs1",{"$f":"Calculs!RK204","v":62.108626198083059},"[kN/m2]",null,null,null,null,"Langzeit",null,"qs1",{"$f":"Calculs!SB204","v":116.66605285517008},"[kN/m2]"]
[null,"Kurzzeit",null,null,"qs2",{"$f":"Calculs!RK205","v":22.882681150159744},"[kN/m2]",null,null,null,null,"Kurzzeit",null,"qs2",{"$f":"Calculs!SB205","v":31.042380759493668},"[kN/m2]"]
[null,"Effektive Last auf Scheitel",null,null,"qser",{"$f":"Calculs!RK206","v":84.991307348242799},"[kN/m2]",null,null,null,null,"Effektive Last auf Scheitel",null,"qser",{"$f":"Calculs!SB206","v":147.70843361466376},"[kN/m2]"]
[null,"Erddruck langzeit",null,null,"qhlang",{"$f":"Calculs!RK207","v":53.031211599901695},"[kN/m2]",null,null,null,null,"Erddruck",null,"qh",{"$f":"Calculs!SB207","v":73.854216807331881},"[kN/m2]"]
[null,"Erddruck kurzzeit",null,null,"qhkurz",{"$f":"Calculs!RK208","v":14.941044750986659},"[kN/m2]",null,null,null,null,"Bemessungswert",null,"qds",{"$f":"Calculs!SB208","v":204.06274249372012},"[kN/m2]"]
[null,"Bemessungswert",null,null,"qds",{"$f":"Calculs!RK211","v":118.17066709265175},"[kN/m2]"]
[null,null,null,null,null,null,null,null,null,null,"Nachweise"]
[null,"Nachweise"]
[]
[null,null,null,"Verformungsnachweis (IOWA)",null,null,null,null,null,null,"Auftrieb"]
[null,null,null,null,1,null,{"$f":"IF(Calculs!RK46<0.1,\"\",\"Steifes Rohr. Verformungsnachweis entfällt!\")","v":""},null,null,null,"Stabilisierend",null,"G + G' + Gsp",{"$f":"Calculs!RX183","v":36.403608047289552},"[kN/m]"]
[null,null,null,"x/d kurz",{"$f":"IF(Calculs!RK46<0.1,Calculs!RJ214,\"\")","v":8.41275042285285E-3},null,null,null,null,null,null,null,"GR",{"$f":"Calculs!RX184","v":5.5446942636928878},"[kN/m]"]
[null,null,null,"x/d lang",{"$f":"IF(Calculs!RK46<0.1,Calculs!RJ215,\"\")","v":2.9859916441386091E-2},null,null,null,null,null,null,null,"Summe",{"$f":"Calculs!RX185","v":41.948302310982442},"[kN/m]","Faktor",0.9]
[null,null,null,"Summe",{"$f":"IF(Calculs!RK46<0.1,Calculs!RJ216,\"\")","v":3.8272666864238941E-2},{"$f":"IF(Calculs!RK46<0.1,Calculs!RK216,\"\")","v":"OK"},null,null,null,null,"Destabilisierend",null,"FA",{"$f":"Calculs!RX186","v":0},"[kN/m]","Faktor",1.05]
[null,null,null,"Zugelassen",{"$f":"IF(Calculs!RK46<0.1,Calculs!RJ217,\"\")","v":0.05}]
[null,null,null,null,null,null,null,null,null,null,"Kontrolle:",null,"1.05*FA",{"$f":"Calculs!RX188","v":0},"[kN/m]",{"$f":"Calculs!RZ188","v":"OK"}]
[null,null,null,null,null,null,null,null,null,null,null,null,"0.9*Summe",{"$f":"Calculs!RX189","v":37.753472079884197},"[kN/m]"]
[null,"Auftrieb"]
[null,"Stabilisierend",null,"G + G' + Gsp",{"$f":"Calculs!RI183","v":19.665280423991895},"[kN/m]",null,null,null,null,"Tragfähigkeit"]
[null,null,null,"GR",{"$f":"Calculs!RI184","v":0.18388055960726418},"[kN/m]",null,null,null,null,{"$f":"IF(N138=\"\",\"\",\"Annahme: 5% des Bemessungswerts werden durch das GF-UP Rohr aufgenommen und eine initiale\")","v":""}]
[null,null,null,"Summe",{"$f":"Calculs!RI185","v":19.849160983599159},"[kN/m]","Faktor",0.9,null,null,{"$f":"IF(N138=\"\",\"\",\"Deformation von 0.02m [SIA190:2017;4.2.11.1.2].\")","v":""}]
[null,"Destabilisierend",null,"FA",{"$f":"Calculs!RI186","v":0},"[kN/m]","Faktor",1.05]
[]
[null,"Kontrolle:",null,"1.05*FA",{"$f":"Calculs!RI188","v":0},"[kN/m]",{"$f":"Calculs!RK188","v":"OK"},null,null,null,null,"Tragfähigkeit"]
[null,null,null,"0.9*Summe",{"$f":"Calculs!RI189","v":17.864244885239245},"[kN/m]",null,null,null,null,null,"U4/V4"]
[null,null,null,null,null,null,null,null,null,null,null,"qds",null,{"$f":"Calculs!RW220","v":""},"[kN/m2]"]
[null,null,null,null,null,null,null,null,null,null,null,"qBl",null,{"$f":"Calculs!RW221","v":""},"[kN/m2]"]
[null,"Tragfähigkeit",null,null,null,null,null,null,null,null,null,"pwd",null,{"$f":"Calculs!RW222","v":""},"[kN/m2]"]
[null,null,null,null,null,null,null,null,null,null,null,"pcr",null,{"$f":"Calculs!RW223","v":""},"[kN/m2]"]
[null,null,"Tragfähigkeit",null,null,null,null,null,null,null,null,"k",null,{"$f":"Calculs!RW224","v":""},"[-]"]
[null,null,"U1/V1",null,null,null,null,null,null,null,null,"qBl/2*(1-2*pwd/k*pcr)",null,{"$f":"Calculs!RW225","v":""},"[kN/m2]"]
[null,null,"qds",null,{"$f":"IF(Calculs!RK46<0.1,Calculs!RJ220,\"\")","v":118.17066709265175},"[kN/m2]",{"$f":"IF(Calculs!RK46<0.1,\"\",\"Steifes Rohr. Limite der Tragfähigkeitsformel überschritten!\")","v":""}]
[null,null,"qBl",null,{"$f":"IF(Calculs!RK46<0.1,Calculs!RJ221,\"\")","v":543.77539869758255},"[kN/m2]",null,null,null,null,null,"Resultat",null,{"$f":"Calculs!RW227","v":""}]
[null,null,"pwd",null,{"$f":"IF(Calculs!RK46<0.1,Calculs!RJ222,\"\")","v":0},"[kN/m2]"]
[null,null,"pcr",null,{"$f":"IF(Calculs!RK46<0.1,Calculs!RJ223,\"\")","v":194.20100258977425},"[kN/m2]",null,null,null,null,{"$f":"IF(N138=\"\",\"Tragfähigkeitsnachweis nur nötig bei Grundwasser!\",\"\")","v":"Tragfähigkeitsnachweis nur nötig bei Grundwasser!"}]
[null,null,"k",null,{"$f":"IF(Calculs!RK46<0.1,Calculs!RJ224,\"\")","v":1},"[-]"]
[null,null,"qBl/2*(1-2*pwd/k*pcr)",null,{"$f":"IF(Calculs!RK46<0.1,Calculs!RJ225,\"\")","v":271.88769934879127},"[kN/m2]"]
[]
[null,null,"Resultat",null,{"$f":"IF(Calculs!RK46<0.1,Calculs!RJ227,\"\")","v":"OK"}]
[]
[]
[]
[]
[]
[]
[null,"Gebrauchstauglichkeit",null,null,null,null,null,null,null,null,"Gebrauchstauglichkeit"]
[]
[null,null,null,null,null,null,null,null,null,null,null,null,"σRbz,adm",{"$f":"contrainte","v":-0.3},"N/mm2"]
[null,null,null,"εRbz,adm",{"$f":"Calculs!RN418","v":0.54149520766773174},"%"]
[null,null,null,null,null,null,null,null,null,null,null,null,"Spannungskonventionen:"]
[null,null,null,"Spannungskonventionen:",null,null,null,null,null,null,null,null,"Zug negatif -"]
[null,null,null,"Zug negatif -",null,null,null,null,null,null,null,null,"Druck positif +"]
[null,null,null,"Druck positif +"]
[]
[null,"Spannungen Verlegeprofil U1/V1",null,null,null,null,null,null,null,null,"Spannungen Verlegeprofil U4/V4"]
[null,"Spannungen in [N/mm2]",null,"0°","45°","90°","135°","180°",null,null,"Spannungen in [N/mm2]",null,"0°","45°","90°","135°","180°"]
[null,"Langzeit",null,null,null,null,null,null,null,null,"Durch die Normalkraft",null,{"$f":"Calculs!RT335","v":0.11570908442684374},{"$f":"Calculs!RU335","v":0.17760787765196645},{"$f":"Calculs!RV335","v":0.24262050382716874},{"$f":"Calculs!RW335","v":0.18170214848608401},{"$f":"Calculs!RX335","v":0.11767024068432501}]
[null,"Durch die Normalkraft",null,{"$f":"Calculs!RG390","v":0.50257471243309881},{"$f":"Calculs!RH390","v":0.75737771528327646},{"$f":"Calculs!RI390","v":0.88781547703636354},{"$f":"Calculs!RJ390","v":0.75922925637256033},{"$f":"Calculs!RK390","v":0.50346160085361435},null,null,"Durch das Moment aussen",null,{"$f":"Calculs!RT336","v":0.2333830385563905},{"$f":"Calculs!RU336","v":1.478978239588871E-3},{"$f":"Calculs!RV336","v":-0.23548942766682152},{"$f":"Calculs!RW336","v":-1.4753573663094962E-3},{"$f":"Calculs!RX336","v":0.23760096046305951}]
[null,"Durch das Moment aussen",null,{"$f":"Calculs!RG391","v":6.1899709175265043},{"$f":"Calculs!RH391","v":-0.66218916401745176},{"$f":"Calculs!RI391","v":-4.8547571118012582},{"$f":"Calculs!RJ391","v":-0.67743628774651099},{"$f":"Calculs!RK391","v":6.211739323614867},null,null,"Durch das Moment innen",null,{"$f":"Calculs!RT337","v":-0.35818680249028917},{"$f":"Calculs!RU337","v":-2.2698756939144708E-3},{"$f":"Calculs!RV337","v":0.36141960288972075},{"$f":"Calculs!RW337","v":2.2643185247637723E-3},{"$f":"Calculs!RX337","v":-0.36466029760908064}]
[null,"Durch das Moment innen",null,{"$f":"Calculs!RG392","v":-6.1899709175265043},{"$f":"Calculs!RH392","v":0.66218916401745176},{"$f":"Calculs!RI392","v":4.8547571118012582},{"$f":"Calculs!RJ392","v":0.67743628774651099},{"$f":"Calculs!RK392","v":-6.211739323614867}]
[null,null,null,null,null,null,null,null,null,null,"Spannungen aussen",null,{"$f":"Calculs!RT339","v":0.34909212298323422},{"$f":"Calculs!RU339","v":0.17908685589155532},{"$f":"Calculs!RV339","v":7.1310761603472217E-3},{"$f":"Calculs!RW339","v":0.18022679111977452},{"$f":"Calculs!RX339","v":0.35527120114738453}]
[null,"Spannungen aussen",null,{"$f":"Calculs!RG394","v":6.6925456299596036},{"$f":"Calculs!RH394","v":9.5188551265824706E-2},{"$f":"Calculs!RI394","v":-3.9669416347648947},{"$f":"Calculs!RJ394","v":8.1792968626049345E-2},{"$f":"Calculs!RK394","v":6.7152009244684816},null,null,"Spannungen innen","Spannungen innen",{"$f":"Calculs!RT340","v":-0.24247771806344542},{"$f":"Calculs!RU340","v":0.17533800195805199},{"$f":"Calculs!RV340","v":0.60404010671688946},{"$f":"Calculs!RW340","v":0.18396646701084779},{"$f":"Calculs!RX340","v":-0.24699005692475562}]
[null,"Spannungen innen","Spannungen innen",{"$f":"Calculs!RG395","v":-5.687396205093405},{"$f":"Calculs!RH395","v":1.4195668793007283},{"$f":"Calculs!RI395","v":5.7425725888376213},{"$f":"Calculs!RJ395","v":1.4366655441190712},{"$f":"Calculs!RK395","v":-5.7082777227612524}]
[null,null,null,null,null,null,null,null,null,null,"Spannungen aussen",null,{"$f":"Calculs!RT342","v":"OK"},{"$f":"Calculs!RU342","v":"OK"},{"$f":"Calculs!RV342","v":"OK"},{"$f":"Calculs!RW342","v":"OK"},{"$f":"Calculs!RX342","v":"OK"}]
[null,"Deformationen aussen",null,{"$f":"Calculs!RG399","v":0.24207789690717063},{"$f":"Calculs!RH399","v":3.4430911007789912E-3},{"$f":"Calculs!RI399","v":-0.14348932994920433},{"$f":"Calculs!RJ399","v":2.9585558203968089E-3},{"$f":"Calculs!RK399","v":0.24289736775604623},null,null,"Spannungen innen","Spannungen innen",{"$f":"Calculs!RT343","v":"OK"},{"$f":"Calculs!RU343","v":"OK"},{"$f":"Calculs!RV343","v":"OK"},{"$f":"Calculs!RW343","v":"OK"},{"$f":"Calculs!RX343","v":"OK"}]
[null,"Deformationen innen",null,{"$f":"Calculs!RG400","v":-0.20572036237504818},{"$f":"Calculs!RH400","v":5.1347541527672763E-2},{"$f":"Calculs!RI400","v":0.20771616242995544},{"$f":"Calculs!RJ400","v":5.1966022005507033E-2},{"$f":"Calculs!RK400","v":-0.2064756734570726}]
[]
[null,"Kurzzeit"]
[null,"Durch die Normalkraft",null,{"$f":"Calculs!RG404","v":0},{"$f":"Calculs!RH404","v":0.16277907272727274},{"$f":"Calculs!RI404","v":0.32555814545454542},{"$f":"Calculs!RJ404","v":0.16277907272727271},{"$f":"Calculs!RK404","v":0}]
[null,"Durch das Moment aussen",null,{"$f":"Calculs!RG405","v":3.3566578401552563},{"$f":"Calculs!RH405","v":-0.18871606385179196},{"$f":"Calculs!RI405","v":-2.9774111349146346},{"$f":"Calculs!RJ405","v":-0.18871606385179196},{"$f":"Calculs!RK405","v":3.3566578401552563}]
[null,"Durch das Moment innen",null,{"$f":"Calculs!RG406","v":-3.3566578401552563},{"$f":"Calculs!RH406","v":0.18871606385179196},{"$f":"Calculs!RI406","v":2.9774111349146346},{"$f":"Calculs!RJ406","v":0.18871606385179196},{"$f":"Calculs!RK406","v":-3.3566578401552563}]
[]
[null,"Spannungen aussen",null,{"$f":"Calculs!RG408","v":3.3566578401552563},{"$f":"Calculs!RH408","v":-2.5936991124519221E-2},{"$f":"Calculs!RI408","v":-2.6518529894600893},{"$f":"Calculs!RJ408","v":-2.5936991124519249E-2},{"$f":"Calculs!RK408","v":3.3566578401552563}]
[null,"Spannungen innen","Spannungen innen",{"$f":"Calculs!RG409","v":-3.3566578401552563},{"$f":"Calculs!RH409","v":0.35149513657906473},{"$f":"Calculs!RI409","v":3.3029692803691799},{"$f":"Calculs!RJ409","v":0.35149513657906467},{"$f":"Calculs!RK409","v":-3.3566578401552563}]
[]
[null,"Deformationen aussen",null,{"$f":"Calculs!RG413","v":6.0707294018603121E-2},{"$f":"Calculs!RH413","v":-4.6908699698783096E-4},{"$f":"Calculs!RI413","v":-4.7960449587503715E-2},{"$f":"Calculs!RJ413","v":-4.690869969878315E-4},{"$f":"Calculs!RK413","v":6.0707294018603121E-2}]
[null,"Deformationen innen",null,{"$f":"Calculs!RG414","v":-6.0707294018603121E-2},{"$f":"Calculs!RH414","v":6.3570133205555967E-3},{"$f":"Calculs!RI414","v":5.9736302234639237E-2},{"$f":"Calculs!RJ414","v":6.357013320555595E-3},{"$f":"Calculs!RK414","v":-6.0707294018603121E-2}]
[]
[null,"Summe Deformationen aus",null,{"$f":"D170+D181","v":0.30278519092577377},{"$f":"E170+E181","v":2.9740041037911603E-3},-0.19144977953670805,2.4894688234089776E-3,0.30360466177464934]
[null,"Summe Deformationen in.",null,{"$f":"D171+D182","v":-0.26642765639365129},5.7704554848228361E-2,0.26745246466459466,5.8323035326062631E-2,-0.26718296747567571]
[]
[null,"Deformationen aussen",null,{"$f":"Calculs!RG420","v":"OK"},{"$f":"Calculs!RH420","v":"OK"},{"$f":"Calculs!RI420","v":"OK"},{"$f":"Calculs!RJ420","v":"OK"},{"$f":"Calculs!RK420","v":"OK"}]
[null,"Deformationen innen",null,{"$f":"Calculs!RG421","v":"OK"},{"$f":"Calculs!RH421","v":"OK"},{"$f":"Calculs!RI421","v":"OK"},{"$f":"Calculs!RJ421","v":"OK"},{"$f":"Calculs!RK421","v":"OK"}]

{"sheet":"Explications (F)","index":48,"n_rows":139,"n_cols":23,"rows_kept":139,"cut":false,"hidden":false,"merged":[[3,8,4,39],[59,19,74,38],[120,13,126,17],[120,26,125,44]]}
[]
[]
[]
[null,null,null,null,null,null,null,null,"PROGRAMME D'AIDE AU CHOIX DES CONDUITES"]
[]
[null,null,null,null,null,null,null,null,"Conditions d'utilisation"]
[]
[]
[null,null,null,null,null,null,null,null,"Le programme est seulement destiné pour le dimensionnement statique des conduites. Le calcul hydraulique n’est pas considéré."]
[null,null,null,null,null,null,null,null,"Sauf mentionner différemment, les délimitations de la norme SIA190 :2017 s’appliquent."]
[null,null,null,null,null,null,null,null,"Le créateur de ce programme n’assume aucune responsabilité sur les résultats obtenus."]
[]
[]
[null,null,null,null,null,null,null,null,"Limitations du logiciel"]
[]
[]
[]
[null,null,null,null,null,null,null,null,"Les matériaux traités sont : Béton (B), Polypropylène (PP), Polychlorure de vinyle (PVC), Fonte dutcile (GGG), Béton armé (STB), Grès (STZ), Polyester insaturé (GF-UP) et le "]
[null,null,null,null,null,null,null,null,"Polyéthylène insaturé (PE)."]
[]
[null,null,null,null,null,null,null,null,"Le matériau non traité est le Béton armé (STB)"]
[]
[null,null,null,null,null,null,null,null,"Le programme calcule que les tuyaux circulaires."]
[]
[null,null,null,null,null,null,null,null,"Le logiciel ne vérifie pas le comportement des tuyaux dans le sens longitudinal."]
[]
[null,null,null,null,null,null,null,null,"Le logiciel ne vérifie pas la capacité portante et les tassements du sol."]
[]
[null,null,null,null,null,null,null,null,"Le logiciel ne vérifie pas la stabilité des pentes pour les fouilles."]
[]
[null,null,null,null,null,null,null,null,"Le logiciel ne considère pas la phase de chantier, qui peut aussi être déterminant."]
[]
[null,null,null,null,null,null,null,null,"L’épaisseur du tuyau fictif pour les tuyaux souples posé dans le profil d’enrobage 4 est limitée de 150mm à 500mm. "]
[null,null,null,null,null,null,null,null,"Les itérations dans ce logiciel sont faites part pas de 5mm."]
[]
[null,null,null,null,null,null,null,null,"Les tuyaux en béton (B) et grès (STZ) peuvent être posés dans tous les profils d’enrobage. Les tuyaux en plastique (PP, PVC et PE) et GF-UP peuvent qu’être posés "]
[null,null,null,null,null,null,null,null,"dans les profils d’enrobage 1 et 4 et les tuyaux en fonte ductile (GGG) dans le profil d'enrobage 1."]
[]
[null,null,null,null,null,null,null,null,"Le logiciel travaille avec les formules du document technique « Rohrstatik »."]
[]
[null,null,null,null,null,null,null,null,"Les formules pour la sécurité structurale et la vérification de la déformation ne sont plus valables pour les tuyaux en plastique et GF-UP rigide (SFcourt > 0.1). "]
[null,null,null,null,null,null,null,null,"Il est nécessaire de faire des essais de rupture pour obtenir un résultat."]
[]
[null,null,null,null,null,null,null,null,"Les calculs dépendent des tuyaux existants. Si on introduit un diamètre intérieur, le logiciel calcule avec ce diamètre, ou il prend le prochain (plus grand)."]
[]
[null,null,null,null,null,null,null,null,"La hauteur de couverture minimale pour le cas du trafic routier est de 1m et pour le trafic ferroviaire de 2m (depuis le sommet des rails)."]
[]
[null,null,null,null,null,null,null,null,"Les tuyaux en fonte ductile (GGG) peuvent être que poser dans le profil d’enrobage 1, avec un angle d’appui αu = 30°."]
[]
[null,null,null,null,null,null,null,null,"Afin d’éviter que les tuyaux en plastique et GF-UP présentent un comportement rigide (vérification par calcul plus valable -> essais de rupture), "]
[null,null,null,null,null,null,null,null,"il faut poser les tuyaux dans des sols non cohésifs ou faiblement cohésifs (voir tableau 1 de la norme SIA190 :2017)."]
[]
[null,null,null,null,null,null,null,null,"Le coefficient de réduction de charge sur le tuyau λmin n’est pas applicable quand le tuyau se trouve sous une route ou une voie ferrée."]
[]
[null,null,null,null,null,null,null,null,"Hypothèses du logiciel"]
[]
[]
[null,null,null,null,null,null,null,null,"Les caractéristiques des matériaux de la norme SIA190 :2017 ont été appliquées."]
[]
[]
[]
[]
[]
[]
[]
[]
[]
[]
[]
[]
[]
[]
[]
[]
[]
[null,null,null,null,null,null,null,null,null,null,null,null,null,null,null,null,null,null,null,null,null,null,"Tableau 1 (tableau 2 SIA190 :2017 caractérisitques des tuyaux)"]
[]
[]
[]
[]
[]
[]
[]
[]
[]
[]
[]
[null,null,null,null,null,null,null,null,null,null,null,null,null,null,null,null,null,null,null,null,null,"Tableau 2 (tableau 3 SIA190 :2017 caractérisitques des tuyaux GF-UP)"]
[]
[null,null,null,null,null,null,null,null,"Les dimensions des tuyaux ont été comparées avec divers fournisseurs. Les dimensions qui se trouvent dans l’annexe 9.1 "]
[null,null,null,null,null,null,null,null,"du mode d'emploi ont été programmées."]
[]
[null,null,null,null,null,null,null,null,"Malgré l’article 2.4.6 de la norme SIA190 :2017 dit que le diamètre nominal (DN) minimal pour un système séparatif est de 250mm et pour un système unitaire, "]
[null,null,null,null,null,null,null,null,"le programme traite les tuyaux avec un diamètre nominal de 200mm à 1500mm (avec message d'avertissement)."]
[]
[null,null,null,null,null,null,null,null,"Les types de béton d’enrobage considéré sont : C16/20; C20/25; C25/30;C30/37"]
[]
[null,null,null,null,null,null,null,null,"Le module d’élasticité du béton d’enrobage a été programmé à 20’000N/mm2."]
[]
[null,null,null,null,null,null,null,null,"L’épaisseur minimale de l’enrobage est fixée à 150mm et doit être capable de reprendre la force de traction pour les tuyaux rigides."]
[]
[null,null,null,null,null,null,null,null,"Le modèle de charges pour le trafic routier est le modèle de charge 1 selon la SIA261 :2014 [2] articles (10.2.2)."]
[]
[null,null,null,null,null,null,null,null,"Le modèle de charges pour le trafic ferroviaire est le modèle de charge 1 de la norme SIA261 :2014 (article 11.2.1)."]
[]
[null,null,null,null,null,null,null,null,"Pour la charge des voies étroites, le logiciel calcule avec la simplification proposée dans la norme SIA190 :2017 (article 4.2.3.11)"]
[null,null,null,null,null,null,null,null,"et réduis de 50% la charge du modèle 1."]
[]
[null,null,null,null,null,null,null,null,"Les coefficients de charge α pour le trafic sont à introduire manuellement, sauf pour les routes d’importances secondaires (0.65) "]
[null,null,null,null,null,null,null,null,"et les voies étroites (1.0). Dans ces deux cas, le coefficient est déjà programmé."]
[]
[null,null,null,null,null,null,null,null,"Les charges de trafic sont calculées d’après les tableaux dans l’annexe C.2, C.3 et C.4 de la norme SIA190 :2017. "]
[null,null,null,null,null,null,null,null,"Les charges sont interpolées linéairement pour les hauteurs qui ne sont pas indiquées dans ces annexes."]
[]
[null,null,null,null,null,null,null,null,"La poussée d’Archimède est calculée par rapport au plus haut niveau d’eau souterraine. "]
[null,null,null,null,null,null,null,null,"Le logiciel ne vérifie pas la poussée lors de la phase de bétonnage."]
[]
[null,null,null,null,null,null,null,null,"Les conventions pour l’application des formules sont comme mentionnées dans le document technique « Rohrstatik ». "]
[null,null,null,null,null,null,null,null,"L’image ci-dessous montre la convention pour l’angle φ en degré et le tableau ci-dessous montre la convention des signes pour les efforts internes."]
[]
[]
[]
[]
[]
[]
[]
[]
[]
[null,null,null,null,null,null,null,null,"Le facteur de pression d’appui KSt pour les tuyaux rigides posés dans le profil d’enrobage U4/V4 est malgré l’article 4.2.9.3 de la norme SIA190 :2017"]
[null,null,null,null,null,null,null,null,"programmé à 0.8. Ceci, car le profil 4 est plus favorable que le profil 3."]
[]
[null,null,null,null,null,null,null,null,"Facteur de voilement k est considéré égale à 1 pour les tuyaux souples."]
[]
[null,null,null,null,null,null,null,null,"Le Coefficient de décharge C3 est considéré égal à 1.0 pour le profil d’enrobage 4 des tuyaux souples (plastiques et GF-UP)."]
[]
[null,null,null,null,null,null,null,null,"Que 5% de la charge de dimensionnement est reprise par les tuyaux souples lors qu’ils sont complètement enrobés de béton. "]
[null,null,null,null,null,null,null,null,"Le reste est repris par le tuyau en béton « fictif »."]
[]
[null,null,null,null,null,null,null,null,"Lors que le tuyau souple dans le profil d’enrobage 4 est soumis à l’action de l’eau souterraine, une déformation initiale x/d de 0.02 est admise."]

{"sheet":"Explications (D)","index":49,"n_rows":138,"n_cols":50,"rows_kept":138,"cut":false,"hidden":false,"merged":[[3,8,4,39],[58,18,73,37],[119,13,125,17],[119,24,124,41]]}
[]
[]
[]
[null,null,null,null,null,null,null,null,"PROGRAMM ZUR AUSWAHL VON KANALISATIONSROHREN"]
[]
[null,null,null,null,null,null,null,null,"Nutzungsbedingungen"]
[]
[]
[null,null,null,null,null,null,null,null,"Das Programm ist nur für die statische Bemessungen der Rohren bestimmt. Die hydraulischen Berechnungen werden nicht berücksichtigt."]
[null,null,null,null,null,null,null,null,"Insofern nicht spezifisch erwàhnt, gelten die Grenzen der SIA190:2017."]
[null,null,null,null,null,null,null,null,"Der Entwickler dieses Statikprogrammes, übernimmt keine Verantwortung für die erhaltenen Resultate.",null,null,null,null,null,null,null,null,null,null,null,null,null,null,null,null,null,null,null,null,null,null,null,null,null,null,null,null,null,null,null,null,null,null,null,null,null,null,null,null,{"$f":"IF(Accueil!AQ134=\"Français\",\"Retour\",IF(Accueil!AQ134=\"Deutsch\",\"Zurück\",IF(Accueil!AQ134=\"Italiano\",\"\")))","v":false}]
[]
[]
[null,null,null,null,null,null,null,null,"Einschränkungen des Programms"]
[]
[]
[]
[null,null,null,null,null,null,null,null,"Die behandelten Materialien sind: Beton (B), Polypropylen (PP), PolyvinylchloridPVC), Duktiles Gusseisen (GGG), Steinzeug (STZ), Ungesättigte Polyester (glasfaserverstärkt) (GF-UP) und "]
[null,null,null,null,null,null,null,null,"Polyethylen (PE)."]
[]
[null,null,null,null,null,null,null,null,"Stahlbeton (STB) wird nicht behandelt."]
[]
[null,null,null,null,null,null,null,null,"Das Programm berechnet nur kreisförmige Rohre."]
[]
[null,null,null,null,null,null,null,null,"Das Programm kontrolliert nicht das Tragverhalten der Rohre in Längsrichtung."]
[]
[null,null,null,null,null,null,null,null,"Das Programm kontrolliert nicht die Tragfähigkeit und Setzungsverhalten des Untergrundes."]
[]
[null,null,null,null,null,null,null,null,"Das Programm kontrolliert nicht die Böschungsstabilität."]
[]
[null,null,null,null,null,null,null,null,"Das Programm beachtet die Bauphase nicht, welche auch ausschlaggebend sein kann."]
[]
[null,null,null,null,null,null,null,null,"Die Wanddicke des fiktiven Rohres für die weichen Rohre im Normalverlegeprofil 4 ist limitiert von 150mm bis 500mm."]
[null,null,null,null,null,null,null,null,"Die Iteration in diesem Programm werden in 5mm Schritten durchgeführt."]
[]
[null,null,null,null,null,null,null,null,"Die Beton- (B) und Steinzeugrohre (STZ) können in allen Verlegeprofile verlegt werden, die Kunststoff- und GF-UP Rohre hingegen können nur in den  Verlegeprofile 1 und 4 verlegt werden. "]
[null,null,null,null,null,null,null,null,"Die duktilen Gussrohre (GGG) können nur im Verlegeprofil 1, mit einem Auflagewinkel von αu = 30°, verlegt werden."]
[]
[null,null,null,null,null,null,null,null,"Um zu verhindern, dass die Kunstoff- und die glasfaserverstärkten Rohre (GF-UP) ein steifes Verhalten aufweisen (Nachweise nicht mehr machbar -> Bruchlastversuche), "]
[null,null,null,null,null,null,null,null,"müssen die Rohre in nicht bindige oder schwach bindige Böden verlegt werden (siehe Tabelle 1 der Norm SIA190:2017)."]
[]
[]
[null,null,null,null,null,null,null,null,"Das Programm rechnet mit den Formeln des Dokumentes \"Rohrstatik\"."]
[]
[null,null,null,null,null,null,null,null,"Die Formeln für die Tragsicherheit und die Überprüfung der Verformungen sind für die steifen Kunststoffrohre nicht mehr anwendbar (SFkurz > 0.1). "]
[null,null,null,null,null,null,null,null,"Es müssen Versuche durchgeführt werden um Resultate zu erhalten."]
[]
[null,null,null,null,null,null,null,null,"Die Berechnungen stützen sich auf die vom Markt erhältlichen Rohren ab. Wenn ein Innendurchmesser eingegeben wird, rechnet das Programm mit diesem, oder den nächst Grösseren."]
[]
[null,null,null,null,null,null,null,null,"Die minimale Überdeckungshöhe für den Strassenverkehr ist 1m und für den Bahnverkehr 2m (OK Schiene)."]
[]
[null,null,null,null,null,null,null,null,"Der Lastminderungsfaktor λmin darf nicht angewendet werden, wenn das Rohr sich unter einer Strasse oder Eisenbahnlinie befindet."]
[]
[null,null,null,null,null,null,null,null,"Annahmen des Programms"]
[]
[]
[null,null,null,null,null,null,null,null,"Die Werkstoffkennwerte der Norm SIA190 :2017 werden angewendet."]
[]
[]
[]
[]
[]
[]
[]
[]
[]
[]
[]
[]
[]
[]
[]
[]
[]
[null,null,null,null,null,null,null,null,null,null,null,null,null,null,null,null,null,null,null,null,null,null,"Tabelle 1 (Tabelle 2 SIA190 :2017 Werkstoffkennwerte)"]
[]
[]
[]
[]
[]
[]
[]
[]
[]
[]
[]
[null,null,null,null,null,null,null,null,null,null,null,null,null,null,null,null,null,null,null,null,null,null,"Tabelle 2 (Tabelle 3 SIA190 :2017 Werkstoffkennwerte)"]
[]
[null,null,null,null,null,null,null,null,"Die Dimensionen der Rohre wurden mit verschiedenen Lieferanten verglichen. Die Dimensionen befinden sich im Anhang 9.1 der Bedienungsanleitung und wurden programmiert."]
[]
[]
[null,null,null,null,null,null,null,null,"Obwohl der Artikel 2.4.6 der Norm SIA190 :2017 sagt, dass der minimale Nominaldurchmesser (DN) 250mm ist, rechnet das Programm mit Nominaldurchmetern von 200mm bis 1500mm."]
[]
[]
[null,null,null,null,null,null,null,null,"Folgende Betonklassen werden für den Hüllbeton in betracht gezogen: C16/20; C20/25; C25/30;C30/37"]
[]
[null,null,null,null,null,null,null,null,"Das Elastizitätsmodul des Hüllbetons wurde mit 20'000 N/mm2 programmiert."]
[]
[null,null,null,null,null,null,null,null,"Die Mindestdicke des Hüllbetons ist auf 150mm fixiert und muss die Zugkraft für die steifen Rohre aufnehmen können."]
[]
[null,null,null,null,null,null,null,null,"Das Lastmodell für den Strassenverkehr ist das Lastmodell 1 nach der Norm SIA261 :2014 Artikel (10.2.2)."]
[]
[null,null,null,null,null,null,null,null,"Das Lastmodell für den Bahnverkehr ist das Lastmodell 1 nach der Norm SIA261 :2014 (Artikel 11.2.1)."]
[]
[null,null,null,null,null,null,null,null,"Für die Schmalspuren (Bahnverkehr), rechnet das Programm mit der Vereinfachung der Norm SIA190 :2017 (Artikel 4.2.3.11)"]
[null,null,null,null,null,null,null,null,"und reduziert um 50% die Last des Lastmodells 1."]
[]
[null,null,null,null,null,null,null,null,"Die Lastbeiwerte α für den Verkehr sind manuel einzutragen, mit Ausnahme der Untergeordneten Strassen (0.65) und für die Schmalspuren (1.0),"]
[null,null,null,null,null,null,null,null,"bei diesen beiden Fällen ist der Lastbeiwert schon programmiert."]
[]
[null,null,null,null,null,null,null,null,"Die Verkehrslasten sind nach den Tabellen C.2, C.3 und C.4 des Anhangs der Norm SIA190 :2017 programmiert."]
[null,null,null,null,null,null,null,null,"Für die Höhen, welche in den Tabellen nicht gegeben sind, wurden die Lasten linear interpoliert."]
[]
[null,null,null,null,null,null,null,null,"Der Auftrieb wird mit dem Höchsten Niveau des Grundwasserspiegels berechnet. "]
[null,null,null,null,null,null,null,null,"Das Programm überprüft nicht die Phase des betonierens."]
[]
[null,null,null,null,null,null,null,null,"Die Konventionen für die Anwendung der Formeln sind wie im Dokument \"Rohrstatik\" verwendet. "]
[null,null,null,null,null,null,null,null,"Folgende Abbildung veranschaulicht die Konvention für den Winkel φ in Grad. Die Tabelle zeigt die Vorzeichen für die internen Kräfte auf."]
[]
[]
[]
[]
[]
[]
[]
[]
[]
[null,null,null,null,null,null,null,null,"Der Stützdruckbeiwert KSt für die steifen Rohre im Verlegeprofil U4/V4 ist trotz des Artikels 4.2.9.3 der Norm SIA190 :2017 mit 0.8 programmiert."]
[null,null,null,null,null,null,null,null,"Dies aus dem Grund, dass das Profil 4 günstiger ist, als das Verlegeprofil 3."]
[]
[null,null,null,null,null,null,null,null,"Der Stützfaktor k ist mit dem Wert 1.0 im Programm eingefügt."]
[]
[null,null,null,null,null,null,null,null,"Die Ausladungsziffer C3 wird mit 1.0 für die weichen Rohre im Verlegprofil 4 berücksichttigt."]
[]
[null,null,null,null,null,null,null,null,"Nur 5% der Bemessungslast wird von den weichen Rohren aufgenommen, wenn diese komplett mit Beton umhüllt sind. "]
[null,null,null,null,null,null,null,null,"Der Rest wird durch das \"fiktive\" Rohr aus Beton aufgenommen."]
[]
[null,null,null,null,null,null,null,null,"Wenn die weichen Rohre im Verlegeprofil der Einwirkung des Grundwassers ausgesetzt sind, wird eine initiale Deformation x/d von 0.02 angenommen."]

{"sheet":"Impression (F)","index":50,"n_rows":375,"n_cols":9,"rows_kept":375,"cut":false,"hidden":false,"merged":[[318,4,318,6],[106,4,106,6],[371,6,373,8],[338,6,340,8],[349,6,351,8],[360,6,362,8],[156,4,156,6],[274,6,276,8],[289,6,291,8],[193,7,193,8],[198,6,200,8],[167,4,167,6],[178,4,178,6],[190,4,190,6],[283,4,283,6],[295,4,295,6],[365,4,365,6],[117,4,117,6],[8,0,9,8],[162,6,164,8],[173,6,175,8],[11,3,11,8],[41,5,41,6],[33,5,33,6],[35,5,35,6],[37,5,37,6],[39,5,39,6],[43,5,43,6],[77,6,80,6],[90,6,93,6],[142,4,142,6],[15,2,29,6],[63,6,66,6],[70,4,70,6],[83,4,83,6],[97,4,97,6],[354,4,354,6],[148,6,150,8],[136,6,138,8],[123,6,125,8],[112,6,114,8],[130,4,130,6],[184,6,186,8],[332,4,332,6],[343,4,343,6],[324,6,326,8],[307,4,307,6],[301,6,303,8],[313,6,315,8]]}
[null,"Projet:",{"$f":"Accueil!P15","v":"VSA 2026"},null,null,"Ingénieur/e:",null,{"$f":"Accueil!AI15","v":0}]
[]
[null,{"$f":"Accueil!L17","v":"N°:"},{"$f":"Accueil!P17","v":0},null,null,"Responsable:",null,{"$f":"Accueil!AI17","v":0}]
[]
[null,"Lieu:",{"$f":"Accueil!P21","v":0},null,null,"Maître d'ouvrage:",null,{"$f":"Accueil!AI19","v":0}]
[null,null,{"$f":"Accueil!P23","v":0}]
[]
[]
["Résultats"]
[]
[]
[null,"Remarques:",null,{"$f":"Accueil!AI21","v":0}]
[]
[null,"Profil d'enrobage"]
[]
[]
[]
[]
[]
[]
[]
[]
[]
[]
[]
[]
[]
[]
[]
[]
[]
[]
[null,"Informations:"]
[null,null,"Hauteur de couverture",null,"H",{"$f":"Données!AE52","v":3},null,"m"]
[]
[null,null,"Type de fouille",null,null,{"$f":"Données!AE56","v":"Verticale (U)"},null,"-"]
[]
[null,null,"Niveau d'eau souterraine",null,"hw",{"$f":"IF(OR(Données!AE60=\"Sans eau souterraine\",Données!AE60=\"Ohne Grundwasser\"),\"-\",Données!AE62)","v":"-"},null,"m"]
[]
[null,null,"Charge surfacique",null,"q",{"$f":"IF(OR(Données!AE8=\"Pas de charge\",Données!AE8=\"Keine Flächenlast\"),\"-\",Données!AE10)","v":"-"},null,"kN/m2"]
[]
[null,null,"Trafic",null,null,{"$f":"Données!AE22","v":"Trafic routier"},null,"-"]
[]
[null,null,"Eau dans tuyau",null,null,{"$f":"Données!AE64","v":"Tuyau vide"},null,"-"]
[]
[]
[null,"Légende","-","Pas faisable"]
[null,null,"OK","faisable"]
[]
[]
[]
[]
[]
[]
[]
[]
[null,"Béton"]
[null,"Tuyau:","Diamètre intérieur",null,"di",{"$f":"Calculs!O32","v":300},"mm"]
[null,null,"Diamètre nominal",null,"DN",{"$f":"Calculs!P32","v":300},"mm"]
[null,null,"épaisseur de paroi",null,"e",{"$f":"Calculs!R32","v":40},"mm"]
[null,null,"Classe de résistance",null,"FK",{"$f":"Calculs!T32","v":90},"-"]
[]
[null,"Profil d'enrobage",null,null,null,"a [m]","c [m]",{"$f":"Béton!H60","v":""}]
[null,null,null,"U1/V1",{"$f":"IF(AND(Béton!G126=\"OK\",Béton!C140=\"OK\",Béton!D170=\"OK\",Béton!E170=\"OK\",Béton!F170=\"OK\",Béton!G170=\"OK\",Béton!H170=\"OK\",Béton!D171=\"OK\",Béton!E171=\"OK\",Béton!F171=\"OK\",Béton!G171=\"OK\",Béton!H171=\"OK\",H63=\"\"),\"OK\",\"-\")","v":"-"}]
[null,null,null,"U2/V2",{"$f":"IF(AND(Béton!G126=\"OK\",Béton!D140=\"OK\",Béton!D184=\"OK\",Béton!E184=\"OK\",Béton!F184=\"OK\",Béton!G184=\"OK\",Béton!H184=\"OK\",Béton!D185=\"OK\",Béton!E185=\"OK\",Béton!F185=\"OK\",Béton!G185=\"OK\",Béton!H185=\"OK\",H63=\"\"),\"OK\",\"-\")","v":"-"},{"$f":"IF(E65=\"-\",\"-\",Béton!E238)","v":"-"}]
[null,null,null,"U2A/V2A",{"$f":"IF(AND(Béton!G126=\"OK\",Béton!E140=\"OK\",Béton!D198=\"OK\",Béton!E198=\"OK\",Béton!F198=\"OK\",Béton!G198=\"OK\",Béton!H198=\"OK\",Béton!D199=\"OK\",Béton!E199=\"OK\",Béton!F199=\"OK\",Béton!G199=\"OK\",Béton!H199=\"OK\",H63=\"\"),\"OK\",\"-\")","v":"OK"},{"$f":"IF(E66=\"-\",\"-\",Béton!F238)","v":0.15}]
[null,null,null,"U3/V3",{"$f":"IF(AND(Béton!G126=\"OK\",Béton!F140=\"OK\",Béton!D217=\"OK\",Béton!E217=\"OK\",Béton!F217=\"OK\",Béton!G217=\"OK\",Béton!H217=\"OK\",Béton!D218=\"OK\",Béton!E218=\"OK\",Béton!F218=\"OK\",Béton!G218=\"OK\",Béton!H218=\"OK\",H63=\"\"),\"OK\",\"-\")","v":"OK"},{"$f":"IF(E67=\"-\",\"-\",Béton!G238)","v":0.15}]
[null,null,null,"U4/V4",{"$f":"IF(AND(Béton!G126=\"OK\",Béton!G140=\"OK\",Béton!D231=\"OK\",Béton!E231=\"OK\",Béton!F231=\"OK\",Béton!G231=\"OK\",Béton!H231=\"OK\",Béton!D232=\"OK\",Béton!E232=\"OK\",Béton!F232=\"OK\",Béton!G232=\"OK\",Béton!H232=\"OK\",H63=\"\"),\"OK\",\"-\")","v":"OK"},{"$f":"IF(E68=\"-\",\"-\",Béton!H238)","v":0.15},{"$f":"IF(E68=\"-\",\"-\",Béton!D241)","v":0.15}]
[]
[]
[null,"Grès-vitrifié (charge normale)",null,null,{"$f":"IF(F72<Données!AE6,\"di max.< di introduit!\",\"\")","v":""}]
[null,"Tuyau:","Diamètre intérieur",null,"di",{"$f":"Calculs!KM32","v":300},"mm"]
[null,null,"Diamètre nominal",null,"DN",{"$f":"Calculs!KN32","v":300},"mm"]
[null,null,"épaisseur de paroi",null,"e",{"$f":"Calculs!KP32","v":27.5},"mm"]
[null,null,"Classe de résistance",null,"FK",{"$f":"Calculs!KR32","v":160},"-"]
[]
[null,"Profil d'enrobage",null,null,null,"a [m]","c [m]",{"$f":"'Grès vitrifié n.'!H60","v":""}]
[null,null,null,"U1/V1",{"$f":"IF(AND(Calculs!KQ177=\"OK\",Calculs!KN208=\"OK\",Calculs!KM468=\"OK\",Calculs!KN468=\"OK\",Calculs!KO468=\"OK\",Calculs!KP468=\"OK\",Calculs!KQ468=\"OK\",Calculs!KM469=\"OK\",Calculs!KN469=\"OK\",Calculs!KO469=\"OK\",Calculs!KP469=\"OK\",Calculs!KQ469=\"OK\",H77=\"\"),\"OK\",\"-\")","v":"-"}]
[null,null,null,"U2/V2",{"$f":"IF(AND(Calculs!KQ177=\"OK\",Calculs!KO208=\"OK\",Calculs!KM481=\"OK\",Calculs!KN481=\"OK\",Calculs!KO481=\"OK\",Calculs!KP481=\"OK\",Calculs!KQ481=\"OK\",Calculs!KM482=\"OK\",Calculs!KN482=\"OK\",Calculs!KO482=\"OK\",Calculs!KP482=\"OK\",Calculs!KQ482=\"OK\",H77=\"\"),\"OK\",\"-\")","v":"OK"},{"$f":"IF(E79=\"-\",\"-\",Calculs!KN547)","v":0.15}]
[null,null,null,"U2A/V2A",{"$f":"IF(AND(Calculs!KQ177=\"OK\",Calculs!KP208=\"OK\",Calculs!KM494=\"OK\",Calculs!KN494=\"OK\",Calculs!KO494=\"OK\",Calculs!KP494=\"OK\",Calculs!KQ494=\"OK\",Calculs!KM495=\"OK\",Calculs!KN495=\"OK\",Calculs!KO495=\"OK\",Calculs!KP495=\"OK\",Calculs!KQ495=\"OK\",H77=\"\"),\"OK\",\"-\")","v":"OK"},{"$f":"IF(E80=\"-\",\"-\",Calculs!KO547)","v":0.15}]
[null,null,null,"U3/V3",{"$f":"IF(AND(Calculs!KQ177=\"OK\",Calculs!KQ208=\"OK\",Calculs!KM507=\"OK\",Calculs!KN507=\"OK\",Calculs!KO507=\"OK\",Calculs!KP507=\"OK\",Calculs!KQ507=\"OK\",Calculs!KM508=\"OK\",Calculs!KN508=\"OK\",Calculs!KO508=\"OK\",Calculs!KP508=\"OK\",Calculs!KQ508=\"OK\",H77=\"\"),\"OK\",\"-\")","v":"OK"},{"$f":"IF(E81=\"-\",\"-\",Calculs!KP547)","v":0.15}]
[null,null,null,"U4/V4",{"$f":"IF(AND(Calculs!KQ177=\"OK\",Calculs!KR208=\"OK\",Calculs!KM520=\"OK\",Calculs!KN520=\"OK\",Calculs!KO520=\"OK\",Calculs!KP520=\"OK\",Calculs!KQ520=\"OK\",Calculs!KM521=\"OK\",Calculs!KN521=\"OK\",Calculs!KO521=\"OK\",Calculs!KP521=\"OK\",Calculs!KQ521=\"OK\",H77=\"\"),\"OK\",\"-\")","v":"OK"},{"$f":"IF(E82=\"-\",\"-\",Calculs!KQ547)","v":0.15},{"$f":"IF(E82=\"-\",\"-\",Calculs!KQ561)","v":0.15}]
[]
[null,"Grès-vitrifié (charge supérieure)",null,null,{"$f":"IF(F85<Données!AE6,\"di max.< di introduit!\",\"\")","v":""}]
[null,"Tuyau:","Diamètre intérieur",null,"di",{"$f":"Calculs!LM32","v":300},"mm"]
[null,null,"Diamètre nominal",null,"DN",{"$f":"Calculs!LN32","v":300},"mm"]
[null,null,"épaisseur de paroi",null,"e",{"$f":"Calculs!LP32","v":38},"mm"]
[null,null,"Classe de résistance",null,"FK",{"$f":"Calculs!LR32","v":240},"-"]
[]
[null,"Profil d'enrobage",null,null,null,"a [m]","c [m]",{"$f":"'Grès vitrifié s.'!H60","v":""}]
[null,null,null,"U1/V1",{"$f":"IF(AND(Calculs!LQ177=\"OK\",Calculs!LN208=\"OK\",Calculs!LM468=\"OK\",Calculs!LN468=\"OK\",Calculs!LO468=\"OK\",Calculs!LP468=\"OK\",Calculs!LQ468=\"OK\",Calculs!LM469=\"OK\",Calculs!LN469=\"OK\",Calculs!LO469=\"OK\",Calculs!LP469=\"OK\",Calculs!LQ469=\"OK\",H90=\"\"),\"OK\",\"-\")","v":"OK"}]
[null,null,null,"U2/V2",{"$f":"IF(AND(Calculs!LQ177=\"OK\",Calculs!LO208=\"OK\",Calculs!LM481=\"OK\",Calculs!LN481=\"OK\",Calculs!LO481=\"OK\",Calculs!LP481=\"OK\",Calculs!LQ481=\"OK\",Calculs!LM482=\"OK\",Calculs!LN482=\"OK\",Calculs!LO482=\"OK\",Calculs!LP482=\"OK\",Calculs!LQ482=\"OK\",H90=\"\"),\"OK\",\"-\")","v":"OK"},{"$f":"IF(E92=\"-\",\"-\",Calculs!LN547)","v":0.15}]
[null,null,null,"U2A/V2A",{"$f":"IF(AND(Calculs!LQ177=\"OK\",Calculs!LP208=\"OK\",Calculs!LM494=\"OK\",Calculs!LN494=\"OK\",Calculs!LO494=\"OK\",Calculs!LP494=\"OK\",Calculs!LQ494=\"OK\",Calculs!LM495=\"OK\",Calculs!LN495=\"OK\",Calculs!LO495=\"OK\",Calculs!LP495=\"OK\",Calculs!LQ495=\"OK\",H90=\"\"),\"OK\",\"-\")","v":"OK"},{"$f":"IF(E93=\"-\",\"-\",Calculs!LO547)","v":0.15}]
[null,null,null,"U3/V3",{"$f":"IF(AND(Calculs!LQ177=\"OK\",Calculs!LQ208=\"OK\",Calculs!LM507=\"OK\",Calculs!LN507=\"OK\",Calculs!LO507=\"OK\",Calculs!LP507=\"OK\",Calculs!LQ507=\"OK\",Calculs!LM508=\"OK\",Calculs!LN508=\"OK\",Calculs!LO508=\"OK\",Calculs!LP508=\"OK\",Calculs!LQ508=\"OK\",H90=\"\"),\"OK\",\"-\")","v":"OK"},{"$f":"IF(E94=\"-\",\"-\",Calculs!LP547)","v":0.15}]
[null,null,null,"U4/V4",{"$f":"IF(AND(Calculs!LQ177=\"OK\",Calculs!LR208=\"OK\",Calculs!LM520=\"OK\",Calculs!LN520=\"OK\",Calculs!LO520=\"OK\",Calculs!LP520=\"OK\",Calculs!LQ520=\"OK\",Calculs!LM521=\"OK\",Calculs!LN521=\"OK\",Calculs!LO521=\"OK\",Calculs!LP521=\"OK\",Calculs!LQ521=\"OK\",H90=\"\"),\"OK\",\"-\")","v":"OK"},{"$f":"IF(E95=\"-\",\"-\",Calculs!LQ547)","v":0.15},{"$f":"IF(E95=\"-\",\"-\",Calculs!LQ561)","v":0.15}]
[]
[]
[null,"Fonte",null,null,{"$f":"IF(F99<Données!AE6,\"di max.< di introduit!\",\"\")","v":""}]
[null,"Tuyau:","Diamètre intérieur",null,"di",{"$f":"Calculs!SK32","v":314.8},"mm"]
[null,null,"Diamètre nominal",null,"DN",{"$f":"Calculs!SL32","v":300},"mm"]
[null,null,"épaisseur de paroi",null,"e",{"$f":"Calculs!SN32","v":5.6},"mm"]
[null,null,"Rigidité du sytème",null,"SFcourt",{"$f":"Calculs!SL37","v":"rigide"},"-"]
[]
[null,{"$f":"IF(AND(F102=\"souple\",Calculs!SK182=\"OK\",Calculs!SH209=\"OK\",Calculs!SG221=\"OK\",Calculs!SG341=\"OK\",Calculs!SH341=\"OK\",Calculs!SI341=\"OK\",Calculs!SJ341=\"OK\",Calculs!SK341=\"OK\",Calculs!SG342=\"OK\",Calculs!SH342=\"OK\",Calculs!SI342=\"OK\",Calculs!SJ342=\"OK\",Calculs!SK342=\"OK\"),\"OK\",\"-\")","v":"-"}]
["Souple:",{"$f":"IF(AND(F102=\"rigide\",Calculs!SK182=\"OK\",Calculs!SG231=\"OK\",Calculs!SG341=\"OK\",Calculs!SH341=\"OK\",Calculs!SI341=\"OK\",Calculs!SJ341=\"OK\",Calculs!SK341=\"OK\",Calculs!SG342=\"OK\",Calculs!SH342=\"OK\",Calculs!SI342=\"OK\",Calculs!SJ342=\"OK\",Calculs!SK342=\"OK\"),\"OK\",\"-\")","v":"OK"},"U1/V1",null,{"$f":"IF(F105=\"H trop faible!\",\"-\",IF(OR(B104=\"OK\",B105=\"OK\"),\"OK\",\"-\"))","v":"OK"},{"$f":"Fonte!H59","v":""}]
[]
[null,"PP-SN4",null,null,{"$f":"IF(F108=\"-\",\"di max.< di introduit!\",\"\")","v":""}]
[null,"Tuyau:","Diamètre intérieur",null,"di",{"$f":"'PP-SN4'!F14","v":375.4},"mm"]
[null,null,"Diamètre nominal",null,"DN",{"$f":"Calculs!AL32","v":400},"mm"]
[null,null,"épaisseur de paroi",null,"e",{"$f":"'PP-SN4'!F16","v":12.3},"mm"]
[null,null,"Rigidité du sytème",null,"SFcourt",{"$f":"'PP-SN4'!G21","v":"souple"},"-"]
[]
[null,null,null,null,null,null,{"$f":"IF(F111=\"rigide\",\"Tuyau rigide: Vérification avec des charges de rupture n'existe pas pour le profil 1\",\"\")","v":""}]
["Souple:",{"$f":"IF(AND(F111=\"souple\",'PP-SN4'!F120=\"OK\",'PP-SN4'!G130=\"OK\",'PP-SN4'!E145=\"OK\",'PP-SN4'!D171=\"OK\",'PP-SN4'!E171=\"OK\",'PP-SN4'!F171=\"OK\",'PP-SN4'!G171=\"OK\",'PP-SN4'!H171=\"OK\",'PP-SN4'!D172=\"OK\",'PP-SN4'!E172=\"OK\",'PP-SN4'!F172=\"OK\",'PP-SN4'!G172=\"OK\",'PP-SN4'!H172=\"OK\"),\"OK\",\"-\")","v":"-"},"U1/V1",null,{"$f":"IF(OR(F111=\"rigide\",F114=\"H trop faible!\"),\"-\",IF(OR(B114=\"OK\",B115=\"OK\"),\"OK\",\"-\"))","v":"-"},{"$f":"'PP-SN4'!H58","v":""}]
["Rigide:",{"$f":"IF(AND(F111=\"rigide\",'PP-SN4'!G130=\"OK\",'PP-SN4'!D171=\"OK\",'PP-SN4'!E171=\"OK\",'PP-SN4'!F171=\"OK\",'PP-SN4'!G171=\"OK\",'PP-SN4'!H171=\"OK\",'PP-SN4'!D172=\"OK\",'PP-SN4'!E172=\"OK\",'PP-SN4'!F172=\"OK\",'PP-SN4'!G172=\"OK\",'PP-SN4'!H172=\"OK\"),\"OK\",\"-\")","v":"-"}]
[null,null,"U4/V4",null,{"$f":"IF(F116=\"H trop faible!\",\"-\",IF(AND('PP-SN4'!P122=\"OK\",OR('PP-SN4'!N139=\"OK\",'PP-SN4'!N139=\"\"),'PP-SN4'!M171=\"OK\",'PP-SN4'!N171=\"OK\",'PP-SN4'!O171=\"OK\",'PP-SN4'!P171=\"OK\",'PP-SN4'!Q171=\"OK\",'PP-SN4'!M172=\"OK\",'PP-SN4'!N172=\"OK\",'PP-SN4'!O172=\"OK\",'PP-SN4'!P172=\"OK\",'PP-SN4'!Q172=\"OK\"),\"OK\",\"-\"))","v":"OK"},{"$f":"'PP-SN4'!Q65","v":""},"efictif",{"$f":"IF(E116=\"-\",\"-\",'PP-SN4'!O16)","v":0.16500000000000001},"m"]
[]
[null,"PP-SN8",null,null,{"$f":"IF(F119<Données!AE6,\"di max.< di introduit!\",\"\")","v":""}]
[null,"Tuyau:","Diamètre intérieur",null,"di",{"$f":"'PP-SN8'!F14","v":372.6},"mm"]
[null,null,"Diamètre nominal",null,"DN",{"$f":"Calculs!BL32","v":400},"mm"]
[null,null,"épaisseur de paroi",null,"e",{"$f":"'PP-SN8'!F16","v":13.7},"mm"]
[null,null,"Rigidité du sytème",null,"SFcourt",{"$f":"'PP-SN8'!G21","v":"souple"},"-"]
[]
[null,null,null,null,null,null,{"$f":"IF(F122=\"rigide\",\"Tuyau rigide: Vérification avec des charges de rupture n'existe pas pour le profil 1\",\"\")","v":""}]
["Souple:",{"$f":"IF(AND(F122=\"souple\",'PP-SN8'!$F$119=\"OK\",'PP-SN8'!$G$129=\"OK\",'PP-SN8'!$E$144=\"OK\",'PP-SN8'!$D$169=\"OK\",'PP-SN8'!$E$169=\"OK\",'PP-SN8'!$F$169=\"OK\",'PP-SN8'!$G$169=\"OK\",'PP-SN8'!$H$169=\"OK\",'PP-SN8'!$D$170=\"OK\",'PP-SN8'!$E$170=\"OK\",'PP-SN8'!$F$170=\"OK\",'PP-SN8'!$G$170=\"OK\",'PP-SN8'!$H$170=\"OK\"),\"OK\",\"-\")","v":"-"},"U1/V1",null,{"$f":"IF(OR(F122=\"rigide\",F125=\"H trop faible!\"),\"-\",IF(OR(B125=\"OK\",B126=\"OK\"),\"OK\",\"-\"))","v":"-"},{"$f":"'PP-SN8'!H58","v":""}]
["Rigide:",{"$f":"IF(AND(F122=\"rigide\",'PP-SN8'!$G$129=\"OK\",'PP-SN8'!$D$170=\"OK\",'PP-SN8'!$E$170=\"OK\",'PP-SN8'!$F$170=\"OK\",'PP-SN8'!$G$170=\"OK\",'PP-SN8'!$H$170=\"OK\",'PP-SN8'!$D$169=\"OK\",'PP-SN8'!$E$169=\"OK\",'PP-SN8'!$F$169=\"OK\",'PP-SN8'!$G$169=\"OK\",'PP-SN8'!$H$169=\"OK\"),\"OK\",\"-\")","v":"-"}]
[null,null,"U4/V4",null,{"$f":"IF(F127=\"H trop faible!\",\"-\",IF(AND('PP-SN8'!$P$121=\"OK\",OR('PP-SN8'!$N$138=\"OK\",'PP-SN8'!$N$138=\"\"),'PP-SN8'!$M$169=\"OK\",'PP-SN8'!$N$169=\"OK\",'PP-SN8'!$O$169=\"OK\",'PP-SN8'!$P$169=\"OK\",'PP-SN8'!$Q$169=\"OK\",'PP-SN8'!$M$170=\"OK\",'PP-SN8'!$N$170=\"OK\",'PP-SN8'!$O$170=\"OK\",'PP-SN8'!$P$170=\"OK\",'PP-SN8'!$Q$170=\"OK\"),\"OK\",\"-\"))","v":"OK"},{"$f":"'PP-SN8'!Q65","v":""},"efictif",{"$f":"IF(E127=\"-\",\"-\",'PP-SN8'!$O$16)","v":0.16500000000000001},"m"]
[]
[]
[]
[null,"PP-SN12",null,null,{"$f":"IF(F132<Données!AE6,\"di max.< di introduit!\",\"\")","v":""}]
[null,"Tuyau:","Diamètre intérieur",null,"di",{"$f":"'PP-SN12'!$F$14","v":369.4},"mm"]
[null,null,"Diamètre nominal",null,"DN",{"$f":"Calculs!$CL$32","v":400},"mm"]
[null,null,"épaisseur de paroi",null,"e",{"$f":"'PP-SN12'!$F$16","v":15.3},"mm"]
[null,null,"Rigidité du sytème",null,"SFcourt",{"$f":"'PP-SN12'!$G$21","v":"souple"},"-"]
[]
[null,null,null,null,null,null,{"$f":"IF(F135=\"rigide\",\"Tuyau rigide: Vérification avec des charges de rupture n'existe pas pour le profil 1\",\"\")","v":""}]
["Souple:",{"$f":"IF(AND(F135=\"souple\",'PP-SN12'!$F$119=\"OK\",'PP-SN12'!$G$129=\"OK\",'PP-SN12'!$E$144=\"OK\",'PP-SN12'!$D$169=\"OK\",'PP-SN12'!$E$169=\"OK\",'PP-SN12'!$F$169=\"OK\",'PP-SN12'!$G$169=\"OK\",'PP-SN12'!$H$169=\"OK\",'PP-SN12'!$D$170=\"OK\",'PP-SN12'!$E$170=\"OK\",'PP-SN12'!$F$170=\"OK\",'PP-SN12'!$G$170=\"OK\",'PP-SN12'!$H$170=\"OK\"),\"OK\",\"-\")","v":"-"},"U1/V1",null,{"$f":"IF(OR(F135=\"rigide\",F138=\"H trop faible!\"),\"-\",IF(OR(B138=\"OK\",B139=\"OK\"),\"OK\",\"-\"))","v":"-"},{"$f":"'PP-SN12'!H58","v":""}]
["Rigide:",{"$f":"IF(AND(F135=\"rigide\",'PP-SN12'!$G$129=\"OK\",'PP-SN12'!$D$170=\"OK\",'PP-SN12'!$E$170=\"OK\",'PP-SN12'!$F$170=\"OK\",'PP-SN12'!$G$170=\"OK\",'PP-SN12'!$H$170=\"OK\",'PP-SN12'!$D$169=\"OK\",'PP-SN12'!$E$169=\"OK\",'PP-SN12'!$F$169=\"OK\",'PP-SN12'!$G$169=\"OK\",'PP-SN12'!$H$169=\"OK\"),\"OK\",\"-\")","v":"-"}]
[null,null,"U4/V4",null,{"$f":"IF(F140=\"H trop faible!\",\"-\",IF(AND('PP-SN12'!$P$121=\"OK\",OR('PP-SN12'!$N$138=\"OK\",'PP-SN12'!$N$138=\"\"),'PP-SN12'!$M$169=\"OK\",'PP-SN12'!$N$169=\"OK\",'PP-SN12'!$O$169=\"OK\",'PP-SN12'!$P$169=\"OK\",'PP-SN12'!$Q$169=\"OK\",'PP-SN12'!$M$170=\"OK\",'PP-SN12'!$N$170=\"OK\",'PP-SN12'!$O$170=\"OK\",'PP-SN12'!$P$170=\"OK\",'PP-SN12'!$Q$170=\"OK\"),\"OK\",\"-\"))","v":"OK"},{"$f":"'PP-SN12'!Q65","v":""},"efictif",{"$f":"IF(E140=\"-\",\"-\",'PP-SN12'!$O$16)","v":0.16500000000000001},"m"]
[]
[]
[null,"PP-SN16",null,null,{"$f":"IF(F144<Données!AE6,\"di max.< di introduit!\",\"\")","v":""}]
[null,"Tuyau:","Diamètre intérieur",null,"di",{"$f":"'PP-SN16'!$F$14","v":363.6},"mm"]
[null,null,"Diamètre nominal",null,"DN",{"$f":"Calculs!DL32","v":400},"mm"]
[null,null,"épaisseur de paroi",null,"e",{"$f":"'PP-SN16'!$F$16","v":18.2},"mm"]
[null,null,"Rigidité du sytème",null,"SFcourt",{"$f":"'PP-SN16'!$G$21","v":"souple"},"-"]
[]
[null,null,null,null,null,null,{"$f":"IF(F147=\"rigide\",\"Tuyau rigide: Vérification avec des charges de rupture n'existe pas pour le profil 1\",\"\")","v":""}]
["Souple:",{"$f":"IF(AND(F147=\"souple\",'PP-SN16'!$F$119=\"OK\",'PP-SN16'!$G$129=\"OK\",'PP-SN16'!$E$144=\"OK\",'PP-SN16'!$D$169=\"OK\",'PP-SN16'!$E$169=\"OK\",'PP-SN16'!$F$169=\"OK\",'PP-SN16'!$G$169=\"OK\",'PP-SN16'!$H$169=\"OK\",'PP-SN16'!$D$170=\"OK\",'PP-SN16'!$E$170=\"OK\",'PP-SN16'!$F$170=\"OK\",'PP-SN16'!$G$170=\"OK\",'PP-SN16'!$H$170=\"OK\"),\"OK\",\"-\")","v":"OK"},"U1/V1",null,{"$f":"IF(OR(F147=\"rigide\",F150=\"H trop faible!\"),\"-\",IF(OR(B150=\"OK\",B151=\"OK\"),\"OK\",\"-\"))","v":"OK"},{"$f":"'PP-SN16'!H58","v":""}]
["Rigide:",{"$f":"IF(AND(F147=\"rigide\",'PP-SN16'!$G$129=\"OK\",'PP-SN16'!$D$170=\"OK\",'PP-SN16'!$E$170=\"OK\",'PP-SN16'!$F$170=\"OK\",'PP-SN16'!$G$170=\"OK\",'PP-SN16'!$H$170=\"OK\",'PP-SN16'!$D$169=\"OK\",'PP-SN16'!$E$169=\"OK\",'PP-SN16'!$F$169=\"OK\",'PP-SN16'!$G$169=\"OK\",'PP-SN16'!$H$169=\"OK\"),\"OK\",\"-\")","v":"-"}]
[null,null,"U4/V4",null,{"$f":"IF(F152=\"H trop faible!\",\"-\",IF(AND('PP-SN16'!$P$121=\"OK\",OR('PP-SN16'!$N$138=\"OK\",'PP-SN16'!$N$138=\"\"),'PP-SN16'!$M$169=\"OK\",'PP-SN16'!$N$169=\"OK\",'PP-SN16'!$O$169=\"OK\",'PP-SN16'!$P$169=\"OK\",'PP-SN16'!$Q$169=\"OK\",'PP-SN16'!$M$170=\"OK\",'PP-SN16'!$N$170=\"OK\",'PP-SN16'!$O$170=\"OK\",'PP-SN16'!$P$170=\"OK\",'PP-SN16'!$Q$170=\"OK\"),\"OK\",\"-\"))","v":"OK"},{"$f":"'PP-SN16'!Q65","v":""},"efictif",{"$f":"IF(E152=\"-\",\"-\",'PP-SN16'!$O$16)","v":0.16500000000000001},"m"]
[]
[]
[]
[]
[null,"PVC-SN2",null,null,{"$f":"IF(F158<Données!AE6,\"di max.< di introduit!\",\"\")","v":""}]
[null,{"$f":"IF(Accueil!$AZ$15=\"Français\",\"Tuyau:\",IF(Accueil!$AZ$15=\"Deutsch\",\"Rohr:\",IF(Accueil!$AZ$15=\"Italiano\",\"\")))","v":"Tuyau:"},{"$f":"IF(Accueil!$AZ$15=\"Français\",\"Diamètre intérieur\",IF(Accueil!$AZ$15=\"Deutsch\",\"Innendurchmesser\",IF(Accueil!$AZ$15=\"Italiano\",\"\")))","v":"Diamètre intérieur"},null,"di",{"$f":"'PVC-SN2'!$F$14","v":302.60000000000002},"mm"]
[null,null,{"$f":"IF(Accueil!$AZ$15=\"Français\",\"Diamètre nominal\",IF(Accueil!$AZ$15=\"Deutsch\",\"Nominaldurchmesser\",IF(Accueil!$AZ$15=\"Italiano\",\"\")))","v":"Diamètre nominal"},null,"DN",{"$f":"Calculs!EL32","v":315},"mm"]
[null,null,{"$f":"IF(Accueil!$AZ$15=\"Français\",\"épaisseur de paroi\",IF(Accueil!$AZ$15=\"Deutsch\",\"Wandstärke\",IF(Accueil!$AZ$15=\"Italiano\",\"\")))","v":"épaisseur de paroi"},null,"e",{"$f":"'PVC-SN2'!$F$16","v":6.2},"mm"]
[null,null,{"$f":"IF(Accueil!$AZ$15=\"Français\",\"Rigidité du sytème\",IF(Accueil!$AZ$15=\"Deutsch\",\"Systemsteifigkeit\",IF(Accueil!$AZ$15=\"Italiano\",\"\")))","v":"Rigidité du sytème"},null,"SFcourt",{"$f":"'PVC-SN2'!$G$21","v":"souple"},"-"]
[]
[null,null,null,null,null,null,{"$f":"IF(F161=\"rigide\",\"Tuyau rigide: Vérification avec des charges de rupture n'existe pas pour le profil 1\",\"\")","v":""}]
["Souple:",{"$f":"IF(AND(F161=\"souple\",'PVC-SN2'!$F$119=\"OK\",'PVC-SN2'!$G$129=\"OK\",'PVC-SN2'!$E$144=\"OK\",'PVC-SN2'!$D$169=\"OK\",'PVC-SN2'!$E$169=\"OK\",'PVC-SN2'!$F$169=\"OK\",'PVC-SN2'!$G$169=\"OK\",'PVC-SN2'!$H$169=\"OK\",'PVC-SN2'!$D$170=\"OK\",'PVC-SN2'!$E$170=\"OK\",'PVC-SN2'!$F$170=\"OK\",'PVC-SN2'!$G$170=\"OK\",'PVC-SN2'!$H$170=\"OK\"),\"OK\",\"-\")","v":"-"},"U1/V1",null,{"$f":"IF(OR(F161=\"rigide\",F164=\"H trop faible!\"),\"-\",IF(OR(B164=\"OK\",B165=\"OK\"),\"OK\",\"-\"))","v":"-"},{"$f":"'PVC-SN2'!H58","v":""}]
["Rigide:",{"$f":"IF(AND(F161=\"rigide\",'PVC-SN2'!$G$129=\"OK\",'PVC-SN2'!$D$170=\"OK\",'PVC-SN2'!$E$170=\"OK\",'PVC-SN2'!$F$170=\"OK\",'PVC-SN2'!$G$170=\"OK\",'PVC-SN2'!$H$170=\"OK\",'PVC-SN2'!$D$169=\"OK\",'PVC-SN2'!$E$169=\"OK\",'PVC-SN2'!$F$169=\"OK\",'PVC-SN2'!$G$169=\"OK\",'PVC-SN2'!$H$169=\"OK\"),\"OK\",\"-\")","v":"-"}]
[null,null,"U4/V4",null,{"$f":"IF(F166=\"H trop faible!\",\"-\",IF(AND('PVC-SN2'!$P$121=\"OK\",OR('PVC-SN2'!$N$138=\"OK\",'PVC-SN2'!$N$138=\"\"),'PVC-SN2'!$M$169=\"OK\",'PVC-SN2'!$N$169=\"OK\",'PVC-SN2'!$O$169=\"OK\",'PVC-SN2'!$P$169=\"OK\",'PVC-SN2'!$Q$169=\"OK\",'PVC-SN2'!$M$170=\"OK\",'PVC-SN2'!$N$170=\"OK\",'PVC-SN2'!$O$170=\"OK\",'PVC-SN2'!$P$170=\"OK\",'PVC-SN2'!$Q$170=\"OK\"),\"OK\",\"-\"))","v":"OK"},{"$f":"'PVC-SN2'!Q65","v":""},"efictif",{"$f":"IF(E166=\"-\",\"-\",'PVC-SN2'!$O$16)","v":0.15},"m"]
[]
[null,"PVC-SN4",null,null,{"$f":"IF(F169<Données!AE6,\"di max.< di introduit!\",\"\")","v":""}]
[null,"Tuyau:","Diamètre intérieur",null,"di",{"$f":"'PVC-SN4'!$F$14","v":337.6},"mm"]
[null,null,"Diamètre nominal",null,"DN",{"$f":"Calculs!FL32","v":355},"mm"]
[null,null,"épaisseur de paroi",null,"e",{"$f":"'PVC-SN4'!$F$16","v":8.6999999999999993},"mm"]
[null,null,"Rigidité du sytème",null,"SFcourt",{"$f":"'PVC-SN4'!$G$21","v":"souple"},"-"]
[]
[null,null,null,null,null,null,{"$f":"IF(F172=\"rigide\",\"Tuyau rigide: Vérification avec des charges de rupture n'existe pas pour le profil 1\",\"\")","v":""}]
["Souple:",{"$f":"IF(AND(F172=\"souple\",'PVC-SN4'!$F$119=\"OK\",'PVC-SN4'!$G$129=\"OK\",'PVC-SN4'!$E$144=\"OK\",'PVC-SN4'!$D$169=\"OK\",'PVC-SN4'!$E$169=\"OK\",'PVC-SN4'!$F$169=\"OK\",'PVC-SN4'!$G$169=\"OK\",'PVC-SN4'!$H$169=\"OK\",'PVC-SN4'!$D$170=\"OK\",'PVC-SN4'!$E$170=\"OK\",'PVC-SN4'!$F$170=\"OK\",'PVC-SN4'!$G$170=\"OK\",'PVC-SN4'!$H$170=\"OK\"),\"OK\",\"-\")","v":"-"},"U1/V1",null,{"$f":"IF(OR(F172=\"rigide\",F175=\"H trop faible!\"),\"-\",IF(OR(B175=\"OK\",B176=\"OK\"),\"OK\",\"-\"))","v":"-"},{"$f":"'PVC-SN4'!H58","v":""}]
["Rigide:",{"$f":"IF(AND(F172=\"rigide\",'PVC-SN4'!F119=\"OK\",'PVC-SN4'!$D$170=\"OK\",'PVC-SN4'!$E$170=\"OK\",'PVC-SN4'!$F$170=\"OK\",'PVC-SN4'!$G$170=\"OK\",'PVC-SN4'!$H$170=\"OK\",'PVC-SN4'!$D$169=\"OK\",'PVC-SN4'!$E$169=\"OK\",'PVC-SN4'!$F$169=\"OK\",'PVC-SN4'!$G$169=\"OK\",'PVC-SN4'!$H$169=\"OK\"),\"OK\",\"-\")","v":"-"}]
[null,null,"U4/V4",null,{"$f":"IF(F177=\"H trop faible!\",\"-\",IF(AND('PVC-SN4'!$P$121=\"OK\",OR('PVC-SN4'!$N$138=\"OK\",'PVC-SN4'!$N$138=\"\"),'PVC-SN4'!$M$169=\"OK\",'PVC-SN4'!$N$169=\"OK\",'PVC-SN4'!$O$169=\"OK\",'PVC-SN4'!$P$169=\"OK\",'PVC-SN4'!$Q$169=\"OK\",'PVC-SN4'!$M$170=\"OK\",'PVC-SN4'!$N$170=\"OK\",'PVC-SN4'!$O$170=\"OK\",'PVC-SN4'!$P$170=\"OK\",'PVC-SN4'!$Q$170=\"OK\"),\"OK\",\"-\"))","v":"OK"},{"$f":"'PVC-SN4'!Q65","v":""},"efictif",{"$f":"IF(E177=\"-\",\"-\",'PVC-SN4'!$O$16)","v":0.15},"m"]
[]
[null,"PVC-SN8",null,null,{"$f":"IF(F180<Données!AE6,\"di max.< di introduit!\",\"\")","v":""}]
[null,"Tuyau:","Diamètre intérieur",null,"di",{"$f":"'PVC-SN8'!$F$14","v":334.2},"mm"]
[null,null,"Diamètre nominal",null,"DN",{"$f":"Calculs!GL32","v":355},"mm"]
[null,null,"épaisseur de paroi",null,"e",{"$f":"'PVC-SN8'!$F$16","v":10.4},"mm"]
[null,null,"Rigidité du sytème",null,"SFcourt",{"$f":"'PVC-SN8'!$G$21","v":"souple"},"-"]
[]
[null,null,null,null,null,null,{"$f":"IF(F183=\"rigide\",\"Tuyau rigide: Vérification avec des charges de rupture n'existe pas pour le profil 1\",\"\")","v":""}]
["Souple:",{"$f":"IF(AND(F183=\"souple\",'PVC-SN8'!$F$119=\"OK\",'PVC-SN8'!$G$129=\"OK\",'PVC-SN8'!$E$144=\"OK\",'PVC-SN8'!$D$169=\"OK\",'PVC-SN8'!$E$169=\"OK\",'PVC-SN8'!$F$169=\"OK\",'PVC-SN8'!$G$169=\"OK\",'PVC-SN8'!$H$169=\"OK\",'PVC-SN8'!$D$170=\"OK\",'PVC-SN8'!$E$170=\"OK\",'PVC-SN8'!$F$170=\"OK\",'PVC-SN8'!$G$170=\"OK\",'PVC-SN8'!$H$170=\"OK\"),\"OK\",\"-\")","v":"OK"},"U1/V1",null,{"$f":"IF(OR(F183=\"rigide\",F186=\"H trop faible!\"),\"-\",IF(OR(B186=\"OK\",B187=\"OK\"),\"OK\",\"-\"))","v":"OK"},{"$f":"'PVC-SN8'!H58","v":""}]
["Rigide:",{"$f":"IF(AND(F183=\"rigide\",'PVC-SN8'!$G$129=\"OK\",'PVC-SN8'!$D$170=\"OK\",'PVC-SN8'!$E$170=\"OK\",'PVC-SN8'!$F$170=\"OK\",'PVC-SN8'!$G$170=\"OK\",'PVC-SN8'!$H$170=\"OK\",'PVC-SN8'!$D$169=\"OK\",'PVC-SN8'!$E$169=\"OK\",'PVC-SN8'!$F$169=\"OK\",'PVC-SN8'!$G$169=\"OK\",'PVC-SN8'!$H$169=\"OK\"),\"OK\",\"-\")","v":"-"}]
[null,null,"U4/V4",null,{"$f":"IF(F188=\"H trop faible!\",\"-\",IF(AND('PVC-SN8'!$P$121=\"OK\",OR('PVC-SN8'!$N$138=\"OK\",'PVC-SN8'!$N$138=\"\"),'PVC-SN8'!$M$169=\"OK\",'PVC-SN8'!$N$169=\"OK\",'PVC-SN8'!$O$169=\"OK\",'PVC-SN8'!$P$169=\"OK\",'PVC-SN8'!$Q$169=\"OK\",'PVC-SN8'!$M$170=\"OK\",'PVC-SN8'!$N$170=\"OK\",'PVC-SN8'!$O$170=\"OK\",'PVC-SN8'!$P$170=\"OK\",'PVC-SN8'!$Q$170=\"OK\"),\"OK\",\"-\"))","v":"OK"},{"$f":"'PVC-SN8'!Q65","v":""},"efictif",{"$f":"IF(E188=\"-\",\"-\",'PVC-SN8'!$O$16)","v":0.15},"m"]
[]
[]
[null,"PE-SN2",null,null,{"$f":"IF(F192<Données!AE6,\"di max.< di introduit!\",\"\")","v":""}]
[null,"Tuyau:","Diamètre intérieur",null,"di",{"$f":"Calculs!HK32","v":333.2},"mm"]
[null,null,"Diamètre nominal",null,"DN",{"$f":"Calculs!HL32","v":355},"mm"]
[null,null,"épaisseur de paroi",null,"e",{"$f":"IF(F192=\"-\",\"-\",'PVC-SN8'!$F$16)","v":10.4},"mm",{"$f":"IF(F194=\"-\",\"Vérifier diamètre intérieur!\",\"\")","v":""}]
[null,null,"Rigidité du sytème",null,"SFcourt",{"$f":"IF(F192=\"-\",\"-\",'PVC-SN8'!$G$21)","v":"souple"},"-"]
[null,null,"épaisseur de paroi",null,"e",{"$f":"IF(F194=\"-\",\"-\",'PVC-SN8'!$F$16)","v":10.4},"mm"]
[null,null,"Rigidité du sytème",null,"SFcourt",{"$f":"IF(F194=\"-\",\"-\",'PVC-SN8'!$G$21)","v":"souple"},"-"]
[]
[null,null,null,null,null,null,{"$f":"IF(F197=\"rigide\",\"Vérification avec des charges de rupture n'existe plus -> Essais de rupture!!\",\"\")","v":""}]
[null,{"$f":"IF(AND(F197=\"souple\",'PVC-SN8'!$F$119=\"OK\",'PVC-SN8'!$G$129=\"OK\",'PVC-SN8'!$E$144=\"OK\",'PVC-SN8'!$D$169=\"OK\",'PVC-SN8'!$E$169=\"OK\",'PVC-SN8'!$F$169=\"OK\",'PVC-SN8'!$G$169=\"OK\",'PVC-SN8'!$H$169=\"OK\",'PVC-SN8'!$D$170=\"OK\",'PVC-SN8'!$E$170=\"OK\",'PVC-SN8'!$F$170=\"OK\",'PVC-SN8'!$G$170=\"OK\",'PVC-SN8'!$H$170=\"OK\"),\"OK\",\"-\")","v":"OK"},"U1/V1",null,{"$f":"IF(F194=\"-\",\"-\",IF(OR(B200=\"OK\",B201=\"OK\"),\"OK\",\"-\"))","v":"OK"}]
[null,{"$f":"IF(AND(F197=\"rigide\",'PVC-SN8'!$G$129=\"OK\",'PVC-SN8'!$D$170=\"OK\",'PVC-SN8'!$E$170=\"OK\",'PVC-SN8'!$F$170=\"OK\",'PVC-SN8'!$G$170=\"OK\",'PVC-SN8'!$H$170=\"OK\",'PVC-SN8'!$D$169=\"OK\",'PVC-SN8'!$E$169=\"OK\",'PVC-SN8'!$F$169=\"OK\",'PVC-SN8'!$G$169=\"OK\",'PVC-SN8'!$H$169=\"OK\"),\"OK\",\"-\")","v":"-"}]
[null,null,"U4/V4",null,{"$f":"IF(F194=\"-\",\"-\",IF(AND('PVC-SN8'!$P$121=\"OK\",'PVC-SN8'!$N$138=\"OK\",'PVC-SN8'!$M$169=\"OK\",'PVC-SN8'!$N$169=\"OK\",'PVC-SN8'!$O$169=\"OK\",'PVC-SN8'!$P$169=\"OK\",'PVC-SN8'!$Q$169=\"OK\",'PVC-SN8'!$M$170=\"OK\",'PVC-SN8'!$N$170=\"OK\",'PVC-SN8'!$O$170=\"OK\",'PVC-SN8'!$P$170=\"OK\",'PVC-SN8'!$Q$170=\"OK\"),\"OK\",\"-\"))","v":"-"},null,"efictif",{"$f":"IF(OR(F194=\"-\",E202=\"-\"),\"-\",'PVC-SN8'!$O$16)","v":"-"},"m"]
[]
[]
[]
[]
[]
[]
[]
[]
[]
[]
[]
[]
[]
[]
[]
[]
[]
[]
[]
[]
[]
[]
[]
[]
[]
[]
[]
[]
[]
[]
[]
[]
[]
[]
[]
[]
[]
[]
[]
[]
[]
[]
[]
[]
[]
[]
[]
[]
[]
[]
[]
[]
[]
[]
[]
[]
[]
[]
[]
[]
[]
[]
[]
[]
[]
[]
[]
[]
[]
[null,null,"épaisseur de paroi",null,"e",{"$f":"Calculs!HN32","v":10.9},"mm"]
[null,null,"Rigidité du sytème",null,"SFcourt",{"$f":"Calculs!HL37","v":"souple"},"-"]
[]
[null,null,null,null,null,null,{"$f":"IF(F273=\"rigide\",\"Tuyau rigide: Vérification avec des charges de rupture n'existe pas pour le profil 1\",\"\")","v":""}]
["Souple:",{"$f":"IF(AND(F273=\"souple\",Calculs!HK182=\"OK\",Calculs!HH209=\"OK\",Calculs!HG221=\"OK\",Calculs!HG329=\"OK\",Calculs!HH329=\"OK\",Calculs!HI329=\"OK\",Calculs!HJ329=\"OK\",Calculs!HK329=\"OK\",Calculs!HG330=\"OK\",Calculs!HH330=\"OK\",Calculs!HI330=\"OK\",Calculs!HJ330=\"OK\",Calculs!HK330=\"OK\"),\"OK\",\"-\")","v":"-"},"U1/V1",null,{"$f":"IF(OR(F273=\"rigide\",F276=\"H trop faible!\"),\"-\",IF(OR(B276=\"OK\",B277=\"OK\"),\"OK\",\"-\"))","v":"-"},{"$f":"'PE-SN2'!H58","v":""}]
["Rigide:",{"$f":"IF(AND(F273=\"rigide\",Calculs!HK182=\"OK\",Calculs!HG221=\"OK\",Calculs!HG329=\"OK\",Calculs!HH329=\"OK\",Calculs!HI329=\"OK\",Calculs!HJ329=\"OK\",Calculs!HK329=\"OK\",Calculs!HG330=\"OK\",Calculs!HH330=\"OK\",Calculs!HI330=\"OK\",Calculs!HJ330=\"OK\",Calculs!HK330=\"OK\"),\"OK\",\"-\")","v":"-"}]
[null,null,"U4/V4",null,{"$f":"IF(F278=\"H trop faible!\",\"-\",IF(AND(Calculs!HZ182=\"OK\",OR(Calculs!HW221=\"OK\",Calculs!HW221=\"\"),Calculs!HT336=\"OK\",Calculs!HU336=\"OK\",Calculs!HV336=\"OK\",Calculs!HW336=\"OK\",Calculs!HX336=\"OK\",Calculs!HT337=\"OK\",Calculs!HU337=\"OK\",Calculs!HV337=\"OK\",Calculs!HW337=\"OK\",Calculs!HX337=\"OK\"),\"OK\",\"-\"))","v":"OK"},{"$f":"'PE-SN2'!Q65","v":""},"efictif",{"$f":"IF(E278=\"-\",\"-\",Calculs!HT31/1000)","v":0.15},"m"]
[]
[]
[]
[]
[]
[null,"PE-SN4",null,null,{"$f":"IF(F285<Données!AE6,\"di max.< di introduit!\",\"\")","v":""}]
[null,"Tuyau:","Diamètre intérieur",null,"di",{"$f":"Calculs!IK32","v":327.8},"mm"]
[null,null,"Diamètre nominal",null,"DN",{"$f":"Calculs!IL32","v":355},"mm"]
[null,null,"épaisseur de paroi",null,"e",{"$f":"Calculs!IN32","v":13.6},"mm"]
[null,null,"Rigidité du sytème",null,"SFcourt",{"$f":"Calculs!IL37","v":"souple"},"-"]
[]
[null,null,null,null,null,null,{"$f":"IF(F288=\"rigide\",\"Tuyau rigide: Vérification avec des charges de rupture n'existe pas pour le profil 1\",\"\")","v":""}]
["Souple:",{"$f":"IF(AND(F288=\"souple\",Calculs!IK182=\"OK\",Calculs!IH209=\"OK\",Calculs!IG221=\"OK\",Calculs!IG329=\"OK\",Calculs!IH329=\"OK\",Calculs!II329=\"OK\",Calculs!IJ329=\"OK\",Calculs!IK329=\"OK\",Calculs!IG330=\"OK\",Calculs!IH330=\"OK\",Calculs!II330=\"OK\",Calculs!IJ330=\"OK\",Calculs!IK330=\"OK\"),\"OK\",\"-\")","v":"-"},"U1/V1",null,{"$f":"IF(OR(F288=\"rigide\",F291=\"H trop faible!\"),\"-\",IF(OR(B291=\"OK\",B292=\"OK\"),\"OK\",\"-\"))","v":"-"},{"$f":"'PE-SN4'!H58","v":""}]
["Rigide:",{"$f":"IF(AND(F288=\"rigide\",Calculs!IK182=\"OK\",Calculs!IG221=\"OK\",Calculs!IG329=\"OK\",Calculs!IH329=\"OK\",Calculs!II329=\"OK\",Calculs!IJ329=\"OK\",Calculs!IK329=\"OK\",Calculs!IG330=\"OK\",Calculs!IH330=\"OK\",Calculs!II330=\"OK\",Calculs!IJ330=\"OK\",Calculs!IK330=\"OK\"),\"OK\",\"-\")","v":"-"}]
[null,null,"U4/V4",null,{"$f":"IF(F293=\"H trop faible!\",\"-\",IF(AND(Calculs!IZ182=\"OK\",OR(Calculs!IW221=\"OK\",Calculs!IW221=\"\"),Calculs!IT336=\"OK\",Calculs!IU336=\"OK\",Calculs!IV336=\"OK\",Calculs!IW336=\"OK\",Calculs!IX336=\"OK\",Calculs!IT337=\"OK\",Calculs!IU337=\"OK\",Calculs!IV337=\"OK\",Calculs!IW337=\"OK\",Calculs!IX337=\"OK\"),\"OK\",\"-\"))","v":"OK"},{"$f":"'PE-SN4'!Q65","v":""},"efictif",{"$f":"IF(E293=\"-\",\"-\",Calculs!IT31/1000)","v":0.15},"m"]
[]
[]
[null,"PE-SN8",null,null,{"$f":"IF(F297<Données!AE6,\"di max.< di introduit!\",\"\")","v":""}]
[null,"Tuyau:","Diamètre intérieur",null,"di",{"$f":"Calculs!JK32","v":321.2},"mm"]
[null,null,"Diamètre nominal",null,"DN",{"$f":"Calculs!JL32","v":355},"mm"]
[null,null,"épaisseur de paroi",null,"e",{"$f":"Calculs!JN32","v":16.899999999999999},"mm"]
[null,null,"Rigidité du sytème",null,"SFcourt",{"$f":"Calculs!JL37","v":"souple"},"-"]
[]
[null,null,null,null,null,null,{"$f":"IF(F300=\"rigide\",\"Tuyau rigide: Vérification avec des charges de rupture n'existe pas pour le profil 1\",\"\")","v":""}]
["Souple:",{"$f":"IF(AND(F300=\"souple\",Calculs!JK182=\"OK\",Calculs!JH209=\"OK\",Calculs!JG221=\"OK\",Calculs!JG329=\"OK\",Calculs!JH329=\"OK\",Calculs!JI329=\"OK\",Calculs!JJ329=\"OK\",Calculs!JK329=\"OK\",Calculs!JG330=\"OK\",Calculs!JH330=\"OK\",Calculs!JI330=\"OK\",Calculs!JJ330=\"OK\",Calculs!JK330=\"OK\"),\"OK\",\"-\")","v":"-"},"U1/V1",null,{"$f":"IF(OR(F300=\"rigide\",F303=\"H trop faible!\"),\"-\",IF(OR(B303=\"OK\",B304=\"OK\"),\"OK\",\"-\"))","v":"-"},{"$f":"'PE-SN8'!H58","v":""}]
["Rigide:",{"$f":"IF(AND(F300=\"rigide\",Calculs!JK182=\"OK\",Calculs!JG221=\"OK\",Calculs!JG329=\"OK\",Calculs!JH329=\"OK\",Calculs!JI329=\"OK\",Calculs!JJ329=\"OK\",Calculs!JK329=\"OK\",Calculs!JG330=\"OK\",Calculs!JH330=\"OK\",Calculs!JI330=\"OK\",Calculs!JJ330=\"OK\",Calculs!JK330=\"OK\"),\"OK\",\"-\")","v":"-"}]
[null,null,"U4/V4",null,{"$f":"IF(F305=\"H trop faible!\",\"-\",IF(AND(Calculs!JZ182=\"OK\",OR(Calculs!JW221=\"OK\",Calculs!JW221=\"\"),Calculs!JT336=\"OK\",Calculs!JU336=\"OK\",Calculs!JV336=\"OK\",Calculs!JW336=\"OK\",Calculs!JX336=\"OK\",Calculs!JT337=\"OK\",Calculs!JU337=\"OK\",Calculs!JV337=\"OK\",Calculs!JW337=\"OK\",Calculs!JX337=\"OK\"),\"OK\",\"-\"))","v":"OK"},{"$f":"'PE-SN8'!Q65","v":""},"efictif",{"$f":"IF(E305=\"-\",\"-\",Calculs!JT31/1000)","v":0.15},"m"]
[]
[]
[null,"GF-UP SN2500",null,null,{"$f":"IF(F309<Données!AE6,\"di max.< di introduit!\",\"\")","v":""}]
[null,"Tuyau:","Diamètre intérieur",null,"di",{"$f":"Calculs!MJ35","v":362},"mm"]
[null,null,"Diamètre nominal",null,"DN",{"$f":"Calculs!MK35","v":350},"mm"]
[null,null,"épaisseur de paroi",null,"e",{"$f":"Calculs!MM35","v":7},"mm"]
[null,null,"Rigidité du sytème",null,"SFcourt",{"$f":"Calculs!ML46","v":"souple"},"-"]
[]
[null,null,null,null,null,null,{"$f":"IF(F312=\"rigide\",\"Tuyau rigide: Vérification avec des charges de rupture n'existe pas pour le profil 1\",\"\")","v":""}]
["Souple:",{"$f":"IF(AND(F312=\"souple\",Calculs!MK188=\"OK\",Calculs!MH216=\"OK\",Calculs!MG227=\"OK\",Calculs!MG420=\"OK\",Calculs!MH420=\"OK\",Calculs!MI420=\"OK\",Calculs!MJ420=\"OK\",Calculs!MK420=\"OK\",Calculs!MG421=\"OK\",Calculs!MH421=\"OK\",Calculs!MI421=\"OK\",Calculs!MJ421=\"OK\",Calculs!MK421=\"OK\"),\"OK\",\"-\")","v":"-"},"U1/V1",null,{"$f":"IF(OR(F312=\"rigide\",F315=\"H trop faible!\"),\"-\",IF(OR(B315=\"OK\",B316=\"OK\"),\"OK\",\"-\"))","v":"-"},{"$f":"'GF-UP SN2500'!H58","v":""}]
["Rigide:",{"$f":"IF(AND(F312=\"rigide\",Calculs!MK188=\"OK\",Calculs!MG227=\"OK\",Calculs!MG420=\"OK\",Calculs!MH420=\"OK\",Calculs!MI420=\"OK\",Calculs!MJ420=\"OK\",Calculs!MK420=\"OK\",Calculs!MG421=\"OK\",Calculs!MH421=\"OK\",Calculs!MI421=\"OK\",Calculs!MJ421=\"OK\",Calculs!MK421=\"OK\"),\"OK\",\"-\")","v":"-"}]
[null,null,"U4/V4",null,{"$f":"IF(F317=\"H trop faible!\",\"-\",IF(AND(Calculs!MZ188=\"OK\",OR(Calculs!MW227=\"OK\",Calculs!MW227=\"\"),Calculs!MT342=\"OK\",Calculs!MU342=\"OK\",Calculs!MV342=\"OK\",Calculs!MW342=\"OK\",Calculs!MX342=\"OK\",Calculs!MT343=\"OK\",Calculs!MU343=\"OK\",Calculs!MV343=\"OK\",Calculs!MW343=\"OK\",Calculs!MX343=\"OK\"),\"OK\",\"-\"))","v":"OK"},{"$f":"'GF-UP SN2500'!Q65","v":""},"efictif",{"$f":"IF(E317=\"-\",\"-\",Calculs!MT34/1000)","v":0.155},"m"]
[]
[null,"GF-UP SN5000",null,null,{"$f":"IF(F320<Données!AE6,\"di max.< di introduit!\",\"\")","v":""}]
[null,"Tuyau:","Diamètre intérieur",null,"di",{"$f":"Calculs!NJ35","v":360},"mm"]
[null,null,"Diamètre nominal",null,"DN",{"$f":"Calculs!NK35","v":350},"mm"]
[null,null,"épaisseur de paroi",null,"e",{"$f":"Calculs!NM35","v":8},"mm"]
[null,null,"Rigidité du sytème",null,"SFcourt",{"$f":"Calculs!NL46","v":"souple"},"-"]
[]
[null,null,null,null,null,null,{"$f":"IF(F323=\"rigide\",\"Tuyau rigide: Vérification avec des charges de rupture n'existe pas pour le profil 1\",\"\")","v":""}]
["Souple:",{"$f":"IF(AND(F323=\"souple\",Calculs!NK188=\"OK\",Calculs!NH216=\"OK\",Calculs!NG227=\"OK\",Calculs!NG420=\"OK\",Calculs!NH420=\"OK\",Calculs!NI420=\"OK\",Calculs!NJ420=\"OK\",Calculs!NK420=\"OK\",Calculs!NG421=\"OK\",Calculs!NH421=\"OK\",Calculs!NI421=\"OK\",Calculs!NJ421=\"OK\",Calculs!NK421=\"OK\"),\"OK\",\"-\")","v":"-"},"U1/V1",null,{"$f":"IF(OR(F323=\"rigide\",F326=\"H trop faible!\"),\"-\",IF(OR(B326=\"OK\",B327=\"OK\"),\"OK\",\"-\"))","v":"-"},{"$f":"'GF-UP SN5000'!H58","v":""}]
["Rigide:",{"$f":"IF(AND(F323=\"rigide\",Calculs!NK188=\"OK\",Calculs!NG227=\"OK\",Calculs!NG420=\"OK\",Calculs!NH420=\"OK\",Calculs!NI420=\"OK\",Calculs!NJ420=\"OK\",Calculs!NK420=\"OK\",Calculs!NG421=\"OK\",Calculs!NH421=\"OK\",Calculs!NI421=\"OK\",Calculs!NJ421=\"OK\",Calculs!NK421=\"OK\"),\"OK\",\"-\")","v":"-"}]
[null,null,"U4/V4",null,{"$f":"IF(F328=\"H trop faible!\",\"-\",IF(AND(Calculs!NZ188=\"OK\",OR(Calculs!NW227=\"OK\",Calculs!NW227=\"\"),Calculs!NT342=\"OK\",Calculs!NU342=\"OK\",Calculs!NV342=\"OK\",Calculs!NW342=\"OK\",Calculs!NX342=\"OK\",Calculs!NT343=\"OK\",Calculs!NU343=\"OK\",Calculs!NV343=\"OK\",Calculs!NW343=\"OK\",Calculs!NX343=\"OK\"),\"OK\",\"-\"))","v":"OK"},{"$f":"'GF-UP SN5000'!Q65","v":""},"efictif",{"$f":"IF(E328=\"-\",\"-\",Calculs!NT34/1000)","v":0.155},"m"]
[]
[]
[]
[]
[null,"GF-UP SN10000",null,null,{"$f":"IF(F334<Données!AE6,\"di max.< di introduit!\",\"\")","v":""}]
[null,"Tuyau:","Diamètre intérieur",null,"di",{"$f":"Calculs!OJ35","v":306},"mm"]
[null,null,"Diamètre nominal",null,"DN",{"$f":"Calculs!OK35","v":300},"mm"]
[null,null,"épaisseur de paroi",null,"e",{"$f":"Calculs!OM35","v":9},"mm"]
[null,null,"Rigidité du sytème",null,"SFcourt",{"$f":"Calculs!OL46","v":"souple"},"-"]
[]
[null,null,null,null,null,null,{"$f":"IF(F337=\"rigide\",\"Tuyau rigide: Vérification avec des charges de rupture n'existe pas pour le profil 1\",\"\")","v":""}]
["Souple:",{"$f":"IF(AND(F337=\"souple\",Calculs!OK188=\"OK\",Calculs!OH216=\"OK\",Calculs!OG227=\"OK\",Calculs!OG420=\"OK\",Calculs!OH420=\"OK\",Calculs!OI420=\"OK\",Calculs!OJ420=\"OK\",Calculs!OK420=\"OK\",Calculs!OG421=\"OK\",Calculs!OH421=\"OK\",Calculs!OI421=\"OK\",Calculs!OJ421=\"OK\",Calculs!OK421=\"OK\"),\"OK\",\"-\")","v":"OK"},"U1/V1",null,{"$f":"IF(OR(F337=\"rigide\",F340=\"H trop faible!\"),\"-\",IF(OR(B340=\"OK\",B341=\"OK\"),\"OK\",\"-\"))","v":"OK"},{"$f":"'GF-UP SN10000'!H58","v":""}]
["Rigide:",{"$f":"IF(AND(F337=\"rigide\",Calculs!OK188=\"OK\",Calculs!OG227=\"OK\",Calculs!OG420=\"OK\",Calculs!OH420=\"OK\",Calculs!OI420=\"OK\",Calculs!OJ420=\"OK\",Calculs!OK420=\"OK\",Calculs!OG421=\"OK\",Calculs!OH421=\"OK\",Calculs!OI421=\"OK\",Calculs!OJ421=\"OK\",Calculs!OK421=\"OK\"),\"OK\",\"-\")","v":"-"}]
[null,null,"U4/V4",null,{"$f":"IF(F342=\"H trop faible!\",\"-\",IF(AND(Calculs!OZ188=\"OK\",OR(Calculs!OW227=\"OK\",Calculs!OW227=\"\"),Calculs!OT342=\"OK\",Calculs!OU342=\"OK\",Calculs!OV342=\"OK\",Calculs!OW342=\"OK\",Calculs!OX342=\"OK\",Calculs!OT343=\"OK\",Calculs!OU343=\"OK\",Calculs!OV343=\"OK\",Calculs!OW343=\"OK\",Calculs!OX343=\"OK\"),\"OK\",\"-\"))","v":"OK"},{"$f":"'GF-UP SN10000'!Q65","v":""},"efictif",{"$f":"IF(E342=\"-\",\"-\",Calculs!OT34/1000)","v":0.15},"m"]
[]
[null,"GF-UP SN15000",null,null,{"$f":"IF(F345<Données!AE6,\"di max.< di introduit!\",\"\")","v":""}]
[null,"Tuyau:","Diamètre intérieur",null,"di",{"$f":"Calculs!PJ35","v":304},"mm"]
[null,null,"Diamètre nominal",null,"DN",{"$f":"Calculs!PK35","v":300},"mm"]
[null,null,"épaisseur de paroi",null,"e",{"$f":"Calculs!PM35","v":10},"mm"]
[null,null,"Rigidité du sytème",null,"SFcourt",{"$f":"Calculs!PL46","v":"souple"},"-"]
[]
[null,null,null,null,null,null,{"$f":"IF(F348=\"rigide\",\"Tuyau rigide: Vérification avec des charges de rupture n'existe pas pour le profil 1\",\"\")","v":""}]
["Souple:",{"$f":"IF(AND(F348=\"souple\",Calculs!PK188=\"OK\",Calculs!PH216=\"OK\",Calculs!PG227=\"OK\",Calculs!PG420=\"OK\",Calculs!PH420=\"OK\",Calculs!PI420=\"OK\",Calculs!PJ420=\"OK\",Calculs!PK420=\"OK\",Calculs!PG421=\"OK\",Calculs!PH421=\"OK\",Calculs!PI421=\"OK\",Calculs!PJ421=\"OK\",Calculs!PK421=\"OK\"),\"OK\",\"-\")","v":"OK"},"U1/V1",null,{"$f":"IF(OR(F348=\"rigide\",F351=\"H trop faible!\"),\"-\",IF(OR(B351=\"OK\",B352=\"OK\"),\"OK\",\"-\"))","v":"OK"},{"$f":"'GF-UP SN15000'!H58","v":""}]
["Rigide:",{"$f":"IF(AND(F348=\"rigide\",,Calculs!PK188=\"OK\",Calculs!PG227=\"OK\",Calculs!PG420=\"OK\",Calculs!PH420=\"OK\",Calculs!PI420=\"OK\",Calculs!PJ420=\"OK\",Calculs!PK420=\"OK\",Calculs!PG421=\"OK\",Calculs!PH421=\"OK\",Calculs!PI421=\"OK\",Calculs!PJ421=\"OK\",Calculs!PK421=\"OK\"),\"OK\",\"-\")","v":"-"}]
[null,null,"U4/V4",null,{"$f":"IF(F353=\"H trop faible!\",\"-\",IF(AND(Calculs!PZ188=\"OK\",OR(Calculs!PW227=\"OK\",Calculs!PW227=\"\"),Calculs!PT342=\"OK\",Calculs!PU342=\"OK\",Calculs!PV342=\"OK\",Calculs!PW342=\"OK\",Calculs!PX342=\"OK\",Calculs!PT343=\"OK\",Calculs!PU343=\"OK\",Calculs!PV343=\"OK\",Calculs!PW343=\"OK\",Calculs!PX343=\"OK\"),\"OK\",\"-\"))","v":"OK"},{"$f":"'GF-UP SN15000'!Q65","v":""},"efictif",{"$f":"IF(E353=\"-\",\"-\",Calculs!PT34/1000)","v":0.15},"m"]
[]
[null,"GF-UP SN16000",null,null,{"$f":"IF(F356<Données!AE6,\"di max.< di introduit!\",\"\")","v":""}]
[null,"Tuyau:","Diamètre intérieur",null,"di",{"$f":"Calculs!QJ35","v":304},"mm"]
[null,null,"Diamètre nominal",null,"DN",{"$f":"Calculs!QK35","v":300},"mm"]
[null,null,"épaisseur de paroi",null,"e",{"$f":"Calculs!QM35","v":10},"mm"]
[null,null,"Rigidité du sytème",null,"SFcourt",{"$f":"Calculs!QL46","v":"souple"},"-"]
[]
[null,null,null,null,null,null,{"$f":"IF(F359=\"rigide\",\"Tuyau rigide: Vérification avec des charges de rupture n'existe pas pour le profil 1\",\"\")","v":""}]
["Souple:",{"$f":"IF(AND(F359=\"souple\",Calculs!QK188=\"OK\",Calculs!QH216=\"OK\",Calculs!QG227=\"OK\",Calculs!QG420=\"OK\",Calculs!QH420=\"OK\",Calculs!QI420=\"OK\",Calculs!QJ420=\"OK\",Calculs!QK420=\"OK\",Calculs!QG421=\"OK\",Calculs!QH421=\"OK\",Calculs!QI421=\"OK\",Calculs!QJ421=\"OK\",Calculs!QK421=\"OK\"),\"OK\",\"-\")","v":"OK"},"U1/V1",null,{"$f":"IF(OR(F359=\"rigide\",F362=\"H trop faible!\"),\"-\",IF(OR(B362=\"OK\",B363=\"OK\"),\"OK\",\"-\"))","v":"OK"},{"$f":"'GF-UP SN16000'!H58","v":""}]
["Rigide:",{"$f":"IF(AND(F359=\"rigide\",,Calculs!QK188=\"OK\",Calculs!QG227=\"OK\",Calculs!QG420=\"OK\",Calculs!QH420=\"OK\",Calculs!QI420=\"OK\",Calculs!QJ420=\"OK\",Calculs!QK420=\"OK\",Calculs!QG421=\"OK\",Calculs!QH421=\"OK\",Calculs!QI421=\"OK\",Calculs!QJ421=\"OK\",Calculs!QK421=\"OK\"),\"OK\",\"-\")","v":"-"}]
[null,null,"U4/V4",null,{"$f":"IF(F364=\"H trop faible!\",\"-\",IF(AND(Calculs!QZ188=\"OK\",OR(Calculs!QW227=\"OK\",Calculs!QW227=\"\"),Calculs!QT342=\"OK\",Calculs!QU342=\"OK\",Calculs!QV342=\"OK\",Calculs!QW342=\"OK\",Calculs!QX342=\"OK\",Calculs!QT343=\"OK\",Calculs!QU343=\"OK\",Calculs!QV343=\"OK\",Calculs!QW343=\"OK\",Calculs!QX343=\"OK\"),\"OK\",\"-\"))","v":"OK"},{"$f":"'GF-UP SN16000'!Q65","v":""},"efictif",{"$f":"IF(E364=\"-\",\"-\",Calculs!QT34/1000)","v":0.15},"m"]
[]
[null,"GF-UP SN20000",null,null,{"$f":"IF(F367<Données!AE6,\"di max.< di introduit!\",\"\")","v":""}]
[null,"Tuyau:","Diamètre intérieur",null,"di",{"$f":"Calculs!RJ35","v":302},"mm"]
[null,null,"Diamètre nominal",null,"DN",{"$f":"Calculs!RK35","v":300},"mm"]
[null,null,"épaisseur de paroi",null,"e",{"$f":"Calculs!RM35","v":11},"mm"]
[null,null,"Rigidité du sytème",null,"SFcourt",{"$f":"Calculs!RL46","v":"souple"},"-"]
[]
[null,null,null,null,null,null,{"$f":"IF(F370=\"rigide\",\"Tuyau rigide: Vérification avec des charges de rupture n'existe pas pour le profil 1\",\"\")","v":""}]
["Souple:",{"$f":"IF(AND(F370=\"souple\",Calculs!RK188=\"OK\",Calculs!RH216=\"OK\",Calculs!RG227=\"OK\",Calculs!RG420=\"OK\",Calculs!RH420=\"OK\",Calculs!RI420=\"OK\",Calculs!RJ420=\"OK\",Calculs!RK420=\"OK\",Calculs!RG421=\"OK\",Calculs!RH421=\"OK\",Calculs!RI421=\"OK\",Calculs!RJ421=\"OK\",Calculs!RK421=\"OK\"),\"OK\",\"-\")","v":"OK"},"U1/V1",null,{"$f":"IF(OR(F370=\"rigide\",F373=\"H trop faible!\"),\"-\",IF(OR(B373=\"OK\",B374=\"OK\"),\"OK\",\"-\"))","v":"OK"},{"$f":"'GF-UP SN20000'!H58","v":""}]
["Rigide:",{"$f":"IF(AND(F370=\"rigide\",Calculs!RK188=\"OK\",Calculs!RG227=\"OK\",Calculs!RG420=\"OK\",Calculs!RH420=\"OK\",Calculs!RI420=\"OK\",Calculs!RJ420=\"OK\",Calculs!RK420=\"OK\",Calculs!RG421=\"OK\",Calculs!RH421=\"OK\",Calculs!RI421=\"OK\",Calculs!RJ421=\"OK\",Calculs!RK421=\"OK\"),\"OK\",\"-\")","v":"-"}]
[null,null,"U4/V4",null,{"$f":"IF(F375=\"H trop faible!\",\"-\",IF(AND(Calculs!RZ188=\"OK\",OR(Calculs!RW227=\"OK\",Calculs!RW227=\"\"),Calculs!RT342=\"OK\",Calculs!RU342=\"OK\",Calculs!RV342=\"OK\",Calculs!RW342=\"OK\",Calculs!RX342=\"OK\",Calculs!RT343=\"OK\",Calculs!RU343=\"OK\",Calculs!RV343=\"OK\",Calculs!RW343=\"OK\",Calculs!RX343=\"OK\"),\"OK\",\"-\"))","v":"OK"},{"$f":"'GF-UP SN20000'!H58","v":""},"efictif",{"$f":"IF(E375=\"-\",\"-\",Calculs!RT34/1000)","v":0.15},"m"]

{"sheet":"Impression (D)","index":51,"n_rows":297,"n_cols":9,"rows_kept":297,"cut":false,"hidden":false,"merged":[[39,5,39,6],[15,2,29,7],[41,5,41,6],[43,5,43,6],[63,6,66,6],[8,0,9,8],[11,3,11,8],[33,5,33,6],[35,5,35,6],[37,5,37,6],[83,4,83,6],[46,3,46,4],[47,3,47,4],[97,4,97,6],[167,4,167,6],[77,6,80,6],[90,6,93,6],[70,4,70,6],[106,4,106,6],[117,4,117,6],[130,4,130,6],[142,4,142,6],[148,6,149,8],[136,6,137,8],[123,6,124,8],[112,6,113,8],[156,4,156,6],[178,4,178,6],[190,4,190,6],[205,4,205,6],[217,4,217,6],[162,6,163,8],[229,4,229,6],[240,4,240,6],[254,4,254,6],[265,4,265,6],[276,4,276,6],[235,6,236,8],[293,6,294,8],[282,6,283,8],[271,6,272,8],[260,6,261,8],[246,6,247,8],[287,4,287,6],[223,6,224,8],[211,6,212,8],[196,6,197,8],[184,6,185,8],[173,6,174,8]]}
[null,"Projekt:",{"$f":"Accueil!P15","v":"VSA 2026"},null,null,"Ingenieur/in:",null,{"$f":"Accueil!AI15","v":0}]
[]
[null,{"$f":"Accueil!L17","v":"N°:"},{"$f":"Accueil!P17","v":0},null,null,"Verantwortlicher:",null,{"$f":"Accueil!AI17","v":0}]
[]
[null,"Ort:",{"$f":"Accueil!P21","v":0},null,null,"Bauherr:",null,{"$f":"Accueil!AI19","v":0}]
[null,null,{"$f":"Accueil!P23","v":0}]
[]
[]
["Resultate"]
[]
[]
[null,"Kommentare:",null,{"$f":"Accueil!AI21","v":0}]
[]
[null,"Verlegeprofile:"]
[]
[]
[]
[]
[]
[]
[]
[]
[]
[]
[]
[]
[]
[]
[]
[]
[]
[]
[null,"Informationen:"]
[null,null,"Überdeckungshöhe",null,"H",{"$f":"Données!AE52","v":3},null,"m"]
[]
[null,null,"Grabentyp",null,null,{"$f":"Données!AE56","v":"Verticale (U)"},null,"-"]
[]
[null,null,"Grundwasserspiegel",null,"hw",{"$f":"IF(OR(Données!AE60=\"Sans eau souterraine\",Données!AE60=\"Ohne Grundwasser\"),\"-\",Données!AE62)","v":"-"},null,"m"]
[]
[null,null,"Flächenlast",null,"q",{"$f":"IF(OR(Données!AE8=\"Pas de charge\",Données!AE8=\"Keine Flächenlast\"),\"-\",Données!AE10)","v":"-"},null,"kN/m2"]
[]
[null,null,"Verkehr",null,null,{"$f":"Données!AE22","v":"Trafic routier"},null,"-"]
[]
[null,null,"Wasser im Rohr",null,null,{"$f":"Données!AE64","v":"Tuyau vide"},null,"-"]
[]
[]
[null,"Legende:","-","Nicht machbar"]
[null,null,"OK","machbar"]
[]
[]
[]
[]
[]
[]
[]
[]
[null,"Beton"]
[null,"Rohr:","Innendurchmesser",null,"di",{"$f":"Calculs!O32","v":300},"mm"]
[null,null,"Nominaldurchmesser",null,"DN",{"$f":"Calculs!P32","v":300},"mm"]
[null,null,"Wanddicke",null,"e",{"$f":"Calculs!R32","v":40},"mm"]
[null,null,"Festigkeitsklasse",null,"FK",{"$f":"Calculs!T32","v":90},"-"]
[]
[null,"Verlegeprofil:",null,null,null,"a [m]","c [m]",{"$f":"'Béton (D)'!H60","v":""}]
[null,null,null,"U1/V1",{"$f":"IF(AND(Béton!G126=\"OK\",Béton!C140=\"OK\",Béton!D170=\"OK\",Béton!E170=\"OK\",Béton!F170=\"OK\",Béton!G170=\"OK\",Béton!H170=\"OK\",Béton!D171=\"OK\",Béton!E171=\"OK\",Béton!F171=\"OK\",Béton!G171=\"OK\",Béton!H171=\"OK\",H63=\"\"),\"OK\",\"-\")","v":"-"}]
[null,null,null,"U2/V2",{"$f":"IF(AND(Béton!G126=\"OK\",Béton!D140=\"OK\",Béton!D184=\"OK\",Béton!E184=\"OK\",Béton!F184=\"OK\",Béton!G184=\"OK\",Béton!H184=\"OK\",Béton!D185=\"OK\",Béton!E185=\"OK\",Béton!F185=\"OK\",Béton!G185=\"OK\",Béton!H185=\"OK\",H63=\"\"),\"OK\",\"-\")","v":"-"},{"$f":"IF(E65=\"-\",\"-\",Béton!E238)","v":"-"}]
[null,null,null,"U2A/V2A",{"$f":"IF(AND(Béton!G126=\"OK\",Béton!E140=\"OK\",Béton!D198=\"OK\",Béton!E198=\"OK\",Béton!F198=\"OK\",Béton!G198=\"OK\",Béton!H198=\"OK\",Béton!D199=\"OK\",Béton!E199=\"OK\",Béton!F199=\"OK\",Béton!G199=\"OK\",Béton!H199=\"OK\",H63=\"\"),\"OK\",\"-\")","v":"OK"},{"$f":"IF(E66=\"-\",\"-\",Béton!F238)","v":0.15}]
[null,null,null,"U3/V3",{"$f":"IF(AND(Béton!G126=\"OK\",Béton!F140=\"OK\",Béton!D217=\"OK\",Béton!E217=\"OK\",Béton!F217=\"OK\",Béton!G217=\"OK\",Béton!H217=\"OK\",Béton!D218=\"OK\",Béton!E218=\"OK\",Béton!F218=\"OK\",Béton!G218=\"OK\",Béton!H218=\"OK\",H63=\"\"),\"OK\",\"-\")","v":"OK"},{"$f":"IF(E67=\"-\",\"-\",Béton!G238)","v":0.15}]
[null,null,null,"U4/V4",{"$f":"IF(AND(Béton!G126=\"OK\",Béton!G140=\"OK\",Béton!D231=\"OK\",Béton!E231=\"OK\",Béton!F231=\"OK\",Béton!G231=\"OK\",Béton!H231=\"OK\",Béton!D232=\"OK\",Béton!E232=\"OK\",Béton!F232=\"OK\",Béton!G232=\"OK\",Béton!H232=\"OK\",H63=\"\"),\"OK\",\"-\")","v":"OK"},{"$f":"IF(E68=\"-\",\"-\",Béton!H238)","v":0.15},{"$f":"IF(E68=\"-\",\"-\",Béton!D241)","v":0.15}]
[]
[]
[null,"Steinzeug (Normallast)",null,null,{"$f":"IF(F72<Données!AE6,\"di max.< di Eingabe!\",\"\")","v":""}]
[null,"Rohr:","Innendurchmesser",null,"di",{"$f":"Calculs!KM32","v":300},"mm"]
[null,null,"Nominaldurchmesser",null,"DN",{"$f":"Calculs!KN32","v":300},"mm"]
[null,null,"Wanddicke",null,"e",{"$f":"Calculs!KP32","v":27.5},"mm"]
[null,null,"Festigkeitsklasse",null,"FK",{"$f":"Calculs!KR32","v":160},"-"]
[]
[null,"Verlegeprofil:",null,null,null,"a [m]","c [m]",{"$f":"'Grès vitrifié n. (D)'!H60","v":""}]
[null,null,null,"U1/V1",{"$f":"IF(AND(Calculs!KQ177=\"OK\",Calculs!KN208=\"OK\",Calculs!KM468=\"OK\",Calculs!KN468=\"OK\",Calculs!KO468=\"OK\",Calculs!KP468=\"OK\",Calculs!KQ468=\"OK\",Calculs!KM469=\"OK\",Calculs!KN469=\"OK\",Calculs!KO469=\"OK\",Calculs!KP469=\"OK\",Calculs!KQ469=\"OK\",H77=\"\"),\"OK\",\"-\")","v":"-"}]
[null,null,null,"U2/V2",{"$f":"IF(AND(Calculs!KQ177=\"OK\",Calculs!KO208=\"OK\",Calculs!KM481=\"OK\",Calculs!KN481=\"OK\",Calculs!KO481=\"OK\",Calculs!KP481=\"OK\",Calculs!KQ481=\"OK\",Calculs!KM482=\"OK\",Calculs!KN482=\"OK\",Calculs!KO482=\"OK\",Calculs!KP482=\"OK\",Calculs!KQ482=\"OK\",H77=\"\"),\"OK\",\"-\")","v":"OK"},{"$f":"IF(E79=\"-\",\"-\",Calculs!KN547)","v":0.15}]
[null,null,null,"U2A/V2A",{"$f":"IF(AND(Calculs!KQ177=\"OK\",Calculs!KP208=\"OK\",Calculs!KM494=\"OK\",Calculs!KN494=\"OK\",Calculs!KO494=\"OK\",Calculs!KP494=\"OK\",Calculs!KQ494=\"OK\",Calculs!KM495=\"OK\",Calculs!KN495=\"OK\",Calculs!KO495=\"OK\",Calculs!KP495=\"OK\",Calculs!KQ495=\"OK\",H77=\"\"),\"OK\",\"-\")","v":"OK"},{"$f":"IF(E80=\"-\",\"-\",Calculs!KO547)","v":0.15}]
[null,null,null,"U3/V3",{"$f":"IF(AND(Calculs!KQ177=\"OK\",Calculs!KQ208=\"OK\",Calculs!KM507=\"OK\",Calculs!KN507=\"OK\",Calculs!KO507=\"OK\",Calculs!KP507=\"OK\",Calculs!KQ507=\"OK\",Calculs!KM508=\"OK\",Calculs!KN508=\"OK\",Calculs!KO508=\"OK\",Calculs!KP508=\"OK\",Calculs!KQ508=\"OK\",H77=\"\"),\"OK\",\"-\")","v":"OK"},{"$f":"IF(E81=\"-\",\"-\",Calculs!KP547)","v":0.15}]
[null,null,null,"U4/V4",{"$f":"IF(AND(Calculs!KQ177=\"OK\",Calculs!KR208=\"OK\",Calculs!KM520=\"OK\",Calculs!KN520=\"OK\",Calculs!KO520=\"OK\",Calculs!KP520=\"OK\",Calculs!KQ520=\"OK\",Calculs!KM521=\"OK\",Calculs!KN521=\"OK\",Calculs!KO521=\"OK\",Calculs!KP521=\"OK\",Calculs!KQ521=\"OK\",H77=\"\"),\"OK\",\"-\")","v":"OK"},{"$f":"IF(E82=\"-\",\"-\",Calculs!KQ547)","v":0.15},{"$f":"IF(E82=\"-\",\"-\",Calculs!KQ561)","v":0.15}]
[]
[null,"Steinzeug (Hochlast)",null,null,{"$f":"IF(F85<Données!AE6,\"di max.< di Eingabe!\",\"\")","v":""}]
[null,"Rohr:","Innendurchmesser",null,"di",{"$f":"Calculs!LM32","v":300},"mm"]
[null,null,"Nominaldurchmesser",null,"DN",{"$f":"Calculs!LN32","v":300},"mm"]
[null,null,"Wanddicke",null,"e",{"$f":"Calculs!LP32","v":38},"mm"]
[null,null,"Festigkeitsklasse",null,"FK",{"$f":"Calculs!LR32","v":240},"-"]
[]
[null,"Verlegeprofil:",null,null,null,"a [m]","c [m]",{"$f":"'Grès vitrifié s. (D)'!H60","v":""}]
[null,null,null,"U1/V1",{"$f":"IF(AND(Calculs!LQ177=\"OK\",Calculs!LN208=\"OK\",Calculs!LM468=\"OK\",Calculs!LN468=\"OK\",Calculs!LO468=\"OK\",Calculs!LP468=\"OK\",Calculs!LQ468=\"OK\",Calculs!LM469=\"OK\",Calculs!LN469=\"OK\",Calculs!LO469=\"OK\",Calculs!LP469=\"OK\",Calculs!LQ469=\"OK\",H90=\"\"),\"OK\",\"-\")","v":"OK"}]
[null,null,null,"U2/V2",{"$f":"IF(AND(Calculs!LQ177=\"OK\",Calculs!LO208=\"OK\",Calculs!LM481=\"OK\",Calculs!LN481=\"OK\",Calculs!LO481=\"OK\",Calculs!LP481=\"OK\",Calculs!LQ481=\"OK\",Calculs!LM482=\"OK\",Calculs!LN482=\"OK\",Calculs!LO482=\"OK\",Calculs!LP482=\"OK\",Calculs!LQ482=\"OK\",H90=\"\"),\"OK\",\"-\")","v":"OK"},{"$f":"IF(E92=\"-\",\"-\",Calculs!LN547)","v":0.15}]
[null,null,null,"U2A/V2A",{"$f":"IF(AND(Calculs!LQ177=\"OK\",Calculs!LP208=\"OK\",Calculs!LM494=\"OK\",Calculs!LN494=\"OK\",Calculs!LO494=\"OK\",Calculs!LP494=\"OK\",Calculs!LQ494=\"OK\",Calculs!LM495=\"OK\",Calculs!LN495=\"OK\",Calculs!LO495=\"OK\",Calculs!LP495=\"OK\",Calculs!LQ495=\"OK\",H90=\"\"),\"OK\",\"-\")","v":"OK"},{"$f":"IF(E93=\"-\",\"-\",Calculs!LO547)","v":0.15}]
[null,null,null,"U3/V3",{"$f":"IF(AND(Calculs!LQ177=\"OK\",Calculs!LQ208=\"OK\",Calculs!LM507=\"OK\",Calculs!LN507=\"OK\",Calculs!LO507=\"OK\",Calculs!LP507=\"OK\",Calculs!LQ507=\"OK\",Calculs!LM508=\"OK\",Calculs!LN508=\"OK\",Calculs!LO508=\"OK\",Calculs!LP508=\"OK\",Calculs!LQ508=\"OK\",H90=\"\"),\"OK\",\"-\")","v":"OK"},{"$f":"IF(E94=\"-\",\"-\",Calculs!LP547)","v":0.15}]
[null,null,null,"U4/V4",{"$f":"IF(AND(Calculs!LQ177=\"OK\",Calculs!LR208=\"OK\",Calculs!LM520=\"OK\",Calculs!LN520=\"OK\",Calculs!LO520=\"OK\",Calculs!LP520=\"OK\",Calculs!LQ520=\"OK\",Calculs!LM521=\"OK\",Calculs!LN521=\"OK\",Calculs!LO521=\"OK\",Calculs!LP521=\"OK\",Calculs!LQ521=\"OK\",H90=\"\"),\"OK\",\"-\")","v":"OK"},{"$f":"IF(E95=\"-\",\"-\",Calculs!LQ547)","v":0.15},{"$f":"IF(E95=\"-\",\"-\",Calculs!LQ561)","v":0.15}]
[]
[]
[null,"Gusseisen",null,null,{"$f":"IF(F99<Données!AE6,\"di max.< di Eingabe!\",\"\")","v":""}]
[null,"Rohr:","Innendurchmesser",null,"di",{"$f":"Calculs!SK32","v":314.8},"mm"]
[null,null,"Nominaldurchmesser",null,"DN",{"$f":"Calculs!SL32","v":300},"mm"]
[null,null,"Wanddicke",null,"e",{"$f":"Calculs!SN32","v":5.6},"mm"]
[null,null,"Systemsteifigkeit",null,"SFcourt",{"$f":"Calculs!SL37","v":"rigide"},"-"]
[]
[null,{"$f":"IF(AND(F102=\"weich\",Calculs!SK182=\"OK\",Calculs!SH209=\"OK\",Calculs!SG221=\"OK\",Calculs!SG341=\"OK\",Calculs!SH341=\"OK\",Calculs!SI341=\"OK\",Calculs!SJ341=\"OK\",Calculs!SK341=\"OK\",Calculs!SG342=\"OK\",Calculs!SH342=\"OK\",Calculs!SI342=\"OK\",Calculs!SJ342=\"OK\",Calculs!SK342=\"OK\"),\"OK\",\"-\")","v":"-"}]
["Souple:",{"$f":"IF(AND(F102=\"steif\",Calculs!SK182=\"OK\",Calculs!SG231=\"OK\",Calculs!SG341=\"OK\",Calculs!SH341=\"OK\",Calculs!SI341=\"OK\",Calculs!SJ341=\"OK\",Calculs!SK341=\"OK\",Calculs!SG342=\"OK\",Calculs!SH342=\"OK\",Calculs!SI342=\"OK\",Calculs!SJ342=\"OK\",Calculs!SK342=\"OK\"),\"OK\",\"-\")","v":"-"},"U1/V1",null,{"$f":"IF(F105=\"H zu klein!\",\"-\",IF(OR(B104=\"OK\",B105=\"OK\"),\"OK\",\"-\"))","v":"-"},{"$f":"'Fonte (D)'!H59","v":""}]
[]
[null,"PP-SN4",null,null,{"$f":"IF(F108<Données!AE6,\"di max.< di Eingabe!\",\"\")","v":""}]
[null,{"$f":"IF(Accueil!$AZ$15=\"Français\",\"Tuyau:\",IF(Accueil!$AZ$15=\"Deutsch\",\"Rohr:\",IF(Accueil!$AZ$15=\"Italiano\",\"\")))","v":"Tuyau:"},"Innendurchmesser",null,"di",{"$f":"'PP-SN4'!F14","v":375.4},"mm"]
[null,null,"Nominaldurchmesser",null,"DN",{"$f":"Calculs!AL32","v":400},"mm"]
[null,null,"Wanddicke",null,"e",{"$f":"'PP-SN4'!F16","v":12.3},"mm"]
[null,null,"Systemsteifigkeit",null,"SFcourt",{"$f":"'PP-SN4'!G21","v":"souple"},"-"]
[]
[null,null,null,null,null,null,{"$f":"IF(F111=\"steif\",\"Steifes Rohr: Nachweis mit Bruchlasten existiert nicht für das Verlegeprofil 1!\",\"\")","v":""}]
["Souple:",{"$f":"IF(AND(F111=\"weich\",'PP-SN4'!F120=\"OK\",'PP-SN4'!G130=\"OK\",'PP-SN4'!E145=\"OK\",'PP-SN4'!D171=\"OK\",'PP-SN4'!E171=\"OK\",'PP-SN4'!F171=\"OK\",'PP-SN4'!G171=\"OK\",'PP-SN4'!H171=\"OK\",'PP-SN4'!D172=\"OK\",'PP-SN4'!E172=\"OK\",'PP-SN4'!F172=\"OK\",'PP-SN4'!G172=\"OK\",'PP-SN4'!H172=\"OK\"),\"OK\",\"-\")","v":"-"},"U1/V1",null,{"$f":"IF(OR(F111=\"steif\",F114=\"H zu klein!\"),\"-\",IF(OR(B114=\"OK\",B115=\"OK\"),\"OK\",\"-\"))","v":"-"},{"$f":"'PP-SN4 (D)'!H58","v":""}]
["Rigide:",{"$f":"IF(AND(F111=\"steif\",'PP-SN4'!G130=\"OK\",'PP-SN4'!D171=\"OK\",'PP-SN4'!E171=\"OK\",'PP-SN4'!F171=\"OK\",'PP-SN4'!G171=\"OK\",'PP-SN4'!H171=\"OK\",'PP-SN4'!D172=\"OK\",'PP-SN4'!E172=\"OK\",'PP-SN4'!F172=\"OK\",'PP-SN4'!G172=\"OK\",'PP-SN4'!H172=\"OK\"),\"OK\",\"-\")","v":"-"}]
[null,null,"U4/V4",null,{"$f":"IF(F116=\"H zu klein!\",\"-\",IF(AND('PP-SN4'!P122=\"OK\",OR('PP-SN4'!N139=\"OK\",'PP-SN4'!N139=\"\"),'PP-SN4'!M171=\"OK\",'PP-SN4'!N171=\"OK\",'PP-SN4'!O171=\"OK\",'PP-SN4'!P171=\"OK\",'PP-SN4'!Q171=\"OK\",'PP-SN4'!M172=\"OK\",'PP-SN4'!N172=\"OK\",'PP-SN4'!O172=\"OK\",'PP-SN4'!P172=\"OK\",'PP-SN4'!Q172=\"OK\"),\"OK\",\"-\"))","v":"OK"},{"$f":"'PP-SN4 (D)'!Q65","v":""},"efictif",{"$f":"IF(E116=\"-\",\"-\",'PP-SN4'!O16)","v":0.16500000000000001},"m"]
[]
[null,"PP-SN8",null,null,{"$f":"IF(F119=\"-\",\"di max.< di Eingabe!\",\"\")","v":""}]
[null,"Tuyau:","Innendurchmesser",null,"di",{"$f":"IF(Calculs!BN7<Données!AE6,\"-\",'PP-SN8'!F14)","v":372.6},"mm"]
[null,null,"Nominaldurchmesser",null,"DN",{"$f":"IF(F119=\"-\",\"-\",Calculs!BL32)","v":400},"mm"]
[null,null,"Wanddicke",null,"e",{"$f":"IF(F119=\"-\",\"-\",'PP-SN8'!F16)","v":13.7},"mm"]
[null,null,"Systemsteifigkeit",null,"SFcourt",{"$f":"IF(F119=\"-\",\"-\",'PP-SN8'!G21)","v":"souple"},"-"]
[]
[null,null,null,null,null,null,{"$f":"IF(F122=\"steif\",\"Steifes Rohr: Nachweis mit Bruchlasten existiert nicht für das Verlegeprofil 1!\",\"\")","v":""}]
["Souple:",{"$f":"IF(AND(F122=\"weich\",'PP-SN8'!$F$119=\"OK\",'PP-SN8'!$G$129=\"OK\",'PP-SN8'!$E$144=\"OK\",'PP-SN8'!$D$169=\"OK\",'PP-SN8'!$E$169=\"OK\",'PP-SN8'!$F$169=\"OK\",'PP-SN8'!$G$169=\"OK\",'PP-SN8'!$H$169=\"OK\",'PP-SN8'!$D$170=\"OK\",'PP-SN8'!$E$170=\"OK\",'PP-SN8'!$F$170=\"OK\",'PP-SN8'!$G$170=\"OK\",'PP-SN8'!$H$170=\"OK\"),\"OK\",\"-\")","v":"-"},"U1/V1",null,{"$f":"IF(OR(F119=\"-\",F125=\"H zu klein!\"),\"-\",IF(OR(B125=\"OK\",B126=\"OK\"),\"OK\",\"-\"))","v":"-"},{"$f":"'PP-SN8 (D)'!H58","v":""}]
["Rigide:",{"$f":"IF(AND(F122=\"steig\",'PP-SN8'!$G$129=\"OK\",'PP-SN8'!$D$170=\"OK\",'PP-SN8'!$E$170=\"OK\",'PP-SN8'!$F$170=\"OK\",'PP-SN8'!$G$170=\"OK\",'PP-SN8'!$H$170=\"OK\",'PP-SN8'!$D$169=\"OK\",'PP-SN8'!$E$169=\"OK\",'PP-SN8'!$F$169=\"OK\",'PP-SN8'!$G$169=\"OK\",'PP-SN8'!$H$169=\"OK\"),\"OK\",\"-\")","v":"-"}]
[null,null,"U4/V4",null,{"$f":"IF(OR(F119=\"-\",F127=\"H zu klein!\"),\"-\",IF(AND('PP-SN8'!$P$121=\"OK\",OR('PP-SN8'!$N$138=\"OK\",'PP-SN8'!$N$138=\"\"),'PP-SN8'!$M$169=\"OK\",'PP-SN8'!$N$169=\"OK\",'PP-SN8'!$O$169=\"OK\",'PP-SN8'!$P$169=\"OK\",'PP-SN8'!$Q$169=\"OK\",'PP-SN8'!$M$170=\"OK\",'PP-SN8'!$N$170=\"OK\",'PP-SN8'!$O$170=\"OK\",'PP-SN8'!$P$170=\"OK\",'PP-SN8'!$Q$170=\"OK\"),\"OK\",\"-\"))","v":"OK"},{"$f":"'PP-SN8 (D)'!Q65","v":""},"efictif",{"$f":"IF(OR(F119=\"-\",E127=\"-\"),\"-\",'PP-SN8'!$O$16)","v":0.16500000000000001},"m"]
[]
[]
[]
[null,"PP-SN12",null,null,{"$f":"IF(F132<Données!AE6,\"di max.< di Eingabe!\",\"\")","v":""}]
[null,{"$f":"IF(Accueil!$AZ$15=\"Français\",\"Tuyau:\",IF(Accueil!$AZ$15=\"Deutsch\",\"Rohr:\",IF(Accueil!$AZ$15=\"Italiano\",\"\")))","v":"Tuyau:"},"Innendurchmesser",null,"di",{"$f":"'PP-SN12'!$F$14","v":369.4},"mm"]
[null,null,"Nominaldurchmesser",null,"DN",{"$f":"Calculs!$CL$32","v":400},"mm"]
[null,null,"Wanddicke",null,"e",{"$f":"'PP-SN12'!$F$16","v":15.3},"mm"]
[null,null,"Systemsteifigkeit",null,"SFcourt",{"$f":"'PP-SN12'!$G$21","v":"souple"},"-"]
[]
[null,null,null,null,null,null,{"$f":"IF(F135=\"steif\",\"Steifes Rohr: Nachweis mit Bruchlasten existiert nicht für das Verlegeprofil 1!\",\"\")","v":""}]
["Souple:",{"$f":"IF(AND(F135=\"weich\",'PP-SN12'!$F$119=\"OK\",'PP-SN12'!$G$129=\"OK\",'PP-SN12'!$E$144=\"OK\",'PP-SN12'!$D$169=\"OK\",'PP-SN12'!$E$169=\"OK\",'PP-SN12'!$F$169=\"OK\",'PP-SN12'!$G$169=\"OK\",'PP-SN12'!$H$169=\"OK\",'PP-SN12'!$D$170=\"OK\",'PP-SN12'!$E$170=\"OK\",'PP-SN12'!$F$170=\"OK\",'PP-SN12'!$G$170=\"OK\",'PP-SN12'!$H$170=\"OK\"),\"OK\",\"-\")","v":"-"},"U1/V1",null,{"$f":"IF(OR(F135=\"steif\",F138=\"H zu klein!\"),\"-\",IF(OR(B138=\"OK\",B139=\"OK\"),\"OK\",\"-\"))","v":"-"},{"$f":"'PP-SN12 (D)'!H58","v":""}]
["Rigide:",{"$f":"IF(AND(F135=\"steif\",'PP-SN12'!$G$129=\"OK\",'PP-SN12'!$D$170=\"OK\",'PP-SN12'!$E$170=\"OK\",'PP-SN12'!$F$170=\"OK\",'PP-SN12'!$G$170=\"OK\",'PP-SN12'!$H$170=\"OK\",'PP-SN12'!$D$169=\"OK\",'PP-SN12'!$E$169=\"OK\",'PP-SN12'!$F$169=\"OK\",'PP-SN12'!$G$169=\"OK\",'PP-SN12'!$H$169=\"OK\"),\"OK\",\"-\")","v":"-"}]
[null,null,"U4/V4",null,{"$f":"IF(F140=\"H zu klein!\",\"-\",IF(AND('PP-SN12'!$P$121=\"OK\",OR('PP-SN12'!$N$138=\"OK\",'PP-SN12'!$N$138=\"\"),'PP-SN12'!$M$169=\"OK\",'PP-SN12'!$N$169=\"OK\",'PP-SN12'!$O$169=\"OK\",'PP-SN12'!$P$169=\"OK\",'PP-SN12'!$Q$169=\"OK\",'PP-SN12'!$M$170=\"OK\",'PP-SN12'!$N$170=\"OK\",'PP-SN12'!$O$170=\"OK\",'PP-SN12'!$P$170=\"OK\",'PP-SN12'!$Q$170=\"OK\"),\"OK\",\"-\"))","v":"OK"},{"$f":"'PP-SN12 (D)'!Q65","v":""},"efictif",{"$f":"IF(E140=\"-\",\"-\",'PP-SN12'!$O$16)","v":0.16500000000000001},"m"]
[]
[]
[null,"PP-SN16",null,null,{"$f":"IF(F144<Données!AE6,\"di max.< di Eingabe!\",\"\")","v":""}]
[null,{"$f":"IF(Accueil!$AZ$15=\"Français\",\"Tuyau:\",IF(Accueil!$AZ$15=\"Deutsch\",\"Rohr:\",IF(Accueil!$AZ$15=\"Italiano\",\"\")))","v":"Tuyau:"},"Innendurchmesser",null,"di",{"$f":"'PP-SN16'!$F$14","v":363.6},"mm"]
[null,null,"Nominaldurchmesser",null,"DN",{"$f":"Calculs!DL32","v":400},"mm"]
[null,null,"Wanddicke",null,"e",{"$f":"'PP-SN16'!$F$16","v":18.2},"mm"]
[null,null,"Systemsteifigkeit",null,"SFcourt",{"$f":"'PP-SN16'!$G$21","v":"souple"},"-"]
[]
[null,null,null,null,null,null,{"$f":"IF(F147=\"steif\",\"Steifes Rohr: Nachweis mit Bruchlasten existiert nicht für das Verlegeprofil 1!\",\"\")","v":""}]
["Souple:",{"$f":"IF(AND(F147=\"weich\",'PP-SN16'!$F$119=\"OK\",'PP-SN16'!$G$129=\"OK\",'PP-SN16'!$E$144=\"OK\",'PP-SN16'!$D$169=\"OK\",'PP-SN16'!$E$169=\"OK\",'PP-SN16'!$F$169=\"OK\",'PP-SN16'!$G$169=\"OK\",'PP-SN16'!$H$169=\"OK\",'PP-SN16'!$D$170=\"OK\",'PP-SN16'!$E$170=\"OK\",'PP-SN16'!$F$170=\"OK\",'PP-SN16'!$G$170=\"OK\",'PP-SN16'!$H$170=\"OK\"),\"OK\",\"-\")","v":"-"},"U1/V1",null,{"$f":"IF(OR(F147=\"steif\",F150=\"H zu klein!\"),\"-\",IF(OR(B150=\"OK\",B151=\"OK\"),\"OK\",\"-\"))","v":"-"},{"$f":"'PP-SN16 (D)'!H58","v":""}]
["Rigide:",{"$f":"IF(AND(F147=\"steif\",'PP-SN16'!$G$129=\"OK\",'PP-SN16'!$D$170=\"OK\",'PP-SN16'!$E$170=\"OK\",'PP-SN16'!$F$170=\"OK\",'PP-SN16'!$G$170=\"OK\",'PP-SN16'!$H$170=\"OK\",'PP-SN16'!$D$169=\"OK\",'PP-SN16'!$E$169=\"OK\",'PP-SN16'!$F$169=\"OK\",'PP-SN16'!$G$169=\"OK\",'PP-SN16'!$H$169=\"OK\"),\"OK\",\"-\")","v":"-"}]
[null,null,"U4/V4",null,{"$f":"IF(F152=\"H zu klein!\",\"-\",IF(AND('PP-SN16'!$P$121=\"OK\",OR('PP-SN16'!$N$138=\"OK\",'PP-SN16'!$N$138=\"\"),'PP-SN16'!$M$169=\"OK\",'PP-SN16'!$N$169=\"OK\",'PP-SN16'!$O$169=\"OK\",'PP-SN16'!$P$169=\"OK\",'PP-SN16'!$Q$169=\"OK\",'PP-SN16'!$M$170=\"OK\",'PP-SN16'!$N$170=\"OK\",'PP-SN16'!$O$170=\"OK\",'PP-SN16'!$P$170=\"OK\",'PP-SN16'!$Q$170=\"OK\"),\"OK\",\"-\"))","v":"OK"},{"$f":"'PP-SN16 (D)'!Q65","v":""},"efictif",{"$f":"IF(E152=\"-\",\"-\",'PP-SN16'!$O$16)","v":0.16500000000000001},"m"]
[]
[]
[]
[]
[null,"PVC-SN2",null,null,{"$f":"IF(F158<Données!AE6,\"di max.< di Eingabe!\",\"\")","v":""}]
[null,{"$f":"IF(Accueil!$AZ$15=\"Français\",\"Tuyau:\",IF(Accueil!$AZ$15=\"Deutsch\",\"Rohr:\",IF(Accueil!$AZ$15=\"Italiano\",\"\")))","v":"Tuyau:"},"Innendurchmesser",null,"di",{"$f":"'PVC-SN2'!$F$14","v":302.60000000000002},"mm"]
[null,null,"Nominaldurchmesser",null,"DN",{"$f":"Calculs!EL32","v":315},"mm"]
[null,null,"Wanddicke",null,"e",{"$f":"'PVC-SN2'!$F$16","v":6.2},"mm"]
[null,null,"Systemsteifigkeit",null,"SFcourt",{"$f":"'PVC-SN2'!$G$21","v":"souple"},"-"]
[]
[null,null,null,null,null,null,{"$f":"IF(F161=\"steif\",\"Steifes Rohr: Nachweis mit Bruchlasten existiert nicht für das Verlegeprofil 1!\",\"\")","v":""}]
["Souple:",{"$f":"IF(AND(F161=\"weich\",'PVC-SN2'!$F$119=\"OK\",'PVC-SN2'!$G$129=\"OK\",'PVC-SN2'!$E$144=\"OK\",'PVC-SN2'!$D$169=\"OK\",'PVC-SN2'!$E$169=\"OK\",'PVC-SN2'!$F$169=\"OK\",'PVC-SN2'!$G$169=\"OK\",'PVC-SN2'!$H$169=\"OK\",'PVC-SN2'!$D$170=\"OK\",'PVC-SN2'!$E$170=\"OK\",'PVC-SN2'!$F$170=\"OK\",'PVC-SN2'!$G$170=\"OK\",'PVC-SN2'!$H$170=\"OK\"),\"OK\",\"-\")","v":"-"},"U1/V1",null,{"$f":"IF(OR(F161=\"steif\",F164=\"H zu klein!\"),\"-\",IF(OR(B164=\"OK\",B165=\"OK\"),\"OK\",\"-\"))","v":"-"},{"$f":"'PVC-SN2 (D)'!H58","v":""}]
["Rigide:",{"$f":"IF(AND(F161=\"steif\",'PVC-SN2'!$G$129=\"OK\",'PVC-SN2'!$D$170=\"OK\",'PVC-SN2'!$E$170=\"OK\",'PVC-SN2'!$F$170=\"OK\",'PVC-SN2'!$G$170=\"OK\",'PVC-SN2'!$H$170=\"OK\",'PVC-SN2'!$D$169=\"OK\",'PVC-SN2'!$E$169=\"OK\",'PVC-SN2'!$F$169=\"OK\",'PVC-SN2'!$G$169=\"OK\",'PVC-SN2'!$H$169=\"OK\"),\"OK\",\"-\")","v":"-"}]
[null,null,"U4/V4",null,{"$f":"IF(F166=\"H zu klein!\",\"-\",IF(AND('PVC-SN2'!$P$121=\"OK\",OR('PVC-SN2'!$N$138=\"OK\",'PVC-SN2'!$N$138=\"\"),'PVC-SN2'!$M$169=\"OK\",'PVC-SN2'!$N$169=\"OK\",'PVC-SN2'!$O$169=\"OK\",'PVC-SN2'!$P$169=\"OK\",'PVC-SN2'!$Q$169=\"OK\",'PVC-SN2'!$M$170=\"OK\",'PVC-SN2'!$N$170=\"OK\",'PVC-SN2'!$O$170=\"OK\",'PVC-SN2'!$P$170=\"OK\",'PVC-SN2'!$Q$170=\"OK\"),\"OK\",\"-\"))","v":"OK"},{"$f":"'PVC-SN2 (D)'!Q65","v":""},"efictif",{"$f":"IF(E166=\"-\",\"-\",'PVC-SN2'!$O$16)","v":0.15},"m"]
[]
[null,"PVC-SN4",null,null,{"$f":"IF(F169<Données!AE6,\"di max.< di Eingabe!\",\"\")","v":""}]
[null,{"$f":"IF(Accueil!$AZ$15=\"Français\",\"Tuyau:\",IF(Accueil!$AZ$15=\"Deutsch\",\"Rohr:\",IF(Accueil!$AZ$15=\"Italiano\",\"\")))","v":"Tuyau:"},"Innendurchmesser",null,"di",{"$f":"'PVC-SN4'!$F$14","v":337.6},"mm"]
[null,null,"Nominaldurchmesser",null,"DN",{"$f":"Calculs!FL32","v":355},"mm"]
[null,null,"Wanddicke",null,"e",{"$f":"'PVC-SN4'!$F$16","v":8.6999999999999993},"mm"]
[null,null,"Systemsteifigkeit",null,"SFcourt",{"$f":"'PVC-SN4'!$G$21","v":"souple"},"-"]
[]
[null,null,null,null,null,null,{"$f":"IF(F172=\"steif\",\"Steifes Rohr: Nachweis mit Bruchlasten existiert nicht für das Verlegeprofil 1!\",\"\")","v":""}]
["Souple:",{"$f":"IF(AND(F172=\"weich\",'PVC-SN4'!$F$119=\"OK\",'PVC-SN4'!$G$129=\"OK\",'PVC-SN4'!$E$144=\"OK\",'PVC-SN4'!$D$169=\"OK\",'PVC-SN4'!$E$169=\"OK\",'PVC-SN4'!$F$169=\"OK\",'PVC-SN4'!$G$169=\"OK\",'PVC-SN4'!$H$169=\"OK\",'PVC-SN4'!$D$170=\"OK\",'PVC-SN4'!$E$170=\"OK\",'PVC-SN4'!$F$170=\"OK\",'PVC-SN4'!$G$170=\"OK\",'PVC-SN4'!$H$170=\"OK\"),\"OK\",\"-\")","v":"-"},"U1/V1",null,{"$f":"IF(OR(F172=\"steif\",F175=\"H zu klein!\"),\"-\",IF(OR(B175=\"OK\",B176=\"OK\"),\"OK\",\"-\"))","v":"-"},{"$f":"'PVC-SN4 (D)'!H58","v":""}]
["Rigide:",{"$f":"IF(AND(F172=\"steif\",'PVC-SN4'!F119=\"OK\",'PVC-SN4'!$D$170=\"OK\",'PVC-SN4'!$E$170=\"OK\",'PVC-SN4'!$F$170=\"OK\",'PVC-SN4'!$G$170=\"OK\",'PVC-SN4'!$H$170=\"OK\",'PVC-SN4'!$D$169=\"OK\",'PVC-SN4'!$E$169=\"OK\",'PVC-SN4'!$F$169=\"OK\",'PVC-SN4'!$G$169=\"OK\",'PVC-SN4'!$H$169=\"OK\"),\"OK\",\"-\")","v":"-"}]
[null,null,"U4/V4",null,{"$f":"IF(F177=\"H zu klein!\",\"-\",IF(AND('PVC-SN4'!$P$121=\"OK\",OR('PVC-SN4'!$N$138=\"OK\",'PVC-SN4'!$N$138=\"\"),'PVC-SN4'!$M$169=\"OK\",'PVC-SN4'!$N$169=\"OK\",'PVC-SN4'!$O$169=\"OK\",'PVC-SN4'!$P$169=\"OK\",'PVC-SN4'!$Q$169=\"OK\",'PVC-SN4'!$M$170=\"OK\",'PVC-SN4'!$N$170=\"OK\",'PVC-SN4'!$O$170=\"OK\",'PVC-SN4'!$P$170=\"OK\",'PVC-SN4'!$Q$170=\"OK\"),\"OK\",\"-\"))","v":"OK"},{"$f":"'PVC-SN4 (D)'!Q65","v":""},"efictif",{"$f":"IF(E177=\"-\",\"-\",'PVC-SN4'!$O$16)","v":0.15},"m"]
[]
[null,"PVC-SN8",null,null,{"$f":"IF(F180<Données!AE6,\"di max.< di Eingabe!\",\"\")","v":""}]
[null,{"$f":"IF(Accueil!$AZ$15=\"Français\",\"Tuyau:\",IF(Accueil!$AZ$15=\"Deutsch\",\"Rohr:\",IF(Accueil!$AZ$15=\"Italiano\",\"\")))","v":"Tuyau:"},"Innendurchmesser",null,"di",{"$f":"'PVC-SN8'!$F$14","v":334.2},"mm"]
[null,null,"Nominaldurchmesser",null,"DN",{"$f":"Calculs!GL32","v":355},"mm"]
[null,null,"Wanddicke",null,"e",{"$f":"'PVC-SN8'!$F$16","v":10.4},"mm"]
[null,null,"Systemsteifigkeit",null,"SFcourt",{"$f":"'PVC-SN8'!$G$21","v":"souple"},"-"]
[]
[null,null,null,null,null,null,{"$f":"IF(F183=\"steif\",\"Steifes Rohr: Nachweis mit Bruchlasten existiert nicht für das Verlegeprofil 1!\",\"\")","v":""}]
["Souple:",{"$f":"IF(AND(F183=\"weich\",'PVC-SN8'!$F$119=\"OK\",'PVC-SN8'!$G$129=\"OK\",'PVC-SN8'!$E$144=\"OK\",'PVC-SN8'!$D$169=\"OK\",'PVC-SN8'!$E$169=\"OK\",'PVC-SN8'!$F$169=\"OK\",'PVC-SN8'!$G$169=\"OK\",'PVC-SN8'!$H$169=\"OK\",'PVC-SN8'!$D$170=\"OK\",'PVC-SN8'!$E$170=\"OK\",'PVC-SN8'!$F$170=\"OK\",'PVC-SN8'!$G$170=\"OK\",'PVC-SN8'!$H$170=\"OK\"),\"OK\",\"-\")","v":"-"},"U1/V1",null,{"$f":"IF(OR(F183=\"steif\",F186=\"H zu klein!\"),\"-\",IF(OR(B186=\"OK\",B187=\"OK\"),\"OK\",\"-\"))","v":"-"},{"$f":"'PVC-SN8 (D)'!H58","v":""}]
["Rigide:",{"$f":"IF(AND(F183=\"steif\",'PVC-SN8'!$G$129=\"OK\",'PVC-SN8'!$D$170=\"OK\",'PVC-SN8'!$E$170=\"OK\",'PVC-SN8'!$F$170=\"OK\",'PVC-SN8'!$G$170=\"OK\",'PVC-SN8'!$H$170=\"OK\",'PVC-SN8'!$D$169=\"OK\",'PVC-SN8'!$E$169=\"OK\",'PVC-SN8'!$F$169=\"OK\",'PVC-SN8'!$G$169=\"OK\",'PVC-SN8'!$H$169=\"OK\"),\"OK\",\"-\")","v":"-"}]
[null,null,"U4/V4",null,{"$f":"IF(F188=\"H zu klein!\",\"-\",IF(AND('PVC-SN8'!$P$121=\"OK\",OR('PVC-SN8'!$N$138=\"OK\",'PVC-SN8'!$N$138=\"\"),'PVC-SN8'!$M$169=\"OK\",'PVC-SN8'!$N$169=\"OK\",'PVC-SN8'!$O$169=\"OK\",'PVC-SN8'!$P$169=\"OK\",'PVC-SN8'!$Q$169=\"OK\",'PVC-SN8'!$M$170=\"OK\",'PVC-SN8'!$N$170=\"OK\",'PVC-SN8'!$O$170=\"OK\",'PVC-SN8'!$P$170=\"OK\",'PVC-SN8'!$Q$170=\"OK\"),\"OK\",\"-\"))","v":"OK"},{"$f":"'PVC-SN8 (D)'!Q65","v":""},"efictif",{"$f":"IF(E188=\"-\",\"-\",'PVC-SN8'!$O$16)","v":0.15},"m"]
[]
[]
[null,"PE-SN2",null,null,{"$f":"IF(F192<Données!AE6,\"di max.< di Eingabe!\",\"\")","v":""}]
[null,{"$f":"IF(Accueil!$AZ$15=\"Français\",\"Tuyau:\",IF(Accueil!$AZ$15=\"Deutsch\",\"Rohr:\",IF(Accueil!$AZ$15=\"Italiano\",\"\")))","v":"Tuyau:"},"Innendurchmesser",null,"di",{"$f":"Calculs!HK32","v":333.2},"mm"]
[null,null,"Nominaldurchmesser",null,"DN",{"$f":"Calculs!HL32","v":355},"mm"]
[null,null,"Wanddicke",null,"e",{"$f":"'PVC-SN8'!$F$16","v":10.4},"mm"]
[null,null,"Systemsteifigkeit",null,"SFcourt",{"$f":"'PVC-SN8'!$G$21","v":"souple"},"-"]
[]
[null,null,null,null,null,null,{"$f":"IF(F195=\"steif\",\"Steifes Rohr: Nachweis mit Bruchlasten existiert nicht für das Verlegeprofil 1!\",\"\")","v":""}]
[null,{"$f":"IF(AND(F195=\"weich\",Calculs!HK182=\"OK\",Calculs!HH209=\"OK\",Calculs!HG221=\"OK\",Calculs!HG329=\"OK\",Calculs!HH329=\"OK\",Calculs!HI329=\"OK\",Calculs!HJ329=\"OK\",Calculs!HK329=\"OK\",Calculs!HG330=\"OK\",Calculs!HH330=\"OK\",Calculs!HI330=\"OK\",Calculs!HJ330=\"OK\",Calculs!HK330=\"OK\"),\"OK\",\"-\")","v":"-"},"U1/V1",null,{"$f":"IF(OR(F195=\"steif\",F198=\"H zu klein!\"),\"-\",IF(OR(B198=\"OK\",B199=\"OK\"),\"OK\",\"-\"))","v":"-"},{"$f":"'PE-SN2 (D)'!H58","v":""}]
[null,{"$f":"IF(AND(F195=\"steif\",Calculs!HK182=\"OK\",Calculs!HG221=\"OK\",Calculs!HG329=\"OK\",Calculs!HH329=\"OK\",Calculs!HI329=\"OK\",Calculs!HJ329=\"OK\",Calculs!HK329=\"OK\",Calculs!HG330=\"OK\",Calculs!HH330=\"OK\",Calculs!HI330=\"OK\",Calculs!HJ330=\"OK\",Calculs!HK330=\"OK\"),\"OK\",\"-\")","v":"-"}]
[null,null,"U4/V4",null,{"$f":"IF(F200=\"H zu klein!\",\"-\",IF(AND(Calculs!HZ182=\"OK\",OR(Calculs!HW221=\"OK\",Calculs!HW221=\"\"),Calculs!HT336=\"OK\",Calculs!HU336=\"OK\",Calculs!HV336=\"OK\",Calculs!HW336=\"OK\",Calculs!HX336=\"OK\",Calculs!HT337=\"OK\",Calculs!HU337=\"OK\",Calculs!HV337=\"OK\",Calculs!HW337=\"OK\",Calculs!HX337=\"OK\"),\"OK\",\"-\"))","v":"OK"},{"$f":"'PE-SN2 (D)'!Q65","v":""},"efictif",{"$f":"IF(E200=\"-\",\"-\",'PVC-SN8'!$O$16)","v":0.15},"m"]
[]
[]
[]
[]
[]
[null,"PE-SN4",null,null,{"$f":"IF(F207<Données!AE6,\"di max.< di Eingabe!\",\"\")","v":""}]
[null,{"$f":"IF(Accueil!$AZ$15=\"Français\",\"Tuyau:\",IF(Accueil!$AZ$15=\"Deutsch\",\"Rohr:\",IF(Accueil!$AZ$15=\"Italiano\",\"\")))","v":"Tuyau:"},"Innendurchmesser",null,"di",{"$f":"Calculs!IK32","v":327.8},"mm"]
[null,null,"Nominaldurchmesser",null,"DN",{"$f":"Calculs!IL32","v":355},"mm"]
[null,null,"Wanddicke",null,"e",{"$f":"Calculs!IN32","v":13.6},"mm"]
[null,null,"Systemsteifigkeit",null,"SFcourt",{"$f":"Calculs!IL37","v":"souple"},"-"]
[]
[null,null,null,null,null,null,{"$f":"IF(F210=\"steif\",\"Steifes Rohr: Nachweis mit Bruchlasten existiert nicht für das Verlegeprofil 1!\",\"\")","v":""}]
["Souple:",{"$f":"IF(AND(F210=\"weich\",Calculs!IK182=\"OK\",Calculs!IH209=\"OK\",Calculs!IG221=\"OK\",Calculs!IG329=\"OK\",Calculs!IH329=\"OK\",Calculs!II329=\"OK\",Calculs!IJ329=\"OK\",Calculs!IK329=\"OK\",Calculs!IG330=\"OK\",Calculs!IH330=\"OK\",Calculs!II330=\"OK\",Calculs!IJ330=\"OK\",Calculs!IK330=\"OK\"),\"OK\",\"-\")","v":"-"},"U1/V1",null,{"$f":"IF(OR(F210=\"steif\",F213=\"H zu klein!\"),\"-\",IF(OR(B213=\"OK\",B214=\"OK\"),\"OK\",\"-\"))","v":"-"},{"$f":"'PE-SN4 (D)'!H58","v":""}]
["Rigide:",{"$f":"IF(AND(F210=\"steif\",Calculs!IK182=\"OK\",Calculs!IG221=\"OK\",Calculs!IG329=\"OK\",Calculs!IH329=\"OK\",Calculs!II329=\"OK\",Calculs!IJ329=\"OK\",Calculs!IK329=\"OK\",Calculs!IG330=\"OK\",Calculs!IH330=\"OK\",Calculs!II330=\"OK\",Calculs!IJ330=\"OK\",Calculs!IK330=\"OK\"),\"OK\",\"-\")","v":"-"}]
[null,null,"U4/V4",null,{"$f":"IF(F215=\"H zu klein!\",\"-\",IF(AND(Calculs!IZ182=\"OK\",OR(Calculs!IW221=\"OK\",Calculs!IW221=\"\"),Calculs!IT336=\"OK\",Calculs!IU336=\"OK\",Calculs!IV336=\"OK\",Calculs!IW336=\"OK\",Calculs!IX336=\"OK\",Calculs!IT337=\"OK\",Calculs!IU337=\"OK\",Calculs!IV337=\"OK\",Calculs!IW337=\"OK\",Calculs!IX337=\"OK\"),\"OK\",\"-\"))","v":"OK"},{"$f":"'PE-SN4 (D)'!Q65","v":""},"efictif",{"$f":"IF(E215=\"-\",\"-\",Calculs!IT31/1000)","v":0.15},"m"]
[]
[]
[null,"PE-SN8",null,null,{"$f":"IF(F219<Données!AE6,\"di max.< di Eingabe!\",\"\")","v":""}]
[null,{"$f":"IF(Accueil!$AZ$15=\"Français\",\"Tuyau:\",IF(Accueil!$AZ$15=\"Deutsch\",\"Rohr:\",IF(Accueil!$AZ$15=\"Italiano\",\"\")))","v":"Tuyau:"},"Diamètre intérieur",null,"di",{"$f":"Calculs!JK32","v":321.2},"mm"]
[null,null,"Diamètre nominal",null,"DN",{"$f":"Calculs!JL32","v":355},"mm"]
[null,null,"épaisseur de paroi",null,"e",{"$f":"Calculs!JN32","v":16.899999999999999},"mm"]
[null,null,"Rigidité du sytème",null,"SFcourt",{"$f":"Calculs!JL37","v":"souple"},"-"]
[]
[null,null,null,null,null,null,{"$f":"IF(F222=\"steif\",\"Steifes Rohr: Nachweis mit Bruchlasten existiert nicht für das Verlegeprofil 1!\",\"\")","v":""}]
["Souple:",{"$f":"IF(AND(F222=\"weich\",Calculs!JK182=\"OK\",Calculs!JH209=\"OK\",Calculs!JG221=\"OK\",Calculs!JG329=\"OK\",Calculs!JH329=\"OK\",Calculs!JI329=\"OK\",Calculs!JJ329=\"OK\",Calculs!JK329=\"OK\",Calculs!JG330=\"OK\",Calculs!JH330=\"OK\",Calculs!JI330=\"OK\",Calculs!JJ330=\"OK\",Calculs!JK330=\"OK\"),\"OK\",\"-\")","v":"-"},"U1/V1",null,{"$f":"IF(OR(F222=\"steif\",F225=\"H zu klein!\"),\"-\",IF(OR(B225=\"OK\",B226=\"OK\"),\"OK\",\"-\"))","v":"-"},{"$f":"'PE-SN8 (D)'!H58","v":""}]
["Rigide:",{"$f":"IF(AND(F222=\"steif\",Calculs!JK182=\"OK\",Calculs!JG221=\"OK\",Calculs!JG329=\"OK\",Calculs!JH329=\"OK\",Calculs!JI329=\"OK\",Calculs!JJ329=\"OK\",Calculs!JK329=\"OK\",Calculs!JG330=\"OK\",Calculs!JH330=\"OK\",Calculs!JI330=\"OK\",Calculs!JJ330=\"OK\",Calculs!JK330=\"OK\"),\"OK\",\"-\")","v":"-"}]
[null,null,"U4/V4",null,{"$f":"IF(F227=\"H zu klein!\",\"-\",IF(AND(Calculs!JZ182=\"OK\",OR(Calculs!JW221=\"OK\",Calculs!JW221=\"\"),Calculs!JT336=\"OK\",Calculs!JU336=\"OK\",Calculs!JV336=\"OK\",Calculs!JW336=\"OK\",Calculs!JX336=\"OK\",Calculs!JT337=\"OK\",Calculs!JU337=\"OK\",Calculs!JV337=\"OK\",Calculs!JW337=\"OK\",Calculs!JX337=\"OK\"),\"OK\",\"-\"))","v":"OK"},{"$f":"'PE-SN8 (D)'!Q65","v":""},"efictif",{"$f":"IF(E227=\"-\",\"-\",Calculs!JT31/1000)","v":0.15},"m"]
[]
[]
[null,"GF-UP SN2500",null,null,{"$f":"IF(F231<Données!AE6,\"di max.< di Eingabe!\",\"\")","v":""}]
[null,{"$f":"IF(Accueil!$AZ$15=\"Français\",\"Tuyau:\",IF(Accueil!$AZ$15=\"Deutsch\",\"Rohr:\",IF(Accueil!$AZ$15=\"Italiano\",\"\")))","v":"Tuyau:"},"Innendurchmesser",null,"di",{"$f":"Calculs!MJ35","v":362},"mm"]
[null,null,"Nominaldurchmesser",null,"DN",{"$f":"Calculs!MK35","v":350},"mm"]
[null,null,"Wanddicke",null,"e",{"$f":"Calculs!MM35","v":7},"mm"]
[null,null,"Systemsteifigkeit",null,"SFcourt",{"$f":"Calculs!ML46","v":"souple"},"-"]
[]
[null,null,null,null,null,null,{"$f":"IF(F234=\"steif\",\"Steifes Rohr: Nachweis mit Bruchlasten existiert nicht für das Verlegeprofil 1!\",\"\")","v":""}]
["Souple:",{"$f":"IF(AND(F234=\"weich\",Calculs!MK188=\"OK\",Calculs!MH216=\"OK\",Calculs!MG227=\"OK\",Calculs!MG420=\"OK\",Calculs!MH420=\"OK\",Calculs!MI420=\"OK\",Calculs!MJ420=\"OK\",Calculs!MK420=\"OK\",Calculs!MG421=\"OK\",Calculs!MH421=\"OK\",Calculs!MI421=\"OK\",Calculs!MJ421=\"OK\",Calculs!MK421=\"OK\"),\"OK\",\"-\")","v":"-"},"U1/V1",null,{"$f":"IF(OR(F234=\"steif\",F237=\"H zu klein!\"),\"-\",IF(OR(B237=\"OK\",B238=\"OK\"),\"OK\",\"-\"))","v":"-"},{"$f":"'GF-UP SN2500 (D)'!H58","v":""}]
["Rigide:",{"$f":"IF(AND(F234=\"steif\",Calculs!MK188=\"OK\",Calculs!MG227=\"OK\",Calculs!MG420=\"OK\",Calculs!MH420=\"OK\",Calculs!MI420=\"OK\",Calculs!MJ420=\"OK\",Calculs!MK420=\"OK\",Calculs!MG421=\"OK\",Calculs!MH421=\"OK\",Calculs!MI421=\"OK\",Calculs!MJ421=\"OK\",Calculs!MK421=\"OK\"),\"OK\",\"-\")","v":"-"}]
[null,null,"U4/V4",null,{"$f":"IF(F239=\"H zu klein!\",\"-\",IF(AND(Calculs!MZ188=\"OK\",OR(Calculs!MW227=\"OK\",Calculs!MW227=\"\"),Calculs!MT342=\"OK\",Calculs!MU342=\"OK\",Calculs!MV342=\"OK\",Calculs!MW342=\"OK\",Calculs!MX342=\"OK\",Calculs!MT343=\"OK\",Calculs!MU343=\"OK\",Calculs!MV343=\"OK\",Calculs!MW343=\"OK\",Calculs!MX343=\"OK\"),\"OK\",\"-\"))","v":"OK"},{"$f":"'GF-UP SN2500 (D)'!Q65","v":""},"efictif",{"$f":"IF(E239=\"-\",\"-\",Calculs!MT34/1000)","v":0.155},"m"]
[]
[null,"GF-UP SN5000",null,null,{"$f":"IF(F242<Données!AE6,\"di max.< di Eingabe!\",\"\")","v":""}]
[null,{"$f":"IF(Accueil!$AZ$15=\"Français\",\"Tuyau:\",IF(Accueil!$AZ$15=\"Deutsch\",\"Rohr:\",IF(Accueil!$AZ$15=\"Italiano\",\"\")))","v":"Tuyau:"},"Innendurchmesser",null,"di",{"$f":"Calculs!NJ35","v":360},"mm"]
[null,null,"Nominaldurchmesser",null,"DN",{"$f":"Calculs!NK35","v":350},"mm"]
[null,null,"Wanddicke",null,"e",{"$f":"Calculs!NM35","v":8},"mm"]
[null,null,"Systemsteifigkeit",null,"SFcourt",{"$f":"Calculs!NL46","v":"souple"},"-"]
[]
[null,null,null,null,null,null,{"$f":"IF(F245=\"steif\",\"Steifes Rohr: Nachweis mit Bruchlasten existiert nicht für das Verlegeprofil 1!\",\"\")","v":""}]
["Souple:",{"$f":"IF(AND(F245=\"weich\",Calculs!NK188=\"OK\",Calculs!NH216=\"OK\",Calculs!NG227=\"OK\",Calculs!NG420=\"OK\",Calculs!NH420=\"OK\",Calculs!NI420=\"OK\",Calculs!NJ420=\"OK\",Calculs!NK420=\"OK\",Calculs!NG421=\"OK\",Calculs!NH421=\"OK\",Calculs!NI421=\"OK\",Calculs!NJ421=\"OK\",Calculs!NK421=\"OK\"),\"OK\",\"-\")","v":"-"},"U1/V1",null,{"$f":"IF(OR(F245=\"steif\",F248=\"H zu klein!\"),\"-\",IF(OR(B248=\"OK\",B249=\"OK\"),\"OK\",\"-\"))","v":"-"},{"$f":"'GF-UP SN5000 (D)'!H58","v":""}]
["Rigide:",{"$f":"IF(AND(F245=\"steif\",Calculs!NK188=\"OK\",Calculs!NG227=\"OK\",Calculs!NG420=\"OK\",Calculs!NH420=\"OK\",Calculs!NI420=\"OK\",Calculs!NJ420=\"OK\",Calculs!NK420=\"OK\",Calculs!NG421=\"OK\",Calculs!NH421=\"OK\",Calculs!NI421=\"OK\",Calculs!NJ421=\"OK\",Calculs!NK421=\"OK\"),\"OK\",\"-\")","v":"-"}]
[null,null,"U4/V4",null,{"$f":"IF(F250=\"H zu klein!\",\"-\",IF(AND(Calculs!NZ188=\"OK\",OR(Calculs!NW227=\"OK\",Calculs!NW227=\"\"),Calculs!NT342=\"OK\",Calculs!NU342=\"OK\",Calculs!NV342=\"OK\",Calculs!NW342=\"OK\",Calculs!NX342=\"OK\",Calculs!NT343=\"OK\",Calculs!NU343=\"OK\",Calculs!NV343=\"OK\",Calculs!NW343=\"OK\",Calculs!NX343=\"OK\"),\"OK\",\"-\"))","v":"OK"},{"$f":"'GF-UP SN5000 (D)'!Q65","v":""},"efictif",{"$f":"IF(E250=\"-\",\"-\",Calculs!NT34/1000)","v":0.155},"m"]
[]
[]
[]
[]
[null,"GF-UP SN10000",null,null,{"$f":"IF(F256<Données!AE6,\"di max.< di Eingabe!\",\"\")","v":""}]
[null,{"$f":"IF(Accueil!$AZ$15=\"Français\",\"Tuyau:\",IF(Accueil!$AZ$15=\"Deutsch\",\"Rohr:\",IF(Accueil!$AZ$15=\"Italiano\",\"\")))","v":"Tuyau:"},"Innendurchmesser",null,"di",{"$f":"Calculs!OJ35","v":306},"mm"]
[null,null,"Nominaldurchmesser",null,"DN",{"$f":"Calculs!OK35","v":300},"mm"]
[null,null,"Wanddicke",null,"e",{"$f":"Calculs!OM35","v":9},"mm"]
[null,null,"Systemsteifigkeit",null,"SFcourt",{"$f":"Calculs!OL46","v":"souple"},"-"]
[]
[null,null,null,null,null,null,{"$f":"IF(F259=\"steif\",\"Steifes Rohr: Nachweis mit Bruchlasten existiert nicht für das Verlegeprofil 1!\",\"\")","v":""}]
["Souple:",{"$f":"IF(AND(F259=\"weich\",Calculs!OK188=\"OK\",Calculs!OH216=\"OK\",Calculs!OG227=\"OK\",Calculs!OG420=\"OK\",Calculs!OH420=\"OK\",Calculs!OI420=\"OK\",Calculs!OJ420=\"OK\",Calculs!OK420=\"OK\",Calculs!OG421=\"OK\",Calculs!OH421=\"OK\",Calculs!OI421=\"OK\",Calculs!OJ421=\"OK\",Calculs!OK421=\"OK\"),\"OK\",\"-\")","v":"-"},"U1/V1",null,{"$f":"IF(OR(F259=\"steif\",F262=\"H zu klein!\"),\"-\",IF(OR(B262=\"OK\",B263=\"OK\"),\"OK\",\"-\"))","v":"-"},{"$f":"'GF-UP SN10000 (D)'!H58","v":""}]
["Rigide:",{"$f":"IF(AND(F259=\"steif\",Calculs!OK188=\"OK\",Calculs!OG227=\"OK\",Calculs!OG420=\"OK\",Calculs!OH420=\"OK\",Calculs!OI420=\"OK\",Calculs!OJ420=\"OK\",Calculs!OK420=\"OK\",Calculs!OG421=\"OK\",Calculs!OH421=\"OK\",Calculs!OI421=\"OK\",Calculs!OJ421=\"OK\",Calculs!OK421=\"OK\"),\"OK\",\"-\")","v":"-"}]
[null,null,"U4/V4",null,{"$f":"IF(F264=\"H zu klein!\",\"-\",IF(AND(Calculs!OZ188=\"OK\",OR(Calculs!OW227=\"OK\",Calculs!OW227=\"\"),Calculs!OT342=\"OK\",Calculs!OU342=\"OK\",Calculs!OV342=\"OK\",Calculs!OW342=\"OK\",Calculs!OX342=\"OK\",Calculs!OT343=\"OK\",Calculs!OU343=\"OK\",Calculs!OV343=\"OK\",Calculs!OW343=\"OK\",Calculs!OX343=\"OK\"),\"OK\",\"-\"))","v":"OK"},{"$f":"'GF-UP SN10000 (D)'!Q65","v":""},"efictif",{"$f":"IF(E264=\"-\",\"-\",Calculs!OT34/1000)","v":0.15},"m"]
[]
[null,"GF-UP SN15000",null,null,{"$f":"IF(F267<Données!AE6,\"di max.< di Eingabe!\",\"\")","v":""}]
[null,{"$f":"IF(Accueil!$AZ$15=\"Français\",\"Tuyau:\",IF(Accueil!$AZ$15=\"Deutsch\",\"Rohr:\",IF(Accueil!$AZ$15=\"Italiano\",\"\")))","v":"Tuyau:"},"Innendurchmesser",null,"di",{"$f":"Calculs!PJ35","v":304},"mm"]
[null,null,"Nominaldurchmesser",null,"DN",{"$f":"Calculs!PK35","v":300},"mm"]
[null,null,"Wanddicke",null,"e",{"$f":"Calculs!PM35","v":10},"mm"]
[null,null,"Systemsteifigkeit",null,"SFcourt",{"$f":"Calculs!PL46","v":"souple"},"-"]
[]
[null,null,null,null,null,null,{"$f":"IF(F270=\"steif\",\"Steifes Rohr: Nachweis mit Bruchlasten existiert nicht für das Verlegeprofil 1!\",\"\")","v":""}]
["Souple:",{"$f":"IF(AND(F270=\"weich\",Calculs!PK188=\"OK\",Calculs!PH216=\"OK\",Calculs!PG227=\"OK\",Calculs!PG420=\"OK\",Calculs!PH420=\"OK\",Calculs!PI420=\"OK\",Calculs!PJ420=\"OK\",Calculs!PK420=\"OK\",Calculs!PG421=\"OK\",Calculs!PH421=\"OK\",Calculs!PI421=\"OK\",Calculs!PJ421=\"OK\",Calculs!PK421=\"OK\"),\"OK\",\"-\")","v":"-"},"U1/V1",null,{"$f":"IF(OR(F270=\"steif\",F273=\"H zu klein!\"),\"-\",IF(OR(B273=\"OK\",B274=\"OK\"),\"OK\",\"-\"))","v":"-"},{"$f":"'GF-UP SN15000 (D)'!H58","v":""}]
["Rigide:",{"$f":"IF(AND(F270=\"steif\",,Calculs!PK188=\"OK\",Calculs!PG227=\"OK\",Calculs!PG420=\"OK\",Calculs!PH420=\"OK\",Calculs!PI420=\"OK\",Calculs!PJ420=\"OK\",Calculs!PK420=\"OK\",Calculs!PG421=\"OK\",Calculs!PH421=\"OK\",Calculs!PI421=\"OK\",Calculs!PJ421=\"OK\",Calculs!PK421=\"OK\"),\"OK\",\"-\")","v":"-"}]
[null,null,"U4/V4",null,{"$f":"IF(F275=\"H zu klein!\",\"-\",IF(AND(Calculs!PZ188=\"OK\",OR(Calculs!PW227=\"OK\",Calculs!PW227=\"\"),Calculs!PT342=\"OK\",Calculs!PU342=\"OK\",Calculs!PV342=\"OK\",Calculs!PW342=\"OK\",Calculs!PX342=\"OK\",Calculs!PT343=\"OK\",Calculs!PU343=\"OK\",Calculs!PV343=\"OK\",Calculs!PW343=\"OK\",Calculs!PX343=\"OK\"),\"OK\",\"-\"))","v":"OK"},{"$f":"'GF-UP SN15000 (D)'!Q65","v":""},"efictif",{"$f":"IF(E275=\"-\",\"-\",Calculs!PT34/1000)","v":0.15},"m"]
[]
[null,"GF-UP SN16000",null,null,{"$f":"IF(F278<Données!AE6,\"di max.< di Eingabe!\",\"\")","v":""}]
[null,{"$f":"IF(Accueil!$AZ$15=\"Français\",\"Tuyau:\",IF(Accueil!$AZ$15=\"Deutsch\",\"Rohr:\",IF(Accueil!$AZ$15=\"Italiano\",\"\")))","v":"Tuyau:"},"Innendurchmesser",null,"di",{"$f":"Calculs!QJ35","v":304},"mm"]
[null,null,"Nominaldurchmesser",null,"DN",{"$f":"Calculs!QK35","v":300},"mm"]
[null,null,"Wanddicke",null,"e",{"$f":"Calculs!QM35","v":10},"mm"]
[null,null,"Systemsteifigkeit",null,"SFcourt",{"$f":"Calculs!QL46","v":"souple"},"-"]
[]
[null,null,null,null,null,null,{"$f":"IF(F281=\"steif\",\"Steifes Rohr: Nachweis mit Bruchlasten existiert nicht für das Verlegeprofil 1!\",\"\")","v":""}]
["Souple:",{"$f":"IF(AND(F281=\"weich\",Calculs!QK188=\"OK\",Calculs!QH216=\"OK\",Calculs!QG227=\"OK\",Calculs!QG420=\"OK\",Calculs!QH420=\"OK\",Calculs!QI420=\"OK\",Calculs!QJ420=\"OK\",Calculs!QK420=\"OK\",Calculs!QG421=\"OK\",Calculs!QH421=\"OK\",Calculs!QI421=\"OK\",Calculs!QJ421=\"OK\",Calculs!QK421=\"OK\"),\"OK\",\"-\")","v":"-"},"U1/V1",null,{"$f":"IF(OR(F281=\"steif\",F284=\"H zu klein!\"),\"-\",IF(OR(B284=\"OK\",B285=\"OK\"),\"OK\",\"-\"))","v":"-"},{"$f":"'GF-UP SN16000 (D)'!H58","v":""}]
["Rigide:",{"$f":"IF(AND(F281=\"steif\",,Calculs!QK188=\"OK\",Calculs!QG227=\"OK\",Calculs!QG420=\"OK\",Calculs!QH420=\"OK\",Calculs!QI420=\"OK\",Calculs!QJ420=\"OK\",Calculs!QK420=\"OK\",Calculs!QG421=\"OK\",Calculs!QH421=\"OK\",Calculs!QI421=\"OK\",Calculs!QJ421=\"OK\",Calculs!QK421=\"OK\"),\"OK\",\"-\")","v":"-"}]
[null,null,"U4/V4",null,{"$f":"IF(F286=\"H zu klein!\",\"-\",IF(AND(Calculs!QZ188=\"OK\",OR(Calculs!QW227=\"OK\",Calculs!QW227=\"\"),Calculs!QT342=\"OK\",Calculs!QU342=\"OK\",Calculs!QV342=\"OK\",Calculs!QW342=\"OK\",Calculs!QX342=\"OK\",Calculs!QT343=\"OK\",Calculs!QU343=\"OK\",Calculs!QV343=\"OK\",Calculs!QW343=\"OK\",Calculs!QX343=\"OK\"),\"OK\",\"-\"))","v":"OK"},{"$f":"'GF-UP SN16000 (D)'!Q65","v":""},"efictif",{"$f":"IF(E286=\"-\",\"-\",Calculs!QT34/1000)","v":0.15},"m"]
[]
[null,"GF-UP SN20000",null,null,{"$f":"IF(F289<Données!AE6,\"di max.< di Eingabe!\",\"\")","v":""}]
[null,{"$f":"IF(Accueil!$AZ$15=\"Français\",\"Tuyau:\",IF(Accueil!$AZ$15=\"Deutsch\",\"Rohr:\",IF(Accueil!$AZ$15=\"Italiano\",\"\")))","v":"Tuyau:"},"Innendurchmesser",null,"di",{"$f":"Calculs!RJ35","v":302},"mm"]
[null,null,"Nominaldurchmesser",null,"DN",{"$f":"Calculs!RK35","v":300},"mm"]
[null,null,"Wanddicke",null,"e",{"$f":"Calculs!RM35","v":11},"mm"]
[null,null,"Systemsteifigkeit",null,"SFcourt",{"$f":"Calculs!RL46","v":"souple"},"-"]
[]
[null,null,null,null,null,null,{"$f":"IF(F292=\"steif\",\"Steifes Rohr: Nachweis mit Bruchlasten existiert nicht für das Verlegeprofil 1!\",\"\")","v":""}]
["Souple:",{"$f":"IF(AND(F292=\"weich\",Calculs!RK188=\"OK\",Calculs!RH216=\"OK\",Calculs!RG227=\"OK\",Calculs!RG420=\"OK\",Calculs!RH420=\"OK\",Calculs!RI420=\"OK\",Calculs!RJ420=\"OK\",Calculs!RK420=\"OK\",Calculs!RG421=\"OK\",Calculs!RH421=\"OK\",Calculs!RI421=\"OK\",Calculs!RJ421=\"OK\",Calculs!RK421=\"OK\"),\"OK\",\"-\")","v":"-"},"U1/V1",null,{"$f":"IF(OR(F292=\"steif\",F295=\"H zu klein!\"),\"-\",IF(OR(B295=\"OK\",B296=\"OK\"),\"OK\",\"-\"))","v":"-"},{"$f":"'GF-UP SN20000 (D)'!H58","v":""}]
["Rigide:",{"$f":"IF(AND(F292=\"steif\",Calculs!RK188=\"OK\",Calculs!RG227=\"OK\",Calculs!RG420=\"OK\",Calculs!RH420=\"OK\",Calculs!RI420=\"OK\",Calculs!RJ420=\"OK\",Calculs!RK420=\"OK\",Calculs!RG421=\"OK\",Calculs!RH421=\"OK\",Calculs!RI421=\"OK\",Calculs!RJ421=\"OK\",Calculs!RK421=\"OK\"),\"OK\",\"-\")","v":"-"}]
[null,null,"U4/V4",null,{"$f":"IF(F297=\"H zu klein!\",\"-\",IF(AND(Calculs!RZ188=\"OK\",OR(Calculs!RW227=\"OK\",Calculs!RW227=\"\"),Calculs!RT342=\"OK\",Calculs!RU342=\"OK\",Calculs!RV342=\"OK\",Calculs!RW342=\"OK\",Calculs!RX342=\"OK\",Calculs!RT343=\"OK\",Calculs!RU343=\"OK\",Calculs!RV343=\"OK\",Calculs!RW343=\"OK\",Calculs!RX343=\"OK\"),\"OK\",\"-\"))","v":"OK"},{"$f":"'GF-UP SN20000 (D)'!Q65","v":""},"efictif",{"$f":"IF(E297=\"-\",\"-\",Calculs!RT34/1000)","v":0.15},"m"]